{"text_format":"1","workbook":"xlsx","n_sheets":14,"sheets":["Main","Contract and Quantities","Free Form","Help","Test 1","Test 2","Test 3","Test 4","Test 5","Test 6","Functional","ReportS","Send Sync","AWP Oracle"],"not_rendered":{"charts":0,"images":34,"macros":1,"external_links":1,"defined_names":9,"comments":4,"pivot_tables":0},"unopened":[],"bounds":{"document_bytes":16777216,"sheet_cells":100000,"rows_first":2000,"rows_last":500,"rows_between":2000,"halvings":0,"cell_chars":16384,"cell_head_chars":4096},"cells_cut":0,"cells_raw":0,"read":"whole","date_system":"1900"}

{"sheet":"Main","index":0,"n_rows":419,"n_cols":51,"rows_kept":419,"cut":false,"hidden":false,"merged":[[5,19,6,21],[39,17,39,19],[39,20,39,22],[21,1,21,4],[21,5,21,10],[22,1,22,4],[22,5,22,10],[23,1,23,4],[23,5,23,10],[13,12,14,24],[13,5,13,10],[12,5,12,10],[15,5,15,10],[16,5,16,10],[15,12,20,24],[12,18,12,24],[2,4,3,6],[2,7,3,9],[2,13,3,15],[10,15,10,20],[8,8,8,9],[10,6,10,7],[10,10,10,11],[9,20,9,24],[2,22,3,24],[2,19,3,21],[2,16,3,18],[2,10,3,12],[8,10,8,11],[8,23,8,24],[5,22,6,24],[5,16,6,18],[11,15,11,20],[10,21,10,22],[9,10,9,11],[12,1,12,3],[10,23,10,24],[11,21,11,24],[10,8,10,9],[0,4,1,24],[32,1,33,24],[29,14,30,24],[6,34,6,38],[5,13,6,15],[5,34,5,38],[5,30,5,33],[8,6,8,7],[5,4,6,6],[5,7,6,9],[5,10,6,12],[9,8,9,9],[9,6,9,7],[27,1,30,10],[5,1,6,3],[15,1,15,4]]}
[null,null,null,null,{"$f":"IF(S13=M41,IF('AWP Oracle'!C43=\"QCC\",\"AWP Contractor Reporting E2O - Earthwork Contractor QC\",\"Contractor Record, Change Sample Type to QC\"),IF(S13=M42,IF('AWP Oracle'!C43=\"QCQA\",\"AWP Contractor Reporting E2O - Earthwork Consultant QCQA\",IF('AWP Oracle'!C43=\"QA\",\"AWP Contractor Reporting E2O - Earthwork Consultant QA\",\"MoDOT Consultant, change sample type to QA or QCQA\"))))","v":"AWP Contractor Reporting E2O - Earthwork Contractor QC"}]
[null,null,null,null,null,null,null,null,null,null,null,null,null,null,null,null,null,null,null,null,null,null,null,null,null,"v","5.00",null,null,null,null,null,"Type for tabs"]
[null,null,null,null," ",null,null,"Main",null,null,"Quantity",null,null,null,null,null,"Send/Sync",null,null,"Reports",null,null,"Help",null,null,null,null,null,null,null,null,null,{"$f":"IF(F14=\"0200XXCS\",\"S\",\"\")","v":"S"},{"$f":"IF(F14=\"0303CARB\",\"R\",\"\")","v":""},{"$f":"IF(OR(F14=\"0304SBT15KP\",F14=\"0304SBT7KP\"),\"G\",\"\")","v":""}]
[null,null,null,null,null,null,null,null,null,null,null,null,null,null,null,null,null,null,null,null,null,null,null,null,null,null,null,null,null,null,null,{"$f":"V12","v":""}]
[]
[null,"General",null,null,"Free Form",null,null,"Subgrade",null,null,"Rock Base",null,null,"Agg Bases",null,null,"T90/T99",null,null,"DCP"]
[null,null,null,null,null,null,null,null,null,null,null,null,null,null,null,null,null,null,null,null,null,null,null,null,null,null,null,null,"Input Checks (0 is good)"]
[null,null,null,null,null,null,null,null,null,null,null,null,null,null,null,null,null,null,null,null,null,null,null,null,null,null,null,null,{"$f":"IF(I9 >2010,( IF(I9 < 2030, 0, 1)),1)","v":0},"Year "]
[null,"Date of Inspection ",null,null,null,null,"Year",null,2025,null,"YYYY",null,null,null,"Identification for this Record",null,null,null,null,null,null,null,null,null,null,null,null,null,{"$f":"IF(INT(I10) > 0, IF(INT(I10)<13,0,1),1)","v":1},"Month ",null,null,{"$f":"\"\"","v":""}]
[null,null,null,{"$f":"CONCATENATE(I9, I10,I11)","v":"2025"},null,null,"Month",null,null,null,"MM",null,null,null,null,"Reporting Contractor",null,null,null,null,null,null,null,null,null,{"$f":"IF(ISERROR(AH46), \"\", UPPER(AH46))","v":""},null,null,{"$f":"IF(INT(I11) > 0, IF(INT(I11)<33,0,1),1)","v":1},"Day "]
[null,null,null,null,null,null,"Day",null,null,null,"DD",null,null,null,null,"Unique Record Number",null,null,null,null,null,null,null,"####",null,null,null,null,{"$f":"IF(ISBLANK(U10),1,0)","v":1},"Reporting Cont."]
[null,null,null,null,null,null,null,null,null,null,null,null,null,null,null,"MoDOT Sample Record ID#",null,null,null,null,null,{"$f":"IF(AC13=0,IF(S13=M42,CONCATENATE(RIGHT(I9,2),\"CC\",Z10,V11),CONCATENATE(RIGHT(I9,2),\"QM\",Z10,V11)),\"\")","v":""},null,null,null,null,null,null,{"$f":"IF(IFERROR(INT(V11),0)>0,IF(INT(V11)>10000,1,0),1)","v":1},"Unique Number"]
[null,"Material ",null,null,null,"Compacted Soil",null,null,null,null,null,null,null,null,null,"Record Type",null,null,"Contractor QC",null,null,null,null,null,null,null,null,null,{"$f":"SUM(AC8:AC12)","v":4},"total of items for making a sample id"]
[null,null,null,null,null,{"$f":"IF(ISBLANK(F13),\"\",VLOOKUP(F13,A47:E81,2,FALSE))","v":"0200XXCS"},null,null,null,null,null,null,"Choose a material that represents what you have inspected.  If you are unsure, contact your RE office.  ",null,null,null,null,null,null,null,null,null,null,null,null,null,null,null,{"$f":"IF(IFERROR(F14,1)=1,1,0)","v":0},"Material"]
[]
[null,"Contractor/Supplier",null,null,null,"MoDOT (Jobsite, roadway or other similar site)",null,null,null,null,null,null,"Choose a Supplier or Producer that represents what you have inspected.  MoDOT Jobsite should be used for native material and is the most common earthwork choice.  When you bring material in from another site or quarry, if you do not see the correct producer contact your RE office",null,null,null,null,null,null,null,null,null,null,null,null,null,null,null,{"$f":"IF(IFERROR(F17,1)=1,1,0)","v":0},"Producer"]
[null,null,null,null,null,{"$f":"VLOOKUP(F16,G48:I600,2,FALSE)","v":"333350000X"}]
[]
[]
[]
[null,null,null,null,null,null,null,null,null,null,null,null,null,null,null,null,null,null,null,null,null,null,null,null,null,null,null,null,{"$f":"IF(IFERROR(F23,1)=1,1,0)","v":0},"Branded"]
[null,"Sample Type",null,null,null,{"$f":"IF(Main!S13=Main!M42,AX48,AX49)","v":"QC Contractor Data / Quality Managerment"},null,null,null,null,null,null,"\"Compacted Soil\" should have MoDOT Jobsite listed as the supplier"]
[null,null,null,null,null,null,null,null,null,null,null,null,"Compacted Base should have MoDOT Jobsite listed as the supplier**"]
[null,"Evaluation Method",null,null,null,"Sample and Test",null,null,null,null,null,null,"\"Rock for Rock Base\" should have the quarry listed as the supplier",null,null,null,null,null,null,null,null,null,null,null,null,null,null,null,{"$f":"IF(S13=M41,IF('AWP Oracle'!C43=\"QCC\",0,1),IF(S13=M42,IF('AWP Oracle'!C43=\"QCQA\",0,IF('AWP Oracle'!C43=\"QA\",0,1))))","v":0},"Invalid sample type, contractor records must be QC sample type, MoDOT consultant records must be QA or QCQA"]
[]
[null,null,null,null,null,null,null,null,null,null,null,null,"**if updating old record please switch supplier to MoDOT Jobsite"]
[null,"General Remarks"]
[null,null,null,null,null,null,null,null,null,null,null,null,null,null,"Sample Origin",null,null,null,null,null,null,null,null,null,"Approximate location where the"]
[null,null,null,null,null,null,null,null,null,null,null,null,null,null,null,"earthwork is being done "]
[]
[]
[]
[null,"Adding General Remarks is optional.  This is a good place to put notes about the testing record itself, but not test results.  EXAMPLE:  \"This record represents all of the east bridge\"",null,null,null,null,null,null,null,null,null,null,null,null,null,null,null,null,null,null,null,null,null,null,null,null,null,null,{"$f":"SUM(AC8:AC32)","v":8},"Any value more than 0 will prevent the file from being submitted"]
[]
[]
[]
[]
[]
[null,null,null,null,null,null,null,null,null,null,null,null,null,null,null,null,null,"Code Lookup",null,null,"Sample type Lookup"]
[null,null,null,null,null,null,null,null,null,null,null,null,null,null,null,null,null,{"$f":"VLOOKUP(F24,AV48:AW60,2,FALSE)","v":"SATE"},null,null,{"$f":"VLOOKUP(F22,AX48:AY60,2,FALSE)","v":"QCC"}]
[null,null,null,null,null,null,{"$f":"VLOOKUP(F16,F47:I452,1,FALSE)","v":{"$error":"#N/A"}},null,null,{"$f":"VLOOKUP(F14,B48:C148,2,FALSE)","v":4505},"material",null,"Contractor QC"]
[null,null,null,null,null,null,null,null,null,null,"facility",null,"MoDOT Consultant QA"]
[null,null,null,null,null,null,null,null,null,{"$f":"VLOOKUP(F17,H48:I453,2,FALSE)","v":1306},"source"]
[null,null,{"$f":"VLOOKUP(F14,B47:D134,3,FALSE)","v":"Quantity required by contract"},{"$f":"VLOOKUP(C44,D47:E134,2,FALSE)","v":"E056"}]
["Material Dropdown",null,null,null,null,null,null,null,null,null,null,null,null,{"$f":"VLOOKUP(F22,M48:Q453,2,FALSE)","v":{"$error":"#N/A"}},{"$f":"VLOOKUP(F22,M47:Q452,3,FALSE)","v":{"$error":"#N/A"}},{"$f":"VLOOKUP(F22,M47:Q452,4,FALSE)","v":{"$error":"#N/A"}},{"$f":"VLOOKUP(F22,M47:Q452,5,FALSE)","v":{"$error":"#N/A"}},null,null,null,null,null,null,null,null,null,null,null,null,null,"Reporting Contractor List",null,null,null,null,null,{"$f":"F14","v":"0200XXCS"}]
[null,null,null,null,null,null,null,null,null,null,null,null,null,null,null,null,null,null,null,null,null,null,null,null,null,null,null,null,null,null,"Lookup initials",null,null,{"$f":"VLOOKUP(U10,AE48:AF453,2,FALSE)","v":{"$error":"#N/A"}}]
["Description","Material Code","Material ID","Units","Unit Code","Material Code","Producer Supplier Name","Producer Supplier Code","Source Id",null,"This column is only plants for the choosen producer",null,null,null,null,null,null,null,null,null,null,null,null,null,null,null,null,null,null,null,"VendorName.REFVENDOR","Vncde2.REFVENDOR",null,null,null,null,"Valid PS-MAT From Cognos:",null,"Vlookup to find ps","This column is created by a subroutine that copys and sorts column  AM",null,null,null,"This column  is created from the producer choice by code",null,null,null,"Code Value","Code Description","Descr.CODEVALUE","CodeTable Nm.CODEVALUE"]
["Compacted Soil","0200XXCS",4505,"Quantity required by contract","E056","0200XXCS","MoDOT (Jobsite, roadway or other similar site)","333350000X",1306,{"$f":"IF(F48=$AK$45,G48,\"\")","v":"MoDOT (Jobsite, roadway or other similar site)"},null,null,null,null,null,null,null,null,null,null,null,null,null,null,null,null,null,null,null,null,"ABNA Engineering  Inc.","ABN",null,null,null,null,"0200XXCS","APAC-Kansas Bates City Quarry",{"$f":"IF(AK48=$AK$45,AL48,\"\")","v":"APAC-Kansas Bates City Quarry"},"AA Quarry, LLC",null,null,null,null,null,null,null,"Approved Producer QC/QA Plan","APQC","QA Quality Management","QA"]
["Rock for Rock Base","0303CARB",3970,"tons","E042","0303CARB","AA Quarry, LLC","3514700114",4621,{"$f":"IF(F49=$AK$45,G49,\"\")","v":""},null,null,null,null,null,null,null,null,null,null,null,null,null,null,null,null,null,null,null,null,"APAC Clinton","APC",null,null,null,null,"0200XXCS","APAC-Missouri Construction Materials",{"$f":"IF(AK49=$AK$45,AL49,\"\")","v":"APAC-Missouri Construction Materials"},"Amino Brothers Company, Inc.",null,null,null,null,null,null,null,"Sample and Test","SATE","QC Contractor Data / Quality Managerment","QCC"]
["Comp Type 1 & 5 Base","0304SBT15KP",4002,"sq. yards","E041","0303CARB","APAC-Kansas Bates City Quarry","3176703314",1752,"",null,null,null,null,null,null,null,null,null,null,null,null,null,null,null,null,null,null,null,null,"APAC-Central, Inc.","APF",null,null,null,null,"0200XXCS","Bailey Quarries - Madry","Bailey Quarries - Madry","BMC Stone, LLC, Defiance  (APAC Defiance Quarry)",null,null,null,null,null,null,null,"Visual Inspection","VSUL"]
["Comp Type 7 Base","0304SBT7KP",4011,"sq. yards","E041","0303CARB","APAC-Kansas Harrisonville Quarry","3176703014",1750,"",null,null,null,null,null,null,null,null,null,null,null,null,null,null,null,null,null,null,null,null,"APAC-Kansas, Inc.","APK",null,null,null,null,"0200XXCS","Ballmann Earthworks","Ballmann Earthworks","Bross Construction, Hannibal"]
[null,null,null,null,null,"0303CARB","Administrative Functions","399999999X",3445,"",null,null,null,null,null,null,null,null,null,null,null,null,null,null,null,null,null,null,null,null,"APAC-Missouri, Inc.","APA",null,null,null,null,"0200XXCS","Blevins Asphalt Construction","Blevins Asphalt Construction","Cale Seymour Construction, LLC"]
[null,null,null,null,null,"0303CARB","Anchor Stone - Joplin","3150800217",1091,"",null,null,null,null,null,null,null,null,null,null,null,null,null,null,null,null,null,null,null,null,"Above And Below Contracting, LLC","TJL",null,null,null,null,"0200XXCS","Boone Quarries East (Southdown)","Boone Quarries East (Southdown)","Capital Materials, South Hollister (Journagan #7)"]
[null,null,null,null,null,"0303CARB","Bailey Quarries #2, Dolomite","3002200217",1359,"",null,null,null,null,null,null,null,null,null,null,null,null,null,null,null,null,null,null,null,null,"Alberici Constructors, Inc.","ALB",null,null,null,null,"0200XXCS","Boone Quarries, Booneville (APAC)","Boone Quarries, Booneville (APAC)","Capital Quarries #5, California"]
[null,null,null,null,null,"0303CARB","Barrett Materials Company","3050800116",2538,"",null,null,null,null,null,null,null,null,null,null,null,null,null,null,null,null,null,null,null,null,"Allgeier Martin & Associates","AGM",null,null,null,null,"0200XXCS","Boone Quarry #1, Columbia","Boone Quarry #1, Columbia","Capital Quarries, Danville (Pace Construction)"]
[null,null,null,null,null,"0303CARB","Bluewing Materials, Van Buren Stone","3011000319",2320,"",null,null,null,null,null,null,null,null,null,null,null,null,null,null,null,null,null,null,null,null,"American Bridge Company","ABC",null,null,null,null,"0200XXCS","Bross Construction, Hannibal","Bross Construction, Hannibal","Central Stone #31, Florissant"]
[null,null,null,null,null,"0303CARB","Capital Materials, Ozark (Journagan, Journagan Qy)","3027400118",720,"",null,null,null,null,null,null,null,null,null,null,null,null,null,null,null,null,null,null,null,null,"Amino Bros. Co., Inc.","AMN",null,null,null,null,"0200XXCS","Bussen #3, Antire Quarry","Bussen #3, Antire Quarry","Clarkson Construction"]
[null,null,null,null,null,"0303CARB","Capital Materials, South Hollister (Journagan #7)","3027400718",701,"",null,null,null,null,null,null,null,null,null,null,null,null,null,null,null,null,null,null,null,null,"Apex Paving Co.","APX",null,null,null,null,"0200XXCS","Capital Materials, Linn Creek (APAC)","Capital Materials, Linn Creek (APAC)","Crider Bros, Eminence"]
[null,null,null,null,null,"0303CARB","Capital Quarries, Rolla","3170700719",1143,"",null,null,null,null,null,null,null,null,null,null,null,null,null,null,null,null,null,null,null,null,"Apex Paving Co. dba ASA Asphalt","ASA",null,null,null,null,"0200XXCS","Capital Quarries, Danville (Pace Construction)","Capital Quarries, Danville (Pace Construction)","Emery Sapp"]
[null,null,null,null,null,"0303CARB","Central Stone #1, Hannibal (Huntington)","3007900113",948,"",null,null,null,null,null,null,null,null,null,null,null,null,null,null,null,null,null,null,null,null,"Aplex, Inc.","API",null,null,null,null,"0200XXCS","Capital Quarries, Rolla","Capital Quarries, Rolla","Fronabarger Concreters, Inc."]
[null,null,null,null,null,"0303CARB","Central Stone #2, Bethel","3007900213",944,"",null,null,null,null,null,null,null,null,null,null,null,null,null,null,null,null,null,null,null,null,"B & P Patterson, LLC","BPP",null,null,null,null,"0200XXCS","Capital Quarries, Stadium W","Capital Quarries, Stadium W","Gershenson Construction"]
[null,null,null,null,null,"0303CARB","Central Stone #36, Ewing","3007903613",946,"",null,null,null,null,null,null,null,null,null,null,null,null,null,null,null,null,null,null,null,null,"BFW Engineering & Testing","BFW",null,null,null,null,"0200XXCS","Clarkson Construction","Clarkson Construction","Hardy Construction, LLC"]
[null,null,null,null,null,"0303CARB","Central Stone #39, Taylor","3007903913",1426,"",null,null,null,null,null,null,null,null,null,null,null,null,null,null,null,null,null,null,null,null,"BRS Construction, LLC","BRS",null,null,null,null,"0200XXCS","Ferrell Enterprises Inc.","Ferrell Enterprises Inc.","Ideker Mosby Quarry"]
[null,null,null,null,null,"0303CARB","Central Stone #57, Moscow Mills (Lincoln Co Stone)","3194100213",1745,"",null,null,null,null,null,null,null,null,null,null,null,null,null,null,null,null,null,null,null,null,"Bartlett & West, Inc.","BAW",null,null,null,null,"0200XXCS","Fronabarger Concreters, Inc.","Fronabarger Concreters, Inc.","Jeff Asbell Excavating & Trucking Inc."]
[null,null,null,null,null,"0303CARB","Central Stone #6, New London","3007900613",949,"",null,null,null,null,null,null,null,null,null,null,null,null,null,null,null,null,null,null,null,null,"Big River Resources Corp.","BRR",null,null,null,null,"0200XXCS","Jeff Asbell Excavating & Trucking Inc.","Jeff Asbell Excavating & Trucking Inc.","Joes Bridge and Grading"]
[null,null,null,null,null,"0303CARB","Central Stone #64, Newark (Skyline Materials)","3024500113",695,"",null,null,null,null,null,null,null,null,null,null,null,null,null,null,null,null,null,null,null,null,"Bleigh Construction Company","BCC",null,null,null,null,"0200XXCS","Joes Bridge and Grading","Joes Bridge and Grading","K. J. Unnerstall"]
[null,null,null,null,null,"0303CARB","Central Stone #7, Curryville","3007900713",945,"",null,null,null,null,null,null,null,null,null,null,null,null,null,null,null,null,null,null,null,null,"Blevins Asphalt Construction Company, Inc.","BAC",null,null,null,null,"0200XXCS","Journagan, Journagan Qy, Ozark","Journagan, Journagan Qy, Ozark","Kemp Stone, Neosho (Inland River Aggregates)"]
[null,null,null,null,null,"0303CARB","Central Stone #71, Jefferson Barracks Quarry","3005700116",1151,"",null,null,null,null,null,null,null,null,null,null,null,null,null,null,null,null,null,null,null,null,"Boone Construction Co.","BON",null,null,null,null,"0200XXCS","KCI Construction","KCI Construction","Lappe Cement Finishing, Inc."]
[null,null,null,null,null,"0303CARB","Central Stone #72, Antire Quarry","3005700316",1154,"",null,null,null,null,null,null,null,null,null,null,null,null,null,null,null,null,null,null,null,null,"Bowen Engineering & Surveying, P.C.","BWE",null,null,null,null,"0200XXCS","Kemp Stone, Neosho (Inland River Aggregates)","Kemp Stone, Neosho (Inland River Aggregates)","Leavenworth Exc."]
[null,null,null,null,null,"0303CARB","Certain Teed, Piedmont","3038000110",467,"",null,null,null,null,null,null,null,null,null,null,null,null,null,null,null,null,null,null,null,null,"Branco Enterprises, Inc.","BRE",null,null,null,null,"0200XXCS","Leavenworth Exc.","Leavenworth Exc.","Lehman Construction Company"]
[null,null,null,null,null,"0303CARB","Holliday Sand and Stone, Dever (Ash Grove)","3002948617",3010,"",null,null,null,null,null,null,null,null,null,null,null,null,null,null,null,null,null,null,null,null,"Burk Bridge Co.","BBC",null,null,null,null,"0200XXCS","Lehman Construction Company","Lehman Construction Company","Magruder Limestone #1, Troy"]
[null,null,null,null,null,"0303CARB","Hutchens Lime, Purdy","3021500117",903,"",null,null,null,null,null,null,null,null,null,null,null,null,null,null,null,null,null,null,null,null,"CB Engineering, Inc. dba Cochran","COC",null,null,null,null,"0200XXCS","Melrose Quarry and Asphalt","Melrose Quarry and Asphalt","Mid Missouri Limestone (Big Springs)"]
[null,null,null,null,null,"0303CARB","Hutchens Lime, Washburn","3021500317",904,"",null,null,null,null,null,null,null,null,null,null,null,null,null,null,null,null,null,null,null,null,"CBH Construction, LLC","CBH",null,null,null,null,"0200XXCS","MoDOT (Jobsite, roadway or other similar site)","MoDOT (Jobsite, roadway or other similar site)","MoDOT (Jobsite, roadway or other similar site)"]
[null,null,null,null,null,"0303CARB","Indian Creek Materials/West Plains","3012900119",1217,"",null,null,null,null,null,null,null,null,null,null,null,null,null,null,null,null,null,null,null,null,"CE Contracting, Inc.","CEC",null,null,null,null,"0200XXCS","N.B. West Contracting","N.B. West Contracting","Norris Quarries LLC, Agency (APAC - Agency)"]
[null,null,null,null,null,"0303CARB","Joplin Stone","3023600117",730,"",null,null,null,null,null,null,null,null,null,null,null,null,null,null,null,null,null,null,null,null,"Cale Seymour Construction, LLC","CSC",null,null,null,null,"0200XXCS","Norris Quarries LLC, Agency (APAC - Agency)","Norris Quarries LLC, Agency (APAC - Agency)","Pavement Solutions, LLC"]
[null,null,null,null,null,"0303CARB","Knox County Stone","3025800113",683,"",null,null,null,null,null,null,null,null,null,null,null,null,null,null,null,null,null,null,null,null,"Capital Electric Line Builders, LLC","CEL",null,null,null,null,"0200XXCS","Pace Construction, Asphalt","Pace Construction, Asphalt","Producer Supplier not designated."]
[null,null,null,null,null,"0303CARB","Magruder Limestone #1, Troy","3029700113",842,"",null,null,null,null,null,null,null,null,null,null,null,null,null,null,null,null,null,null,null,null,"Capital Materials","CPM",null,null,null,null,"0200XXCS","Pavement Solutions, LLC","Pavement Solutions, LLC","Siegel Quarry"]
[null,null,null,null,null,"0303CARB","Magruder Limestone, Ashley","3029700313",838,"",null,null,null,null,null,null,null,null,null,null,null,null,null,null,null,null,null,null,null,null,"Capital Paving & Construction, LLC","CPC",null,null,null,null,"0200XXCS","Producer Supplier not designated.","Producer Supplier not designated.","Steve & Associates"]
[null,null,null,null,null,"0303CARB","Martin Marietta, Randolph","3021300114",900,"",null,null,null,null,null,null,null,null,null,null,null,null,null,null,null,null,null,null,null,null,"Central Missouri Professional Services, Inc.","CMP",null,null,null,null,"0200XXCS","Riverstone Quarry - Dawson Plant","Riverstone Quarry - Dawson Plant","Widel, Inc."]
[null,null,null,null,null,"0303CARB","Mertens #6, Treloar","3039000613",1839,"",null,null,null,null,null,null,null,null,null,null,null,null,null,null,null,null,null,null,null,null,"Chester Bross Construction Company/C.B. Equipment, Inc.","CBC",null,null,null,null,"0200XXCS","S & A Construction, Bethany","S & A Construction, Bethany","Wright City Quarry - BMC Stone, LLC"]
[null,null,null,null,null,"0303CARB","Mertens, Femme Osage","3061600116",2374,"",null,null,null,null,null,null,null,null,null,null,null,null,null,null,null,null,null,null,null,null,"Christensen Construction Co.","CHR",null,null,null,null,"0200XXCS","Siegel Quarry",{"$f":"IF(AK81=$AK$45,AL81,\"\")","v":"Siegel Quarry"}]
[null,null,null,null,null,"0303CARB","MoDOT (Jobsite, roadway or other similar site)","333350000X",1306,"",null,null,null,null,null,null,null,null,null,null,null,null,null,null,null,null,null,null,null,null,"City Design Group, Inc.","CDG",null,null,null,null,"0200XXCS","Southeast Missouri Stone (SEMO)","Southeast Missouri Stone (SEMO)"]
[null,null,null,null,null,"0303CARB","New Frontier, North Quarry #6","3016600116",118,"",null,null,null,null,null,null,null,null,null,null,null,null,null,null,null,null,null,null,null,null,"Clarkson Construction Company","CCC",null,null,null,null,"0200XXCS","Widel, Inc.","Widel, Inc."]
[null,null,null,null,null,"0303CARB","Norris Quarries LLC, Stanberry (APAC - Stanberry)","3014801011",1029,"",null,null,null,null,null,null,null,null,null,null,null,null,null,null,null,null,null,null,null,null,"Collins & Hermann, Inc.","CHI",null,null,null,null,"0200XXCS","Williamsville Stone #1","Williamsville Stone #1"]
[null,null,null,null,null,"0303CARB","Norris Quarries, Amazonia Quarry","3061800211",888,"",null,null,null,null,null,null,null,null,null,null,null,null,null,null,null,null,null,null,null,null,"Comanche Construction, Inc.","CCI",null,null,null,null,"0200XXCS","Wright City Quarry - BMC Stone, LLC","Wright City Quarry - BMC Stone, LLC"]
[null,null,null,null,null,"0303CARB","Norris Quarries, Blue Mound","3018700212",849,"",null,null,null,null,null,null,null,null,null,null,null,null,null,null,null,null,null,null,null,null,"Concrete Strategies, LLC","COS",null,null,null,null,"0303CARB","APAC-Kansas Bates City Quarry",""]
[null,null,null,null,null,"0303CARB","Norris Quarries, Breit Quarry, Savannah","3030693411",806,"",null,null,null,null,null,null,null,null,null,null,null,null,null,null,null,null,null,null,null,null,"County Contractors, Inc.","CTC",null,null,null,null,"0303CARB","APAC-Kansas Harrisonville Quarry",""]
[null,null,null,null,null,"0303CARB","Norris Quarries, LLC - Mt. Airy","3062100112",1893,"",null,null,null,null,null,null,null,null,null,null,null,null,null,null,null,null,null,null,null,null,"Crockett Engineering Consultants, LLC","CRK",null,null,null,null,"0303CARB","APAC-Kansas Sugar Creek Quarry",""]
[null,null,null,null,null,"0303CARB","Norris Quarries, Maitland Quarry","3030653111",803,"",null,null,null,null,null,null,null,null,null,null,null,null,null,null,null,null,null,null,null,null,"D & E Plumbing and Heating, Inc.","DEP",null,null,null,null,"0303CARB","Administrative Functions",""]
[null,null,null,null,null,"0303CARB","Norris Quarries, Rte. C Quarry, Pattonsburg","3030617111",815,"",null,null,null,null,null,null,null,null,null,null,null,null,null,null,null,null,null,null,null,null,"D & S Fencing Company Inc.","DFC",null,null,null,null,"0303CARB","Anchor Stone - Joplin",""]
[null,null,null,null,null,"0303CARB","Producer Supplier not designated.","300000000X",2186,"",null,null,null,null,null,null,null,null,null,null,null,null,null,null,null,null,null,null,null,null,"Delta Lab","DEL",null,null,null,null,"0303CARB","Ash Grove Aggr #78, Montevallo",""]
[null,null,null,null,null,"0303CARB","Quality Aggregates (Hillside LLC)","3238600114",2290,"",null,null,null,null,null,null,null,null,null,null,null,null,null,null,null,null,null,null,null,null,"Don Schnieders Excavating Company, Inc.","DSE",null,null,null,null,"0303CARB","Ash Grove Aggr #95, Bolivar",""]
[null,null,null,null,null,"0303CARB","Riverstone Quarry - Dawson Plant","3050300216",1493,"",null,null,null,null,null,null,null,null,null,null,null,null,null,null,null,null,null,null,null,null,"Emery Sapp & Sons, Inc.","EMS",null,null,null,null,"0303CARB","BMC Stone, LLC, Defiance  (APAC Defiance Quarry)",""]
[null,null,null,null,null,"0303CARB","Servaes Enterprises-Atchison, KS-Above Ground Pit","3449700111",4826,"",null,null,null,null,null,null,null,null,null,null,null,null,null,null,null,null,null,null,null,null,"Engineered Systems Company, LLC","ESC",null,null,null,null,"0303CARB","Barrett Materials Company",""]
[null,null,null,null,null,"0303CARB","Williamsville Stone #1","3050400110",81,"",null,null,null,null,null,null,null,null,null,null,null,null,null,null,null,null,null,null,null,null,"Engineering Surveys & Services, LLC","E1S",null,null,null,null,"0303CARB","Boone Quarries, Houstonia (Mid MO Mertens)",""]
[null,null,null,null,null,"0303CARB","Wright City Quarry - BMC Stone, LLC","3050700113",62,"",null,null,null,null,null,null,null,null,null,null,null,null,null,null,null,null,null,null,null,null,"Enviro Control, LLC","ENV",null,null,null,null,"0303CARB","Boone Quarries, Millersburg (Mid MO Mertens)",""]
[null,null,null,null,null,"0304SBT15KP","MoDOT (Jobsite, roadway or other similar site)","333350000X",1306,"",null,null,null,null,null,null,null,null,null,null,null,null,null,null,null,null,null,null,null,null,"Ewing Signal Construction, LLC","EWS",null,null,null,null,"0303CARB","Boone Quarries, Riggs (Mid MO Mertens)",""]
[null,null,null,null,null,"0304SBT7KP","MoDOT (Jobsite, roadway or other similar site)","333350000X",1306,"",null,null,null,null,null,null,null,null,null,null,null,null,null,null,null,null,null,null,null,null,"Fred Weber, Inc.","FDW",null,null,null,null,"0303CARB","Boone Quarries, Tipton (Mid MO Prestage)",""]
[null,null,null,null,null,null,null,null,null,"",null,null,null,null,null,null,null,null,null,null,null,null,null,null,null,null,null,null,null,null,"Freedom Fence, LLC","FRF",null,null,null,null,"0303CARB","Boone Quarry #1, Columbia",""]
[null,null,null,null,null,null,null,null,null,"",null,null,null,null,null,null,null,null,null,null,null,null,null,null,null,null,null,null,null,null,"Fronabarger Concreters, Inc.","FRN",null,null,null,null,"0303CARB","Bussen #1, Koch Quarry",""]
[null,null,null,null,null,null,null,null,null,"",null,null,null,null,null,null,null,null,null,null,null,null,null,null,null,null,null,null,null,null,"G & M Concrete & Asphalt Co., Inc.","GMC",null,null,null,null,"0303CARB","Bussen #3, Antire Quarry",""]
[null,null,null,null,null,null,null,null,null,"",null,null,null,null,null,null,null,null,null,null,null,null,null,null,null,null,null,null,null,null,"Garver USA","GVR",null,null,null,null,"0303CARB","Bussen #4, Trautman Quarry",""]
[null,null,null,null,null,null,null,null,null,"",null,null,null,null,null,null,null,null,null,null,null,null,null,null,null,null,null,null,null,null,"Geotechnics","GEO",null,null,null,null,"0303CARB","Capital Materials, Leeton (APAC)",""]
[null,null,null,null,null,null,null,null,null,"",null,null,null,null,null,null,null,null,null,null,null,null,null,null,null,null,null,null,null,null,"Geotechnology, Inc.","GET",null,null,null,null,"0303CARB","Capital Materials, Linn Creek (APAC)",""]
[null,null,null,null,null,null,null,null,null,"",null,null,null,null,null,null,null,null,null,null,null,null,null,null,null,null,null,null,null,null,"Geromini Concrete Paving, LLC dba GC Paving","GCP",null,null,null,null,"0303CARB","Capital Materials, Palo Quarry (Smasal)",""]
[null,null,null,null,null,null,null,null,null,"",null,null,null,null,null,null,null,null,null,null,null,null,null,null,null,null,null,null,null,null,"Gershenson Construction Co., Inc.","GCC",null,null,null,null,"0303CARB","Capital Quarries #7, Salem",""]
[null,null,null,null,null,null,null,null,null,"",null,null,null,null,null,null,null,null,null,null,null,null,null,null,null,null,null,null,null,null,"Gerstner Electric, Inc.","GRE",null,null,null,null,"0303CARB","Capital Quarries, Danville (Pace Construction)",""]
[null,null,null,null,null,null,null,null,null,"",null,null,null,null,null,null,null,null,null,null,null,null,null,null,null,null,null,null,null,null,"Gonzalez Companies, LLC","GCL",null,null,null,null,"0303CARB","Capital Quarries, Rolla",""]
[null,null,null,null,null,null,null,null,null,"",null,null,null,null,null,null,null,null,null,null,null,null,null,null,null,null,null,null,null,null,"Goodwin Bros. Construction Co.","GBC",null,null,null,null,"0303CARB","Capital Quarries, Stadium W",""]
[null,null,null,null,null,null,null,null,null,"",null,null,null,null,null,null,null,null,null,null,null,null,null,null,null,null,null,null,null,null,"Ground Breaking Excavation & Utilities, LLC","GBE",null,null,null,null,"0303CARB","Central Stone #2, Bethel",""]
[null,null,null,null,null,null,null,null,null,"",null,null,null,null,null,null,null,null,null,null,null,null,null,null,null,null,null,null,null,null,"Gunter Construction Company","G1C",null,null,null,null,"0303CARB","Central Stone #31, Florissant",""]
[null,null,null,null,null,null,null,null,null,"",null,null,null,null,null,null,null,null,null,null,null,null,null,null,null,null,null,null,null,null,"H.R. Quadri Contractors, LLC","HRQ",null,null,null,null,"0303CARB","Central Stone #36, Ewing",""]
[null,null,null,null,null,null,null,null,null,{"$f":"IF(F113=$AK$45,G113,\"\")","v":""},null,null,null,null,null,null,null,null,null,null,null,null,null,null,null,null,null,null,null,null,"Halverson Construction Co., Inc.","HLC",null,null,null,null,"0303CARB","Central Stone #39, Taylor",{"$f":"IF(AK113=$AK$45,AL113,\"\")","v":""}]
[null,null,null,null,null,null,null,null,null,"",null,null,null,null,null,null,null,null,null,null,null,null,null,null,null,null,null,null,null,null,"Hartman and Company, Inc.","HAC",null,null,null,null,"0303CARB","Central Stone #4, Paris",{"$f":"IF(AK114=$AK$45,AL114,\"\")","v":""}]
[null,null,null,null,null,null,null,null,null,"",null,null,null,null,null,null,null,null,null,null,null,null,null,null,null,null,null,null,null,null,"Herzog Contracting Corp.","HCC",null,null,null,null,"0303CARB","Central Stone #57, Moscow Mills (Lincoln Co Stone)",""]
[null,null,null,null,null,null,null,null,null,"",null,null,null,null,null,null,null,null,null,null,null,null,null,null,null,null,null,null,null,null,"Horner & Shifrin, Inc.","HAS",null,null,null,null,"0303CARB","Central Stone #6, New London",""]
[null,null,null,null,null,null,null,null,null,"",null,null,null,null,null,null,null,null,null,null,null,null,null,null,null,null,null,null,null,null,"Hunter Chase & Associates, Inc.","HCA",null,null,null,null,"0303CARB","Central Stone #64, Newark (Skyline Materials)",""]
[null,null,null,null,null,null,null,null,null,"",null,null,null,null,null,null,null,null,null,null,null,null,null,null,null,null,null,null,null,null,"Hutchens Construction Co.","HUC",null,null,null,null,"0303CARB","Central Stone #7, Curryville",""]
[null,null,null,null,null,null,null,null,null,"",null,null,null,null,null,null,null,null,null,null,null,null,null,null,null,null,null,null,null,null,"Ideker, Inc.","IDK",null,null,null,null,"0303CARB","Central Stone, Potosi (GP Materials)",""]
[null,null,null,null,null,null,null,null,null,"",null,null,null,null,null,null,null,null,null,null,null,null,null,null,null,null,null,null,null,null,"Interstate Improvement, Inc.","III",null,null,null,null,"0303CARB","Certain Teed, Piedmont",""]
[null,null,null,null,null,null,null,null,null,"",null,null,null,null,null,null,null,null,null,null,null,null,null,null,null,null,null,null,null,null,"Interstate Testing Services, LLC","ITS",null,null,null,null,"0303CARB","Fischer Quarry & Hauling, Burfordville (T&M Stone)",""]
[null,null,null,null,null,null,null,null,null,"",null,null,null,null,null,null,null,null,null,null,null,null,null,null,null,null,null,null,null,null,"Intertek - PSI","PSS",null,null,null,null,"0303CARB","Hutchens Lime, Purdy",""]
[null,null,null,null,null,null,null,null,null,"",null,null,null,null,null,null,null,null,null,null,null,null,null,null,null,null,null,null,null,null,"Iowa Civil Contracting, Inc.","ICC",null,null,null,null,"0303CARB","Indian Creek Materials, Willow Springs (Gabel Ston",""]
[null,null,null,null,null,null,null,null,null,"",null,null,null,null,null,null,null,null,null,null,null,null,null,null,null,null,null,null,null,null,"Iron Mountain Trap Rock Company","IMC",null,null,null,null,"0303CARB","Joplin Stone",""]
[null,null,null,null,null,null,null,null,null,"",null,null,null,null,null,null,null,null,null,null,null,null,null,null,null,null,null,null,null,null,"J D Bishop Construction, LLC","JDB",null,null,null,null,"0303CARB","Journagan #7, South Hollister Quarry",""]
[null,null,null,null,null,null,null,null,null,"",null,null,null,null,null,null,null,null,null,null,null,null,null,null,null,null,null,null,null,null,"J M Scheidle, LLC","JMS",null,null,null,null,"0303CARB","Journagan, Journagan Qy, Ozark",""]
[null,null,null,null,null,null,null,null,null,"",null,null,null,null,null,null,null,null,null,null,null,null,null,null,null,null,null,null,null,null,"J. M. Fahey Construction Co.","JMF",null,null,null,null,"0303CARB","Kemp Stone, Neosho (Inland River Aggregates)",""]
[null,null,null,null,null,null,null,null,null,"",null,null,null,null,null,null,null,null,null,null,null,null,null,null,null,null,null,null,null,null,"J. M. Marschuetz Construction Co.","JMC",null,null,null,null,"0303CARB","Knox County Stone",""]
[null,null,null,null,null,null,null,null,null,"",null,null,null,null,null,null,null,null,null,null,null,null,null,null,null,null,null,null,null,null,"J.H. Berra Construction Co., Inc.","JHB",null,null,null,null,"0303CARB","L & W #2, Kahoka",""]
[null,null,null,null,null,null,null,null,null,"",null,null,null,null,null,null,null,null,null,null,null,null,null,null,null,null,null,null,null,null,"James H. Drew Corporation","JHD",null,null,null,null,"0303CARB","Lead Belt, Desloge Stone",""]
[null,null,null,null,null,null,null,null,null,"",null,null,null,null,null,null,null,null,null,null,null,null,null,null,null,null,null,null,null,null,"Jeff Asbell Excavating & Trucking Inc.","AET",null,null,null,null,"0303CARB","Magruder Limestone #1, Troy",""]
[null,null,null,null,null,null,null,null,null,"",null,null,null,null,null,null,null,null,null,null,null,null,null,null,null,null,null,null,null,null,"Jeff City Industry, Inc. dba J.C. Industries, Inc.","JCI",null,null,null,null,"0303CARB","Magruder Limestone, Ashley",""]
[null,null,null,null,null,null,null,null,null,"",null,null,null,null,null,null,null,null,null,null,null,null,null,null,null,null,null,null,null,null,"Jefferson Asphalt Company","JFA",null,null,null,null,"0303CARB","Magruder Limestone, Lake Ozark",""]
[null,null,null,null,null,null,null,null,null,"",null,null,null,null,null,null,null,null,null,null,null,null,null,null,null,null,null,null,null,null,"Joe's Bridge & Grading, Inc.","JBG",null,null,null,null,"0303CARB","Martin Marietta, Greenwood SW",""]
[null,null,null,null,null,null,null,null,null,"",null,null,null,null,null,null,null,null,null,null,null,null,null,null,null,null,null,null,null,null,"Jokerst Paving & Contracting, Inc.","JPC",null,null,null,null,"0303CARB","Martin Marietta, Peculiar North Pit",""]
[null,null,null,null,null,null,null,null,null,"",null,null,null,null,null,null,null,null,null,null,null,null,null,null,null,null,null,null,null,null,"Joplin Industrial Electric Company, Inc.","JIE",null,null,null,null,"0303CARB","Mertens #6, Treloar",""]
[null,null,null,null,null,null,null,null,null,"",null,null,null,null,null,null,null,null,null,null,null,null,null,null,null,null,null,null,null,null,"K.J.U., Inc. dba K.J. Unnerstall Construction Co.","KJU",null,null,null,null,"0303CARB","MoDOT (Jobsite, roadway or other similar site)",""]
[null,null,null,null,null,null,null,null,null,"",null,null,null,null,null,null,null,null,null,null,null,null,null,null,null,null,null,null,null,null,"K.V.K. Contracting, Inc.","KVK",null,null,null,null,"0303CARB","Norris Quarries LLC, Kingston (APAC - Kingston)",""]
[null,null,null,null,null,null,null,null,null,"",null,null,null,null,null,null,null,null,null,null,null,null,null,null,null,null,null,null,null,null,"KAT Excavation, Inc.","KEV",null,null,null,null,"0303CARB","Norris Quarries LLC, Plattsburg South (APAC)",""]
[null,null,null,null,null,null,null,null,null,"",null,null,null,null,null,null,null,null,null,null,null,null,null,null,null,null,null,null,null,null,"KCI Construction Company","KCI",null,null,null,null,"0303CARB","Norris Quarries, Bethany",""]
[null,null,null,null,null,null,null,null,null,"",null,null,null,null,null,null,null,null,null,null,null,null,null,null,null,null,null,null,null,null,"KTI","KTI",null,null,null,null,"0303CARB","Norris Quarries, Breit Quarry, Savannah",""]
[null,null,null,null,null,null,null,null,null,"",null,null,null,null,null,null,null,null,null,null,null,null,null,null,null,null,null,null,null,null,"Karrenbrock Excavating, LLC","KBA",null,null,null,null,"0303CARB","Norris Quarries, LLC - Mt. Airy",""]
[null,null,null,null,null,null,null,null,null,"",null,null,null,null,null,null,null,null,null,null,null,null,null,null,null,null,null,null,null,null,"Keeley & Sons, Inc.","KLY",null,null,null,null,"0303CARB","Norris Quarries, Maitland Quarry",""]
[null,null,null,null,null,null,null,null,null,"",null,null,null,null,null,null,null,null,null,null,null,null,null,null,null,null,null,null,null,null,"Keith Simpson Contracting, LLC","KSC",null,null,null,null,"0303CARB","Norris Quarries, Rte. C Quarry, Pattonsburg",""]
[null,null,null,null,null,null,null,null,null,"",null,null,null,null,null,null,null,null,null,null,null,null,null,null,null,null,null,null,null,null,"Koehler Engineering and Land Surveying, Inc.","KEL",null,null,null,null,"0303CARB","Norris Quarries, Trenton",""]
[null,null,null,null,null,null,null,null,null,"",null,null,null,null,null,null,null,null,null,null,null,null,null,null,null,null,null,null,null,null,"Kolb Grading, LLC","KLG",null,null,null,null,"0303CARB","Quality Aggregates (Hillside LLC)",""]
[null,null,null,null,null,null,null,null,null,"",null,null,null,null,null,null,null,null,null,null,null,null,null,null,null,null,null,null,null,null,"Kozeny-Wagner, Inc.","KZW",null,null,null,null,"0303CARB","Riverstone Quarry",""]
[null,null,null,null,null,null,null,null,null,"",null,null,null,null,null,null,null,null,null,null,null,null,null,null,null,null,null,null,null,null,"L. G. Barcus and Sons, Inc.","LGB",null,null,null,null,"0303CARB","Riverstone Quarry - Dawson Plant",""]
[null,null,null,null,null,null,null,null,null,"",null,null,null,null,null,null,null,null,null,null,null,null,null,null,null,null,null,null,null,null,"L.F. Krupp Construction, Inc. dba Krupp Construction","LFK",null,null,null,null,"0303CARB","Rockridge Quarry",""]
[null,null,null,null,null,null,null,null,null,"",null,null,null,null,null,null,null,null,null,null,null,null,null,null,null,null,null,null,null,null,"Lamke Trenching & Excavating, Inc.","LTE",null,null,null,null,"0303CARB","Schiermeier Quarry",""]
[null,null,null,null,null,null,null,null,null,"",null,null,null,null,null,null,null,null,null,null,null,null,null,null,null,null,null,null,null,null,"Lead Belt Materials Company, Inc.","LBM",null,null,null,null,"0303CARB","Servaes Enterprises-Atchison, KS-Above Ground Pit",""]
[null,null,null,null,null,null,null,null,null,"",null,null,null,null,null,null,null,null,null,null,null,null,null,null,null,null,null,null,null,null,"Leath & Sons, Inc.","LES",null,null,null,null,"0303CARB","Skyline Materials (Glasgow, Gilliam Rock)",""]
[null,null,null,null,null,null,null,null,null,"",null,null,null,null,null,null,null,null,null,null,null,null,null,null,null,null,null,null,null,null,"Leavenworth Excavating & Equipment Company, Inc.","LEE",null,null,null,null,"0303CARB","Southeast Missouri Stone (SEMO)",""]
[null,null,null,null,null,null,null,null,null,"",null,null,null,null,null,null,null,null,null,null,null,null,null,null,null,null,null,null,null,null,"Lehman Construction, LLC","LHC",null,null,null,null,"0303CARB","Strack Excavating, LLC",""]
[null,null,null,null,null,null,null,null,null,"",null,null,null,null,null,null,null,null,null,null,null,null,null,null,null,null,null,null,null,null,"Leo Journagan Construction Co., Inc.","LJC",null,null,null,null,"0303CARB","Summit Materials, Marshall (Boone Quarries)",""]
[null,null,null,null,null,null,null,null,null,"",null,null,null,null,null,null,null,null,null,null,null,null,null,null,null,null,null,null,null,null,"Loch Sand and Construction Co.","LSC",null,null,null,null,"0303CARB","U. S. Silica, Pacific",""]
[null,null,null,null,null,null,null,null,null,"",null,null,null,null,null,null,null,null,null,null,null,null,null,null,null,null,null,null,null,null,"Logan Excavating, LLC","LEX",null,null,null,null,"0303CARB","Van Buren Stone Co., LLC",""]
[null,null,null,null,null,null,null,null,null,"",null,null,null,null,null,null,null,null,null,null,null,null,null,null,null,null,null,null,null,null,"Magruder Construction Co., Inc.","MCC",null,null,null,null,"0303CARB","Weber, North Quarry #6",""]
[null,null,null,null,null,null,null,null,null,"",null,null,null,null,null,null,null,null,null,null,null,null,null,null,null,null,null,null,null,null,"Magruder Paving, LLC","MGP",null,null,null,null,"0303CARB","Weber, South Quarry",""]
[null,null,null,null,null,null,null,null,null,"",null,null,null,null,null,null,null,null,null,null,null,null,null,null,null,null,null,null,null,null,"Mar-Jim Contracting, LLC","MJC",null,null,null,null,"0303CARB","Williamsville Stone #1",""]
[null,null,null,null,null,null,null,null,null,"",null,null,null,null,null,null,null,null,null,null,null,null,null,null,null,null,null,null,null,null,"Mark One Electric Co., Inc.","MOE",null,null,null,null,"0304SBT15KP","Anchor Stone - Joplin",""]
[null,null,null,null,null,null,null,null,null,"",null,null,null,null,null,null,null,null,null,null,null,null,null,null,null,null,null,null,null,null,"Marketing Associates, Inc.","MKA",null,null,null,null,"0304SBT15KP","Ash Grove Aggr #65, Fairplay (T & M Stone Co.)",""]
[null,null,null,null,null,null,null,null,null,"",null,null,null,null,null,null,null,null,null,null,null,null,null,null,null,null,null,null,null,null,"MegaKC Corporation","MIC",null,null,null,null,"0304SBT15KP","Blevins Asphalt Construction",""]
[null,null,null,null,null,null,null,null,null,"",null,null,null,null,null,null,null,null,null,null,null,null,null,null,null,null,null,null,null,null,"Mera Excavating, LLC","MER",null,null,null,null,"0304SBT15KP","Boone Quarries, Hughesville (Fischer)",""]
[null,null,null,null,null,null,null,null,null,"",null,null,null,null,null,null,null,null,null,null,null,null,null,null,null,null,null,null,null,null,"Michels Road & Stone, Inc.","MRS",null,null,null,null,"0304SBT15KP","Boone Quarries, Millersburg (Mid MO Mertens)",""]
[null,null,null,null,null,null,null,null,null,"",null,null,null,null,null,null,null,null,null,null,null,null,null,null,null,null,null,null,null,null,"Mid-River Asphalt, Inc.","MRA",null,null,null,null,"0304SBT15KP","Boone Quarries, Tipton (Mid MO Prestage)",""]
[null,null,null,null,null,null,null,null,null,"",null,null,null,null,null,null,null,null,null,null,null,null,null,null,null,null,null,null,null,null,"Midwest Heavy Construction, LLC","MWC",null,null,null,null,"0304SBT15KP","Boone Quarry #1, Columbia",""]
[null,null,null,null,null,null,null,null,null,"",null,null,null,null,null,null,null,null,null,null,null,null,null,null,null,null,null,null,null,null,"Miles Excavating, Inc.","MEX",null,null,null,null,"0304SBT15KP","Bross Construction, Asphalt",""]
[null,null,null,null,null,null,null,null,null,"",null,null,null,null,null,null,null,null,null,null,null,null,null,null,null,null,null,null,null,null,"Mill Valley Construction, Inc.","MVC",null,null,null,null,"0304SBT15KP","Bross Construction, Concrete Paving",""]
[null,null,null,null,null,null,null,null,null,"",null,null,null,null,null,null,null,null,null,null,null,null,null,null,null,null,null,null,null,null,"Millstone Bangert, Inc.","MBG",null,null,null,null,"0304SBT15KP","Capital Materials, Tightwad (APAC)",""]
[null,null,null,null,null,null,null,null,null,"",null,null,null,null,null,null,null,null,null,null,null,null,null,null,null,null,null,null,null,null,"Millstone Weber, LLC","MLW",null,null,null,null,"0304SBT15KP","Capital Quarries #13, Owensville",""]
[null,null,null,null,null,null,null,null,null,"",null,null,null,null,null,null,null,null,null,null,null,null,null,null,null,null,null,null,null,null,"Missouri Petroleum Products Company, LLC","MPP",null,null,null,null,"0304SBT15KP","Capital Quarries #5, California",""]
[null,null,null,null,null,null,null,null,null,"",null,null,null,null,null,null,null,null,null,null,null,null,null,null,null,null,null,null,null,null,"Musselman and Hall Contractors, LLC","MHC",null,null,null,null,"0304SBT15KP","Capital Quarries, Arcadia ",""]
[null,null,null,null,null,null,null,null,null,"",null,null,null,null,null,null,null,null,null,null,null,null,null,null,null,null,null,null,null,null,"N.B. West Contracting Company","NBW",null,null,null,null,"0304SBT15KP","Capital Quarries, Danville (Pace Construction)",""]
[null,null,null,null,null,null,null,null,null,"",null,null,null,null,null,null,null,null,null,null,null,null,null,null,null,null,null,null,null,null,"New Frontier Materials, LLC","NFR",null,null,null,null,"0304SBT15KP","Capital Quarries, Rolla",""]
[null,null,null,null,null,null,null,null,null,"",null,null,null,null,null,null,null,null,null,null,null,null,null,null,null,null,null,null,null,null,"Norris Asphalt Paving Co., LC","NAP",null,null,null,null,"0304SBT15KP","Capital Quarries, Stadium W",""]
[null,null,null,null,null,null,null,null,null,{"$f":"IF(F177=$AK$45,G177,\"\")","v":""},null,null,null,null,null,null,null,null,null,null,null,null,null,null,null,null,null,null,null,null,"North Central Bridge, LLC","NCB",null,null,null,null,"0304SBT15KP","Central Stone #2, Bethel",""]
[null,null,null,null,null,null,null,null,null,"",null,null,null,null,null,null,null,null,null,null,null,null,null,null,null,null,null,null,null,null,"OWN, Inc.","AND",null,null,null,null,"0304SBT15KP","Central Stone #36, Ewing",{"$f":"IF(AK178=$AK$45,AL178,\"\")","v":""}]
[null,null,null,null,null,null,null,null,null,"",null,null,null,null,null,null,null,null,null,null,null,null,null,null,null,null,null,null,null,null,"Olsson, Inc - Overland Park","OIO",null,null,null,null,"0304SBT15KP","Central Stone #56 (Bellefontaine South)",""]
[null,null,null,null,null,null,null,null,null,"",null,null,null,null,null,null,null,null,null,null,null,null,null,null,null,null,null,null,null,null,"Olsson, Inc - Springfield","OIS",null,null,null,null,"0304SBT15KP","Clarkson Construction",""]
[null,null,null,null,null,null,null,null,null,"",null,null,null,null,null,null,null,null,null,null,null,null,null,null,null,null,null,null,null,null,"PCiRoads, LLC","PCI",null,null,null,null,"0304SBT15KP","Concrete Solutions",""]
[null,null,null,null,null,null,null,null,null,"",null,null,null,null,null,null,null,null,null,null,null,null,null,null,null,null,null,null,null,null,"Pace Construction Company, LLC","PAC",null,null,null,null,"0304SBT15KP","Crider Bros, Eminence",""]
[null,null,null,null,null,null,null,null,null,"",null,null,null,null,null,null,null,null,null,null,null,null,null,null,null,null,null,null,null,null,"Page Constructors, LLC","PGC",null,null,null,null,"0304SBT15KP","Don Schnieders Construction",""]
[null,null,null,null,null,null,null,null,null,"",null,null,null,null,null,null,null,null,null,null,null,null,null,null,null,null,null,null,null,null,"Palmerton & Parrish, Inc.","PAP",null,null,null,null,"0304SBT15KP","Emery Sapp",""]
[null,null,null,null,null,null,null,null,null,"",null,null,null,null,null,null,null,null,null,null,null,null,null,null,null,null,null,null,null,null,"Paramount Testing Corporation","PTC",null,null,null,null,"0304SBT15KP","Fronabarger Concreters, Inc.",""]
[null,null,null,null,null,null,null,null,null,"",null,null,null,null,null,null,null,null,null,null,null,null,null,null,null,null,null,null,null,null,"Pavement Solutions, LLC","PVS",null,null,null,null,"0304SBT15KP","Gershenson Construction",""]
[null,null,null,null,null,null,null,null,null,"",null,null,null,null,null,null,null,null,null,null,null,null,null,null,null,null,null,null,null,null,"Phillips Hardy, Inc.","PHI",null,null,null,null,"0304SBT15KP","Hartman Construction",""]
[null,null,null,null,null,null,null,null,null,"",null,null,null,null,null,null,null,null,null,null,null,null,null,null,null,null,null,null,null,null,"Premier Engineering Consultants  LLC","PEC",null,null,null,null,"0304SBT15KP","Higgins Quarry, LLC - Otterville",""]
[null,null,null,null,null,null,null,null,null,"",null,null,null,null,null,null,null,null,null,null,null,null,null,null,null,null,null,null,null,null,"Premier Testing Laboratories","PTL",null,null,null,null,"0304SBT15KP","Hunter-Chase and Associates",""]
[null,null,null,null,null,null,null,null,null,"",null,null,null,null,null,null,null,null,null,null,null,null,null,null,null,null,null,null,null,null,"Pyramid Contractors, Inc.","PYR",null,null,null,null,"0304SBT15KP","Jasper Stone, LLC",""]
[null,null,null,null,null,null,null,null,null,"",null,null,null,null,null,null,null,null,null,null,null,null,null,null,null,null,null,null,null,null,"Quality Testing and Engineering","QTE",null,null,null,null,"0304SBT15KP","Joes Bridge and Grading",""]
[null,null,null,null,null,null,null,null,null,"",null,null,null,null,null,null,null,null,null,null,null,null,null,null,null,null,null,null,null,null,"R. V. Wagner, Inc.","RVW",null,null,null,null,"0304SBT15KP","Journagan, Journagan Qy, Ozark",""]
[null,null,null,null,null,null,null,null,null,"",null,null,null,null,null,null,null,null,null,null,null,null,null,null,null,null,null,null,null,null,"R.A. Knapp Construction, Inc.","RAK",null,null,null,null,"0304SBT15KP","KCI Construction",""]
[null,null,null,null,null,null,null,null,null,"",null,null,null,null,null,null,null,null,null,null,null,null,null,null,null,null,null,null,null,null,"RL Persons Construction, Inc.","RPC",null,null,null,null,"0304SBT15KP","L. G. Barcus and Sons, Inc.",""]
[null,null,null,null,null,null,null,null,null,"",null,null,null,null,null,null,null,null,null,null,null,null,null,null,null,null,null,null,null,null,"Radmacher Brothers Excavating Co., Inc.","RDB",null,null,null,null,"0304SBT15KP","L. Krupp Construction, Inc.",""]
[null,null,null,null,null,null,null,null,null,"",null,null,null,null,null,null,null,null,null,null,null,null,null,null,null,null,null,null,null,null,"Raineri Construction, LLC","RNC",null,null,null,null,"0304SBT15KP","Lappe Cement Finishing, Inc.",""]
[null,null,null,null,null,null,null,null,null,"",null,null,null,null,null,null,null,null,null,null,null,null,null,null,null,null,null,null,null,null,"Realm Construction  Inc.","REL",null,null,null,null,"0304SBT15KP","Lehman Construction Company",""]
[null,null,null,null,null,null,null,null,null,"",null,null,null,null,null,null,null,null,null,null,null,null,null,null,null,null,null,null,null,null,"Reinhold Electric, Inc.","REE",null,null,null,null,"0304SBT15KP","Magruder Paving, LLC",""]
[null,null,null,null,null,null,null,null,null,"",null,null,null,null,null,null,null,null,null,null,null,null,null,null,null,null,null,null,null,null,"Robertson Asphalt","RBA",null,null,null,null,"0304SBT15KP","Mid Missouri Limestone (Auxvasse - North Gate)",""]
[null,null,null,null,null,null,null,null,null,"",null,null,null,null,null,null,null,null,null,null,null,null,null,null,null,null,null,null,null,null,"Robertson Contractors, Inc.","RBC",null,null,null,null,"0304SBT15KP","Miles Excavating, Inc.",""]
[null,null,null,null,null,null,null,null,null,"",null,null,null,null,null,null,null,null,null,null,null,null,null,null,null,null,null,null,null,null,"Rolla Asphalt, LLC","RLA",null,null,null,null,"0304SBT15KP","Millstone Weber Concrete plants",""]
[null,null,null,null,null,null,null,null,null,"",null,null,null,null,null,null,null,null,null,null,null,null,null,null,null,null,null,null,null,null,"S & A Equipment & Builders, LLC","SAE",null,null,null,null,"0304SBT15KP","MoDOT (Jobsite, roadway or other similar site)",""]
[null,null,null,null,null,null,null,null,null,"",null,null,null,null,null,null,null,null,null,null,null,null,null,null,null,null,null,null,null,null,"S. H. Smith & Company, Inc.","SHS",null,null,null,null,"0304SBT15KP","N.B. West Asphalt",""]
[null,null,null,null,null,null,null,null,null,"",null,null,null,null,null,null,null,null,null,null,null,null,null,null,null,null,null,null,null,null,"SCI Engineering - O'Fallon","SCO",null,null,null,null,"0304SBT15KP","Pace Construction CO",""]
[null,null,null,null,null,null,null,null,null,"",null,null,null,null,null,null,null,null,null,null,null,null,null,null,null,null,null,null,null,null,"SCI Engineering - Union","SCU",null,null,null,null,"0304SBT15KP","Pavement Solutions, LLC",""]
[null,null,null,null,null,null,null,null,null,"",null,null,null,null,null,null,null,null,null,null,null,null,null,null,null,null,null,null,null,null,"SCI Engineering, Inc. - Rolla","SCR",null,null,null,null,"0304SBT15KP","Penzel Construction",""]
[null,null,null,null,null,null,null,null,null,"",null,null,null,null,null,null,null,null,null,null,null,null,null,null,null,null,null,null,null,null,"SCI Engineering, Inc. - St. Charles","SCI",null,null,null,null,"0304SBT15KP","Radmacher Brothers Excavating, Inc.",""]
[null,null,null,null,null,null,null,null,null,"",null,null,null,null,null,null,null,null,null,null,null,null,null,null,null,null,null,null,null,null,"SCM Construction, LLC","SCM",null,null,null,null,"0304SBT15KP","Skyline Materials (Glasgow, Gilliam Rock)",""]
[null,null,null,null,null,null,null,null,null,"",null,null,null,null,null,null,null,null,null,null,null,null,null,null,null,null,null,null,null,null,"Samron Midwest Contracting, Inc.","SMC",null,null,null,null,"0304SBT15KP","Strack Excavating, LLC",""]
[null,null,null,null,null,null,null,null,null,"",null,null,null,null,null,null,null,null,null,null,null,null,null,null,null,null,null,null,null,null,"Schrimpf Landscaping, Inc.","SCL",null,null,null,null,"0304SBT15KP","Strack Stone Company, Lodi",""]
[null,null,null,null,null,null,null,null,null,"",null,null,null,null,null,null,null,null,null,null,null,null,null,null,null,null,null,null,null,null,"Schultz Engineering","SCH",null,null,null,null,"0304SBT15KP","Table Rock, Stoneridge Qy",""]
[null,null,null,null,null,null,null,null,null,"",null,null,null,null,null,null,null,null,null,null,null,null,null,null,null,null,null,null,null,null,"Seminole Equipment, Inc.","SEM",null,null,null,null,"0304SBT15KP","Voss Quarry, Cuba (Crawford Lime)",""]
[null,null,null,null,null,null,null,null,null,"",null,null,null,null,null,null,null,null,null,null,null,null,null,null,null,null,null,null,null,null,"Snyder & Associates","SNA",null,null,null,null,"0304SBT7KP","Clarkson Construction",""]
[null,null,null,null,null,null,null,null,null,"",null,null,null,null,null,null,null,null,null,null,null,null,null,null,null,null,null,null,null,null,"Sprouls Construction, Inc.","SPC",null,null,null,null,"0304SBT7KP","Concrete Solutions",""]
[null,null,null,null,null,null,null,null,null,"",null,null,null,null,null,null,null,null,null,null,null,null,null,null,null,null,null,null,null,null,"St. Louis Bridge Construction Company","SLB",null,null,null,null,"0304SBT7KP","Gershenson Construction",""]
[null,null,null,null,null,null,null,null,null,"",null,null,null,null,null,null,null,null,null,null,null,null,null,null,null,null,null,null,null,null,"Stanton Contracting, L.L.C.","STC",null,null,null,null,"0304SBT7KP","L. Krupp Construction, Inc.",""]
[null,null,null,null,null,null,null,null,null,"",null,null,null,null,null,null,null,null,null,null,null,null,null,null,null,null,null,null,null,null,"Strait-Line Construction USA, Inc.","SLC",null,null,null,null,"0304SBT7KP","Magruder Paving, LLC",""]
[null,null,null,null,null,null,null,null,null,"",null,null,null,null,null,null,null,null,null,null,null,null,null,null,null,null,null,null,null,null,"Superior Bowen Asphalt Company, LLC","SBA",null,null,null,null,"0304SBT7KP","Miles Excavating, Inc.",""]
[null,null,null,null,null,null,null,null,null,"",null,null,null,null,null,null,null,null,null,null,null,null,null,null,null,null,null,null,null,null,"Superior Rail System, LLC","SRS",null,null,null,null,"0304SBT7KP","MoDOT (Jobsite, roadway or other similar site)",""]
[null,null,null,null,null,null,null,null,null,"",null,null,null,null,null,null,null,null,null,null,null,null,null,null,null,null,null,null,null,null,"Swift Construction Company, Inc.","SWT",null,null,null,null,"0304SBT7KP","N.B. West Contracting",""]
[null,null,null,null,null,null,null,null,null,"",null,null,null,null,null,null,null,null,null,null,null,null,null,null,null,null,null,null,null,null,"T.G.B., Inc.","TGB",null,null,null,null,"0304SBT7KP","Pace Construction CO",""]
[null,null,null,null,null,null,null,null,null,"",null,null,null,null,null,null,null,null,null,null,null,null,null,null,null,null,null,null,null,null,"T.S. Banze Holding Company LLD dba T.S. Banze Construction, Inc.","TSB",null,null,null,null,"0304SBT7KP","Pavement Solutions, LLC",""]
[null,null,null,null,null,null,null,null,null,"",null,null,null,null,null,null,null,null,null,null,null,null,null,null,null,null,null,null,null,null,"TSI Geotechnical, Inc.","TSI",null,null,null,null,null,null,""]
[null,null,null,null,null,null,null,null,null,"",null,null,null,null,null,null,null,null,null,null,null,null,null,null,null,null,null,null,null,null,"Terracon Consultants, Inc.","TER",null,null,null,null,null,null,""]
[null,null,null,null,null,null,null,null,null,"",null,null,null,null,null,null,null,null,null,null,null,null,null,null,null,null,null,null,null,null,"The Truesdell Corporation of Wisconsin, Inc.dba Truesdell Corporation Midwest","TRS",null,null,null,null,null,null,""]
[null,null,null,null,null,null,null,null,null,"",null,null,null,null,null,null,null,null,null,null,null,null,null,null,null,null,null,null,null,null,"Thomas Industrial Coatings, Inc.","TIC",null,null,null,null,null,null,""]
[null,null,null,null,null,null,null,null,null,"",null,null,null,null,null,null,null,null,null,null,null,null,null,null,null,null,null,null,null,null,"Ti-Zack Concrete, LLC","TZC",null,null,null,null,null,null,""]
[null,null,null,null,null,null,null,null,null,"",null,null,null,null,null,null,null,null,null,null,null,null,null,null,null,null,null,null,null,null,"United Ironworkers, Inc.","UIW",null,null,null,null,null,null,""]
[null,null,null,null,null,null,null,null,null,"",null,null,null,null,null,null,null,null,null,null,null,null,null,null,null,null,null,null,null,null,"VSI&C, LLC","VSI",null,null,null,null,null,null,""]
[null,null,null,null,null,null,null,null,null,"",null,null,null,null,null,null,null,null,null,null,null,null,null,null,null,null,null,null,null,null,"Vance Brothers, LLC","VBI",null,null,null,null,null,null,""]
[null,null,null,null,null,null,null,null,null,"",null,null,null,null,null,null,null,null,null,null,null,null,null,null,null,null,null,null,null,null,"Vee-Jay Cement Contracting Company, Inc.","VJC",null,null,null,null,null,null,""]
[null,null,null,null,null,null,null,null,null,"",null,null,null,null,null,null,null,null,null,null,null,null,null,null,null,null,null,null,null,null,"W. L. Miller Company","WLM",null,null,null,null,null,null,""]
[null,null,null,null,null,null,null,null,null,"",null,null,null,null,null,null,null,null,null,null,null,null,null,null,null,null,null,null,null,null,"Walsh Alberici Joint Venture","WAJ",null,null,null,null,null,null,""]
[null,null,null,null,null,null,null,null,null,"",null,null,null,null,null,null,null,null,null,null,null,null,null,null,null,null,null,null,null,null,"West Plains Bridge & Grading, LLC","WPB",null,null,null,null,null,null,""]
[null,null,null,null,null,null,null,null,null,"",null,null,null,null,null,null,null,null,null,null,null,null,null,null,null,null,null,null,null,null,"Westport Construction Co.","WCC",null,null,null,null,null,null,""]
[null,null,null,null,null,null,null,null,null,"",null,null,null,null,null,null,null,null,null,null,null,null,null,null,null,null,null,null,null,null,"Widel, Inc.","WID",null,null,null,null,null,null,""]
[null,null,null,null,null,null,null,null,null,"",null,null,null,null,null,null,null,null,null,null,null,null,null,null,null,null,null,null,null,null,"Willard Asphalt Paving, Inc.","WAP",null,null,null,null,null,null,""]
[null,null,null,null,null,null,null,null,null,"",null,null,null,null,null,null,null,null,null,null,null,null,null,null,null,null,null,null,null,null,"X-L Contracting, Inc.","XLC",null,null,null,null,null,null,""]
[null,null,null,null,null,null,null,null,null,"",null,null,null,null,null,null,null,null,null,null,null,null,null,null,null,null,null,null,null,null,null,null,null,null,null,null,null,null,""]
[null,null,null,null,null,null,null,null,null,"",null,null,null,null,null,null,null,null,null,null,null,null,null,null,null,null,null,null,null,null,null,null,null,null,null,null,null,null,""]
[null,null,null,null,null,null,null,null,null,{"$f":"IF(F241=$AK$45,G241,\"\")","v":""},null,null,null,null,null,null,null,null,null,null,null,null,null,null,null,null,null,null,null,null,null,null,null,null,null,null,null,null,""]
[null,null,null,null,null,null,null,null,null,"",null,null,null,null,null,null,null,null,null,null,null,null,null,null,null,null,null,null,null,null,null,null,null,null,null,null,null,null,{"$f":"IF(AK242=$AK$45,AL242,\"\")","v":""}]
[null,null,null,null,null,null,null,null,null,"",null,null,null,null,null,null,null,null,null,null,null,null,null,null,null,null,null,null,null,null,null,null,null,null,null,null,null,null,""]
[null,null,null,null,null,null,null,null,null,"",null,null,null,null,null,null,null,null,null,null,null,null,null,null,null,null,null,null,null,null,null,null,null,null,null,null,null,null,""]
[null,null,null,null,null,null,null,null,null,"",null,null,null,null,null,null,null,null,null,null,null,null,null,null,null,null,null,null,null,null,null,null,null,null,null,null,null,null,""]
[null,null,null,null,null,null,null,null,null,"",null,null,null,null,null,null,null,null,null,null,null,null,null,null,null,null,null,null,null,null,null,null,null,null,null,null,null,null,""]
[null,null,null,null,null,null,null,null,null,"",null,null,null,null,null,null,null,null,null,null,null,null,null,null,null,null,null,null,null,null,null,null,null,null,null,null,null,null,""]
[null,null,null,null,null,null,null,null,null,"",null,null,null,null,null,null,null,null,null,null,null,null,null,null,null,null,null,null,null,null,null,null,null,null,null,null,null,null,""]
[null,null,null,null,null,null,null,null,null,"",null,null,null,null,null,null,null,null,null,null,null,null,null,null,null,null,null,null,null,null,null,null,null,null,null,null,null,null,""]
[null,null,null,null,null,null,null,null,null,"",null,null,null,null,null,null,null,null,null,null,null,null,null,null,null,null,null,null,null,null,null,null,null,null,null,null,null,null,""]
[null,null,null,null,null,null,null,null,null,"",null,null,null,null,null,null,null,null,null,null,null,null,null,null,null,null,null,null,null,null,null,null,null,null,null,null,null,null,""]
[null,null,null,null,null,null,null,null,null,"",null,null,null,null,null,null,null,null,null,null,null,null,null,null,null,null,null,null,null,null,null,null,null,null,null,null,null,null,""]
[null,null,null,null,null,null,null,null,null,"",null,null,null,null,null,null,null,null,null,null,null,null,null,null,null,null,null,null,null,null,null,null,null,null,null,null,null,null,""]
[null,null,null,null,null,null,null,null,null,"",null,null,null,null,null,null,null,null,null,null,null,null,null,null,null,null,null,null,null,null,null,null,null,null,null,null,null,null,""]
[null,null,null,null,null,null,null,null,null,"",null,null,null,null,null,null,null,null,null,null,null,null,null,null,null,null,null,null,null,null,null,null,null,null,null,null,null,null,""]
[null,null,null,null,null,null,null,null,null,"",null,null,null,null,null,null,null,null,null,null,null,null,null,null,null,null,null,null,null,null,null,null,null,null,null,null,null,null,""]
[null,null,null,null,null,null,null,null,null,"",null,null,null,null,null,null,null,null,null,null,null,null,null,null,null,null,null,null,null,null,null,null,null,null,null,null,null,null,""]
[null,null,null,null,null,null,null,null,null,"",null,null,null,null,null,null,null,null,null,null,null,null,null,null,null,null,null,null,null,null,null,null,null,null,null,null,null,null,""]
[null,null,null,null,null,null,null,null,null,"",null,null,null,null,null,null,null,null,null,null,null,null,null,null,null,null,null,null,null,null,null,null,null,null,null,null,null,null,""]
[null,null,null,null,null,null,null,null,null,"",null,null,null,null,null,null,null,null,null,null,null,null,null,null,null,null,null,null,null,null,null,null,null,null,null,null,null,null,""]
[null,null,null,null,null,null,null,null,null,"",null,null,null,null,null,null,null,null,null,null,null,null,null,null,null,null,null,null,null,null,null,null,null,null,null,null,null,null,""]
[null,null,null,null,null,null,null,null,null,"",null,null,null,null,null,null,null,null,null,null,null,null,null,null,null,null,null,null,null,null,null,null,null,null,null,null,null,null,""]
[null,null,null,null,null,null,null,null,null,"",null,null,null,null,null,null,null,null,null,null,null,null,null,null,null,null,null,null,null,null,null,null,null,null,null,null,null,null,""]
[null,null,null,null,null,null,null,null,null,"",null,null,null,null,null,null,null,null,null,null,null,null,null,null,null,null,null,null,null,null,null,null,null,null,null,null,null,null,""]
[null,null,null,null,null,null,null,null,null,"",null,null,null,null,null,null,null,null,null,null,null,null,null,null,null,null,null,null,null,null,null,null,null,null,null,null,null,null,""]
[null,null,null,null,null,null,null,null,null,"",null,null,null,null,null,null,null,null,null,null,null,null,null,null,null,null,null,null,null,null,null,null,null,null,null,null,null,null,""]
[null,null,null,null,null,null,null,null,null,"",null,null,null,null,null,null,null,null,null,null,null,null,null,null,null,null,null,null,null,null,null,null,null,null,null,null,null,null,""]
[null,null,null,null,null,null,null,null,null,"",null,null,null,null,null,null,null,null,null,null,null,null,null,null,null,null,null,null,null,null,null,null,null,null,null,null,null,null,""]
[null,null,null,null,null,null,null,null,null,"",null,null,null,null,null,null,null,null,null,null,null,null,null,null,null,null,null,null,null,null,null,null,null,null,null,null,null,null,""]
[null,null,null,null,null,null,null,null,null,"",null,null,null,null,null,null,null,null,null,null,null,null,null,null,null,null,null,null,null,null,null,null,null,null,null,null,null,null,""]
[null,null,null,null,null,null,null,null,null,"",null,null,null,null,null,null,null,null,null,null,null,null,null,null,null,null,null,null,null,null,null,null,null,null,null,null,null,null,""]
[null,null,null,null,null,null,null,null,null,"",null,null,null,null,null,null,null,null,null,null,null,null,null,null,null,null,null,null,null,null,null,null,null,null,null,null,null,null,""]
[null,null,null,null,null,null,null,null,null,"",null,null,null,null,null,null,null,null,null,null,null,null,null,null,null,null,null,null,null,null,null,null,null,null,null,null,null,null,""]
[null,null,null,null,null,null,null,null,null,"",null,null,null,null,null,null,null,null,null,null,null,null,null,null,null,null,null,null,null,null,null,null,null,null,null,null,null,null,""]
[null,null,null,null,null,null,null,null,null,"",null,null,null,null,null,null,null,null,null,null,null,null,null,null,null,null,null,null,null,null,null,null,null,null,null,null,null,null,""]
[null,null,null,null,null,null,null,null,null,"",null,null,null,null,null,null,null,null,null,null,null,null,null,null,null,null,null,null,null,null,null,null,null,null,null,null,null,null,""]
[null,null,null,null,null,null,null,null,null,"",null,null,null,null,null,null,null,null,null,null,null,null,null,null,null,null,null,null,null,null,null,null,null,null,null,null,null,null,""]
[null,null,null,null,null,null,null,null,null,"",null,null,null,null,null,null,null,null,null,null,null,null,null,null,null,null,null,null,null,null,null,null,null,null,null,null,null,null,""]
[null,null,null,null,null,null,null,null,null,"",null,null,null,null,null,null,null,null,null,null,null,null,null,null,null,null,null,null,null,null,null,null,null,null,null,null,null,null,""]
[null,null,null,null,null,null,null,null,null,"",null,null,null,null,null,null,null,null,null,null,null,null,null,null,null,null,null,null,null,null,null,null,null,null,null,null,null,null,""]
[null,null,null,null,null,null,null,null,null,"",null,null,null,null,null,null,null,null,null,null,null,null,null,null,null,null,null,null,null,null,null,null,null,null,null,null,null,null,""]
[null,null,null,null,null,null,null,null,null,"",null,null,null,null,null,null,null,null,null,null,null,null,null,null,null,null,null,null,null,null,null,null,null,null,null,null,null,null,""]
[null,null,null,null,null,null,null,null,null,"",null,null,null,null,null,null,null,null,null,null,null,null,null,null,null,null,null,null,null,null,null,null,null,null,null,null,null,null,""]
[null,null,null,null,null,null,null,null,null,"",null,null,null,null,null,null,null,null,null,null,null,null,null,null,null,null,null,null,null,null,null,null,null,null,null,null,null,null,""]
[null,null,null,null,null,null,null,null,null,"",null,null,null,null,null,null,null,null,null,null,null,null,null,null,null,null,null,null,null,null,null,null,null,null,null,null,null,null,""]
[null,null,null,null,null,null,null,null,null,"",null,null,null,null,null,null,null,null,null,null,null,null,null,null,null,null,null,null,null,null,null,null,null,null,null,null,null,null,""]
[null,null,null,null,null,null,null,null,null,"",null,null,null,null,null,null,null,null,null,null,null,null,null,null,null,null,null,null,null,null,null,null,null,null,null,null,null,null,""]
[null,null,null,null,null,null,null,null,null,"",null,null,null,null,null,null,null,null,null,null,null,null,null,null,null,null,null,null,null,null,null,null,null,null,null,null,null,null,""]
[null,null,null,null,null,null,null,null,null,"",null,null,null,null,null,null,null,null,null,null,null,null,null,null,null,null,null,null,null,null,null,null,null,null,null,null,null,null,""]
[null,null,null,null,null,null,null,null,null,"",null,null,null,null,null,null,null,null,null,null,null,null,null,null,null,null,null,null,null,null,null,null,null,null,null,null,null,null,""]
[null,null,null,null,null,null,null,null,null,"",null,null,null,null,null,null,null,null,null,null,null,null,null,null,null,null,null,null,null,null,null,null,null,null,null,null,null,null,""]
[null,null,null,null,null,null,null,null,null,"",null,null,null,null,null,null,null,null,null,null,null,null,null,null,null,null,null,null,null,null,null,null,null,null,null,null,null,null,""]
[null,null,null,null,null,null,null,null,null,"",null,null,null,null,null,null,null,null,null,null,null,null,null,null,null,null,null,null,null,null,null,null,null,null,null,null,null,null,""]
[null,null,null,null,null,null,null,null,null,"",null,null,null,null,null,null,null,null,null,null,null,null,null,null,null,null,null,null,null,null,null,null,null,null,null,null,null,null,""]
[null,null,null,null,null,null,null,null,null,"",null,null,null,null,null,null,null,null,null,null,null,null,null,null,null,null,null,null,null,null,null,null,null,null,null,null,null,null,""]
[null,null,null,null,null,null,null,null,null,"",null,null,null,null,null,null,null,null,null,null,null,null,null,null,null,null,null,null,null,null,null,null,null,null,null,null,null,null,""]
[null,null,null,null,null,null,null,null,null,"",null,null,null,null,null,null,null,null,null,null,null,null,null,null,null,null,null,null,null,null,null,null,null,null,null,null,null,null,""]
[null,null,null,null,null,null,null,null,null,"",null,null,null,null,null,null,null,null,null,null,null,null,null,null,null,null,null,null,null,null,null,null,null,null,null,null,null,null,""]
[null,null,null,null,null,null,null,null,null,"",null,null,null,null,null,null,null,null,null,null,null,null,null,null,null,null,null,null,null,null,null,null,null,null,null,null,null,null,""]
[null,null,null,null,null,null,null,null,null,"",null,null,null,null,null,null,null,null,null,null,null,null,null,null,null,null,null,null,null,null,null,null,null,null,null,null,null,null,""]
[null,null,null,null,null,null,null,null,null,"",null,null,null,null,null,null,null,null,null,null,null,null,null,null,null,null,null,null,null,null,null,null,null,null,null,null,null,null,""]
[null,null,null,null,null,null,null,null,null,"",null,null,null,null,null,null,null,null,null,null,null,null,null,null,null,null,null,null,null,null,null,null,null,null,null,null,null,null,""]
[null,null,null,null,null,null,null,null,null,"",null,null,null,null,null,null,null,null,null,null,null,null,null,null,null,null,null,null,null,null,null,null,null,null,null,null,null,null,""]
[null,null,null,null,null,null,null,null,null,"",null,null,null,null,null,null,null,null,null,null,null,null,null,null,null,null,null,null,null,null,null,null,null,null,null,null,null,null,""]
[null,null,null,null,null,null,null,null,null,{"$f":"IF(F305=$AK$45,G305,\"\")","v":""},null,null,null,null,null,null,null,null,null,null,null,null,null,null,null,null,null,null,null,null,null,null,null,null,null,null,null,null,""]
[null,null,null,null,null,null,null,null,null,"",null,null,null,null,null,null,null,null,null,null,null,null,null,null,null,null,null,null,null,null,null,null,null,null,null,null,null,null,{"$f":"IF(AK306=$AK$45,AL306,\"\")","v":""}]
[null,null,null,null,null,null,null,null,null,"",null,null,null,null,null,null,null,null,null,null,null,null,null,null,null,null,null,null,null,null,null,null,null,null,null,null,null,null,""]
[null,null,null,null,null,null,null,null,null,"",null,null,null,null,null,null,null,null,null,null,null,null,null,null,null,null,null,null,null,null,null,null,null,null,null,null,null,null,""]
[null,null,null,null,null,null,null,null,null,"",null,null,null,null,null,null,null,null,null,null,null,null,null,null,null,null,null,null,null,null,null,null,null,null,null,null,null,null,""]
[null,null,null,null,null,null,null,null,null,"",null,null,null,null,null,null,null,null,null,null,null,null,null,null,null,null,null,null,null,null,null,null,null,null,null,null,null,null,""]
[null,null,null,null,null,null,null,null,null,"",null,null,null,null,null,null,null,null,null,null,null,null,null,null,null,null,null,null,null,null,null,null,null,null,null,null,null,null,""]
[null,null,null,null,null,null,null,null,null,"",null,null,null,null,null,null,null,null,null,null,null,null,null,null,null,null,null,null,null,null,null,null,null,null,null,null,null,null,{"$f":"IF(AK312=$AK$45,AL312,\"\")","v":""}]
[null,null,null,null,null,null,null,null,null,"",null,null,null,null,null,null,null,null,null,null,null,null,null,null,null,null,null,null,null,null,null,null,null,null,null,null,null,null,""]
[null,null,null,null,null,null,null,null,null,"",null,null,null,null,null,null,null,null,null,null,null,null,null,null,null,null,null,null,null,null,null,null,null,null,null,null,null,null,""]
[null,null,null,null,null,null,null,null,null,"",null,null,null,null,null,null,null,null,null,null,null,null,null,null,null,null,null,null,null,null,null,null,null,null,null,null,null,null,""]
[null,null,null,null,null,null,null,null,null,"",null,null,null,null,null,null,null,null,null,null,null,null,null,null,null,null,null,null,null,null,null,null,null,null,null,null,null,null,""]
[null,null,null,null,null,null,null,null,null,"",null,null,null,null,null,null,null,null,null,null,null,null,null,null,null,null,null,null,null,null,null,null,null,null,null,null,null,null,""]
[null,null,null,null,null,null,null,null,null,"",null,null,null,null,null,null,null,null,null,null,null,null,null,null,null,null,null,null,null,null,null,null,null,null,null,null,null,null,""]
[null,null,null,null,null,null,null,null,null,"",null,null,null,null,null,null,null,null,null,null,null,null,null,null,null,null,null,null,null,null,null,null,null,null,null,null,null,null,""]
[null,null,null,null,null,null,null,null,null,"",null,null,null,null,null,null,null,null,null,null,null,null,null,null,null,null,null,null,null,null,null,null,null,null,null,null,null,null,""]
[null,null,null,null,null,null,null,null,null,"",null,null,null,null,null,null,null,null,null,null,null,null,null,null,null,null,null,null,null,null,null,null,null,null,null,null,null,null,""]
[null,null,null,null,null,null,null,null,null,"",null,null,null,null,null,null,null,null,null,null,null,null,null,null,null,null,null,null,null,null,null,null,null,null,null,null,null,null,""]
[null,null,null,null,null,null,null,null,null,"",null,null,null,null,null,null,null,null,null,null,null,null,null,null,null,null,null,null,null,null,null,null,null,null,null,null,null,null,""]
[null,null,null,null,null,null,null,null,null,"",null,null,null,null,null,null,null,null,null,null,null,null,null,null,null,null,null,null,null,null,null,null,null,null,null,null,null,null,""]
[null,null,null,null,null,null,null,null,null,"",null,null,null,null,null,null,null,null,null,null,null,null,null,null,null,null,null,null,null,null,null,null,null,null,null,null,null,null,""]
[null,null,null,null,null,null,null,null,null,"",null,null,null,null,null,null,null,null,null,null,null,null,null,null,null,null,null,null,null,null,null,null,null,null,null,null,null,null,""]
[null,null,null,null,null,null,null,null,null,"",null,null,null,null,null,null,null,null,null,null,null,null,null,null,null,null,null,null,null,null,null,null,null,null,null,null,null,null,""]
[null,null,null,null,null,null,null,null,null,"",null,null,null,null,null,null,null,null,null,null,null,null,null,null,null,null,null,null,null,null,null,null,null,null,null,null,null,null,""]
[null,null,null,null,null,null,null,null,null,"",null,null,null,null,null,null,null,null,null,null,null,null,null,null,null,null,null,null,null,null,null,null,null,null,null,null,null,null,""]
[null,null,null,null,null,null,null,null,null,"",null,null,null,null,null,null,null,null,null,null,null,null,null,null,null,null,null,null,null,null,null,null,null,null,null,null,null,null,""]
[null,null,null,null,null,null,null,null,null,"",null,null,null,null,null,null,null,null,null,null,null,null,null,null,null,null,null,null,null,null,null,null,null,null,null,null,null,null,""]
[null,null,null,null,null,null,null,null,null,"",null,null,null,null,null,null,null,null,null,null,null,null,null,null,null,null,null,null,null,null,null,null,null,null,null,null,null,null,""]
[null,null,null,null,null,null,null,null,null,"",null,null,null,null,null,null,null,null,null,null,null,null,null,null,null,null,null,null,null,null,null,null,null,null,null,null,null,null,""]
[null,null,null,null,null,null,null,null,null,"",null,null,null,null,null,null,null,null,null,null,null,null,null,null,null,null,null,null,null,null,null,null,null,null,null,null,null,null,""]
[null,null,null,null,null,null,null,null,null,"",null,null,null,null,null,null,null,null,null,null,null,null,null,null,null,null,null,null,null,null,null,null,null,null,null,null,null,null,""]
[null,null,null,null,null,null,null,null,null,"",null,null,null,null,null,null,null,null,null,null,null,null,null,null,null,null,null,null,null,null,null,null,null,null,null,null,null,null,""]
[null,null,null,null,null,null,null,null,null,"",null,null,null,null,null,null,null,null,null,null,null,null,null,null,null,null,null,null,null,null,null,null,null,null,null,null,null,null,""]
[null,null,null,null,null,null,null,null,null,"",null,null,null,null,null,null,null,null,null,null,null,null,null,null,null,null,null,null,null,null,null,null,null,null,null,null,null,null,""]
[null,null,null,null,null,null,null,null,null,"",null,null,null,null,null,null,null,null,null,null,null,null,null,null,null,null,null,null,null,null,null,null,null,null,null,null,null,null,""]
[null,null,null,null,null,null,null,null,null,"",null,null,null,null,null,null,null,null,null,null,null,null,null,null,null,null,null,null,null,null,null,null,null,null,null,null,null,null,""]
[null,null,null,null,null,null,null,null,null,"",null,null,null,null,null,null,null,null,null,null,null,null,null,null,null,null,null,null,null,null,null,null,null,null,null,null,null,null,""]
[null,null,null,null,null,null,null,null,null,"",null,null,null,null,null,null,null,null,null,null,null,null,null,null,null,null,null,null,null,null,null,null,null,null,null,null,null,null,""]
[null,null,null,null,null,null,null,null,null,"",null,null,null,null,null,null,null,null,null,null,null,null,null,null,null,null,null,null,null,null,null,null,null,null,null,null,null,null,""]
[null,null,null,null,null,null,null,null,null,"",null,null,null,null,null,null,null,null,null,null,null,null,null,null,null,null,null,null,null,null,null,null,null,null,null,null,null,null,""]
[null,null,null,null,null,null,null,null,null,"",null,null,null,null,null,null,null,null,null,null,null,null,null,null,null,null,null,null,null,null,null,null,null,null,null,null,null,null,""]
[null,null,null,null,null,null,null,null,null,"",null,null,null,null,null,null,null,null,null,null,null,null,null,null,null,null,null,null,null,null,null,null,null,null,null,null,null,null,""]
[null,null,null,null,null,null,null,null,null,"",null,null,null,null,null,null,null,null,null,null,null,null,null,null,null,null,null,null,null,null,null,null,null,null,null,null,null,null,""]
[null,null,null,null,null,null,null,null,null,"",null,null,null,null,null,null,null,null,null,null,null,null,null,null,null,null,null,null,null,null,null,null,null,null,null,null,null,null,""]
[null,null,null,null,null,null,null,null,null,"",null,null,null,null,null,null,null,null,null,null,null,null,null,null,null,null,null,null,null,null,null,null,null,null,null,null,null,null,""]
[null,null,null,null,null,null,null,null,null,"",null,null,null,null,null,null,null,null,null,null,null,null,null,null,null,null,null,null,null,null,null,null,null,null,null,null,null,null,""]
[null,null,null,null,null,null,null,null,null,"",null,null,null,null,null,null,null,null,null,null,null,null,null,null,null,null,null,null,null,null,null,null,null,null,null,null,null,null,""]
[null,null,null,null,null,null,null,null,null,"",null,null,null,null,null,null,null,null,null,null,null,null,null,null,null,null,null,null,null,null,null,null,null,null,null,null,null,null,""]
[null,null,null,null,null,null,null,null,null,"",null,null,null,null,null,null,null,null,null,null,null,null,null,null,null,null,null,null,null,null,null,null,null,null,null,null,null,null,""]
[null,null,null,null,null,null,null,null,null,"",null,null,null,null,null,null,null,null,null,null,null,null,null,null,null,null,null,null,null,null,null,null,null,null,null,null,null,null,""]
[null,null,null,null,null,null,null,null,null,"",null,null,null,null,null,null,null,null,null,null,null,null,null,null,null,null,null,null,null,null,null,null,null,null,null,null,null,null,""]
[null,null,null,null,null,null,null,null,null,"",null,null,null,null,null,null,null,null,null,null,null,null,null,null,null,null,null,null,null,null,null,null,null,null,null,null,null,null,""]
[null,null,null,null,null,null,null,null,null,"",null,null,null,null,null,null,null,null,null,null,null,null,null,null,null,null,null,null,null,null,null,null,null,null,null,null,null,null,""]
[null,null,null,null,null,null,null,null,null,"",null,null,null,null,null,null,null,null,null,null,null,null,null,null,null,null,null,null,null,null,null,null,null,null,null,null,null,null,""]
[null,null,null,null,null,null,null,null,null,"",null,null,null,null,null,null,null,null,null,null,null,null,null,null,null,null,null,null,null,null,null,null,null,null,null,null,null,null,""]
[null,null,null,null,null,null,null,null,null,"",null,null,null,null,null,null,null,null,null,null,null,null,null,null,null,null,null,null,null,null,null,null,null,null,null,null,null,null,""]
[null,null,null,null,null,null,null,null,null,"",null,null,null,null,null,null,null,null,null,null,null,null,null,null,null,null,null,null,null,null,null,null,null,null,null,null,null,null,""]
[null,null,null,null,null,null,null,null,null,"",null,null,null,null,null,null,null,null,null,null,null,null,null,null,null,null,null,null,null,null,null,null,null,null,null,null,null,null,""]
[null,null,null,null,null,null,null,null,null,"",null,null,null,null,null,null,null,null,null,null,null,null,null,null,null,null,null,null,null,null,null,null,null,null,null,null,null,null,""]
[null,null,null,null,null,null,null,null,null,"",null,null,null,null,null,null,null,null,null,null,null,null,null,null,null,null,null,null,null,null,null,null,null,null,null,null,null,null,""]
[null,null,null,null,null,null,null,null,null,"",null,null,null,null,null,null,null,null,null,null,null,null,null,null,null,null,null,null,null,null,null,null,null,null,null,null,null,null,""]
[null,null,null,null,null,null,null,null,null,"",null,null,null,null,null,null,null,null,null,null,null,null,null,null,null,null,null,null,null,null,null,null,null,null,null,null,null,null,""]
[null,null,null,null,null,null,null,null,null,"",null,null,null,null,null,null,null,null,null,null,null,null,null,null,null,null,null,null,null,null,null,null,null,null,null,null,null,null,""]
[null,null,null,null,null,null,null,null,null,"",null,null,null,null,null,null,null,null,null,null,null,null,null,null,null,null,null,null,null,null,null,null,null,null,null,null,null,null,""]
[null,null,null,null,null,null,null,null,null,{"$f":"IF(F369=$AK$45,G369,\"\")","v":""},null,null,null,null,null,null,null,null,null,null,null,null,null,null,null,null,null,null,null,null,null,null,null,null,null,null,null,null,""]
[null,null,null,null,null,null,null,null,null,"",null,null,null,null,null,null,null,null,null,null,null,null,null,null,null,null,null,null,null,null,null,null,null,null,null,null,null,null,{"$f":"IF(AK370=$AK$45,AL370,\"\")","v":""}]
[null,null,null,null,null,null,null,null,null,"",null,null,null,null,null,null,null,null,null,null,null,null,null,null,null,null,null,null,null,null,null,null,null,null,null,null,null,null,""]
[null,null,null,null,null,null,null,null,null,"",null,null,null,null,null,null,null,null,null,null,null,null,null,null,null,null,null,null,null,null,null,null,null,null,null,null,null,null,""]
[null,null,null,null,null,null,null,null,null,"",null,null,null,null,null,null,null,null,null,null,null,null,null,null,null,null,null,null,null,null,null,null,null,null,null,null,null,null,""]
[null,null,null,null,null,null,null,null,null,"",null,null,null,null,null,null,null,null,null,null,null,null,null,null,null,null,null,null,null,null,null,null,null,null,null,null,null,null,""]
[null,null,null,null,null,null,null,null,null,"",null,null,null,null,null,null,null,null,null,null,null,null,null,null,null,null,null,null,null,null,null,null,null,null,null,null,null,null,""]
[null,null,null,null,null,null,null,null,null,"",null,null,null,null,null,null,null,null,null,null,null,null,null,null,null,null,null,null,null,null,null,null,null,null,null,null,null,null,""]
[null,null,null,null,null,null,null,null,null,"",null,null,null,null,null,null,null,null,null,null,null,null,null,null,null,null,null,null,null,null,null,null,null,null,null,null,null,null,""]
[null,null,null,null,null,null,null,null,null,"",null,null,null,null,null,null,null,null,null,null,null,null,null,null,null,null,null,null,null,null,null,null,null,null,null,null,null,null,""]
[null,null,null,null,null,null,null,null,null,"",null,null,null,null,null,null,null,null,null,null,null,null,null,null,null,null,null,null,null,null,null,null,null,null,null,null,null,null,""]
[null,null,null,null,null,null,null,null,null,"",null,null,null,null,null,null,null,null,null,null,null,null,null,null,null,null,null,null,null,null,null,null,null,null,null,null,null,null,""]
[null,null,null,null,null,null,null,null,null,"",null,null,null,null,null,null,null,null,null,null,null,null,null,null,null,null,null,null,null,null,null,null,null,null,null,null,null,null,""]
[null,null,null,null,null,null,null,null,null,"",null,null,null,null,null,null,null,null,null,null,null,null,null,null,null,null,null,null,null,null,null,null,null,null,null,null,null,null,""]
[null,null,null,null,null,null,null,null,null,"",null,null,null,null,null,null,null,null,null,null,null,null,null,null,null,null,null,null,null,null,null,null,null,null,null,null,null,null,""]
[null,null,null,null,null,null,null,null,null,"",null,null,null,null,null,null,null,null,null,null,null,null,null,null,null,null,null,null,null,null,null,null,null,null,null,null,null,null,""]
[null,null,null,null,null,null,null,null,null,"",null,null,null,null,null,null,null,null,null,null,null,null,null,null,null,null,null,null,null,null,null,null,null,null,null,null,null,null,""]
[null,null,null,null,null,null,null,null,null,"",null,null,null,null,null,null,null,null,null,null,null,null,null,null,null,null,null,null,null,null,null,null,null,null,null,null,null,null,""]
[null,null,null,null,null,null,null,null,null,"",null,null,null,null,null,null,null,null,null,null,null,null,null,null,null,null,null,null,null,null,null,null,null,null,null,null,null,null,""]
[null,null,null,null,null,null,null,null,null,"",null,null,null,null,null,null,null,null,null,null,null,null,null,null,null,null,null,null,null,null,null,null,null,null,null,null,null,null,""]
[null,null,null,null,null,null,null,null,null,"",null,null,null,null,null,null,null,null,null,null,null,null,null,null,null,null,null,null,null,null,null,null,null,null,null,null,null,null,""]
[null,null,null,null,null,null,null,null,null,"",null,null,null,null,null,null,null,null,null,null,null,null,null,null,null,null,null,null,null,null,null,null,null,null,null,null,null,null,""]
[null,null,null,null,null,null,null,null,null,"",null,null,null,null,null,null,null,null,null,null,null,null,null,null,null,null,null,null,null,null,null,null,null,null,null,null,null,null,""]
[null,null,null,null,null,null,null,null,null,"",null,null,null,null,null,null,null,null,null,null,null,null,null,null,null,null,null,null,null,null,null,null,null,null,null,null,null,null,""]
[null,null,null,null,null,null,null,null,null,"",null,null,null,null,null,null,null,null,null,null,null,null,null,null,null,null,null,null,null,null,null,null,null,null,null,null,null,null,""]
[null,null,null,null,null,null,null,null,null,"",null,null,null,null,null,null,null,null,null,null,null,null,null,null,null,null,null,null,null,null,null,null,null,null,null,null,null,null,""]
[null,null,null,null,null,null,null,null,null,"",null,null,null,null,null,null,null,null,null,null,null,null,null,null,null,null,null,null,null,null,null,null,null,null,null,null,null,null,""]
[null,null,null,null,null,null,null,null,null,"",null,null,null,null,null,null,null,null,null,null,null,null,null,null,null,null,null,null,null,null,null,null,null,null,null,null,null,null,""]
[null,null,null,null,null,null,null,null,null,"",null,null,null,null,null,null,null,null,null,null,null,null,null,null,null,null,null,null,null,null,null,null,null,null,null,null,null,null,""]
[null,null,null,null,null,null,null,null,null,"",null,null,null,null,null,null,null,null,null,null,null,null,null,null,null,null,null,null,null,null,null,null,null,null,null,null,null,null,""]
[null,null,null,null,null,null,null,null,null,"",null,null,null,null,null,null,null,null,null,null,null,null,null,null,null,null,null,null,null,null,null,null,null,null,null,null,null,null,""]
[null,null,null,null,null,null,null,null,null,"",null,null,null,null,null,null,null,null,null,null,null,null,null,null,null,null,null,null,null,null,null,null,null,null,null,null,null,null,""]
[null,null,null,null,null,null,null,null,null,"",null,null,null,null,null,null,null,null,null,null,null,null,null,null,null,null,null,null,null,null,null,null,null,null,null,null,null,null,""]
[null,null,null,null,null,null,null,null,null,"",null,null,null,null,null,null,null,null,null,null,null,null,null,null,null,null,null,null,null,null,null,null,null,null,null,null,null,null,""]
[null,null,null,null,null,null,null,null,null,"",null,null,null,null,null,null,null,null,null,null,null,null,null,null,null,null,null,null,null,null,null,null,null,null,null,null,null,null,""]
[null,null,null,null,null,null,null,null,null,"",null,null,null,null,null,null,null,null,null,null,null,null,null,null,null,null,null,null,null,null,null,null,null,null,null,null,null,null,""]
[null,null,null,null,null,null,null,null,null,"",null,null,null,null,null,null,null,null,null,null,null,null,null,null,null,null,null,null,null,null,null,null,null,null,null,null,null,null,""]
[null,null,null,null,null,null,null,null,null,"",null,null,null,null,null,null,null,null,null,null,null,null,null,null,null,null,null,null,null,null,null,null,null,null,null,null,null,null,""]
[null,null,null,null,null,null,null,null,null,"",null,null,null,null,null,null,null,null,null,null,null,null,null,null,null,null,null,null,null,null,null,null,null,null,null,null,null,null,""]
[null,null,null,null,null,null,null,null,null,"",null,null,null,null,null,null,null,null,null,null,null,null,null,null,null,null,null,null,null,null,null,null,null,null,null,null,null,null,""]
[null,null,null,null,null,null,null,null,null,"",null,null,null,null,null,null,null,null,null,null,null,null,null,null,null,null,null,null,null,null,null,null,null,null,null,null,null,null,""]
[null,null,null,null,null,null,null,null,null,"",null,null,null,null,null,null,null,null,null,null,null,null,null,null,null,null,null,null,null,null,null,null,null,null,null,null,null,null,""]
[null,null,null,null,null,null,null,null,null,null,null,null,null,null,null,null,null,null,null,null,null,null,null,null,null,null,null,null,null,null,null,null,null,null,null,null,null,null,"",{"$error":"#N/A"}]
[null,null,null,null,null,null,null,null,null,null,null,null,null,null,null,null,null,null,null,null,null,null,null,null,null,null,null,null,null,null,null,null,null,null,null,null,null,null,null,{"$error":"#N/A"}]
[null,null,null,null,null,null,null,null,null,null,null,null,null,null,null,null,null,null,null,null,null,null,null,null,null,null,null,null,null,null,null,null,null,null,null,null,null,null,null,{"$error":"#N/A"}]
[null,null,null,null,null,null,null,null,null,null,null,null,null,null,null,null,null,null,null,null,null,null,null,null,null,null,null,null,null,null,null,null,null,null,null,null,null,null,null,{"$error":"#N/A"}]
[null,null,null,null,null,null,null,null,null,null,null,null,null,null,null,null,null,null,null,null,null,null,null,null,null,null,null,null,null,null,null,null,null,null,null,null,null,null,null,{"$error":"#N/A"}]
[null,null,null,null,null,null,null,null,null,null,null,null,null,null,null,null,null,null,null,null,null,null,null,null,null,null,null,null,null,null,null,null,null,null,null,null,null,null,null,{"$error":"#N/A"}]
[null,null,null,null,null,null,null,null,null,null,null,null,null,null,null,null,null,null,null,null,null,null,null,null,null,null,null,null,null,null,null,null,null,null,null,null,null,null,null,{"$error":"#N/A"}]
[null,null,null,null,null,null,null,null,null,null,null,null,null,null,null,null,null,null,null,null,null,null,null,null,null,null,null,null,null,null,null,null,null,null,null,null,null,null,null,{"$error":"#N/A"}]
[null,null,null,null,null,null,null,null,null,null,null,null,null,null,null,null,null,null,null,null,null,null,null,null,null,null,null,null,null,null,null,null,null,null,null,null,null,null,null,{"$error":"#N/A"}]

{"sheet":"Contract and Quantities","index":1,"n_rows":7163,"n_cols":42,"rows_kept":2250,"cut":true,"hidden":false,"merged":[[139,1,139,3],[139,4,139,6],[139,17,139,18],[139,19,139,21],[139,23,139,24],[137,1,137,3],[137,4,137,6],[137,17,137,18],[137,19,137,21],[137,23,137,24],[138,1,138,3],[138,4,138,6],[138,17,138,18],[138,19,138,21],[138,23,138,24],[137,7,137,13],[137,14,137,16],[138,7,138,13],[138,14,138,16],[139,7,139,13],[139,14,139,16],[135,1,135,3],[135,4,135,6],[135,17,135,18],[135,19,135,21],[135,23,135,24],[136,1,136,3],[136,4,136,6],[136,17,136,18],[136,19,136,21],[136,23,136,24],[135,7,135,13],[135,14,135,16],[136,7,136,13],[136,14,136,16],[133,1,133,3],[133,4,133,6],[133,17,133,18],[133,19,133,21],[133,23,133,24],[134,1,134,3],[134,4,134,6],[134,17,134,18],[134,19,134,21],[134,23,134,24],[133,7,133,13],[133,14,133,16],[134,7,134,13],[134,14,134,16],[131,1,131,3],[131,4,131,6],[131,17,131,18],[131,19,131,21],[131,23,131,24],[132,1,132,3],[132,4,132,6],[132,17,132,18],[132,19,132,21],[132,23,132,24],[131,7,131,13],[131,14,131,16],[132,7,132,13],[132,14,132,16],[129,1,129,3],[129,4,129,6],[129,17,129,18],[129,19,129,21],[129,23,129,24],[130,1,130,3],[130,4,130,6],[130,17,130,18],[130,19,130,21],[130,23,130,24],[129,7,129,13],[129,14,129,16],[130,7,130,13],[130,14,130,16],[127,1,127,3],[127,4,127,6],[127,17,127,18],[127,19,127,21],[127,23,127,24],[128,1,128,3],[128,4,128,6],[128,17,128,18],[128,19,128,21],[128,23,128,24],[127,7,127,13],[127,14,127,16],[128,7,128,13],[128,14,128,16],[125,1,125,3],[125,4,125,6],[125,17,125,18],[125,19,125,21],[125,23,125,24],[126,1,126,3],[126,4,126,6],[126,17,126,18],[126,19,126,21],[126,23,126,24],[125,7,125,13],[125,14,125,16],[126,7,126,13],[126,14,126,16],[123,1,123,3],[123,4,123,6],[123,17,123,18],[123,19,123,21],[123,23,123,24],[124,1,124,3],[124,4,124,6],[124,17,124,18],[124,19,124,21],[124,23,124,24],[123,7,123,13],[123,14,123,16],[124,7,124,13],[124,14,124,16],[121,1,121,3],[121,4,121,6],[121,17,121,18],[121,19,121,21],[121,23,121,24],[122,1,122,3],[122,4,122,6],[122,17,122,18],[122,19,122,21],[122,23,122,24],[121,7,121,13],[121,14,121,16],[122,7,122,13],[122,14,122,16],[119,1,119,3],[119,4,119,6],[119,17,119,18],[119,19,119,21],[119,23,119,24],[120,1,120,3],[120,4,120,6],[120,17,120,18],[120,19,120,21],[120,23,120,24],[119,7,119,13],[119,14,119,16],[120,7,120,13],[120,14,120,16],[117,1,117,3],[117,4,117,6],[117,17,117,18],[117,19,117,21],[117,23,117,24],[118,1,118,3],[118,4,118,6],[118,17,118,18],[118,19,118,21],[118,23,118,24],[117,7,117,13],[117,14,117,16],[118,7,118,13],[118,14,118,16],[115,1,115,3],[115,4,115,6],[115,17,115,18],[115,19,115,21],[115,23,115,24],[116,1,116,3],[116,4,116,6],[116,17,116,18],[116,19,116,21],[116,23,116,24],[115,7,115,13],[115,14,115,16],[116,7,116,13],[116,14,116,16],[113,1,113,3],[113,4,113,6],[113,17,113,18],[113,19,113,21],[113,23,113,24],[114,1,114,3],[114,4,114,6],[114,17,114,18],[114,19,114,21],[114,23,114,24],[113,7,113,13],[113,14,113,16],[114,7,114,13],[114,14,114,16],[111,1,111,3],[111,4,111,6],[111,17,111,18],[111,19,111,21],[111,23,111,24],[112,1,112,3],[112,4,112,6],[112,17,112,18],[112,19,112,21],[112,23,112,24],[111,7,111,13],[111,14,111,16],[112,7,112,13],[112,14,112,16],[109,1,109,3],[109,4,109,6],[109,17,109,18],[109,19,109,21],[109,23,109,24],[110,1,110,3],[110,4,110,6],[110,17,110,18],[110,19,110,21],[110,23,110,24],[109,7,109,13],[109,14,109,16],[110,7,110,13],[110,14,110,16],[107,1,107,3],[107,4,107,6],[107,17,107,18],[107,19,107,21],[107,23,107,24],[108,1,108,3],[108,4,108,6],[108,17,108,18],[108,19,108,21],[108,23,108,24],[107,7,107,13],[107,14,107,16],[108,7,108,13],[108,14,108,16],[105,1,105,3],[105,4,105,6],[105,17,105,18],[105,19,105,21],[105,23,105,24],[106,1,106,3],[106,4,106,6],[106,17,106,18],[106,19,106,21],[106,23,106,24],[105,7,105,13],[105,14,105,16],[106,7,106,13],[106,14,106,16],[103,1,103,3],[103,4,103,6],[103,17,103,18],[103,19,103,21],[103,23,103,24],[104,1,104,3],[104,4,104,6],[104,17,104,18],[104,19,104,21],[104,23,104,24],[103,7,103,13],[103,14,103,16],[104,7,104,13],[104,14,104,16],[101,1,101,3],[101,4,101,6],[101,17,101,18],[101,19,101,21],[101,23,101,24],[102,1,102,3],[102,4,102,6],[102,17,102,18],[102,19,102,21],[102,23,102,24],[101,7,101,13],[101,14,101,16],[102,7,102,13],[102,14,102,16],[99,1,99,3],[99,4,99,6],[99,17,99,18],[99,19,99,21],[99,23,99,24],[100,1,100,3],[100,4,100,6],[100,17,100,18],[100,19,100,21],[100,23,100,24],[99,7,99,13],[99,14,99,16],[100,7,100,13],[100,14,100,16],[97,1,97,3],[97,4,97,6],[97,17,97,18],[97,19,97,21],[97,23,97,24],[98,1,98,3],[98,4,98,6],[98,17,98,18],[98,19,98,21],[98,23,98,24],[97,7,97,13],[97,14,97,16],[98,7,98,13],[98,14,98,16],[95,1,95,3],[95,4,95,6],[95,17,95,18],[95,19,95,21],[95,23,95,24],[96,1,96,3],[96,4,96,6],[96,17,96,18],[96,19,96,21],[96,23,96,24],[95,7,95,13],[95,14,95,16],[96,7,96,13],[96,14,96,16],[93,1,93,3],[93,4,93,6],[93,17,93,18],[93,19,93,21],[93,23,93,24],[94,1,94,3],[94,4,94,6],[94,17,94,18],[94,19,94,21],[94,23,94,24],[93,7,93,13],[93,14,93,16],[94,7,94,13],[94,14,94,16],[91,1,91,3],[91,4,91,6],[91,17,91,18],[91,19,91,21],[91,23,91,24],[92,1,92,3],[92,4,92,6],[92,17,92,18],[92,19,92,21],[92,23,92,24],[91,7,91,13],[91,14,91,16],[92,7,92,13],[92,14,92,16],[89,1,89,3],[89,4,89,6],[89,17,89,18],[89,19,89,21],[89,23,89,24],[90,1,90,3],[90,4,90,6],[90,17,90,18],[90,19,90,21],[90,23,90,24],[89,7,89,13],[89,14,89,16],[90,7,90,13],[90,14,90,16],[87,1,87,3],[87,4,87,6],[87,17,87,18],[87,19,87,21],[87,23,87,24],[88,1,88,3],[88,4,88,6],[88,17,88,18],[88,19,88,21],[88,23,88,24],[87,7,87,13],[87,14,87,16],[88,7,88,13],[88,14,88,16],[85,1,85,3],[85,4,85,6],[85,17,85,18],[85,19,85,21],[85,23,85,24],[86,1,86,3],[86,4,86,6],[86,17,86,18],[86,19,86,21],[86,23,86,24],[85,7,85,13],[85,14,85,16],[86,7,86,13],[86,14,86,16],[83,1,83,3],[83,4,83,6],[83,17,83,18],[83,19,83,21],[83,23,83,24],[84,1,84,3],[84,4,84,6],[84,17,84,18],[84,19,84,21],[84,23,84,24],[83,7,83,13],[83,14,83,16],[84,7,84,13],[84,14,84,16],[81,1,81,3],[81,4,81,6],[81,17,81,18],[81,19,81,21],[81,23,81,24],[82,1,82,3],[82,4,82,6],[82,17,82,18],[82,19,82,21],[82,23,82,24],[81,7,81,13],[81,14,81,16],[82,7,82,13],[82,14,82,16],[79,1,79,3],[79,4,79,6],[79,17,79,18],[79,19,79,21],[79,23,79,24],[80,1,80,3],[80,4,80,6],[80,17,80,18],[80,19,80,21],[80,23,80,24],[79,7,79,13],[79,14,79,16],[80,7,80,13],[80,14,80,16],[77,1,77,3],[77,4,77,6],[77,17,77,18],[77,19,77,21],[77,23,77,24],[78,1,78,3],[78,4,78,6],[78,17,78,18],[78,19,78,21],[78,23,78,24],[77,7,77,13],[77,14,77,16],[78,7,78,13],[78,14,78,16],[75,1,75,3],[75,4,75,6],[75,17,75,18],[75,19,75,21],[75,23,75,24],[76,1,76,3],[76,4,76,6],[76,17,76,18],[76,19,76,21],[76,23,76,24],[75,7,75,13],[75,14,75,16],[76,7,76,13],[76,14,76,16],[73,1,73,3],[73,4,73,6],[73,17,73,18],[73,19,73,21],[73,23,73,24],[74,1,74,3],[74,4,74,6],[74,17,74,18],[74,19,74,21],[74,23,74,24],[73,7,73,13],[73,14,73,16],[74,7,74,13],[74,14,74,16],[71,1,71,3],[71,4,71,6],[71,17,71,18],[71,19,71,21],[71,23,71,24],[72,1,72,3],[72,4,72,6],[72,17,72,18],[72,19,72,21],[72,23,72,24],[71,7,71,13],[71,14,71,16],[72,7,72,13],[72,14,72,16],[69,1,69,3],[69,4,69,6],[69,17,69,18],[69,19,69,21],[69,23,69,24],[70,1,70,3],[70,4,70,6],[70,17,70,18],[70,19,70,21],[70,23,70,24],[69,7,69,13],[69,14,69,16],[70,7,70,13],[70,14,70,16],[67,1,67,3],[67,4,67,6],[67,17,67,18],[67,19,67,21],[67,23,67,24],[68,1,68,3],[68,4,68,6],[68,17,68,18],[68,19,68,21],[68,23,68,24],[67,7,67,13],[67,14,67,16],[68,7,68,13],[68,14,68,16],[65,1,65,3],[65,4,65,6],[65,17,65,18],[65,19,65,21],[65,23,65,24],[66,1,66,3],[66,4,66,6],[66,17,66,18],[66,19,66,21],[66,23,66,24],[65,7,65,13],[65,14,65,16],[66,7,66,13],[66,14,66,16],[63,1,63,3],[63,4,63,6],[63,17,63,18],[63,19,63,21],[63,23,63,24],[64,1,64,3],[64,4,64,6],[64,17,64,18],[64,19,64,21],[64,23,64,24],[63,7,63,13],[63,14,63,16],[64,7,64,13],[64,14,64,16],[61,1,61,3],[61,4,61,6],[61,17,61,18],[61,19,61,21],[61,23,61,24],[62,1,62,3],[62,4,62,6],[62,17,62,18],[62,19,62,21],[62,23,62,24],[61,7,61,13],[61,14,61,16],[62,7,62,13],[62,14,62,16],[59,1,59,3],[59,4,59,6],[59,17,59,18],[59,19,59,21],[59,23,59,24],[60,1,60,3],[60,4,60,6],[60,17,60,18],[60,19,60,21],[60,23,60,24],[59,7,59,13],[59,14,59,16],[60,7,60,13],[60,14,60,16],[57,1,57,3],[57,4,57,6],[57,17,57,18],[57,19,57,21],[57,23,57,24],[58,1,58,3],[58,4,58,6],[58,17,58,18],[58,19,58,21],[58,23,58,24],[57,7,57,13],[57,14,57,16],[58,7,58,13],[58,14,58,16],[55,1,55,3],[55,4,55,6],[55,17,55,18],[55,19,55,21],[55,23,55,24],[56,1,56,3],[56,4,56,6],[56,17,56,18],[56,19,56,21],[56,23,56,24],[55,7,55,13],[55,14,55,16],[56,7,56,13],[56,14,56,16],[53,1,53,3],[53,4,53,6],[53,17,53,18],[53,19,53,21],[53,23,53,24],[54,1,54,3],[54,4,54,6],[54,17,54,18],[54,19,54,21],[54,23,54,24],[53,7,53,13],[53,14,53,16],[54,7,54,13],[54,14,54,16],[51,1,51,3],[51,4,51,6],[51,17,51,18],[51,19,51,21],[51,23,51,24],[52,1,52,3],[52,4,52,6],[52,17,52,18],[52,19,52,21],[52,23,52,24],[51,7,51,13],[51,14,51,16],[52,7,52,13],[52,14,52,16],[49,1,49,3],[49,4,49,6],[49,17,49,18],[49,19,49,21],[49,23,49,24],[50,1,50,3],[50,4,50,6],[50,17,50,18],[50,19,50,21],[50,23,50,24],[49,7,49,13],[49,14,49,16],[50,7,50,13],[50,14,50,16],[47,1,47,3],[47,4,47,6],[47,17,47,18],[47,19,47,21],[47,23,47,24],[48,1,48,3],[48,4,48,6],[48,17,48,18],[48,19,48,21],[48,23,48,24],[47,7,47,13],[47,14,47,16],[48,7,48,13],[48,14,48,16],[45,1,45,3],[45,4,45,6],[45,17,45,18],[45,19,45,21],[45,23,45,24],[46,1,46,3],[46,4,46,6],[46,17,46,18],[46,19,46,21],[46,23,46,24],[45,7,45,13],[45,14,45,16],[46,7,46,13],[46,14,46,16],[42,1,42,3],[42,17,42,18],[42,23,42,24],[43,17,43,18],[43,23,43,24],[44,1,44,3],[44,4,44,6],[44,17,44,18],[44,19,44,21],[44,23,44,24],[43,7,43,13],[43,14,43,16],[44,7,44,13],[44,14,44,16],[42,7,42,13],[42,14,42,16],[40,17,40,18],[40,23,40,24],[41,1,41,3],[41,17,41,18],[41,23,41,24],[37,1,37,3],[40,1,40,3],[40,4,40,6],[40,19,40,21],[38,7,38,13],[38,14,38,16],[39,7,39,13],[39,14,39,16],[40,7,40,13],[40,14,40,16],[41,7,41,13],[41,14,41,16],[30,1,30,5],[19,21,19,22],[20,1,20,15],[21,1,22,15],[23,1,24,15],[25,1,26,15],[27,17,27,20],[39,17,39,18],[39,23,39,24],[32,9,32,12],[32,14,32,17],[32,19,32,22],[35,19,35,21],[38,1,38,3],[38,4,38,6],[38,17,38,18],[38,23,38,24],[39,1,39,3],[39,4,39,6],[5,22,6,24],[21,21,21,22],[28,17,28,20],[22,23,22,26],[20,17,20,20],[5,16,6,18],[5,19,6,21],[20,21,20,22],[8,12,10,25],[12,17,12,20],[23,17,23,20],[23,21,23,22],[18,1,18,15],[25,23,25,25],[2,13,3,15],[2,16,3,18],[19,1,19,15],[19,17,19,20],[8,2,8,10],[9,2,10,10],[2,19,3,21],[2,7,3,9],[5,1,6,6],[5,7,6,9],[17,1,17,6],[0,4,1,24],[2,22,3,24],[36,15,36,21],[35,22,35,25],[155,2,155,6],[15,2,15,16],[41,19,41,21],[43,1,43,3],[43,4,43,6],[41,4,41,6],[42,4,42,6],[43,19,43,21],[42,19,42,21],[39,19,39,21],[38,19,38,21],[37,4,37,16],[37,17,37,18],[37,19,37,21],[37,22,37,25],[2,4,3,6],[21,17,21,20],[5,10,6,12],[5,13,6,15],[2,10,3,12]],"bounds":{"rows_first":1000,"rows_last":250,"rows_between":1000,"halvings":1}}
[null,null,null,null,{"$f":"Main!E1","v":"AWP Contractor Reporting E2O - Earthwork Contractor QC"}]
[null,null,null,null,null,null,null,null,null,null,null,null,null,null,null,null,null,null,null,null,null,null,null,null,null,"v",{"$f":"Main!AA2","v":"5.00"}]
[null,null,null,null," ",null,null,{"$f":"Main!H3","v":"Main"},null,null,{"$f":"Main!K3","v":"Quantity"},null,null,null,null,null,{"$f":"Main!Q3","v":"Send/Sync"},null,null,{"$f":"Main!T3","v":"Reports"},null,null,{"$f":"Main!W3","v":"Help"}]
[]
[]
[null,"Contract and Quantities"]
[]
[null,null,null,null,null,null,null,null,null,null,null,null,null,null,null,null,null,null,null,null,null,null,null,null,null,null,null,null,null,null,null,null,null,null,null,null,"District  For Geographic area type"]
[null,null,{"$f":" Main!C44","v":"Quantity required by contract"},null,null,null,null,null,null,null,null,null,{"$f":"CONCATENATE(\"All materials reporting for \", Main!F13, \" must be in \", Main!C44, \" units.  If you have other units you need to convert them to the required units.\")","v":"All materials reporting for Compacted Soil must be in Quantity required by contract units.  If you have other units you need to convert them to the required units."},null,null,null,null,null,null,null,null,null,null,null,null,null,null,null,null,null,null,null,null,null,null,null,{"$f":"SEARCH(\"-\",AN39)","v":{"$error":"#VALUE!"}}]
[null,null,"VALUES ONLY",null,null,null,null,null,null,null,null,null,null,null,null,null,null,null,null,null,null,null,null,null,null,null,null,null,null,null,null,null,null,null,null,null,{"$f":"RIGHT(LEFT(AN39,AK9+1),1)","v":{"$error":"#VALUE!"}}]
[null,null,null,null,null,null,null,null,null,null,null,null,null,null,null,null,null,null,null,null,null,null,null,null,null,null,null,null,null,null,null,null,null,null,null,null,{"$f":"VLOOKUP(AK10,AK13:AL28,2,FALSE)","v":{"$error":"#VALUE!"}}]
[null,null,null,null,null,null,null,null,null,null,null,null,null,null,null,null,null,null,null,null,null,null,null,null,null,null,null,null,"Checks",null,null,null,null,null,null,null,"District indicated in first contract ID"]
[null,"Total quanitity inspected, including non-conforming work. ",null,null,null,null,null,null,null,null,null,null,null,null,null,null,null,null,null,null,null,{"$f":"Main!C44","v":"Quantity required by contract"},null,null,null,null,null,null,{"$f":"IF(R13>0, 0,1)","v":1},null,"quantity for template",{"$f":"VALUE(FIXED(R13,1))","v":0},null,null,null,null,"A","NW"]
[null,null,null,null,null,null,null,null,null,null,null,null,null,null,null,null,null,null,null,null,null,null,null,null,null,null,null,null,null,null,null,null,null,null,null,null,"B","NE"]
[null,null,null,null,null,null,null,null,null,null,null,null,null,null,null,null,null,null,null,null,null,null,null,null,null,null,null,null,null,null,null,null,null,null,null,null,"C","KC"]
[null,null,"The STATUS for this material record will be submitted as:",null,null,null,null,null,null,null,null,null,null,null,null,null,null,{"$f":"VLOOKUP(I156,C157:D160,2,FALSE)","v":"Approved"},null,null,null,null,null,null,null,null,null,null,null,null,null,null,null,null,null,null,"D","CD"]
[null,null,null,null,null,null,null,null,null,null,null,null,null,null,null,null,null,null,null,null,null,null,null,null,null,null,null,null,null,null,null,null,null,null,null,null,"F","SL"]
[null,"Quality Management",null,null,null,null,null,null,null,null,null,null,null,null,null,null,null,null,null,null,null,null,null,null,null,null,null,null,null,null,null,null,null,"All corrected?",{"$f":"(IF(AF20=1,IF(AF26=1,1,0),0))","v":0},null,"G","SW"]
[null,"Is there non-conforming material associated with this report?",null,null,null,null,null,null,null,null,null,null,null,null,null,null,null,null,null,null,null,null,null,null,null,null,null,null,null,null,null,null,null,null,null,null,"H","SE"]
[null,"How much material was found to be initially non-conforming?",null,null,null,null,null,null,null,null,null,null,null,null,null,null,null,null,null,null,null,{"$f":"V13","v":"Quantity required by contract"},null,null,null,null,null,null,{"$f":"IF(AND((AE20=TRUE),(R20+R21+R22+R24>0)),1,0)","v":0},false,true,{"$f":"IF(AD20,1,0)","v":0},null,null,null,null,"1","D01"]
[null,"How much non-conforming material was rejected or discarded?",null,null,null,null,null,null,null,null,null,null,null,null,null,null,null,null,null,null,null,{"$f":"V13","v":"Quantity required by contract"},null,null,null,null,null,null,{"$f":"IF(AND((AD20=TRUE),(ISBLANK(R20))),1,0)","v":0},null,null,null,null,null,null,null,"2","D02"]
[null,"How much non-conforming material was accepted by the Engineer \"AS IS\" or otherwise on a documented corrective action report?",null,null,null,null,null,null,null,null,null,null,null,null,null,null,null,null,null,null,null,{"$f":"V13","v":"Quantity required by contract"},null,null,null,null,null,null,null,null,null,null,null,null,null,null,"3","D03"]
[null,null,null,null,null,null,null,null,null,null,null,null,null,null,null,null,null,null,null,null,null,null,null,"Unaccounted for:",null,null,null,null,null,null,null,null,null,null,null,null,"4","D04"]
[null,"How much non-conforming material was reworked to contract compliance?",null,null,null,null,null,null,null,null,null,null,null,null,null,null,null,null,null,null,null,{"$f":"V13","v":"Quantity required by contract"},null,null,null,null,null,null,null,null,null,null,null,null,null,null,"5","D05"]
[null,null,null,null,null,null,null,null,null,null,null,null,null,null,null,null,null,null,null,null,null,null,null,null,null,null,null,null,null,null,null,null,null,null,null,null,"6","D06"]
[null,"Is the acceptance of any non-conforming material still to be determined?",null,null,null,null,null,null,null,null,null,null,null,null,null,null,null,null,null,null,null,null,null,{"$f":"R20-R21-R22-R24","v":0},null,null,null,null,null,false,true,{"$f":"IF(AD26,1,0)","v":0},null,null,null,null,"7","D07"]
[null,null,null,null,null,null,null,null,null,null,null,null,null,null,null,null,null,null,null,null,null,null,null,null,null,null,null,null,null,null,null,null,null,null,null,null,"8","D08"]
[null,"Amount of non-conforming material not rejected.",null,null,null,null,null,null,null,null,null,null,null,null,null,null,null,{"$f":"R20-R21","v":0},null,null,null,{"$f":"V13","v":"Quantity required by contract"},null,null,null,null,null,null,"Speed Fill  Checks",null,null,null,null,null,null,null,"9","D09"]
[null,"Amount of inspected material that can be reported to a pay item:",null,null,null,null,null,null,null,null,null,null,null,null,null,null,null,{"$f":"R13-R21-X26","v":0},null,null,null,{"$f":"V13","v":"Quantity required by contract"},null,null,null,null,null,null,null,null,null,null,null,null,null,null,"X","D10"]
[]
[null,"Contract Acceptance"]
[]
[null,"Please choose a contract(s)",null,null,null,null,null,null,null,null,null,null,null,"or",null,null,null,null,"or",null,null,null,null,null,null,null,null,null,null,null,null,null,"total of lines"]
[null,"The lines displayed are those corresponding to the material chosen.",null,null,null,null,null,null,null,null,null,null,null,null,null,null,null,null,null,null,null,null,null,null,null,null,null,null,null,null,null,null,{"$f":"SUM(T39:V140)","v":0}]
[null,"If you don't see a line #, please contact your district.",null,null,null,null,null,null,null,null,null,null,null,null,"Contract quantity differs from the inspected quantity",null,null,null,null,null,null,null,null,null,null,null,null,null,null,null,null,"over limit at","10% difference"]
[null,"Adding \"0\" quantity is approriate to include pay lines associated with a report.",null,null,null,null,null,null,null,null,null,null,null,null,null,null,null,null,null,{"$f":"SUM(T39:V140)-R29","v":0},null,null,{"$f":"V13","v":"Quantity required by contract"},null,null,null,null,null,null,"count of lines",null,51,{"$f":"IF((ABS(AG34-R29)/(R29+0.00001))>0.1,\"Y\",\"N\")","v":"N"}]
[null,null,null,null,null,null,null,null,null,null,null,null,null,null,null,{"$f":"C9","v":"Quantity required by contract"},null,null,null,null,null,null,null,null,null,null,null,null,null,{"$f":"COUNTIF(AD39:AD140,\"Y\")","v":0},null,"Too many ?"]
[null,"Contract ",null,null,"Description",null,null,null,null,null,null,null,null,null,null,null,null,"Line",null,"Quantity ",null,null,"Will Be Submitted",null,null,null,null,null,null,"user pop","First 50 pop",{"$f":"IFERROR(VLOOKUP(AF36,AF39:AF140,1,FALSE),\"N\")","v":"N"},"oracle populate-able","Used to create the oracle tab list",null,null,null,"Oracle Tab feed created by code"]
[null,{"$f":"U163","v":""},null,null,{"$f":"V163","v":""},null,null,{"$f":"Y163","v":0},null,null,null,null,null,null,{"$f":"X163","v":0},null,null,{"$f":"W163","v":""},null,null,null,null,{"$f":"Z163","v":0},{"$f":"IF(T39=\"\",\"\",IF(AF39=AG39,\"Yes\",\"No\"))","v":""},null,{"$f":"AA163","v":0},null,null,{"$f":"IF(AE140=0, 1,0)","v":1},{"$f":"IF(T39=\"\",\"N\",\"Y\")","v":"N"},{"$f":"IF(AD39=\"Y\",1,0)","v":0},{"$f":"IF(AD39=\"Y\",AE39,\"\")","v":""},{"$f":"IF(AF39<$AF$36,AF39,\"\")","v":""},{"$f":"IF($AG39=\"\",\"\",B39)","v":""},{"$f":"IF($AG39=\"\",\"\",E39)","v":""},{"$f":"IF($AG39=\"\",\"\",R39)","v":""},{"$f":"IF($AG39=\"\",\"\",T39)","v":""},{"$f":"IF($AG39=\"\",\"\",W39)","v":""},{"$f":"IF($AG39=\"\",\"\",Z39)","v":""},"",null,""]
[null,"",null,null,"",null,null,0,null,null,null,null,null,null,0,null,null,"",null,null,null,null,0,"",null,0,null,null,null,{"$f":"IF(T40=\"\",\"N\",\"Y\")","v":"N"},{"$f":"IF(AD40=\"Y\",AE39+1,AE39)","v":0},"","","","","","","","","",null,""]
[null,"",null,null,"",null,null,0,null,null,null,null,null,null,0,null,null,"",null,null,null,null,0,"",null,0,null,null,null,"N",{"$f":"IF(AD41=\"Y\",AE40+1,AE40)","v":0},"","","","","","","","","",null,""]
[null,"",null,null,"",null,null,0,null,null,null,null,null,null,0,null,null,"",null,null,null,null,0,"",null,0,null,null,null,"N",0,"","","","","","","","","",null,""]
[null,"",null,null,"",null,null,0,null,null,null,null,null,null,0,null,null,"",null,null,null,null,0,"",null,0,null,null,null,"N",0,"","","","","","","","","",null,""]
[null,"",null,null,"",null,null,0,null,null,null,null,null,null,0,null,null,"",null,null,null,null,0,"",null,0,null,null,null,"N",0,"","","","","","","","","",null,""]
[null,"",null,null,"",null,null,0,null,null,null,null,null,null,0,null,null,"",null,null,null,null,0,"",null,0,null,null,null,"N",0,"","","","","","","","","",null,""]
[null,"",null,null,"",null,null,0,null,null,null,null,null,null,0,null,null,"",null,null,null,null,0,"",null,0,null,null,null,"N",0,"","","","","","","","","",null,""]
[null,"",null,null,"",null,null,0,null,null,null,null,null,null,0,null,null,"",null,null,null,null,0,"",null,0,null,null,null,"N",0,"","","","","","","","","",null,""]
[null,"",null,null,"",null,null,0,null,null,null,null,null,null,0,null,null,"",null,null,null,null,0,"",null,0,null,null,null,"N",0,"","","","","","","","","",null,""]
[null,"",null,null,"",null,null,0,null,null,null,null,null,null,0,null,null,"",null,null,null,null,0,"",null,0,null,null,null,"N",0,"","","","","","","","","",null,""]
[null,"",null,null,"",null,null,0,null,null,null,null,null,null,0,null,null,"",null,null,null,null,0,"",null,0,null,null,null,"N",0,"","","","","","","","","",null,""]
[null,"",null,null,"",null,null,0,null,null,null,null,null,null,0,null,null,"",null,null,null,null,0,"",null,0,null,null,null,"N",0,"","","","","","","","","",null,""]
[null,"",null,null,"",null,null,0,null,null,null,null,null,null,0,null,null,"",null,null,null,null,0,"",null,0,null,null,null,"N",0,"","","","","","","","","",null,""]
[null,"",null,null,"",null,null,0,null,null,null,null,null,null,0,null,null,"",null,null,null,null,0,"",null,0,null,null,null,"N",0,"","","","","","","","","",null,""]
[null,"",null,null,"",null,null,0,null,null,null,null,null,null,0,null,null,"",null,null,null,null,0,"",null,0,null,null,null,"N",0,"","","","","","","","","",null,""]
[null,"",null,null,"",null,null,0,null,null,null,null,null,null,0,null,null,"",null,null,null,null,0,"",null,0,null,null,null,"N",0,"","","","","","","","","",null,""]
[null,"",null,null,"",null,null,0,null,null,null,null,null,null,0,null,null,"",null,null,null,null,0,"",null,0,null,null,null,"N",0,"","","","","","","","","",null,""]
[null,"",null,null,"",null,null,0,null,null,null,null,null,null,0,null,null,"",null,null,null,null,0,"",null,0,null,null,null,"N",0,"","","","","","","","","",null,""]
[null,"",null,null,"",null,null,0,null,null,null,null,null,null,0,null,null,"",null,null,null,null,0,"",null,0,null,null,null,"N",0,"","","","","","","","","",null,""]
[null,"",null,null,"",null,null,0,null,null,null,null,null,null,0,null,null,"",null,null,null,null,0,"",null,0,null,null,null,"N",0,"","","","","","","","","",null,""]
[null,"",null,null,"",null,null,0,null,null,null,null,null,null,0,null,null,"",null,null,null,null,0,"",null,0,null,null,null,"N",0,"","","","","","","","","",null,""]
[null,"",null,null,"",null,null,0,null,null,null,null,null,null,0,null,null,"",null,null,null,null,0,"",null,0,null,null,null,"N",0,"","","","","","","","","",null,""]
[null,"",null,null,"",null,null,0,null,null,null,null,null,null,0,null,null,"",null,null,null,null,0,"",null,0,null,null,null,"N",0,"","","","","","","","","",null,""]
[null,0,null,null,"",null,null,0,null,null,null,null,null,null,0,null,null,"",null,null,null,null,0,"",null,0,null,null,null,"N",0,"","","","","","","","","",null,""]
[null,0,null,null,"",null,null,0,null,null,null,null,null,null,0,null,null,"",null,null,null,null,0,"",null,0,null,null,null,"N",0,"","","","","","","","","",null,""]
[null,0,null,null,"",null,null,0,null,null,null,null,null,null,"",null,null,"",null,null,null,null,0,"",null,0,null,null,null,"N",0,"","","","","","","","","",null,""]
[null,0,null,null,"",null,null,0,null,null,null,null,null,null,0,null,null,"",null,null,null,null,0,"",null,0,null,null,null,"N",0,"","","","","","","","","",null,""]
[null,0,null,null,"",null,null,0,null,null,null,null,null,null,0,null,null,"",null,null,null,null,0,"",null,0,null,null,null,"N",0,"","","","","","","","","",null,""]
[null,0,null,null,"",null,null,0,null,null,null,null,null,null,0,null,null,"",null,null,null,null,0,"",null,0,null,null,null,"N",0,"","","","","","","","","",null,""]
[null,0,null,null,"",null,null,0,null,null,null,null,null,null,0,null,null,"",null,null,null,null,0,"",null,0,null,null,null,"N",0,"","","","","","","","","",null,""]
[null,0,null,null,"",null,null,0,null,null,null,null,null,null,0,null,null,"",null,null,null,null,0,"",null,0,null,null,null,"N",0,"","","","","","","","","",null,""]
[null,{"$f":"U195","v":0},null,null,{"$f":"V195","v":""},null,null,{"$f":"Y195","v":0},null,null,null,null,null,null,{"$f":"X195","v":0},null,null,{"$f":"W195","v":""},null,null,null,null,{"$f":"Z195","v":0},{"$f":"IF(T71=\"\",\"\",IF(AF71=AG71,\"Yes\",\"No\"))","v":""},null,{"$f":"AA195","v":0},null,null,null,"N",0,{"$f":"IF(AD71=\"Y\",AE71,\"\")","v":""},{"$f":"IF(AF71<$AF$36,AF71,\"\")","v":""},{"$f":"IF($AG71=\"\",\"\",B71)","v":""},{"$f":"IF($AG71=\"\",\"\",E71)","v":""},{"$f":"IF($AG71=\"\",\"\",R71)","v":""},{"$f":"IF($AG71=\"\",\"\",T71)","v":""},{"$f":"IF($AG71=\"\",\"\",W71)","v":""},{"$f":"IF($AG71=\"\",\"\",Z71)","v":""},"",null,""]
[null,0,null,null,"",null,null,0,null,null,null,null,null,null,0,null,null,"",null,null,null,null,0,"",null,0,null,null,null,"N",0,"","","","","","","","","",null,""]
[null,0,null,null,"",null,null,0,null,null,null,null,null,null,0,null,null,"",null,null,null,null,0,"",null,0,null,null,null,"N",0,"","","","","","","","","",null,""]
[null,0,null,null,"",null,null,0,null,null,null,null,null,null,0,null,null,"",null,null,null,null,0,"",null,0,null,null,null,"N",0,"","","","","","","","","",null,""]
[null,0,null,null,"",null,null,0,null,null,null,null,null,null,0,null,null,"",null,null,null,null,0,"",null,0,null,null,null,"N",0,"","","","","","","","","",null,""]
[null,0,null,null,"",null,null,0,null,null,null,null,null,null,0,null,null,"",null,null,null,null,0,"",null,0,null,null,null,"N",0,"","","","","","","","","",null,""]
[null,0,null,null,"",null,null,0,null,null,null,null,null,null,0,null,null,"",null,null,null,null,0,"",null,0,null,null,null,"N",0,"","","","","","","","","",null,""]
[null,0,null,null,"",null,null,0,null,null,null,null,null,null,0,null,null,"",null,null,null,null,0,"",null,0,null,null,null,"N",0,"","","","","","","","","",null,""]
[null,0,null,null,"",null,null,0,null,null,null,null,null,null,0,null,null,"",null,null,null,null,0,"",null,0,null,null,null,"N",0,"","","","","","","","","",null,""]
[null,0,null,null,"",null,null,0,null,null,null,null,null,null,0,null,null,"",null,null,null,null,0,"",null,0,null,null,null,"N",0,"","","","","","","","","",null,""]
[null,0,null,null,"",null,null,0,null,null,null,null,null,null,0,null,null,"",null,null,null,null,0,"",null,0,null,null,null,"N",0,"","","","","","","","","",null,""]
[null,0,null,null,"",null,null,0,null,null,null,null,null,null,0,null,null,"",null,null,null,null,0,"",null,0,null,null,null,"N",0,"","","","","","","","","",null,""]
[null,0,null,null,"",null,null,0,null,null,null,null,null,null,0,null,null,"",null,null,null,null,0,"",null,0,null,null,null,"N",0,"","","","","","","","","",null,""]
[null,0,null,null,"",null,null,0,null,null,null,null,null,null,0,null,null,"",null,null,null,null,0,"",null,0,null,null,null,"N",0,"","","","","","","","","",null,""]
[null,0,null,null,"",null,null,0,null,null,null,null,null,null,0,null,null,"",null,null,null,null,0,"",null,0,null,null,null,"N",0,"","","","","","","","","",null,""]
[null,0,null,null,"",null,null,0,null,null,null,null,null,null,0,null,null,"",null,null,null,null,0,"",null,0,null,null,null,"N",0,"","","","","","","","","",null,""]
[null,0,null,null,"",null,null,0,null,null,null,null,null,null,0,null,null,"",null,null,null,null,0,"",null,0,null,null,null,"N",0,"","","","","","","","","",null,""]
[null,0,null,null,"",null,null,0,null,null,null,null,null,null,0,null,null,"",null,null,null,null,0,"",null,0,null,null,null,"N",0,"","","","","","","","","",null,""]
[null,0,null,null,"",null,null,0,null,null,null,null,null,null,0,null,null,"",null,null,null,null,0,"",null,0,null,null,null,"N",0,"","","","","","","","","",null,""]
[null,0,null,null,"",null,null,0,null,null,null,null,null,null,0,null,null,"",null,null,null,null,0,"",null,0,null,null,null,"N",0,"","","","","","","","","",null,""]
[null,0,null,null,"",null,null,0,null,null,null,null,null,null,0,null,null,"",null,null,null,null,0,"",null,0,null,null,null,"N",0,"","","","","","","","","",null,""]
[null,0,null,null,"",null,null,0,null,null,null,null,null,null,0,null,null,"",null,null,null,null,0,"",null,0,null,null,null,"N",0,"","","","","","","","","",null,""]
[null,0,null,null,"",null,null,0,null,null,null,null,null,null,0,null,null,"",null,null,null,null,0,"",null,0,null,null,null,"N",0,"","","","","","","","","",null,""]
[null,0,null,null,"",null,null,0,null,null,null,null,null,null,0,null,null,"",null,null,null,null,0,"",null,0,null,null,null,"N",0,"","","","","","","","","",null,""]
[null,0,null,null,"",null,null,0,null,null,null,null,null,null,0,null,null,"",null,null,null,null,0,"",null,0,null,null,null,"N",0,"","","","","","","","","",null,""]
[null,0,null,null,"",null,null,0,null,null,null,null,null,null,0,null,null,"",null,null,null,null,0,"",null,0,null,null,null,"N",0,"","","","","","","","","",null,""]
[null,0,null,null,"",null,null,0,null,null,null,null,null,null,0,null,null,"",null,null,null,null,0,"",null,0,null,null,null,"N",0,"","","","","","","","","",null,""]
[null,0,null,null,"",null,null,0,null,null,null,null,null,null,0,null,null,"",null,null,null,null,0,"",null,0,null,null,null,"N",0,"","","","","","","","","",null,""]
[null,0,null,null,"",null,null,0,null,null,null,null,null,null,0,null,null,"",null,null,null,null,0,"",null,0,null,null,null,"N",0,"","","","","","","","","",null,""]
[null,0,null,null,"",null,null,0,null,null,null,null,null,null,0,null,null,"",null,null,null,null,0,"",null,0,null,null,null,"N",0,"","","","","","","","","",null,""]
[null,0,null,null,"",null,null,0,null,null,null,null,null,null,0,null,null,"",null,null,null,null,0,"",null,0,null,null,null,"N",0,"","","","","","","","","",null,""]
[null,0,null,null,"",null,null,0,null,null,null,null,null,null,0,null,null,"",null,null,null,null,0,"",null,0,null,null,null,"N",0,"","","","","","","","","",null,""]
[null,{"$f":"U227","v":0},null,null,{"$f":"V227","v":""},null,null,{"$f":"Y227","v":0},null,null,null,null,null,null,{"$f":"X227","v":0},null,null,{"$f":"W227","v":""},null,null,null,null,{"$f":"Z227","v":0},{"$f":"IF(T103=\"\",\"\",IF(AF103=AG103,\"Yes\",\"No\"))","v":""},null,{"$f":"AA227","v":0},null,null,null,"N",0,{"$f":"IF(AD103=\"Y\",AE103,\"\")","v":""},{"$f":"IF(AF103<$AF$36,AF103,\"\")","v":""},{"$f":"IF($AG103=\"\",\"\",B103)","v":""},{"$f":"IF($AG103=\"\",\"\",E103)","v":""},{"$f":"IF($AG103=\"\",\"\",R103)","v":""},{"$f":"IF($AG103=\"\",\"\",T103)","v":""},{"$f":"IF($AG103=\"\",\"\",W103)","v":""},{"$f":"IF($AG103=\"\",\"\",Z103)","v":""},"",null,""]
[null,0,null,null,"",null,null,0,null,null,null,null,null,null,0,null,null,"",null,null,null,null,0,"",null,0,null,null,null,{"$f":"IF(T104=\"\",\"N\",\"Y\")","v":"N"},0,"","","","","","","","","",null,""]
[null,0,null,null,"",null,null,0,null,null,null,null,null,null,0,null,null,"",null,null,null,null,0,"",null,0,null,null,null,"N",{"$f":"IF(AD105=\"Y\",AE104+1,AE104)","v":0},"","","","","","","","","",null,""]
[null,0,null,null,"",null,null,0,null,null,null,null,null,null,0,null,null,"",null,null,null,null,0,"",null,0,null,null,null,"N",0,"","","","","","","","","",null,""]
[null,0,null,null,"",null,null,0,null,null,null,null,null,null,0,null,null,"",null,null,null,null,0,"",null,0,null,null,null,"N",0,"","","","","","","","","",null,""]
[null,0,null,null,"",null,null,0,null,null,null,null,null,null,0,null,null,"",null,null,null,null,0,"",null,0,null,null,null,"N",0,"","","","","","","","","",null,""]
[null,0,null,null,"",null,null,0,null,null,null,null,null,null,0,null,null,"",null,null,null,null,0,"",null,0,null,null,null,"N",0,"","","","","","","","","",null,""]
[null,0,null,null,"",null,null,0,null,null,null,null,null,null,0,null,null,"",null,null,null,null,0,"",null,0,null,null,null,"N",0,"","","","","","","","","",null,""]
[null,0,null,null,"",null,null,0,null,null,null,null,null,null,0,null,null,"",null,null,null,null,0,"",null,0,null,null,null,"N",0,"","","","","","","","","",null,""]
[null,0,null,null,"",null,null,0,null,null,null,null,null,null,0,null,null,"",null,null,null,null,0,"",null,0,null,null,null,"N",0,"","","","","","","","","",null,""]
[null,0,null,null,"",null,null,0,null,null,null,null,null,null,0,null,null,"",null,null,null,null,0,"",null,0,null,null,null,"N",0,"","","","","","","","","",null,""]
[null,0,null,null,"",null,null,0,null,null,null,null,null,null,0,null,null,"",null,null,null,null,0,"",null,0,null,null,null,"N",0,"","","","","","","","","",null,""]
[null,0,null,null,"",null,null,0,null,null,null,null,null,null,0,null,null,"",null,null,null,null,0,"",null,0,null,null,null,"N",0,"","","","","","","","","",null,""]
[null,0,null,null,"",null,null,0,null,null,null,null,null,null,0,null,null,"",null,null,null,null,0,"",null,0,null,null,null,"N",0,"","","","","","","","","",null,""]
[null,0,null,null,"",null,null,0,null,null,null,null,null,null,0,null,null,"",null,null,null,null,0,"",null,0,null,null,null,"N",0,"","","","","","","","","",null,""]
[null,0,null,null,"",null,null,0,null,null,null,null,null,null,0,null,null,"",null,null,null,null,0,"",null,0,null,null,null,"N",0,"","","","","","","","","",null,""]
[null,0,null,null,"",null,null,0,null,null,null,null,null,null,0,null,null,"",null,null,null,null,0,"",null,0,null,null,null,"N",0,"","","","","","","","","",null,""]
[null,0,null,null,"",null,null,0,null,null,null,null,null,null,0,null,null,"",null,null,null,null,0,"",null,0,null,null,null,"N",0,"","","","","","","","","",null,""]
[null,0,null,null,"",null,null,0,null,null,null,null,null,null,0,null,null,"",null,null,null,null,0,"",null,0,null,null,null,"N",0,"","","","","","","","","",null,""]
[null,0,null,null,"",null,null,0,null,null,null,null,null,null,0,null,null,"",null,null,null,null,0,"",null,0,null,null,null,"N",0,"","","","","","","","","",null,""]
[null,0,null,null,"",null,null,0,null,null,null,null,null,null,0,null,null,"",null,null,null,null,0,"",null,0,null,null,null,"N",0,"","","","","","","","","",null,""]
[null,0,null,null,"",null,null,0,null,null,null,null,null,null,0,null,null,"",null,null,null,null,0,"",null,0,null,null,null,"N",0,"","","","","","","","","",null,""]
[null,0,null,null,"",null,null,0,null,null,null,null,null,null,0,null,null,"",null,null,null,null,0,"",null,0,null,null,null,"N",0,"","","","","","","","","",null,""]
[null,0,null,null,"",null,null,0,null,null,null,null,null,null,0,null,null,"",null,null,null,null,0,"",null,0,null,null,null,"N",0,"","","","","","","","","",null,""]
[null,0,null,null,"",null,null,0,null,null,null,null,null,null,0,null,null,"",null,null,null,null,0,"",null,0,null,null,null,"N",0,"","","","","","","","","",null,""]
[null,0,null,null,"",null,null,0,null,null,null,null,null,null,0,null,null,"",null,null,null,null,0,"",null,0,null,null,null,"N",0,"","","","","","","","","",null,""]
[null,0,null,null,"",null,null,0,null,null,null,null,null,null,0,null,null,"",null,null,null,null,0,"",null,0,null,null,null,"N",0,"","","","","","","","","",null,""]
[null,0,null,null,"",null,null,0,null,null,null,null,null,null,0,null,null,"",null,null,null,null,0,"",null,0,null,null,null,"N",0,"","","","","","","","","",null,""]
[null,0,null,null,"",null,null,0,null,null,null,null,null,null,0,null,null,"",null,null,null,null,0,"",null,0,null,null,null,"N",0,"","","","","","","","","",null,""]
[null,0,null,null,"",null,null,0,null,null,null,null,null,null,0,null,null,"",null,null,null,null,0,"",null,0,null,null,null,"N",0,"","","","","","","","","",null,""]
[null,0,null,null,"",null,null,0,null,null,null,null,null,null,0,null,null,"",null,null,null,null,0,"",null,0,null,null,null,"N",0,"","","","","","","","","",null,""]
[null,0,null,null,"",null,null,0,null,null,null,null,null,null,0,null,null,"",null,null,null,null,0,"",null,0,null,null,null,"N",0,"","","","","","","","","",null,""]
[null,{"$f":"U259","v":0},null,null,{"$f":"V259","v":""},null,null,{"$f":"Y259","v":0},null,null,null,null,null,null,{"$f":"X259","v":0},null,null,{"$f":"W259","v":""},null,null,null,null,{"$f":"Z259","v":0},{"$f":"IF(T135=\"\",\"\",IF(AF135=AG135,\"Yes\",\"No\"))","v":""},null,{"$f":"AA259","v":0},null,null,null,"N",0,{"$f":"IF(AD135=\"Y\",AE135,\"\")","v":""},{"$f":"IF(AF135<$AF$36,AF135,\"\")","v":""},{"$f":"IF($AG135=\"\",\"\",B135)","v":""},{"$f":"IF($AG135=\"\",\"\",E135)","v":""},{"$f":"IF($AG135=\"\",\"\",R135)","v":""},{"$f":"IF($AG135=\"\",\"\",T135)","v":""},{"$f":"IF($AG135=\"\",\"\",W135)","v":""},{"$f":"IF($AG135=\"\",\"\",Z135)","v":""},"",null,""]
[null,0,null,null,"",null,null,0,null,null,null,null,null,null,0,null,null,"",null,null,null,null,0,"",null,0,null,null,null,"N",0,"","","","","","","","","",null,""]
[null,0,null,null,"",null,null,0,null,null,null,null,null,null,0,null,null,"",null,null,null,null,0,"",null,0,null,null,null,"N",0,"","","","","","","","","",null,""]
[null,0,null,null,"",null,null,0,null,null,null,null,null,null,0,null,null,"",null,null,null,null,0,"",null,0,null,null,null,"N",0,"","","","","","","","","",null,""]
[null,0,null,null,"",null,null,0,null,null,null,null,null,null,0,null,null,"",null,null,null,null,0,"",null,0,null,null,null,"N",0,"","","","","","","","","",null,""]
[null,0,null,null,"",null,null,0,null,null,null,null,null,null,0,null,null,"",null,null,null,null,0,"",null,0,null,null,null,"N",0,"","","","","","","","","",null,""]
[]
[]
[]
[]
[]
[null,null,null,null,null,null,null,null,null,null,null,null,null,null,null,null,null,null,null,null,null,null,null,null,null,null,null,null,{"$f":"SUM(AC13:AC26,AC30:AC143)","v":2}]
[]
[]
[null,"Status determination",null,null,null,null,null,null,null,"Status",null,null,null,null,null,null,null,null,"Line Number Lookups "]
[null,"Check for no defficient or non-compliant",null,null,null,null,null,null,null,{"$f":"IF(AF20+AF26=0,C158,\"\")","v":9},null,null,null,null,null,null,null,null,null,{"$f":"VLOOKUP($E$36,N163:P186,2, FALSE)","v":{"$error":"#N/A"}},{"$f":"IF(NOT(ISBLANK(H36)),VLOOKUP($H$36,N163:P186,2, FALSE),\"\")","v":""},{"$f":"IF(NOT(ISBLANK(K36)),VLOOKUP($K$36,N163:P186,2, FALSE),\"\")","v":""},{"$f":"IF(NOT(ISBLANK(N36)),VLOOKUP($N$36,N163:P186,2, FALSE),\"\")","v":""},{"$f":"IF(NOT(ISBLANK(Q36)),VLOOKUP($Q$36,N163:P186,2, FALSE),\"\")","v":""}]
[null,"Check for total rejection",null,null,null,null,null,null,null,{"$f":"IF(AND(R21=R13,AF26=0,NOT(R21=0)),C159,\"\")","v":""},null,null,null,null,null,null,null,null,null,{"$f":"VLOOKUP($E$36,N163:P186,3, FALSE)","v":{"$error":"#N/A"}},{"$f":"IF(NOT(ISBLANK(H36)),VLOOKUP($H$36,N163:P186,3, FALSE),\"\")","v":""},{"$f":"IF(NOT(ISBLANK(K36)),VLOOKUP($K$36,N163:P186,3, FALSE),\"\")","v":""},{"$f":"IF(NOT(ISBLANK(N36)),VLOOKUP($N$36,N163:P186,3, FALSE),\"\")","v":""},{"$f":"IF(NOT(ISBLANK(Q36)),VLOOKUP($Q$36,N163:P186,3, FALSE),\"\")","v":""},null,null,null,null,null,null,null,null,null,null,null,2,610]
[null,"Check for non-compl all corrected",null,null,null,null,null,null,null,{"$f":"IF(AND(NOT(R13=R21),AF20=1,AI18=0,NOT(R22>0)),C158,\"\")","v":""}]
[null,"Check for non-compl and unresolved",null,null,null,null,null,null,null,{"$f":"IF(AI18=1,C157,\"\")","v":""},null,null,null,null,null,null,null,null,null,{"$f":"IF(NOT(ISBLANK(E42)),VLOOKUP($E$42,U163:W186,2, FALSE),\"\")","v":""},{"$f":"IF(NOT(ISBLANK(H42)),VLOOKUP($H$42,U163:W186,2, FALSE),\"\")","v":{"$error":"#N/A"}},{"$f":"IF(NOT(ISBLANK(K42)),VLOOKUP($K$42,U163:W186,2, FALSE),\"\")","v":""},{"$f":"IF(NOT(ISBLANK(N42)),VLOOKUP($N$42,U163:W186,2, FALSE),\"\")","v":""},{"$f":"IF(NOT(ISBLANK(Q42)),VLOOKUP($Q$42,U163:W186,2, FALSE),\"\")","v":""}]
[null,"Check for non-compl and used as is",null,null,null,null,null,null,null,{"$f":"IF(AND(AF20=1,R22>0,NOT(AI18=1)),C160,\"\")","v":""},null,null,null,null,null,null,null,null,null,{"$f":"IF(NOT(ISBLANK(E42)),VLOOKUP($E$42,U163:W186,3, FALSE),\"\")","v":""},{"$f":"IF(NOT(ISBLANK(H42)),VLOOKUP($H$42,U163:W186,3, FALSE),\"\")","v":{"$error":"#N/A"}},{"$f":"IF(NOT(ISBLANK(K42)),VLOOKUP($K$42,U163:W186,3, FALSE),\"\")","v":""},{"$f":"IF(NOT(ISBLANK(N42)),VLOOKUP($N$42,U163:W186,3, FALSE),\"\")","v":""},{"$f":"IF(NOT(ISBLANK(Q42)),VLOOKUP($Q$42,U163:W186,3, FALSE),\"\")","v":""}]
["These two boxes combine the found statusii and if there is none found default it to pending",null,null,null,null,null,null,null,null,null,null,null,null,null,null,null,null,null,null,null,null,null,null,null,null,null,null,null,null,null,null,null,null,{"$f":"O163=AH163","v":true},{"$f":"Q163=AJ163","v":true},null,{"$f":"MATCH(AK151,AJ163:AJ165,0)","v":{"$error":"#N/A"}}]
[null,null,{"$f":"CONCATENATE(J150,J151,J152,J153,J154)","v":"9"},null,null,null,null,null,{"$f":"IF(C156=\"\",C157,INT(C156))","v":9}]
["code",null,6,"Pending Authorization"]
["table",null,9,"Approved"]
[null,null,16,"FAIL - Fail/Rejected"]
[null,null,20,"FAIU - Failed- Matl used as is w-w/o deduct",null,null,null,null,null,null,null,"First contract specific item list",null,null,null,null,null,null,"Second contract specific item list"]
[null,null,null,null,null,null,null,null,null,null,null,"=E34",null,null,null,null,null,null,{"$f":"E40","v":""},null,null,null,null,null,null,null,null,null,null,null,null,null,null,"Saved Contract Quantiies area for code use"]
[null,null,{"$f":"Main!F14","v":"0200XXCS"},null,null,null,null,"list of contracts with the correct material","Contracts matching material","Filtered Contracts matching material","list of contracts with the correct material","Contracts matching material","Filtered Contracts matching material","User selected contracts","User selected Line #s","User Selected Job #","User Select matl Set","User selected descriptions","User selected units","User selected mat set ids","sorted contract ids for display","Sorted job #s","Sorted Line","sorted material set","sorted description","sorted units","sorted mat set ids","Lookup for already entered quantities","corrects for the Xs and na values from removed contracts",null,"Contract","Project","Line no","matset","desc","units","matset id","qty","This row is used to change 0s to Xs as a means to work around the lookup limitations"]
[null,null,"0200XXCS","200821-A05","J1S3354","0020","203600096",28910,"COMPACTING EMBANKMENT","E056",{"$f":"IF(C163=$C$162,D163,\"\")","v":"200821-A05"},"180622-D03","180622-D03",{"$f":"(IF(K163=\"\",\"\",IF(OR(D163=$J$33,D163=$T$33, D163=$O$33),D163,\"\")))","v":""},{"$f":"IF(N163=\"\",\"\",F163)","v":""},{"$f":"IF(N163=\"\", \"\", E163)","v":""},{"$f":"IF(N163=\"\", \"\", G163)","v":""},{"$f":"IF(N163=\"\",\"\",I163)","v":""},{"$f":"IF(N163=\"\",\"\",J163)","v":""},{"$f":"IF(N163=\"\",\"\",H163)","v":""},"","","",null,null,null,null,{"$f":"IF(U163=\"\",\"\",INDEX($AE$163:$AM$189,MATCH(U163&W163&AA163,$AE$163:$AE$189&$AG$163:$AG$189&$AK$163:$AK$189,0),9))","v":""},{"$f":"IF(ISNA(AB163),\"\",IF(AB163=\"X\",\"\",AB163))","v":""},null,null,null,"",null,null,null,null,null,{"$f":"IF(ISBLANK(AL163),\"X\",AL163)","v":"X"}]
[null,null,"0200XXCS","200821-A05","J1S3354","0370","203550096",28931,"EMBANKMENT IN PLACE","E056",{"$f":"IF(C164=$C$162,D164,\"\")","v":"200821-A05"},"190118-C04","190118-C04","","","","","","",{"$f":"IF(N164=\"\",\"\",H164)","v":""},"","","",null,null,null,null,{"$f":"IF(U164=\"\",\"\",INDEX($AE$163:$AM$189,MATCH(U164&W164&AA164,$AE$163:$AE$189&$AG$163:$AG$189&$AK$163:$AK$189,0),9))","v":""},{"$f":"IF(ISNA(AB164),\"\",IF(AB164=\"X\",\"\",AB164))","v":""},null,null,null,"",null,null,null,null,null,{"$f":"IF(ISBLANK(AL164),\"X\",AL164)","v":"X"}]
[null,null,"0200XXCS","200821-A05","J1S3354","0380","203600096",28932,"COMPACTING EMBANKMENT","E056","200821-A05","190118-C04","190215-H03","","","","","","","","","","",null,null,null,null,{"$f":"IF(U165=\"\",\"\",INDEX($AE$163:$AM$189,MATCH(U165&W165&AA165,$AE$163:$AE$189&$AG$163:$AG$189&$AK$163:$AK$189,0),9))","v":""},"",null,null,null,"",null,null,null,null,null,"X"]
[null,null,"0200XXCS","200821-A05","J1S3357","0590","203600096",28949,"COMPACTING EMBANKMENT","E056","200821-A05","190118-C04","190816-H01","","","","","","","","","","",null,null,null,null,{"$f":"IF(U166=\"\",\"\",INDEX($AE$163:$AM$189,MATCH(U166&W166&AA166,$AE$163:$AE$189&$AG$163:$AG$189&$AK$163:$AK$189,0),9))","v":""},"",null,null,null,"",null,null,null,null,null,"X"]
[null,null,"0200XXCS","200821-A05","J1S3358","0860","203600096",28965,"COMPACTING EMBANKMENT","E056","200821-A05","190118-C04","191213-C01","","","","","","","","","","",null,null,null,null,{"$f":"IF(U167=\"\",\"\",INDEX($AE$163:$AM$189,MATCH(U167&W167&AA167,$AE$163:$AE$189&$AG$163:$AG$189&$AK$163:$AK$189,0),9))","v":""},"",null,null,null,"",null,null,null,null,null,"X"]
[null,null,"0200XXCS","200821-A05","J1S3358","1170","203550096",28984,"EMBANKMENT IN PLACE","E056","200821-A05","190118-C04","191213-H01","","","","","","","","","","",null,null,null,null,{"$f":"IF(U168=\"\",\"\",INDEX($AE$163:$AM$189,MATCH(U168&W168&AA168,$AE$163:$AE$189&$AG$163:$AG$189&$AK$163:$AK$189,0),9))","v":""},"",null,null,null,"",null,null,null,null,null,"X"]
[null,null,"0200XXCS","200821-A05","J1S3358","1180","203600096",28985,"COMPACTING EMBANKMENT","E056","200821-A05","190118-C04","200221-H06","","","","","","","","","","",null,null,null,null,{"$f":"IF(U169=\"\",\"\",INDEX($AE$163:$AM$189,MATCH(U169&W169&AA169,$AE$163:$AE$189&$AG$163:$AG$189&$AK$163:$AK$189,0),9))","v":""},"",null,null,null,"",null,null,null,null,null,"X"]
[null,null,"0200XXCS","200821-A05","J1S3375","1420","203600096",29005,"COMPACTING EMBANKMENT","E056","200821-A05","190215-H03","200320-H01","","","","","","","","","","",null,null,null,null,{"$f":"IF(U170=\"\",\"\",INDEX($AE$163:$AM$189,MATCH(U170&W170&AA170,$AE$163:$AE$189&$AG$163:$AG$189&$AK$163:$AK$189,0),9))","v":""},"",null,null,null,"",null,null,null,null,null,"X"]
[null,null,"0200XXCS","200821-A06","J1S3355","0020","203600096",29136,"COMPACTING EMBANKMENT","E056","200821-A06","190816-H01","200619-A01","","","","","","","","","","",null,null,null,null,{"$f":"IF(U171=\"\",\"\",INDEX($AE$163:$AM$189,MATCH(U171&W171&AA171,$AE$163:$AE$189&$AG$163:$AG$189&$AK$163:$AK$189,0),9))","v":""},"",null,null,null,"",null,null,null,null,null,"X"]
[null,null,"0200XXCS","200821-A06","J1S3355","0030","203707596",29137,"COMPACTING IN CUT","E056","200821-A06","191213-C01","200821-A05","","","","","","","","","","",null,null,null,null,{"$f":"IF(U172=\"\",\"\",INDEX($AE$163:$AM$189,MATCH(U172&W172&AA172,$AE$163:$AE$189&$AG$163:$AG$189&$AK$163:$AK$189,0),9))","v":""},"",null,null,null,"",null,null,null,null,null,"X"]
[null,null,"0200XXCS","200821-A06","J1S3356","0330","203600096",29156,"COMPACTING EMBANKMENT","E056","200821-A06","191213-C01","200821-A06","","","","","","","","","","",null,null,null,null,{"$f":"IF(U173=\"\",\"\",INDEX($AE$163:$AM$189,MATCH(U173&W173&AA173,$AE$163:$AE$189&$AG$163:$AG$189&$AK$163:$AK$189,0),9))","v":""},"",null,null,null,"",null,null,null,null,null,"X"]
[null,null,"0200XXCS","200821-A06","J1S3356","0620","203550096",29173,"EMBANKMENT IN PLACE","E056","200821-A06","191213-H01","200821-A08","","","","","","","","","","",null,null,null,null,{"$f":"IF(U174=\"\",\"\",INDEX($AE$163:$AM$189,MATCH(U174&W174&AA174,$AE$163:$AE$189&$AG$163:$AG$189&$AK$163:$AK$189,0),9))","v":""},"",null,null,null,"",null,null,null,null,null,"X"]
[null,null,"0200XXCS","200821-A06","J1S3356","0630","203600096",29174,"COMPACTING EMBANKMENT","E056","200821-A06","191213-H01","200918-F02","","","","","","","","","","",null,null,null,null,{"$f":"IF(U175=\"\",\"\",INDEX($AE$163:$AM$189,MATCH(U175&W175&AA175,$AE$163:$AE$189&$AG$163:$AG$189&$AK$163:$AK$189,0),9))","v":""},"",null,null,null,"",null,null,null,null,null,"X"]
[null,null,"0200XXCS","200821-A06","J1S3357B","0860","203600096",29191,"COMPACTING EMBANKMENT","E056","200821-A06","191213-H01","201016-G01","","","","","","","","","","",null,null,null,null,{"$f":"IF(U176=\"\",\"\",INDEX($AE$163:$AM$189,MATCH(U176&W176&AA176,$AE$163:$AE$189&$AG$163:$AG$189&$AK$163:$AK$189,0),9))","v":""},"",null,null,null,"",null,null,null,null,null,"X"]
[null,null,"0200XXCS","200821-A08","J1S3376","0540","203550096",29245,"EMBANKMENT IN PLACE","E056","200821-A08","200221-H06","201016-G04","","","","","","","","","","",null,null,null,null,{"$f":"IF(U177=\"\",\"\",INDEX($AE$163:$AM$189,MATCH(U177&W177&AA177,$AE$163:$AE$189&$AG$163:$AG$189&$AK$163:$AK$189,0),9))","v":""},"",null,null,null,"",null,null,null,null,null,"X"]
[null,null,"0200XXCS","200918-F02","J6S3049","0360","613101296",30506,"SUBGRADE COMPACTION (6 IN. DEPTH) (PAVEMENT REPAIR)","E056","200918-F02","200221-H06","201120-C06","","","","","","","","","","",null,null,null,null,{"$f":"IF(U178=\"\",\"\",INDEX($AE$163:$AM$189,MATCH(U178&W178&AA178,$AE$163:$AE$189&$AG$163:$AG$189&$AK$163:$AK$189,0),9))","v":""},"",null,null,null,"",null,null,null,null,null,"X"]
[null,null,"0200XXCS","201016-G01","J7I3363","0030","203600096",31681,"COMPACTING EMBANKMENT","E056","201016-G01","200221-H06","201120-C07","","","","","","","","","","",null,null,null,null,{"$f":"IF(U179=\"\",\"\",INDEX($AE$163:$AM$189,MATCH(U179&W179&AA179,$AE$163:$AE$189&$AG$163:$AG$189&$AK$163:$AK$189,0),9))","v":""},"",null,null,null,"",null,null,null,null,null,"X"]
[null,null,"0200XXCS","201120-C06","J4P3213","0040","203600096",33042,"COMPACTING EMBANKMENT","E056","201120-C06","200221-H06","201120-D01","","","","","","","","","","",null,null,null,null,{"$f":"IF(U180=\"\",\"\",INDEX($AE$163:$AM$189,MATCH(U180&W180&AA180,$AE$163:$AE$189&$AG$163:$AG$189&$AK$163:$AK$189,0),9))","v":""},"",null,null,null,"",null,null,null,null,null,"X"]
[null,null,"0200XXCS","210203-C01","J4S3085C","0020","20199DB",49683,"DESIGN BUILD - GRADING AND REMOVALS","E056","210203-C01","200221-H06","201120-G10","","","","","","","","","","",null,null,null,null,{"$f":"IF(U181=\"\",\"\",INDEX($AE$163:$AM$189,MATCH(U181&W181&AA181,$AE$163:$AE$189&$AG$163:$AG$189&$AK$163:$AK$189,0),9))","v":""},"",null,null,null,"",null,null,null,null,null,"X"]
[null,null,"0200XXCS","210319-H04","J9S3213","0050","203600096",39429,"COMPACTING EMBANKMENT","E056","210319-H04","200221-H06","201218-C08","","","","","","","","","","",null,null,null,null,{"$f":"IF(U182=\"\",\"\",INDEX($AE$163:$AM$189,MATCH(U182&W182&AA182,$AE$163:$AE$189&$AG$163:$AG$189&$AK$163:$AK$189,0),9))","v":""},"",null,null,null,"",null,null,null,null,null,"X"]
[null,null,"0200XXCS","210319-H04","J9S3213","0060","203707596",39430,"COMPACTING IN CUT","E056","210319-H04","200221-H06","210203-C01","","","","","","","","","","",null,null,null,null,{"$f":"IF(U183=\"\",\"\",INDEX($AE$163:$AM$189,MATCH(U183&W183&AA183,$AE$163:$AE$189&$AG$163:$AG$189&$AK$163:$AK$189,0),9))","v":""},"",null,null,null,"",null,null,null,null,null,"X"]
[null,null,"0200XXCS","210416-F02","J6S3048","0410","613101296",41059,"SUBGRADE COMPACTION (6 IN. DEPTH) (PAVEMENT REPAIR)","E056","210416-F02","200221-H06","210319-C02","","","","","","","","","","",null,null,null,null,{"$f":"IF(U184=\"\",\"\",INDEX($AE$163:$AM$189,MATCH(U184&W184&AA184,$AE$163:$AE$189&$AG$163:$AG$189&$AK$163:$AK$189,0),9))","v":""},"",null,null,null,"",null,null,null,null,null,"X"]
[null,null,"0200XXCS","210521-F01","J6S1718","0030","203550096",43013,"EMBANKMENT IN PLACE","E056","210521-F01","200320-H01","210319-C07","","","","","","","","","","",null,null,null,null,{"$f":"IF(U185=\"\",\"\",INDEX($AE$163:$AM$189,MATCH(U185&W185&AA185,$AE$163:$AE$189&$AG$163:$AG$189&$AK$163:$AK$189,0),9))","v":""},"",null,null,null,"",null,null,null,null,null,"X"]
[null,null,"0200XXCS","210521-F01","J6S1718","0040","203600096",43014,"COMPACTING EMBANKMENT","E056","210521-F01","200320-H01","210319-H04","","","","","","","","","","",null,null,null,null,{"$f":"IF(U186=\"\",\"\",INDEX($AE$163:$AM$189,MATCH(U186&W186&AA186,$AE$163:$AE$189&$AG$163:$AG$189&$AK$163:$AK$189,0),9))","v":""},"",null,null,null,"",null,null,null,null,null,"X"]
[null,null,"0200XXCS","210521-F01","J6S1718","0050","203707596",43015,"COMPACTING IN CUT","E056","210521-F01","200619-A01","210416-F02","","","","","","","",null,"","",null,null,null,null,{"$f":"IF(U187=\"\",\"\",INDEX($AE$163:$AM$189,MATCH(U187&W187&AA187,$AE$163:$AE$189&$AG$163:$AG$189&$AK$163:$AK$189,0),9))","v":""},"",null,null,null,"",null,null,null,null,null,"X"]
[null,null,"0200XXCS","210521-F01","J6S1718","0350","613101296",43037,"SUBGRADE COMPACTION (6 IN. DEPTH) (PAVEMENT REPAIR)","E056","210521-F01","200619-A01","210521-F01","","","","","","","",null,"","",null,null,null,null,{"$f":"IF(U188=\"\",\"\",INDEX($AE$163:$AM$189,MATCH(U188&W188&AA188,$AE$163:$AE$189&$AG$163:$AG$189&$AK$163:$AK$189,0),9))","v":""},"",null,null,null,"",null,null,null,null,null,"X"]
[null,null,"0200XXCS","210521-F01","J6S1718B","2510","203550096",42926,"EMBANKMENT IN PLACE","E056","210521-F01","200619-A01","210521-F04","","","","","","","",null,"","","",null,null,null,{"$f":"IF(U189=\"\",\"\",INDEX($AE$163:$AM$189,MATCH(U189&W189&AA189,$AE$163:$AE$189&$AG$163:$AG$189&$AK$163:$AK$189,0),9))","v":""},"",null,null,null,"",null,null,null,null,null,"X"]
[null,null,"0200XXCS","210521-F01","J6S1718B","2520","203600096",42927,"COMPACTING EMBANKMENT","E056","210521-F01","200821-A05","210521-G08","","","","","","","",null,"","",null,null,null,null,{"$f":"IF(U190=\"\",\"\",INDEX($AE$163:$AM$189,MATCH(U190&W190&AA190,$AE$163:$AE$189&$AG$163:$AG$189&$AK$163:$AK$189,0),9))","v":""},"",null,null,null,"",null,null,null,null,null,"X"]
[null,null,"0200XXCS","210521-F01","J6S1718B","2530","203707596",42928,"COMPACTING IN CUT","E056","210521-F01","200821-A05","210820-A01","","","","","","","",null,"","",null,null,null,null,{"$f":"IF(U191=\"\",\"\",INDEX($AE$163:$AM$189,MATCH(U191&W191&AA191,$AE$163:$AE$189&$AG$163:$AG$189&$AK$163:$AK$189,0),9))","v":""},"",null,null,null,"",null,null,null,null,null,"X"]
[null,null,"0200XXCS","210521-G08","J8P0588H","0060","203550096",43395,"EMBANKMENT IN PLACE","E056","210521-G08","200821-A05","210820-A02","","","","","","","",null,"","",null,null,null,null,{"$f":"IF(U192=\"\",\"\",INDEX($AE$163:$AM$189,MATCH(U192&W192&AA192,$AE$163:$AE$189&$AG$163:$AG$189&$AK$163:$AK$189,0),9))","v":""},"",null,null,null,"",null,null,null,null,null,"X"]
[null,null,"0200XXCS","210521-G08","J8P0588H","0070","203600096",43397,"COMPACTING EMBANKMENT","E056","210521-G08","200821-A05","210820-A03","","","","","","","",null,"","",null,null,null,null,{"$f":"IF(U193=\"\",\"\",INDEX($AE$163:$AM$189,MATCH(U193&W193&AA193,$AE$163:$AE$189&$AG$163:$AG$189&$AK$163:$AK$189,0),9))","v":""},"",null,null,null,"",null,null,null,null,null,"X"]
[null,null,"0200XXCS","210521-G08","J8P0588H","0080","203707596",43398,"COMPACTING IN CUT","E056","210521-G08","200821-A05","210820-A05","","","","","","","",null,"","",null,null,null,null,{"$f":"IF(U194=\"\",\"\",INDEX($AE$163:$AM$189,MATCH(U194&W194&AA194,$AE$163:$AE$189&$AG$163:$AG$189&$AK$163:$AK$189,0),9))","v":""},"",null,null,null,"",null,null,null,null,null,"X"]
[null,null,"0200XXCS","210521-G08","J8P0588H","0500","613101296",43431,"SUBGRADE COMPACTION (6 IN. DEPTH) (PAVEMENT REPAIR)","E056","210521-G08","200821-A05","210917-A01","","","","","","","",null,"","",null,null,null,null,{"$f":"IF(U195=\"\",\"\",INDEX($AE$163:$AM$189,MATCH(U195&W195&AA195,$AE$163:$AE$189&$AG$163:$AG$189&$AK$163:$AK$189,0),9))","v":""},"",null,null,null,"",null,null,null,null,null,"X"]
[null,null,"0200XXCS","210521-G08","J8P0588H","1920","203550096",43546,"EMBANKMENT IN PLACE","E056","210521-G08","200821-A05","210917-A02","","","","","","","",null,"","",null,null,null,null,{"$f":"IF(U196=\"\",\"\",INDEX($AE$163:$AM$189,MATCH(U196&W196&AA196,$AE$163:$AE$189&$AG$163:$AG$189&$AK$163:$AK$189,0),9))","v":""},"",null,null,null,"",null,null,null,null,null,"X"]
[null,null,"0200XXCS","210521-G08","J8P0588H","1930","203600096",43547,"COMPACTING EMBANKMENT","E056","210521-G08","200821-A05","210917-D07","","","","","","","",null,"","",null,null,null,null,{"$f":"IF(U197=\"\",\"\",INDEX($AE$163:$AM$189,MATCH(U197&W197&AA197,$AE$163:$AE$189&$AG$163:$AG$189&$AK$163:$AK$189,0),9))","v":""},"",null,null,null,"",null,null,null,null,null,"X"]
[null,null,"0200XXCS","210521-G08","J8P0588H","1940","203707596",43548,"COMPACTING IN CUT","E056","210521-G08","200821-A06","210917-F05","","","","","","","",null,"","",null,null,null,null,{"$f":"IF(U198=\"\",\"\",INDEX($AE$163:$AM$189,MATCH(U198&W198&AA198,$AE$163:$AE$189&$AG$163:$AG$189&$AK$163:$AK$189,0),9))","v":""},"",null,null,null,"",null,null,null,null,null,"X"]
[null,null,"0200XXCS","210820-A01","J1I3231","0040","203550096",44361,"EMBANKMENT IN PLACE","E056","210820-A01","200821-A06","210917-F07","","","","","","","",null,"","",null,null,null,null,{"$f":"IF(U199=\"\",\"\",INDEX($AE$163:$AM$189,MATCH(U199&W199&AA199,$AE$163:$AE$189&$AG$163:$AG$189&$AK$163:$AK$189,0),9))","v":""},"",null,null,null,"",null,null,null,null,null,"X"]
[null,null,"0200XXCS","210820-A01","J1I3231","0050","203600096",44362,"COMPACTING EMBANKMENT","E056","210820-A01","200821-A06","211015-A01","","","","","","","",null,"","",null,null,null,null,{"$f":"IF(U200=\"\",\"\",INDEX($AE$163:$AM$189,MATCH(U200&W200&AA200,$AE$163:$AE$189&$AG$163:$AG$189&$AK$163:$AK$189,0),9))","v":""},"",null,null,null,"",null,null,null,null,null,"X"]
[null,null,"0200XXCS","210820-A02","J1I3242","0020","2101006A96",44755,"SUBGRADE COMPACTION (6-INCH DEPTH)","E056","210820-A02","200821-A06","211015-B01","","","","","","","",null,"","",null,null,null,null,{"$f":"IF(U201=\"\",\"\",INDEX($AE$163:$AM$189,MATCH(U201&W201&AA201,$AE$163:$AE$189&$AG$163:$AG$189&$AK$163:$AK$189,0),9))","v":""},"",null,null,null,"",null,null,null,null,null,"X"]
[null,null,"0200XXCS","210820-A03","J1I3271","0030","203600096",44522,"COMPACTING EMBANKMENT","E056","210820-A03","200821-A06","211119-A08","","","","","","","",null,"","",null,null,null,null,{"$f":"IF(U202=\"\",\"\",INDEX($AE$163:$AM$189,MATCH(U202&W202&AA202,$AE$163:$AE$189&$AG$163:$AG$189&$AK$163:$AK$189,0),9))","v":""},"",null,null,null,"",null,null,null,null,null,"X"]
[null,null,"0200XXCS","210820-A03","J1S3251","2140","2101006A96",44463,"SUBGRADE COMPACTION (6-INCH DEPTH)","E056","210820-A03","200821-A06","211119-A09","","","","","","","",null,"","",null,null,null,null,{"$f":"IF(U203=\"\",\"\",INDEX($AE$163:$AM$189,MATCH(U203&W203&AA203,$AE$163:$AE$189&$AG$163:$AG$189&$AK$163:$AK$189,0),9))","v":""},"",null,null,null,"",null,null,null,null,null,"X"]
[null,null,"0200XXCS","210820-A05","J1S3341","0040","203550096",44590,"EMBANKMENT IN PLACE","E056","210820-A05","200821-A08","211119-C05","","","","","","","",null,"","",null,null,null,null,{"$f":"IF(U204=\"\",\"\",INDEX($AE$163:$AM$189,MATCH(U204&W204&AA204,$AE$163:$AE$189&$AG$163:$AG$189&$AK$163:$AK$189,0),9))","v":""},"",null,null,null,"",null,null,null,null,null,"X"]
[null,null,"0200XXCS","210820-A05","J1S3341","0050","203600096",44591,"COMPACTING EMBANKMENT","E056","210820-A05","200918-F02","211119-F01","","","","","","","",null,"","",null,null,null,null,{"$f":"IF(U205=\"\",\"\",INDEX($AE$163:$AM$189,MATCH(U205&W205&AA205,$AE$163:$AE$189&$AG$163:$AG$189&$AK$163:$AK$189,0),9))","v":""},"",null,null,null,"",null,null,null,null,null,"X"]
[null,null,"0200XXCS","210917-A02","J1P3270","0040","203550096",46202,"EMBANKMENT IN PLACE","E056","210917-A02","201016-G01","211119-H10","","","","","","","",null,"","",null,null,null,null,{"$f":"IF(U206=\"\",\"\",INDEX($AE$163:$AM$189,MATCH(U206&W206&AA206,$AE$163:$AE$189&$AG$163:$AG$189&$AK$163:$AK$189,0),9))","v":""},"",null,null,null,"",null,null,null,null,null,"X"]
[null,null,"0200XXCS","210917-A02","J1S3218","0490","203550096",46263,"EMBANKMENT IN PLACE","E056","210917-A02","201016-G04","211217-B01","","","","","","","",null,"","",null,null,null,null,{"$f":"IF(U207=\"\",\"\",INDEX($AE$163:$AM$189,MATCH(U207&W207&AA207,$AE$163:$AE$189&$AG$163:$AG$189&$AK$163:$AK$189,0),9))","v":""},"",null,null,null,"",null,null,null,null,null,"X"]
[null,null,"0200XXCS","210917-A02","J1S3263","0860","203550096",46181,"EMBANKMENT IN PLACE","E056","210917-A02","201120-C06","211217-D05","","","","","","","",null,"","",null,null,null,null,{"$f":"IF(U208=\"\",\"\",INDEX($AE$163:$AM$189,MATCH(U208&W208&AA208,$AE$163:$AE$189&$AG$163:$AG$189&$AK$163:$AK$189,0),9))","v":""},"",null,null,null,"",null,null,null,null,null,"X"]
[null,null,"0200XXCS","210917-A02","J2S0502","1160","203550096",46236,"EMBANKMENT IN PLACE","E056","210917-A02","201120-C07","211217-F04","","","","","","","",null,"","",null,null,null,null,{"$f":"IF(U209=\"\",\"\",INDEX($AE$163:$AM$189,MATCH(U209&W209&AA209,$AE$163:$AE$189&$AG$163:$AG$189&$AK$163:$AK$189,0),9))","v":""},"",null,null,null,"",null,null,null,null,null,"X"]
[null,null,"0200XXCS","210917-F05","J6P3418","0040","203550096",45848,"EMBANKMENT IN PLACE","E056","210917-F05","201120-D01","211217-H01","","","","","","","",null,"","",null,null,null,null,{"$f":"IF(U210=\"\",\"\",INDEX($AE$163:$AM$189,MATCH(U210&W210&AA210,$AE$163:$AE$189&$AG$163:$AG$189&$AK$163:$AK$189,0),9))","v":""},"",null,null,null,"",null,null,null,null,null,"X"]
[null,null,"0200XXCS","210917-F05","J6P3418","0050","203600096",45849,"COMPACTING EMBANKMENT","E056","210917-F05","201120-D01","211217-H03","","","","","","","",null,"","",null,null,null,null,{"$f":"IF(U211=\"\",\"\",INDEX($AE$163:$AM$189,MATCH(U211&W211&AA211,$AE$163:$AE$189&$AG$163:$AG$189&$AK$163:$AK$189,0),9))","v":""},"",null,null,null,"",null,null,null,null,null,"X"]
[null,null,"0200XXCS","210917-F05","J6P3418","0070","2051010",59006,"MODIFIED SUBGRADE","E056","210917-F05","201120-G10","211217-H04","","","","","","","",null,"","",null,null,null,null,{"$f":"IF(U212=\"\",\"\",INDEX($AE$163:$AM$189,MATCH(U212&W212&AA212,$AE$163:$AE$189&$AG$163:$AG$189&$AK$163:$AK$189,0),9))","v":""},"",null,null,null,"",null,null,null,null,null,"X"]
[null,null,"0200XXCS","210917-F05","J6S3600","2690","203600096",61111,"COMPACTING EMBANKMENT","E056","210917-F05","201218-C08","211217-H05","","","","","","","",null,"","",null,null,null,null,{"$f":"IF(U213=\"\",\"\",INDEX($AE$163:$AM$189,MATCH(U213&W213&AA213,$AE$163:$AE$189&$AG$163:$AG$189&$AK$163:$AK$189,0),9))","v":""},"",null,null,null,"",null,null,null,null,null,"X"]
[null,null,"0200XXCS","210917-F05","J6S3600","2710","2051010",49767,"MODIFIED SUBGRADE","E056","210917-F05","201218-C08","220120-G01","","","","","","","",null,"","",null,null,null,null,{"$f":"IF(U214=\"\",\"\",INDEX($AE$163:$AM$189,MATCH(U214&W214&AA214,$AE$163:$AE$189&$AG$163:$AG$189&$AK$163:$AK$189,0),9))","v":""},"",null,null,null,"",null,null,null,null,null,"X"]
[null,null,"0200XXCS","211015-B01","J2P3281","0050","613101296",47719,"SUBGRADE COMPACTION (6 IN. DEPTH) (PAVEMENT REPAIR)","E056","211015-B01","210203-C01","220121-A01","","","","","","","",null,"","",null,null,null,null,{"$f":"IF(U215=\"\",\"\",INDEX($AE$163:$AM$189,MATCH(U215&W215&AA215,$AE$163:$AE$189&$AG$163:$AG$189&$AK$163:$AK$189,0),9))","v":""},"",null,null,null,"",null,null,null,null,null,"X"]
[null,null,"0200XXCS","211119-C05","J4I3333","0090","613101296",48257,"SUBGRADE COMPACTION (6 IN. DEPTH) (PAVEMENT REPAIR)","E056","211119-C05","210319-C02","220121-C02","","","","","","","",null,"","",null,null,null,null,{"$f":"IF(U216=\"\",\"\",INDEX($AE$163:$AM$189,MATCH(U216&W216&AA216,$AE$163:$AE$189&$AG$163:$AG$189&$AK$163:$AK$189,0),9))","v":""},"",null,null,null,"",null,null,null,null,null,"X"]
[null,null,"0200XXCS","211119-F01","J6I3500","1320","613101296",49234,"SUBGRADE COMPACTION (6 IN. DEPTH) (PAVEMENT REPAIR)","E056","211119-F01","210319-C02","220121-D06","","","","","","","",null,"","",null,null,null,null,{"$f":"IF(U217=\"\",\"\",INDEX($AE$163:$AM$189,MATCH(U217&W217&AA217,$AE$163:$AE$189&$AG$163:$AG$189&$AK$163:$AK$189,0),9))","v":""},"",null,null,null,"",null,null,null,null,null,"X"]
[null,null,"0200XXCS","211119-H10","J9S3499","0040","203550096",48659,"EMBANKMENT IN PLACE","E056","211119-H10","210319-C07","220121-F02","","","","","","","",null,"","",null,null,null,null,{"$f":"IF(U218=\"\",\"\",INDEX($AE$163:$AM$189,MATCH(U218&W218&AA218,$AE$163:$AE$189&$AG$163:$AG$189&$AK$163:$AK$189,0),9))","v":""},"",null,null,null,"",null,null,null,null,null,"X"]
[null,null,"0200XXCS","211119-H10","J9S3499","0050","203600096",48660,"COMPACTING EMBANKMENT","E056","211119-H10","210319-C07","220121-F09","","","","","","","",null,"","",null,null,null,null,{"$f":"IF(U219=\"\",\"\",INDEX($AE$163:$AM$189,MATCH(U219&W219&AA219,$AE$163:$AE$189&$AG$163:$AG$189&$AK$163:$AK$189,0),9))","v":""},"",null,null,null,"",null,null,null,null,null,"X"]
[null,null,"0200XXCS","211119-H10","J9S3499","0060","203707596",48661,"COMPACTING IN CUT","E056","211119-H10","210319-H04","220218-D03","","","","","","","",null,"","",null,null,null,null,{"$f":"IF(U220=\"\",\"\",INDEX($AE$163:$AM$189,MATCH(U220&W220&AA220,$AE$163:$AE$189&$AG$163:$AG$189&$AK$163:$AK$189,0),9))","v":""},"",null,null,null,"",null,null,null,null,null,"X"]
[null,null,"0200XXCS","211217-D05","J5S3330","0040","203600096",51061,"COMPACTING EMBANKMENT","E056","211217-D05","210319-H04","220218-F01","","","","","","","",null,"","",null,null,null,null,{"$f":"IF(U221=\"\",\"\",INDEX($AE$163:$AM$189,MATCH(U221&W221&AA221,$AE$163:$AE$189&$AG$163:$AG$189&$AK$163:$AK$189,0),9))","v":""},"",null,null,null,"",null,null,null,null,null,"X"]
[null,null,"0200XXCS","211217-D05","J5S3330","0050","203707596",51062,"COMPACTING IN CUT","E056","211217-D05","210416-F02","220218-F06","","","","","","","",null,"","",null,null,null,null,{"$f":"IF(U222=\"\",\"\",INDEX($AE$163:$AM$189,MATCH(U222&W222&AA222,$AE$163:$AE$189&$AG$163:$AG$189&$AK$163:$AK$189,0),9))","v":""},"",null,null,null,"",null,null,null,null,null,"X"]
[null,null,"0200XXCS","211217-F04","J6S3272","0030","203600096",51612,"COMPACTING EMBANKMENT","E056","211217-F04","210521-F01","220218-F08","","","","","","","",null,"","",null,null,null,null,{"$f":"IF(U223=\"\",\"\",INDEX($AE$163:$AM$189,MATCH(U223&W223&AA223,$AE$163:$AE$189&$AG$163:$AG$189&$AK$163:$AK$189,0),9))","v":""},"",null,null,null,"",null,null,null,null,null,"X"]
[null,null,"0200XXCS","211217-F04","J6S3272","0040","203707596",50793,"COMPACTING IN CUT","E056","211217-F04","210521-F01","220218-G04","","","","","","","",null,"","",null,null,null,null,{"$f":"IF(U224=\"\",\"\",INDEX($AE$163:$AM$189,MATCH(U224&W224&AA224,$AE$163:$AE$189&$AG$163:$AG$189&$AK$163:$AK$189,0),9))","v":""},"",null,null,null,"",null,null,null,null,null,"X"]
[null,null,"0200XXCS","211217-F04","J6S3272","5016","613101296",79011,"SUBGRADE COMPACTION (6 IN. DEPTH) (PAVEMENT REPAIR)","E056","211217-F04","210521-F01","220218-H01","","","","","","","",null,"","",null,null,null,null,{"$f":"IF(U225=\"\",\"\",INDEX($AE$163:$AM$189,MATCH(U225&W225&AA225,$AE$163:$AE$189&$AG$163:$AG$189&$AK$163:$AK$189,0),9))","v":""},"",null,null,null,"",null,null,null,null,null,"X"]
[null,null,"0200XXCS","211217-H04","J9S3452","0110","203550096",50451,"EMBANKMENT IN PLACE","E056","211217-H04","210521-F01","220318-A02","","","","","","","",null,"","",null,null,null,null,{"$f":"IF(U226=\"\",\"\",INDEX($AE$163:$AM$189,MATCH(U226&W226&AA226,$AE$163:$AE$189&$AG$163:$AG$189&$AK$163:$AK$189,0),9))","v":""},"",null,null,null,"",null,null,null,null,null,"X"]
[null,null,"0200XXCS","211217-H04","J9S3452","0120","203600096",50452,"COMPACTING EMBANKMENT","E056",{"$f":"IF(C227=$C$162,D227,\"\")","v":"211217-H04"},"210521-F01","220318-B01",{"$f":"(IF(K227=\"\",\"\",IF(OR(D227=$J$33,D227=$T$33, D227=$O$33),D227,\"\")))","v":""},{"$f":"IF(N227=\"\",\"\",F227)","v":""},{"$f":"IF(N227=\"\", \"\", E227)","v":""},{"$f":"IF(N227=\"\", \"\", G227)","v":""},{"$f":"IF(N227=\"\",\"\",I227)","v":""},{"$f":"IF(N227=\"\",\"\",J227)","v":""},"",null,"","",null,null,null,null,{"$f":"IF(U227=\"\",\"\",INDEX($AE$163:$AM$189,MATCH(U227&W227&AA227,$AE$163:$AE$189&$AG$163:$AG$189&$AK$163:$AK$189,0),9))","v":""},"",null,null,null,"",null,null,null,null,null,"X"]
[null,null,"0200XXCS","211217-H04","J9S3452","0130","203707596",50453,"COMPACTING IN CUT","E056","211217-H04","210521-F01","220415-F01","","","","","","",{"$f":"IF(N228=\"\",\"\",H228)","v":""},null,"","",null,null,null,null,{"$f":"IF(U228=\"\",\"\",INDEX($AE$163:$AM$189,MATCH(U228&W228&AA228,$AE$163:$AE$189&$AG$163:$AG$189&$AK$163:$AK$189,0),9))","v":""},{"$f":"IF(ISNA(AB228),\"\",IF(AB228=\"X\",\"\",AB228))","v":""},null,null,null,"",null,null,null,null,null,{"$f":"IF(ISBLANK(AL228),\"X\",AL228)","v":"X"}]
[null,null,"0200XXCS","211217-H05","J9I3597","0200","613101296",50418,"SUBGRADE COMPACTION (6 IN. DEPTH) (PAVEMENT REPAIR)","E056","211217-H05","210521-F01","220415-F03","","","","","","","",null,"","",null,null,null,null,{"$f":"IF(U229=\"\",\"\",INDEX($AE$163:$AM$189,MATCH(U229&W229&AA229,$AE$163:$AE$189&$AG$163:$AG$189&$AK$163:$AK$189,0),9))","v":""},"",null,null,null,"",null,null,null,null,null,"X"]
[null,null,"0200XXCS","220120-G01","J7I3420","0030","203550096",55422,"EMBANKMENT IN PLACE","E056","220120-G01","210521-F04","220415-G02","","","","","","","",null,"","",null,null,null,null,{"$f":"IF(U230=\"\",\"\",INDEX($AE$163:$AM$189,MATCH(U230&W230&AA230,$AE$163:$AE$189&$AG$163:$AG$189&$AK$163:$AK$189,0),9))","v":""},"",null,null,null,"",null,null,null,null,null,"X"]
[null,null,"0200XXCS","220121-A01","J1P3379","0040","203550096",53047,"EMBANKMENT IN PLACE","E056","220121-A01","210521-F04","220520-A03","","","","","","","",null,"","",null,null,null,null,{"$f":"IF(U231=\"\",\"\",INDEX($AE$163:$AM$189,MATCH(U231&W231&AA231,$AE$163:$AE$189&$AG$163:$AG$189&$AK$163:$AK$189,0),9))","v":""},"",null,null,null,"",null,null,null,null,null,"X"]
[null,null,"0200XXCS","220121-A01","J1P3379","0050","203600096",53048,"COMPACTING EMBANKMENT","E056","220121-A01","210521-F04","220520-A07","","","","","","","",null,"","",null,null,null,null,{"$f":"IF(U232=\"\",\"\",INDEX($AE$163:$AM$189,MATCH(U232&W232&AA232,$AE$163:$AE$189&$AG$163:$AG$189&$AK$163:$AK$189,0),9))","v":""},"",null,null,null,"",null,null,null,null,null,"X"]
[null,null,"0200XXCS","220121-A01","J1S3380","0820","203550096",53024,"EMBANKMENT IN PLACE","E056","220121-A01","210521-F04","220520-F10","","","","","","","",null,"","",null,null,null,null,{"$f":"IF(U233=\"\",\"\",INDEX($AE$163:$AM$189,MATCH(U233&W233&AA233,$AE$163:$AE$189&$AG$163:$AG$189&$AK$163:$AK$189,0),9))","v":""},"",null,null,null,"",null,null,null,null,null,"X"]
[null,null,"0200XXCS","220121-A01","J1S3380","0830","203600096",53025,"COMPACTING EMBANKMENT","E056","220121-A01","210521-F04","220520-F12","","","","","","","",null,"","",null,null,null,null,{"$f":"IF(U234=\"\",\"\",INDEX($AE$163:$AM$189,MATCH(U234&W234&AA234,$AE$163:$AE$189&$AG$163:$AG$189&$AK$163:$AK$189,0),9))","v":""},"",null,null,null,"",null,null,null,null,null,"X"]
[null,null,"0200XXCS","220121-C02","J4I2006","0050","203550096",52782,"EMBANKMENT IN PLACE","E056","220121-C02","210521-G08","220520-G06","","","","","","","",null,"","",null,null,null,null,{"$f":"IF(U235=\"\",\"\",INDEX($AE$163:$AM$189,MATCH(U235&W235&AA235,$AE$163:$AE$189&$AG$163:$AG$189&$AK$163:$AK$189,0),9))","v":""},"",null,null,null,"",null,null,null,null,null,"X"]
[null,null,"0200XXCS","220121-C02","J4I2006","0060","203600096",52783,"COMPACTING EMBANKMENT","E056","220121-C02","210521-G08","220520-H08","","","","","","","",null,"","",null,null,null,null,{"$f":"IF(U236=\"\",\"\",INDEX($AE$163:$AM$189,MATCH(U236&W236&AA236,$AE$163:$AE$189&$AG$163:$AG$189&$AK$163:$AK$189,0),9))","v":""},"",null,null,null,"",null,null,null,null,null,"X"]
[null,null,"0200XXCS","220121-C02","J4I2006","0070","203707596",52784,"COMPACTING IN CUT","E056","220121-C02","210521-G08","220617-B01","","","","","","","",null,"","",null,null,null,null,{"$f":"IF(U237=\"\",\"\",INDEX($AE$163:$AM$189,MATCH(U237&W237&AA237,$AE$163:$AE$189&$AG$163:$AG$189&$AK$163:$AK$189,0),9))","v":""},"",null,null,null,"",null,null,null,null,null,"X"]
[null,null,"0200XXCS","220121-D06","J5I3397","0030","203600096",52476,"COMPACTING EMBANKMENT","E056","220121-D06","210521-G08","220617-F04","","","","","","","",null,"","",null,null,null,null,{"$f":"IF(U238=\"\",\"\",INDEX($AE$163:$AM$189,MATCH(U238&W238&AA238,$AE$163:$AE$189&$AG$163:$AG$189&$AK$163:$AK$189,0),9))","v":""},"",null,null,null,"",null,null,null,null,null,"X"]
[null,null,"0200XXCS","220121-D06","J5I3397","0330","613101296",52496,"SUBGRADE COMPACTION (6 IN. DEPTH) (PAVEMENT REPAIR)","E056","220121-D06","210521-G08","220617-F05","","","","","","","",null,"","",null,null,null,null,{"$f":"IF(U239=\"\",\"\",INDEX($AE$163:$AM$189,MATCH(U239&W239&AA239,$AE$163:$AE$189&$AG$163:$AG$189&$AK$163:$AK$189,0),9))","v":""},"",null,null,null,"",null,null,null,null,null,"X"]
[null,null,"0200XXCS","220121-D06","J5I3482","1030","203550096",52442,"EMBANKMENT IN PLACE","E056","220121-D06","210521-G08","220715-F01","","","","","","","",null,"","",null,null,null,null,{"$f":"IF(U240=\"\",\"\",INDEX($AE$163:$AM$189,MATCH(U240&W240&AA240,$AE$163:$AE$189&$AG$163:$AG$189&$AK$163:$AK$189,0),9))","v":""},"",null,null,null,"",null,null,null,null,null,"X"]
[null,null,"0200XXCS","220121-D06","J5I3482","1040","203600096",52443,"COMPACTING EMBANKMENT","E056","220121-D06","210521-G08","220819-A01","","","","","","","",null,"","",null,null,null,null,{"$f":"IF(U241=\"\",\"\",INDEX($AE$163:$AM$189,MATCH(U241&W241&AA241,$AE$163:$AE$189&$AG$163:$AG$189&$AK$163:$AK$189,0),9))","v":""},"",null,null,null,"",null,null,null,null,null,"X"]
[null,null,"0200XXCS","220121-D06","J5I3572","1660","203550096",52381,"EMBANKMENT IN PLACE","E056","220121-D06","210820-A01","220819-H01","","","","","","","",null,"","",null,null,null,null,{"$f":"IF(U242=\"\",\"\",INDEX($AE$163:$AM$189,MATCH(U242&W242&AA242,$AE$163:$AE$189&$AG$163:$AG$189&$AK$163:$AK$189,0),9))","v":""},"",null,null,null,"",null,null,null,null,null,"X"]
[null,null,"0200XXCS","220121-D06","J5I3572","1670","203600096",52382,"COMPACTING EMBANKMENT","E056","220121-D06","210820-A01","220916-B03","","","","","","","",null,"","",null,null,null,null,{"$f":"IF(U243=\"\",\"\",INDEX($AE$163:$AM$189,MATCH(U243&W243&AA243,$AE$163:$AE$189&$AG$163:$AG$189&$AK$163:$AK$189,0),9))","v":""},"",null,null,null,"",null,null,null,null,null,"X"]
[null,null,"0200XXCS","220121-F02","J6I3505","0670","613101296",53157,"SUBGRADE COMPACTION (6 IN. DEPTH) (PAVEMENT REPAIR)","E056","220121-F02","210820-A02","220916-C01","","","","","","","",null,"","",null,null,null,null,{"$f":"IF(U244=\"\",\"\",INDEX($AE$163:$AM$189,MATCH(U244&W244&AA244,$AE$163:$AE$189&$AG$163:$AG$189&$AK$163:$AK$189,0),9))","v":""},"",null,null,null,"",null,null,null,null,null,"X"]
[null,null,"0200XXCS","220121-F02","J6S3298","0960","203600096",53174,"COMPACTING EMBANKMENT","E056","220121-F02","210820-A03","220916-C02","","","","","","","",null,"","",null,null,null,null,{"$f":"IF(U245=\"\",\"\",INDEX($AE$163:$AM$189,MATCH(U245&W245&AA245,$AE$163:$AE$189&$AG$163:$AG$189&$AK$163:$AK$189,0),9))","v":""},"",null,null,null,"",null,null,null,null,null,"X"]
[null,null,"0200XXCS","220121-F02","J6S3298","0970","203707596",53175,"COMPACTING IN CUT","E056","220121-F02","210820-A03","220916-C04","","","","","","","",null,"","",null,null,null,null,{"$f":"IF(U246=\"\",\"\",INDEX($AE$163:$AM$189,MATCH(U246&W246&AA246,$AE$163:$AE$189&$AG$163:$AG$189&$AK$163:$AK$189,0),9))","v":""},"",null,null,null,"",null,null,null,null,null,"X"]
[null,null,"0200XXCS","220218-F01","J6P3373","0630","613101296",59373,"SUBGRADE COMPACTION (6 IN. DEPTH) (PAVEMENT REPAIR)","E056","220218-F01","210820-A05","220916-D04","","","","","","","",null,"","",null,null,null,null,{"$f":"IF(U247=\"\",\"\",INDEX($AE$163:$AM$189,MATCH(U247&W247&AA247,$AE$163:$AE$189&$AG$163:$AG$189&$AK$163:$AK$189,0),9))","v":""},"",null,null,null,"",null,null,null,null,null,"X"]
[null,null,"0200XXCS","220218-F06","J6I3149","0220","613101296",61208,"SUBGRADE COMPACTION (6 IN. DEPTH) (PAVEMENT REPAIR)","E056","220218-F06","210820-A05","220916-G01","","","","","","","",null,"","",null,null,null,null,{"$f":"IF(U248=\"\",\"\",INDEX($AE$163:$AM$189,MATCH(U248&W248&AA248,$AE$163:$AE$189&$AG$163:$AG$189&$AK$163:$AK$189,0),9))","v":""},"",null,null,null,"",null,null,null,null,null,"X"]
[null,null,"0200XXCS","220218-F06","J6I3187","3850","613101296",61209,"SUBGRADE COMPACTION (6 IN. DEPTH) (PAVEMENT REPAIR)","E056","220218-F06","210917-A01","220916-G04","","","","","","","",null,"","",null,null,null,null,{"$f":"IF(U249=\"\",\"\",INDEX($AE$163:$AM$189,MATCH(U249&W249&AA249,$AE$163:$AE$189&$AG$163:$AG$189&$AK$163:$AK$189,0),9))","v":""},"",null,null,null,"",null,null,null,null,null,"X"]
[null,null,"0200XXCS","220218-F08","J6P3308","0020","203550096",66735,"EMBANKMENT IN PLACE","E056","220218-F08","210917-A01","221021-A03","","","","","","","",null,"","",null,null,null,null,{"$f":"IF(U250=\"\",\"\",INDEX($AE$163:$AM$189,MATCH(U250&W250&AA250,$AE$163:$AE$189&$AG$163:$AG$189&$AK$163:$AK$189,0),9))","v":""},"",null,null,null,"",null,null,null,null,null,"X"]
[null,null,"0200XXCS","220218-F08","J6S3437","0530","203600096",66736,"COMPACTING EMBANKMENT","E056","220218-F08","210917-A01","221021-A07","","","","","","","",null,"","",null,null,null,null,{"$f":"IF(U251=\"\",\"\",INDEX($AE$163:$AM$189,MATCH(U251&W251&AA251,$AE$163:$AE$189&$AG$163:$AG$189&$AK$163:$AK$189,0),9))","v":""},"",null,null,null,"",null,null,null,null,null,"X"]
[null,null,"0200XXCS","220218-F08","J6S3437","0540","203707596",54046,"COMPACTING IN CUT","E056","220218-F08","210917-A02","221021-C01","","","","","","","",null,"","",null,null,null,null,{"$f":"IF(U252=\"\",\"\",INDEX($AE$163:$AM$189,MATCH(U252&W252&AA252,$AE$163:$AE$189&$AG$163:$AG$189&$AK$163:$AK$189,0),9))","v":""},"",null,null,null,"",null,null,null,null,null,"X"]
[null,null,"0200XXCS","220218-F08","J6S3437","0900","613101296",66737,"SUBGRADE COMPACTION (6 IN. DEPTH) (PAVEMENT REPAIR)","E056","220218-F08","210917-A02","221021-C02","","","","","","","",null,"","",null,null,null,null,{"$f":"IF(U253=\"\",\"\",INDEX($AE$163:$AM$189,MATCH(U253&W253&AA253,$AE$163:$AE$189&$AG$163:$AG$189&$AK$163:$AK$189,0),9))","v":""},"",null,null,null,"",null,null,null,null,null,"X"]
[null,null,"0200XXCS","220218-G04","J7P3107F","0040","203600096",53516,"COMPACTING EMBANKMENT","E056","220218-G04","210917-A02","221021-C04","","","","","","","",null,"","",null,null,null,null,{"$f":"IF(U254=\"\",\"\",INDEX($AE$163:$AM$189,MATCH(U254&W254&AA254,$AE$163:$AE$189&$AG$163:$AG$189&$AK$163:$AK$189,0),9))","v":""},"",null,null,null,"",null,null,null,null,null,"X"]
[null,null,"0200XXCS","220218-G04","J7P3190K","0720","203707596",53568,"COMPACTING IN CUT","E056","220218-G04","210917-A02","221021-D01","","","","","","","",null,"","",null,null,null,null,{"$f":"IF(U255=\"\",\"\",INDEX($AE$163:$AM$189,MATCH(U255&W255&AA255,$AE$163:$AE$189&$AG$163:$AG$189&$AK$163:$AK$189,0),9))","v":""},"",null,null,null,"",null,null,null,null,null,"X"]
[null,null,"0200XXCS","220318-B01","J2P3156","0040","203550096",55615,"EMBANKMENT IN PLACE","E056","220318-B01","210917-D07","221021-F01","","","","","","","",null,"","",null,null,null,null,{"$f":"IF(U256=\"\",\"\",INDEX($AE$163:$AM$189,MATCH(U256&W256&AA256,$AE$163:$AE$189&$AG$163:$AG$189&$AK$163:$AK$189,0),9))","v":""},"",null,null,null,"",null,null,null,null,null,"X"]
[null,null,"0200XXCS","220318-B01","J2P3156","0050","203600096",55616,"COMPACTING EMBANKMENT","E056","220318-B01","210917-D07","221021-F05","","","","","","","",null,"","",null,null,null,null,{"$f":"IF(U257=\"\",\"\",INDEX($AE$163:$AM$189,MATCH(U257&W257&AA257,$AE$163:$AE$189&$AG$163:$AG$189&$AK$163:$AK$189,0),9))","v":""},"",null,null,null,"",null,null,null,null,null,"X"]
[null,null,"0200XXCS","220318-B01","J2P3156","0080","2101006A96",55617,"SUBGRADE COMPACTION (6-INCH DEPTH)","E056","220318-B01","210917-D07","221021-G04","","","","","","","",null,"","",null,null,null,null,{"$f":"IF(U258=\"\",\"\",INDEX($AE$163:$AM$189,MATCH(U258&W258&AA258,$AE$163:$AE$189&$AG$163:$AG$189&$AK$163:$AK$189,0),9))","v":""},"",null,null,null,"",null,null,null,null,null,"X"]
[null,null,"0200XXCS","220415-F01","J6I3489","0040","203600096",56610,"COMPACTING EMBANKMENT","E056","220415-F01","210917-F05","221021-H01","","","","","","","",null,"","",null,null,null,null,{"$f":"IF(U259=\"\",\"\",INDEX($AE$163:$AM$189,MATCH(U259&W259&AA259,$AE$163:$AE$189&$AG$163:$AG$189&$AK$163:$AK$189,0),9))","v":""},"",null,null,null,"",null,null,null,null,null,"X"]
[null,null,"0200XXCS","220415-F01","J6I3489","0050","203707596",56611,"COMPACTING IN CUT","E056","220415-F01","210917-F05","221118-A02","","","","","","","",null,"","",null,null,null,null,{"$f":"IF(U260=\"\",\"\",INDEX($AE$163:$AM$189,MATCH(U260&W260&AA260,$AE$163:$AE$189&$AG$163:$AG$189&$AK$163:$AK$189,0),9))","v":""},"",null,null,null,"",null,null,null,null,null,"X"]
[null,null,"0200XXCS","220415-G02","J7S3194","0060","203550096",57276,"EMBANKMENT IN PLACE","E056","220415-G02","210917-F05","221118-A03","","","","","","","",null,"","",null,null,null,null,{"$f":"IF(U261=\"\",\"\",INDEX($AE$163:$AM$189,MATCH(U261&W261&AA261,$AE$163:$AE$189&$AG$163:$AG$189&$AK$163:$AK$189,0),9))","v":""},"",null,null,null,"",null,null,null,null,null,"X"]
[null,null,"0200XXCS","220415-G02","J7S3194","0070","203600096",57277,"COMPACTING EMBANKMENT","E056","220415-G02","210917-F05","221118-A04","","","","","","","",null,"","",null,null,null,null,{"$f":"IF(U262=\"\",\"\",INDEX($AE$163:$AM$189,MATCH(U262&W262&AA262,$AE$163:$AE$189&$AG$163:$AG$189&$AK$163:$AK$189,0),9))","v":""},"",null,null,null,"",null,null,null,null,null,"X"]
[null,null,"0200XXCS","220415-G02","J7S3194","0080","203707596",57278,"COMPACTING IN CUT","E056","220415-G02","210917-F05","221118-A08","","","","","","","",null,"","",null,null,null,null,{"$f":"IF(U263=\"\",\"\",INDEX($AE$163:$AM$189,MATCH(U263&W263&AA263,$AE$163:$AE$189&$AG$163:$AG$189&$AK$163:$AK$189,0),9))","v":""},"",null,null,null,"",null,null,null,null,null,"X"]
[null,null,"0200XXCS","220520-A03","J1P3378","0040","203600096",58377,"COMPACTING EMBANKMENT","E056","220520-A03","210917-F07","221118-C01","","","","","","","",null,"","",null,null,null,null,{"$f":"IF(U264=\"\",\"\",INDEX($AE$163:$AM$189,MATCH(U264&W264&AA264,$AE$163:$AE$189&$AG$163:$AG$189&$AK$163:$AK$189,0),9))","v":""},"",null,null,null,"",null,null,null,null,null,"X"]
[null,null,"0200XXCS","220520-A07","J1S3258","0050","203600096",58318,"COMPACTING EMBANKMENT","E056","220520-A07","211015-A01","221118-C04","","","","","","","",null,"","",null,null,null,null,{"$f":"IF(U265=\"\",\"\",INDEX($AE$163:$AM$189,MATCH(U265&W265&AA265,$AE$163:$AE$189&$AG$163:$AG$189&$AK$163:$AK$189,0),9))","v":""},"",null,null,null,"",null,null,null,null,null,"X"]
[null,null,"0200XXCS","220520-A07","J1S3258","0060","203707596",58319,"COMPACTING IN CUT","E056","220520-A07","211015-A01","221118-C05","","","","","","","",null,"","",null,null,null,null,{"$f":"IF(U266=\"\",\"\",INDEX($AE$163:$AM$189,MATCH(U266&W266&AA266,$AE$163:$AE$189&$AG$163:$AG$189&$AK$163:$AK$189,0),9))","v":""},"",null,null,null,null,null,null,null,null,null,"X"]
[null,null,"0200XXCS","220520-F10","J6S3255","0450","613101296",59558,"SUBGRADE COMPACTION (6 IN. DEPTH) (PAVEMENT REPAIR)","E056","220520-F10","211015-A01","221118-D02","","","","","","","",null,"","",null,null,null,null,{"$f":"IF(U267=\"\",\"\",INDEX($AE$163:$AM$189,MATCH(U267&W267&AA267,$AE$163:$AE$189&$AG$163:$AG$189&$AK$163:$AK$189,0),9))","v":""},"",null,null,null,null,null,null,null,null,null,"X"]
[null,null,"0200XXCS","220520-F10","J6S3255","5005","203550096",74949,"EMBANKMENT IN PLACE","E056","220520-F10","211015-A01","221118-F01","","","","","","","",null,"","",null,null,null,null,{"$f":"IF(U268=\"\",\"\",INDEX($AE$163:$AM$189,MATCH(U268&W268&AA268,$AE$163:$AE$189&$AG$163:$AG$189&$AK$163:$AK$189,0),9))","v":""},"",null,null,null,null,null,null,null,null,null,"X"]
[null,null,"0200XXCS","220520-F12","J6S3259","0430","613101296",59210,"SUBGRADE COMPACTION (6 IN. DEPTH) (PAVEMENT REPAIR)","E056","220520-F12","211015-A01","221118-F03","","","","","","","",null,"","",null,null,null,null,{"$f":"IF(U269=\"\",\"\",INDEX($AE$163:$AM$189,MATCH(U269&W269&AA269,$AE$163:$AE$189&$AG$163:$AG$189&$AK$163:$AK$189,0),9))","v":""},"",null,null,null,null,null,null,null,null,null,"X"]
[null,null,"0200XXCS","220520-G06","J8P3032C","0040","203600096",57537,"COMPACTING EMBANKMENT","E056","220520-G06","211015-A01","221118-F04","","","","","","","",null,"","",null,null,null,null,{"$f":"IF(U270=\"\",\"\",INDEX($AE$163:$AM$189,MATCH(U270&W270&AA270,$AE$163:$AE$189&$AG$163:$AG$189&$AK$163:$AK$189,0),9))","v":""},"",null,null,null,null,null,null,null,null,null,"X"]
[null,null,"0200XXCS","220520-G06","J8P3032C","0050","203707596",57538,"COMPACTING IN CUT","E056","220520-G06","211015-B01","221118-F06","","","","","","","",null,"",""]
[null,null,"0200XXCS","220520-G06","J8P3032D","1360","203550096",57643,"EMBANKMENT IN PLACE","E056","220520-G06","211119-A08","221118-G04","","","","","","","",null,"",""]
[null,null,"0200XXCS","220520-G06","J8P3032D","1370","203600096",57644,"COMPACTING EMBANKMENT","E056","220520-G06","211119-A08","221118-G05","","","","","","","",null,"",""]
[null,null,"0200XXCS","220520-G06","J8P3032D","1380","203707596",57645,"COMPACTING IN CUT","E056","220520-G06","211119-A09","221118-G06","","","","","","","",null,"",""]
[null,null,"0200XXCS","220520-G06","J8P3032C","5019","203550096",87920,"EMBANKMENT IN PLACE","E056","220520-G06","211119-A09","221118-H02","","","","","","","",null,"",""]
[null,null,"0200XXCS","220520-H08","J9P3663","0030","203600096",58890,"COMPACTING EMBANKMENT","E056","220520-H08","211119-C05","221216-A01","","","","","","","",null,"",""]
[null,null,"0200XXCS","220520-H08","J9P3663","0040","203707596",58891,"COMPACTING IN CUT","E056","220520-H08","211119-F01","221216-A03","","","","","","","",null,"",""]
[null,null,"0200XXCS","220520-H08","J9P3663","5004","203550096",79039,"EMBANKMENT IN PLACE","E056","220520-H08","211119-H10","221216-B01","","","","","","","",null,"",""]
[null,null,"0200XXCS","220617-B01","J2P3090","0070","203550096",58665,"EMBANKMENT IN PLACE","E056","220617-B01","211119-H10","221216-B03","","","","","","","",null,"",""]
[null,null,"0200XXCS","220617-B01","J2P3090","0080","203600096",58666,"COMPACTING EMBANKMENT","E056","220617-B01","211119-H10","221216-C02","","","","","","","",null,"",""]
[null,null,"0200XXCS","220617-B01","J2P3090","0090","203707596",58667,"COMPACTING IN CUT","E056","220617-B01","211217-B01","221216-C03","","","","","","","",null,"",""]
[null,null,"0200XXCS","220617-B01","J2P3090","0470","613101296",58693,"SUBGRADE COMPACTION (6 IN. DEPTH) (PAVEMENT REPAIR)","E056","220617-B01","211217-B01","221216-C06","","","","","","","",null,"",""]
[null,null,"0200XXCS","220617-F05","J6P3062B","0030","203550096",59429,"EMBANKMENT IN PLACE","E056","220617-F05","211217-D05","221216-D02","","","","","","","",null,"",""]
[null,null,"0200XXCS","220617-F05","J6P3062B","0040","203707596",59430,"COMPACTING IN CUT","E056","220617-F05","211217-D05","221216-F03","","","","","","","",null,"",""]
[null,null,"0200XXCS","220715-F01","J6I3020C","0040","203550096",60313,"EMBANKMENT IN PLACE","E056","220715-F01","211217-F04","221216-G01","","","","","","","",null,"",""]
[null,null,"0200XXCS","220715-F01","J6I3020C","0050","203600096",60314,"COMPACTING EMBANKMENT","E056","220715-F01","211217-F04","221216-H02","","","","","","","",null,"",""]
[null,null,"0200XXCS","220715-F01","J6I3020C","0060","203707596",60315,"COMPACTING IN CUT","E056","220715-F01","211217-F04","230120-A03","","","","","","","",null,"",""]
[null,null,"0200XXCS","220819-A01","J1I3268","0030","203550096",60834,"EMBANKMENT IN PLACE","E056","220819-A01","211217-H01","230120-A06","","","","","","","",null,"",""]
[null,null,"0200XXCS","220819-A01","J1I3268","0040","203600096",60835,"COMPACTING EMBANKMENT","E056","220819-A01","211217-H01","230120-A07","","","","","","","",null,"",""]
[null,null,"0200XXCS","220819-A01","J1I3268","0050","203707596",76677,"COMPACTING IN CUT","E056","220819-A01","211217-H03","230120-B01","","","","","","","",null,"",""]
[null,null,"0200XXCS","220819-A01","J1I3268","0230","613101296",60847,"SUBGRADE COMPACTION (6 IN. DEPTH) (PAVEMENT REPAIR)","E056",{"$f":"IF(C291=$C$162,D291,\"\")","v":"220819-A01"},"211217-H03","230120-C01",{"$f":"(IF(K291=\"\",\"\",IF(OR(D291=$J$33,D291=$T$33, D291=$O$33),D291,\"\")))","v":""},{"$f":"IF(N291=\"\",\"\",F291)","v":""},{"$f":"IF(N291=\"\", \"\", E291)","v":""},{"$f":"IF(N291=\"\", \"\", G291)","v":""},{"$f":"IF(N291=\"\",\"\",I291)","v":""},{"$f":"IF(N291=\"\",\"\",J291)","v":""},"",null,"",""]
[null,null,"0200XXCS","220916-C01","J4P3295","0030","203600096",61546,"COMPACTING EMBANKMENT","E056","220916-C01","211217-H04","230120-C04","","","","","","",{"$f":"IF(N292=\"\",\"\",H292)","v":""},null,"",""]
[null,null,"0200XXCS","220916-C01","J4P3295","0040","203707596",61547,"COMPACTING IN CUT","E056","220916-C01","211217-H04","230120-C06","","","","","","","",null,"",""]
[null,null,"0200XXCS","220916-C04","J4P3409","0130","613101296",61899,"SUBGRADE COMPACTION (6 IN. DEPTH) (PAVEMENT REPAIR)","E056","220916-C04","211217-H04","230120-C07","","","","","","","",null,"",""]
[null,null,"0200XXCS","220916-G01","J7P3453","1080","203600096",61733,"COMPACTING EMBANKMENT","E056","220916-G01","211217-H05","230120-C11","","","","","","","",null,"",""]
[null,null,"0200XXCS","221021-A03","J1P3316","0040","203550096",62899,"EMBANKMENT IN PLACE","E056","221021-A03","220120-G01","230120-D02","","","","","","","",null,"",""]
[null,null,"0200XXCS","221021-A03","J1P3316","0050","203600096",62900,"COMPACTING EMBANKMENT","E056","221021-A03","220120-G01","230120-D04","","","","","","","",null,null,""]
[null,null,"0200XXCS","221021-A07","JNW0004","0030","203707596",63251,"COMPACTING IN CUT","E056","221021-A07","220121-A01","230120-D05","","","","","","","",null,null,""]
[null,null,"0200XXCS","221021-C01","J4S3337","0230","2101006A96",63338,"SUBGRADE COMPACTION (6-INCH DEPTH)","E056","221021-C01","220121-A01","230120-F02","","","","","","","",null,null,""]
[null,null,"0200XXCS","221021-C01","J4S3337","0410","613101296",63352,"SUBGRADE COMPACTION (6 IN. DEPTH) (PAVEMENT REPAIR)","E056","221021-C01","220121-A01","230120-F03","","","","","","","",null,null,""]
[null,null,"0200XXCS","221021-C02","J4I3451","0030","203600096",62383,"COMPACTING EMBANKMENT","E056","221021-C02","220121-A01","230120-F04","","","","","","","",null,null,""]
[null,null,"0200XXCS","221021-C02","J4I3451","0050","2101006A96",62384,"SUBGRADE COMPACTION (6-INCH DEPTH)","E056","221021-C02","220121-C02","230120-G02","","","","","","","",null,null,""]
[null,null,"0200XXCS","221021-C04","J4S3433","0040","203600096",62215,"COMPACTING EMBANKMENT","E056","221021-C04","220121-C02","230120-G07","","","","","","","",null,null,""]
[null,null,"0200XXCS","221021-C04","J4S3433","0050","203707596",62216,"COMPACTING IN CUT","E056","221021-C04","220121-C02","230120-H01","","","","","","","",null,null,""]
[null,null,"0200XXCS","221021-C04","J4S3433","0830","203600096",62269,"COMPACTING EMBANKMENT","E056","221021-C04","220121-D06","230120-H04","","","","","","","",null,null,""]
[null,null,"0200XXCS","221021-D01","J5P3453","0070","613101296",63829,"SUBGRADE COMPACTION (6 IN. DEPTH) (PAVEMENT REPAIR)","E056","221021-D01","220121-D06","230217-C04","","","","","","","",null,null,""]
[null,null,"0200XXCS","221021-D01","J5S3454","0480","613101296",63891,"SUBGRADE COMPACTION (6 IN. DEPTH) (PAVEMENT REPAIR)","E056","221021-D01","220121-D06","230217-C07","","","","","","","",null,null,""]
[null,null,"0200XXCS","221021-D01","JCD0090","1010","613101296",63862,"SUBGRADE COMPACTION (6 IN. DEPTH) (PAVEMENT REPAIR)","E056","221021-D01","220121-D06","230217-F02","","","","","","","",null,null,""]
[null,null,"0200XXCS","221021-F01","J6I3653","1670","613101296",62782,"SUBGRADE COMPACTION (6 IN. DEPTH) (PAVEMENT REPAIR)","E056","221021-F01","220121-D06","230217-F07","","","","","","","",null,null,""]
[null,null,"0200XXCS","221021-F05","J6S3493","0240","613101296",63036,"SUBGRADE COMPACTION (6 IN. DEPTH) (PAVEMENT REPAIR)","E056","221021-F05","220121-D06","230217-G04","","","","","","","",null,null,""]
[null,null,"0200XXCS","221021-F05","J6S3595","0950","613101296",63083,"SUBGRADE COMPACTION (6 IN. DEPTH) (PAVEMENT REPAIR)","E056","221021-F05","220121-F02","230217-G06","","","","","","","",null,null,""]
[null,null,"0200XXCS","221021-H01","J9P3524","0130","613101296",63307,"SUBGRADE COMPACTION (6 IN. DEPTH) (PAVEMENT REPAIR)","E056","221021-H01","220121-F02","230217-H04","","","","","","","",null,null,""]
[null,null,"0200XXCS","221118-A02","J1S3216","0030","203600096",66212,"COMPACTING EMBANKMENT","E056","221118-A02","220121-F02","230217-H05","","","","","","","",null,null,""]
[null,null,"0200XXCS","221118-A03","J1S3362","0040","203550096",66171,"EMBANKMENT IN PLACE","E056","221118-A03","220121-F09","230317-B01","","","","","","","",null,null,""]
[null,null,"0200XXCS","221118-A04","J1S3361","0030","203550096",66127,"EMBANKMENT IN PLACE","E056","221118-A04","220121-F09","230317-B02","","","","","","","",null,null,""]
[null,null,"0200XXCS","221118-A04","J1S3361","0040","203600096",66128,"COMPACTING EMBANKMENT","E056","221118-A04","220218-D03","230317-C01","","","","","","","",null,null,""]
[null,null,"0200XXCS","221118-A08","J1S3392","0040","203550096",65968,"EMBANKMENT IN PLACE","E056","221118-A08","220218-D03","230317-C06","","","","","","","",null,null,""]
[null,null,"0200XXCS","221118-A08","J1S3392","0050","203600096",65969,"COMPACTING EMBANKMENT","E056","221118-A08","220218-F01","230317-D01","","","","","","","",null,null,""]
[null,null,"0200XXCS","221118-A08","J1S3392","0060","203707596",65970,"COMPACTING IN CUT","E056","221118-A08","220218-F06","230317-G04","","","","","","","",null,null,""]
[null,null,"0200XXCS","221118-C01","J4I3334","0030","203600096",65856,"COMPACTING EMBANKMENT","E056","221118-C01","220218-F06","230317-H01","","","","","","","",null,null,""]
[null,null,"0200XXCS","221118-C01","J4I3334","0050","2101006A96",65857,"SUBGRADE COMPACTION (6-INCH DEPTH)","E056","221118-C01","220218-F08","230317-H03","","","","","","","",null,null,""]
[null,null,"0200XXCS","221118-C05","J4S3414","0470","2101006A96",65638,"SUBGRADE COMPACTION (6-INCH DEPTH)","E056","221118-C05","220218-F08","230421-A03","","","","","","","",null,null,""]
[null,null,"0200XXCS","221118-F01","J6I3326","0020","203550096",65296,"EMBANKMENT IN PLACE","E056","221118-F01","220218-F08","230421-C01","","","","","","","",null,null,""]
[null,null,"0200XXCS","221118-F03","J6P3483","0150","613101296",65184,"SUBGRADE COMPACTION (6 IN. DEPTH) (PAVEMENT REPAIR)","E056","221118-F03","220218-F08","230421-C02","","","","","","","",null,null,""]
[null,null,"0200XXCS","221118-F03","J6P3555","0610","203550096",65159,"EMBANKMENT IN PLACE","E056","221118-F03","220218-G04","230421-C06","","","","","","","",null,null,""]
[null,null,"0200XXCS","221118-F03","J6P3555","0620","203600096",65160,"COMPACTING EMBANKMENT","E056","221118-F03","220218-G04","230421-C07","","","","","","","",null,null,""]
[null,null,"0200XXCS","221118-G04","J7S3488","0040","203550096",64903,"EMBANKMENT IN PLACE","E056","221118-G04","220218-H01","230421-C09","","","","","","","",null,null,""]
[null,null,"0200XXCS","221118-G04","J7S3488","0050","203600096",64904,"COMPACTING EMBANKMENT","E056","221118-G04","220218-H01","230421-F06","","","","","","","",null,null,""]
[null,null,"0200XXCS","221118-G04","J7S3488","0060","203707596",64905,"COMPACTING IN CUT","E056","221118-G04","220218-H01","230421-G01","","","","","","","",null,null,""]
[null,null,"0200XXCS","221118-G04","J8P0683E","0520","203550096",64787,"EMBANKMENT IN PLACE","E056","221118-G04","220318-A02","230421-G03","","","","","","","",null,null,""]
[null,null,"0200XXCS","221118-G04","J8P0683E","0530","203600096",64788,"COMPACTING EMBANKMENT","E056","221118-G04","220318-A02","230421-G05","","","","","","","",null,null,""]
[null,null,"0200XXCS","221118-G04","J8P0683E","0540","203707596",64789,"COMPACTING IN CUT","E056","221118-G04","220318-A02","230421-H04","","","","","","","",null,null,""]
[null,null,"0200XXCS","221118-G04","J8P0683E","0580","2101006A96",64790,"SUBGRADE COMPACTION (6-INCH DEPTH)","E056","221118-G04","220318-A02","230421-H05","","","","","","","",null,null,""]
[null,null,"0200XXCS","221118-G04","J7S3488","5001","3039905",76440,"Cement Stabilization","E056","221118-G04","220318-B01","230519-C04","","","","","","","",null,null,""]
[null,null,"0200XXCS","221118-G06","J8S3117","0780","613101296",64508,"SUBGRADE COMPACTION (6 IN. DEPTH) (PAVEMENT REPAIR)","E056","221118-G06","220318-B01","230519-C05","","","","","","","",null,null,""]
[null,null,"0200XXCS","221118-G06","J8S3160","1340","613101296",64544,"SUBGRADE COMPACTION (6 IN. DEPTH) (PAVEMENT REPAIR)","E056","221118-G06","220318-B01","230519-C06","","","","","","","",null,null,""]
[null,null,"0200XXCS","221118-H02","J9P3584","0040","203550096",64394,"EMBANKMENT IN PLACE","E056","221118-H02","220415-F01","230519-C10","","","","","","","",null,null,""]
[null,null,"0200XXCS","221118-H02","J9P3584","0050","203600096",64395,"COMPACTING EMBANKMENT","E056","221118-H02","220415-F01","230519-D09","","","","","","","",null,null,""]
[null,null,"0200XXCS","221118-H02","J9P3584","0060","203707596",64396,"COMPACTING IN CUT","E056","221118-H02","220415-F03","230519-D12","","","","","","","",null,null,""]
[null,null,"0200XXCS","221216-A01","J1I3386","0010","203550096",66669,"EMBANKMENT IN PLACE","E056","221216-A01","220415-G02","230519-F01","","","","","","","",null,null,""]
[null,null,"0200XXCS","221216-A03","J1S3211","0040","203550096",66578,"EMBANKMENT IN PLACE","E056","221216-A03","220415-G02","230519-F03","","","","","","","",null,null,""]
[null,null,"0200XXCS","221216-B03","J2P3446","0500","203600096",66532,"COMPACTING EMBANKMENT","E056","221216-B03","220415-G02","230519-F09","","","","","","","",null,null,""]
[null,null,"0200XXCS","221216-B03","J2P3446","0510","2101006A96",66533,"SUBGRADE COMPACTION (6-INCH DEPTH)","E056","221216-B03","220520-A03","230519-G04","","","","","","","",null,null,""]
[null,null,"0200XXCS","221216-C02","J4I3288","0040","203550096",67101,"EMBANKMENT IN PLACE","E056","221216-C02","220520-A07","230519-G06","","","","","","","",null,null,""]
[null,null,"0200XXCS","221216-C02","J4I3288","0050","203600096",67102,"COMPACTING EMBANKMENT","E056","221216-C02","220520-A07","230519-H01","","","","","","","",null,null,""]
[null,null,"0200XXCS","221216-C02","J4I3288","0060","203707596",67103,"COMPACTING IN CUT","E056","221216-C02","220520-F10","230616-C01","","","","","","","",null,null,""]
[null,null,"0200XXCS","221216-C02","J4I3288","5009","2101006A96",84008,"SUBGRADE COMPACTION (6-INCH DEPTH)","E056","221216-C02","220520-F10","230616-G01","","","","","","","",null,null,""]
[null,null,"0200XXCS","221216-D02","J5S3447","0040","203600096",67404,"COMPACTING EMBANKMENT","E056","221216-D02","220520-F12","230818-A02","","","","","","","",null,null,""]
[null,null,"0200XXCS","221216-G01","J7P3465","0030","203600096",67760,"COMPACTING EMBANKMENT","E056","221216-G01","220520-G06","230818-A03","","","","","","","",null,null,""]
[null,null,"0200XXCS","221216-G01","J7P3465","0040","203707596",67761,"COMPACTING IN CUT","E056","221216-G01","220520-G06","230818-A04","","","","","","","",null,null,""]
[null,null,"0200XXCS","221216-H02","J9P3615","0140","613101296",66912,"SUBGRADE COMPACTION (6 IN. DEPTH) (PAVEMENT REPAIR)","E056","221216-H02","220520-G06","230818-A08","","","","","","","",null,null,""]
[null,null,"0200XXCS","230120-A03","J1S3360","0040","203550096",68499,"EMBANKMENT IN PLACE","E056","230120-A03","220520-G06","230818-A10","","","","","","","",null,null,""]
[null,null,"0200XXCS","230120-A03","J1S3360","0050","203600096",68500,"COMPACTING EMBANKMENT","E056","230120-A03","220520-G06","230818-B01","","","","","","","",null,null,""]
[null,null,"0200XXCS","230120-A07","JNWM0026","0500","203600096",70074,"COMPACTING EMBANKMENT","E056","230120-A07","220520-G06","230818-B02","","","","","","","",null,null,""]
[null,null,"0200XXCS","230120-A07","JNWM0026","0520","2069905",70492,"Subgrade Compaction 6 IN.","E056",{"$f":"IF(C355=$C$162,D355,\"\")","v":"230120-A07"},"220520-H08","230818-C01",{"$f":"(IF(K355=\"\",\"\",IF(OR(D355=$J$33,D355=$T$33, D355=$O$33),D355,\"\")))","v":""},{"$f":"IF(N355=\"\",\"\",F355)","v":""},{"$f":"IF(N355=\"\", \"\", E355)","v":""},{"$f":"IF(N355=\"\", \"\", G355)","v":""},{"$f":"IF(N355=\"\",\"\",I355)","v":""},{"$f":"IF(N355=\"\",\"\",J355)","v":""},"",null,null,""]
[null,null,"0200XXCS","230120-A07","JNWM0026","0640","203600096",70083,"COMPACTING EMBANKMENT","E056","230120-A07","220520-H08","230818-C03","","","","","","",{"$f":"IF(N356=\"\",\"\",H356)","v":""},null,null,""]
[null,null,"0200XXCS","230120-A07","JNWM0026","0660","2069905",70530,"Subgrade Compaction 6 IN.","E056","230120-A07","220520-H08","230818-F03","","","","","","","",null,null,""]
[null,null,"0200XXCS","230120-C04","J3P3164","0030","203550096",68454,"EMBANKMENT IN PLACE","E056","230120-C04","220617-B01","230818-H01","","","","","","","",null,null,""]
[null,null,"0200XXCS","230120-C04","J3P3164","0040","203600096",68455,"COMPACTING EMBANKMENT","E056","230120-C04","220617-B01","230915-A03","","","","","","","",null,null,""]
[null,null,"0200XXCS","230120-C04","J3P3164","0050","2101006A96",68456,"SUBGRADE COMPACTION (6-INCH DEPTH)","E056","230120-C04","220617-B01","230915-B01","","","","","","","",null,null,""]
[null,null,"0200XXCS","230120-C04","J3S3154","0590","203550096",68402,"EMBANKMENT IN PLACE","E056","230120-C04","220617-B01","230915-C01","","","","","","","",null,null,""]
[null,null,"0200XXCS","230120-C04","J3S3154","0600","203600096",68403,"COMPACTING EMBANKMENT","E056","230120-C04","220617-F04","230915-D01","","","","","","","",null,null,""]
[null,null,"0200XXCS","230120-C04","J3S3154","0610","2101006A96",68404,"SUBGRADE COMPACTION (6-INCH DEPTH)","E056","230120-C04","220617-F05","230915-G03","","","","","","","",null,null,""]
[null,null,"0200XXCS","230120-C06","J3S3123","0030","203550096",69818,"EMBANKMENT IN PLACE","E056","230120-C06","220617-F05","230915-G04","","","","","","","",null,null,""]
[null,null,"0200XXCS","230120-C06","J3S3123","0040","203600096",69819,"COMPACTING EMBANKMENT","E056","230120-C06","220715-F01","230915-G05","","","","","","","",null,null,""]
[null,null,"0200XXCS","230120-C06","J3S3123","0060","2101006A96",69820,"SUBGRADE COMPACTION (6-INCH DEPTH)","E056","230120-C06","220715-F01","231020-C02","","","","","","","",null,null,""]
[null,null,"0200XXCS","230120-C11","J3S3155","0030","203550096",68339,"EMBANKMENT IN PLACE","E056","230120-C11","220715-F01","231020-C03","","","","","","","",null,null,""]
[null,null,"0200XXCS","230120-C11","J3S3155","0040","203600096",68340,"COMPACTING EMBANKMENT","E056","230120-C11","220819-A01","231020-D02","","","","","","","",null,null,""]
[null,null,"0200XXCS","230120-C11","J3S3163","0360","203550096",68362,"EMBANKMENT IN PLACE","E056","230120-C11","220819-A01","231020-D03","","","","","","","",null,null,""]
[null,null,"0200XXCS","230120-C11","J3S3163","0370","203600096",68363,"COMPACTING EMBANKMENT","E056","230120-C11","220819-A01","231020-F03","","","","","","","",null,null,""]
[null,null,"0200XXCS","230120-D02","J5P3476","0040","203600096",69514,"COMPACTING EMBANKMENT","E056","230120-D02","220819-A01","231020-F07","","","","","","","",null,null,""]
[null,null,"0200XXCS","230120-D02","J5P3476","0050","2101006A96",69515,"SUBGRADE COMPACTION (6-INCH DEPTH)","E056","230120-D02","220819-H01","231020-G02","","","","","","","",null,null,""]
[null,null,"0200XXCS","230120-F02","J6I3490","0030","203600096",68639,"COMPACTING EMBANKMENT","E056","230120-F02","220916-B03","231020-G05","","","","","","","",null,null,""]
[null,null,"0200XXCS","230120-F02","J6I3613","2750","613101296",68817,"SUBGRADE COMPACTION (6 IN. DEPTH) (PAVEMENT REPAIR)","E056","230120-F02","220916-B03","231117-A01","","","","","","","",null,null,""]
[null,null,"0200XXCS","230120-F03","J6I3616","0040","203550096",68598,"EMBANKMENT IN PLACE","E056","230120-F03","220916-B03","231117-D07","","","","","","","",null,null,""]
[null,null,"0200XXCS","230120-F03","J6I3616","0050","203600096",68599,"COMPACTING EMBANKMENT","E056","230120-F03","220916-B03","231117-D08","","","","","","","",null,null,""]
[null,null,"0200XXCS","230120-F03","J6I3616","0060","203707596",68600,"COMPACTING IN CUT","E056","230120-F03","220916-C01","231117-D2A","","","","","","","",null,null,""]
[null,null,"0200XXCS","230120-F04","J6I3647","0180","613101296",70107,"SUBGRADE COMPACTION (6 IN. DEPTH) (PAVEMENT REPAIR)","E056","230120-F04","220916-C01","231117-D2B","","","","","","","",null,null,""]
[null,null,"0200XXCS","230120-G02","J7I3525","0030","613101296",70390,"SUBGRADE COMPACTION (6 IN. DEPTH) (PAVEMENT REPAIR)","E056","230120-G02","220916-C02","231117-F01","","","","","","","",null,null,""]
[null,null,"0200XXCS","230120-G02","J8P3242","0260","613101296",70409,"SUBGRADE COMPACTION (6 IN. DEPTH) (PAVEMENT REPAIR)","E056","230120-G02","220916-C04","231117-F02","","","","","","","",null,null,""]
[null,null,"0200XXCS","230120-G07","J8S3138","0040","203550096",69074,"EMBANKMENT IN PLACE","E056","230120-G07","220916-D04","231117-H01","","","","","","","",null,null,""]
[null,null,"0200XXCS","230120-G07","J8S3138","0050","203600096",69075,"COMPACTING EMBANKMENT","E056","230120-G07","220916-G01","231215-B01","","","","","","","",null,null,""]
[null,null,"0200XXCS","230120-G07","J8S3138B","1820","203600096",69137,"COMPACTING EMBANKMENT","E056","230120-G07","220916-G04","231215-C01","","","","","","","",null,null,""]
[null,null,"0200XXCS","230120-H01","J9P3644","0700","613101296",68282,"SUBGRADE COMPACTION (6 IN. DEPTH) (PAVEMENT REPAIR)","E056","230120-H01","220916-G04","231215-C02","","","","","","","",null,null,""]
[null,null,"0200XXCS","230120-H01","J9P3650","1170","613101296",68172,"SUBGRADE COMPACTION (6 IN. DEPTH) (PAVEMENT REPAIR)","E056","230120-H01","221021-A03","231215-D02","","","","","","","",null,null,""]
[null,null,"0200XXCS","230120-H04","J9S3455","0040","203600096",70140,"COMPACTING EMBANKMENT","E056","230120-H04","221021-A03","231215-F01","","","","","","","",null,null,""]
[null,null,"0200XXCS","230217-C04","J4I3024B","0640","203600096",71285,"COMPACTING EMBANKMENT","E056","230217-C04","221021-A07","231215-G01","","","","","","","",null,null,""]
[null,null,"0200XXCS","230217-C04","J4I3024B","0650","203707596",71286,"COMPACTING IN CUT","E056","230217-C04","221021-C01","231215-H01","","","","","","","",null,null,""]
[null,null,"0200XXCS","230217-C07","J4S3444","0040","203600096",71883,"COMPACTING EMBANKMENT","E056","230217-C07","221021-C01","231215-H03","","","","","","","",null,null,""]
[null,null,"0200XXCS","230217-F02","J6I3568","0360","613101296",71028,"SUBGRADE COMPACTION (6 IN. DEPTH) (PAVEMENT REPAIR)","E056","230217-F02","221021-C02","231215-H04","","","","","","","",null,null,""]
[null,null,"0200XXCS","230217-F07","J6S3281","0330","613101296",71525,"SUBGRADE COMPACTION (6 IN. DEPTH) (PAVEMENT REPAIR)","E056","230217-F07","221021-C02","240109-A01","","","","","","","",null,null,""]
[null,null,"0200XXCS","230217-G06","J7S3479","0050","203600096",70642,"COMPACTING EMBANKMENT","E056","230217-G06","221021-C04","240119-B01","","","","","","","",null,null,""]
[null,null,"0200XXCS","230217-G06","J7S3479","0060","203707596",70643,"COMPACTING IN CUT","E056","230217-G06","221021-C04","240119-B02","","","","","","","",null,null,""]
[null,null,"0200XXCS","230217-G06","J7S3508","0950","203600096",70606,"COMPACTING EMBANKMENT","E056","230217-G06","221021-C04","240119-B04","","","","","","","",null,null,""]
[null,null,"0200XXCS","230217-G06","J7S3508","0960","203707596",70607,"COMPACTING IN CUT","E056","230217-G06","221021-D01","240119-B05","","","","","","","",null,null,""]
[null,null,"0200XXCS","230217-H05","J9S3740","0500","203550096",71788,"EMBANKMENT IN PLACE","E056","230217-H05","221021-D01","240119-C01","","","","","","","",null,null,""]
[null,null,"0200XXCS","230217-H05","J9S3740","0510","203600096",71789,"COMPACTING EMBANKMENT","E056","230217-H05","221021-D01","240119-F7A","","","","","","","",null,null,""]
[null,null,"0200XXCS","230217-H05","J9S3740","0520","203707596",71790,"COMPACTING IN CUT","E056","230217-H05","221021-F01","240119-G02","","","","","","","",null,null,""]
[null,null,"0200XXCS","230217-H05","J9S3740","0710","613101296",71806,"SUBGRADE COMPACTION (6 IN. DEPTH) (PAVEMENT REPAIR)","E056","230217-H05","221021-F05","240119-G03","","","","","","","",null,null,""]
[null,null,"0200XXCS","230317-B01","J2S3147","0040","203550096",72777,"EMBANKMENT IN PLACE","E056","230317-B01","221021-F05","240119-G04","","","","","","","",null,null,""]
[null,null,"0200XXCS","230317-B01","J2S3147","0050","203600096",72778,"COMPACTING EMBANKMENT","E056","230317-B01","221021-G04","240119-G06","","","","","","","",null,null,""]
[null,null,"0200XXCS","230317-B01","J2S3147","0070","2101006A96",72779,"SUBGRADE COMPACTION (6-INCH DEPTH)","E056","230317-B01","221021-G04","240119-H03","","","","","","","",null,null,""]
[null,null,"0200XXCS","230317-B02","J2S3244","0020","2101006A96",72821,"SUBGRADE COMPACTION (6-INCH DEPTH)","E056","230317-B02","221021-G04","240119-H06","","","","","","","",null,null,""]
[null,null,"0200XXCS","230317-B02","J2S3257","0330","203600096",72843,"COMPACTING EMBANKMENT","E056","230317-B02","221021-G04","240119-H07","","","","","","","",null,null,""]
[null,null,"0200XXCS","230317-B02","J2S3257","0340","2101006A96",72844,"SUBGRADE COMPACTION (6-INCH DEPTH)","E056","230317-B02","221021-G04","240119-H08","","","","","","","",null,null,""]
[null,null,"0200XXCS","230317-B02","J3S2164","0710","203550096",72813,"EMBANKMENT IN PLACE","E056","230317-B02","221021-G04","240216-A01","","","","","","","",null,null,""]
[null,null,"0200XXCS","230317-B02","J3S2164","0720","203600096",72814,"COMPACTING EMBANKMENT","E056","230317-B02","221021-G04","240216-B01","","","","","","","",null,null,""]
[null,null,"0200XXCS","230317-B02","J3S2164","0730","2101006A96",72815,"SUBGRADE COMPACTION (6-INCH DEPTH)","E056","230317-B02","221021-G04","240216-B02","","","","","","","",null,null,""]
[null,null,"0200XXCS","230317-C06","J3S3173","0040","203550096",72102,"EMBANKMENT IN PLACE","E056","230317-C06","221021-H01","240216-C01","","","","","","","",null,null,""]
[null,null,"0200XXCS","230317-C06","J3S3173","0050","203600096",72072,"COMPACTING EMBANKMENT","E056","230317-C06","221118-A02","240216-C03","","","","","","","",null,null,""]
[null,null,"0200XXCS","230317-G04","J8P3087E","0030","203600096",72429,"COMPACTING EMBANKMENT","E056","230317-G04","221118-A03","240216-D04","","","","","","","",null,null,""]
[null,null,"0200XXCS","230317-G04","J8P3087F","1200","203600096",72381,"COMPACTING EMBANKMENT","E056","230317-G04","221118-A04","240216-G07","","","","","","","",null,null,""]
[null,null,"0200XXCS","230317-H01","J9P3683","0040","203550096",73029,"EMBANKMENT IN PLACE","E056","230317-H01","221118-A04","240216-H02","","","","","","","",null,null,""]
[null,null,"0200XXCS","230317-H01","J9P3683","0050","203600096",73030,"COMPACTING EMBANKMENT","E056","230317-H01","221118-A08","240315-C04","","","","","","","",null,null,""]
[null,null,"0200XXCS","230317-H03","J9S3528","0760","613101296",73091,"SUBGRADE COMPACTION (6 IN. DEPTH) (PAVEMENT REPAIR)","E056","230317-H03","221118-A08","240315-F02","","","","","","","",null,null,""]
[null,null,"0200XXCS","230421-A03","J1S3363","0040","203550096",73936,"EMBANKMENT IN PLACE","E056","230421-A03","221118-A08","240315-G01","","","","","","","",null,null,""]
[null,null,"0200XXCS","230421-A03","J1S3363","0050","203600096",73937,"COMPACTING EMBANKMENT","E056","230421-A03","221118-C01","240315-G06","","","","","","","",null,null,""]
[null,null,"0200XXCS","230421-A03","J1S3363","0060","203707596",73938,"COMPACTING IN CUT","E056","230421-A03","221118-C01","240315-H03","","","","","","","",null,null,""]
[null,null,"0200XXCS","230421-C01","J3P3095","0030","203550096",74649,"EMBANKMENT IN PLACE","E056",{"$f":"IF(C419=$C$162,D419,\"\")","v":"230421-C01"},"221118-C04","240315-H12",{"$f":"(IF(K419=\"\",\"\",IF(OR(D419=$J$33,D419=$T$33, D419=$O$33),D419,\"\")))","v":""},{"$f":"IF(N419=\"\",\"\",F419)","v":""},{"$f":"IF(N419=\"\", \"\", E419)","v":""},{"$f":"IF(N419=\"\", \"\", G419)","v":""},{"$f":"IF(N419=\"\",\"\",I419)","v":""},{"$f":"IF(N419=\"\",\"\",J419)","v":""},"",null,null,""]
[null,null,"0200XXCS","230421-C01","J3P3095","0040","203600096",74650,"COMPACTING EMBANKMENT","E056","230421-C01","221118-C04","240419-A03","","","","","","",{"$f":"IF(N420=\"\",\"\",H420)","v":""},null,null,""]
[null,null,"0200XXCS","230421-C01","J3P3095","0060","2101006A96",74651,"SUBGRADE COMPACTION (6-INCH DEPTH)","E056","230421-C01","221118-C04","240419-B01","","","","","","","",null,null,""]
[null,null,"0200XXCS","230421-C02","J3P3198","0040","203600096",73358,"COMPACTING EMBANKMENT","E056","230421-C02","221118-C05","240419-C02","","","","","","","",null,null,""]
[null,null,"0200XXCS","230421-C06","J4S3374","0040","203550096",74846,"EMBANKMENT IN PLACE","E056","230421-C06","221118-C05","240419-C06","","","","","","","",null,null,""]
[null,null,"0200XXCS","230421-C06","J4S3374","0050","203600096",74847,"COMPACTING EMBANKMENT","E056","230421-C06","221118-C05","240419-D03","","","","","","","",null,null,""]
[null,null,"0200XXCS","230421-C06","J4S3374","0060","203707596",74848,"COMPACTING IN CUT","E056","230421-C06","221118-D02","240419-F01","","","","","","","",null,null,""]
[null,null,"0200XXCS","230421-C07","JKU0133","0030","203600096",73892,"COMPACTING EMBANKMENT","E056","230421-C07","221118-D02","240419-F02","","","","","","","",null,null,""]
[null,null,"0200XXCS","230421-C07","JKU0133","0060","2101006A96",73894,"SUBGRADE COMPACTION (6-INCH DEPTH)","E056","230421-C07","221118-D02","240419-F03","","","","","","","",null,null,""]
[null,null,"0200XXCS","230421-F06","J6S3283B","3960","613101296",74580,"SUBGRADE COMPACTION (6 IN. DEPTH) (PAVEMENT REPAIR)","E056","230421-F06","221118-F01","240419-F05","","","","","","","",null,null,""]
[null,null,"0200XXCS","230421-G01","J7P3433","0040","203550096",73717,"EMBANKMENT IN PLACE","E056","230421-G01","221118-F03","240419-F06","","","","","","","",null,null,""]
[null,null,"0200XXCS","230421-G01","J7P3433","0050","203600096",73718,"COMPACTING EMBANKMENT","E056","230421-G01","221118-F03","240419-F4A","","","","","","","",null,null,""]
[null,null,"0200XXCS","230421-G01","J7P3434","0780","203550096",73632,"EMBANKMENT IN PLACE","E056","230421-G01","221118-F03","240419-G05","","","","","","","",null,null,""]
[null,null,"0200XXCS","230421-G01","J7P3434","0790","203600096",73633,"COMPACTING EMBANKMENT","E056","230421-G01","221118-F04","240419-H04","","","","","","","",null,null,""]
[null,null,"0200XXCS","230421-G01","J7P3434","0800","203707596",73634,"COMPACTING IN CUT","E056","230421-G01","221118-F06","240419-H08","","","","","","","",null,null,""]
[null,null,"0200XXCS","230421-G01","J7P3434","0850","2101006A96",73635,"SUBGRADE COMPACTION (6-INCH DEPTH)","E056","230421-G01","221118-F06","240419-H11","","","","","","","",null,null,""]
[null,null,"0200XXCS","230421-G01","J8P3197","2050","203550096",73773,"EMBANKMENT IN PLACE","E056","230421-G01","221118-F06","240517-A01","","","","","","","",null,null,""]
[null,null,"0200XXCS","230421-G01","J8P3197","2060","203600096",73774,"COMPACTING EMBANKMENT","E056","230421-G01","221118-F06","240517-B01","","","","","","","",null,null,""]
[null,null,"0200XXCS","230421-G03","J7S0510","0050","203550096",74164,"EMBANKMENT IN PLACE","E056","230421-G03","221118-G04","240517-C04","","","","","","","",null,null,""]
[null,null,"0200XXCS","230421-G03","J7S0510","0060","203600096",74165,"COMPACTING EMBANKMENT","E056","230421-G03","221118-G04","240517-C05","","","","","","","",null,null,""]
[null,null,"0200XXCS","230421-G03","J7S3476","0650","203600096",74128,"COMPACTING EMBANKMENT","E056","230421-G03","221118-G04","240517-D01","","","","","","","",null,null,""]
[null,null,"0200XXCS","230421-G05","J8P0605I","0030","203550096",73524,"EMBANKMENT IN PLACE","E056","230421-G05","221118-G04","240517-D05","","","","","","","",null,null,""]
[null,null,"0200XXCS","230421-G05","J8P0605I","0040","203600096",73525,"COMPACTING EMBANKMENT","E056","230421-G05","221118-G04","240517-D07","","","","","","","",null,null,""]
[null,null,"0200XXCS","230421-G05","J8P0605I","0080","2101006A96",73526,"SUBGRADE COMPACTION (6-INCH DEPTH)","E056","230421-G05","221118-G04","240517-F07","","","","","","","",null,null,""]
[null,null,"0200XXCS","230421-G05","J8P0605J","1010","203550096",73430,"EMBANKMENT IN PLACE","E056","230421-G05","221118-G04","240517-F08","","","","","","","",null,null,""]
[null,null,"0200XXCS","230421-G05","J8P0605J","1020","203600096",73431,"COMPACTING EMBANKMENT","E056","230421-G05","221118-G04","240517-F11","","","","","","","",null,null,""]
[null,null,"0200XXCS","230421-G05","J8P0605J","1070","2101006A96",73432,"SUBGRADE COMPACTION (6-INCH DEPTH)","E056","230421-G05","221118-G05","240517-G08","","","","","","","",null,null,""]
[null,null,"0200XXCS","230421-H04","J9P3747","0030","203600096",74032,"COMPACTING EMBANKMENT","E056","230421-H04","221118-G05","240517-G11","","","","","","","",null,null,""]
[null,null,"0200XXCS","230421-H05","J9P3749","0040","203550096",74077,"EMBANKMENT IN PLACE","E056","230421-H05","221118-G06","240517-H03","","","","","","","",null,null,""]
[null,null,"0200XXCS","230421-H05","J9P3749","0050","203600096",74078,"COMPACTING EMBANKMENT","E056","230421-H05","221118-G06","240517-H04","","","","","","","",null,null,""]
[null,null,"0200XXCS","230519-C04","J4P3443","0040","203550096",75855,"EMBANKMENT IN PLACE","E056","230519-C04","221118-H02","testcontract1","","","","","","","",null,null,""]
[null,null,"0200XXCS","230519-C04","J4P3443","0050","203600096",75856,"COMPACTING EMBANKMENT","E056","230519-C04","221118-H02",null,"","","","","","","",null,null,""]
[null,null,"0200XXCS","230519-C04","J4P3443","0060","203707596",75857,"COMPACTING IN CUT","E056","230519-C04","221118-H02",null,"","","","","","","",null,null,""]
[null,null,"0200XXCS","230519-C05","J4S3339","0030","203600096",75607,"COMPACTING EMBANKMENT","E056","230519-C05","221216-A01",null,"","","","","","","",null,null,""]
[null,null,"0200XXCS","230519-C05","J4S3339","0060","2101006A96",75608,"SUBGRADE COMPACTION (6-INCH DEPTH)","E056","230519-C05","221216-A03",null,"","","","","","","",null,null,""]
[null,null,"0200XXCS","230519-C05","J4S3410","0860","203550096",75772,"EMBANKMENT IN PLACE","E056","230519-C05","221216-B01",null,"","","","","","","",null,null,""]
[null,null,"0200XXCS","230519-C05","J4S3410","0870","203600096",75638,"COMPACTING EMBANKMENT","E056","230519-C05","221216-B01",null,"","","","","","","",null,null,""]
[null,null,"0200XXCS","230519-C05","J4S3410","0880","Modified Subgrade",94646,"MODIFIED SUBGRADE","E056","230519-C05","221216-B01",null,"","","","","","","",null,null,""]
[null,null,"0200XXCS","230519-C05","J4S3410","0930","2101006A96",75639,"SUBGRADE COMPACTION (6-INCH DEPTH)","E056","230519-C05","221216-B01",null,"","","","","","","",null,null,""]
[null,null,"0200XXCS","230519-C05","J4S3410","1320","613101296",75673,"SUBGRADE COMPACTION (6 IN. DEPTH) (PAVEMENT REPAIR)","E056","230519-C05","221216-B03",null,"","","","","","","",null,null,""]
[null,null,"0200XXCS","230519-C06","J4S3405","0040","203600096",76194,"COMPACTING EMBANKMENT","E056","230519-C06","221216-B03",null,"","","","","","","",null,null,""]
[null,null,"0200XXCS","230519-C06","J4S3405","0050","203707596",76195,"COMPACTING IN CUT","E056","230519-C06","221216-C02",null,"","","","","","","",null,null,""]
[null,null,"0200XXCS","230519-C06","J4S3405","0350","613101296",76216,"SUBGRADE COMPACTION (6 IN. DEPTH) (PAVEMENT REPAIR)","E056","230519-C06","221216-C02",null,"","","","","","","",null,null,""]
[null,null,"0200XXCS","230519-C06","J4S3405B","1390","203600096",76299,"COMPACTING EMBANKMENT","E056","230519-C06","221216-C02",null,"","","","","","","",null,null,""]
[null,null,"0200XXCS","230519-C06","J4S3405B","1400","203707596",76300,"COMPACTING IN CUT","E056","230519-C06","221216-C02",null,"","","","","","","",null,null,""]
[null,null,"0200XXCS","230519-C06","J4S3405B","1690","613101296",76322,"SUBGRADE COMPACTION (6 IN. DEPTH) (PAVEMENT REPAIR)","E056","230519-C06","221216-C03",null,"","","","","","","",null,null,""]
[null,null,"0200XXCS","230519-C06","J4S3405","5015","203550096",84053,"EMBANKMENT IN PLACE","E056","230519-C06","221216-C06",null,"","","","","","","",null,null,""]
[null,null,"0200XXCS","230519-C10","JKU0005","0040","203550096",76586,"EMBANKMENT IN PLACE","E056","230519-C10","221216-C06",null,"","","","","","","",null,null,""]
[null,null,"0200XXCS","230519-D12","J5S3478","0040","203550096",74978,"EMBANKMENT IN PLACE","E056","230519-D12","221216-C06",null,"","","","","","","",null,"",""]
[null,null,"0200XXCS","230519-D12","J5S3478","0050","203600096",74979,"COMPACTING EMBANKMENT","E056","230519-D12","221216-D02",null,"","","","","","","",null,"",""]
[null,null,"0200XXCS","230519-D12","J5S3478","0060","203707596",74980,"COMPACTING IN CUT","E056","230519-D12","221216-F03",null,"","","","","","","",null,"",""]
[null,null,"0200XXCS","230519-F01","J6I2090","0035","203550096",75395,"EMBANKMENT IN PLACE","E056","230519-F01","221216-G01",null,"","","","","","","",null,"",""]
[null,null,"0200XXCS","230519-F01","J6I2090","0040","203600096",75396,"COMPACTING EMBANKMENT","E056","230519-F01","221216-G01",null,"","","","","","","",null,"",""]
[null,null,"0200XXCS","230519-F01","J6I2090","0050","203707596",75397,"COMPACTING IN CUT","E056","230519-F01","221216-G01",null,"","","","","","","",null,"",""]
[null,null,"0200XXCS","230519-F03","J6I3550","0550","203600096",75232,"COMPACTING EMBANKMENT","E056","230519-F03","221216-H02",null,"","","","","","","",null,"",""]
[null,null,"0200XXCS","230519-F03","J6I3550","0750","613101296",75246,"SUBGRADE COMPACTION (6 IN. DEPTH) (PAVEMENT REPAIR)","E056","230519-F03","230120-A03",null,"","","","","","","",null,"",""]
[null,null,"0200XXCS","230519-F09","J6S3583","0210","613101296",76104,"SUBGRADE COMPACTION (6 IN. DEPTH) (PAVEMENT REPAIR)","E056","230519-F09","230120-A03",null,"","","","","","","",null,"",""]
[null,null,"0200XXCS","230519-G04","J8S3194","0050","203550096",76447,"EMBANKMENT IN PLACE","E056","230519-G04","230120-A06",null,"","","","","","","",null,"",""]
[null,null,"0200XXCS","230519-G04","J8S3194","0060","203600096",76448,"COMPACTING EMBANKMENT","E056","230519-G04","230120-A07",null,"","","","","","","",null,"",""]
[null,null,"0200XXCS","230519-G04","J8S3194","0070","203707596",76449,"COMPACTING IN CUT","E056","230519-G04","230120-A07",null,"","","","","","","",null,"",""]
[null,null,"0200XXCS","230519-G06","JSU0054","0030","203550096",76050,"EMBANKMENT IN PLACE","E056","230519-G06","230120-A07",null,"","","","","","","",null,"",""]
[null,null,"0200XXCS","230519-G06","JSU0054","0040","203600096",76051,"COMPACTING EMBANKMENT","E056","230519-G06","230120-A07",null,"","","","","","","",null,"",""]
[null,null,"0200XXCS","230519-H01","J9P3735","0130","203600096",76788,"COMPACTING EMBANKMENT","E056","230519-H01","230120-B01",null,"","","","","","","",null,"",""]
[null,null,"0200XXCS","230519-H01","J9P3735","0140","203707596",76789,"COMPACTING IN CUT","E056","230519-H01","230120-B01",null,"","","","","","","",null,"",""]
[null,null,"0200XXCS","230519-H01","J9P3735","5009","203550096",92392,"EMBANKMENT IN PLACE","E056",{"$f":"IF(C483=$C$162,D483,\"\")","v":"230519-H01"},"230120-B01",null,{"$f":"(IF(K483=\"\",\"\",IF(OR(D483=$J$33,D483=$T$33, D483=$O$33),D483,\"\")))","v":""},{"$f":"IF(N483=\"\",\"\",F483)","v":""},{"$f":"IF(N483=\"\", \"\", E483)","v":""},{"$f":"IF(N483=\"\", \"\", G483)","v":""},{"$f":"IF(N483=\"\",\"\",I483)","v":""},{"$f":"IF(N483=\"\",\"\",J483)","v":""},"",null,"",""]
[null,null,"0200XXCS","230616-G01","JSU0085","2380","203600096",77347,"COMPACTING EMBANKMENT","E056","230616-G01","230120-B01",null,"","","","","","",{"$f":"IF(N484=\"\",\"\",H484)","v":""},null,"",""]
[null,null,"0200XXCS","230818-A02","J1P3304","0040","203550096",78340,"EMBANKMENT IN PLACE","E056","230818-A02","230120-B01",null,"","","","","","","",null,"",""]
[null,null,"0200XXCS","230818-A02","J1P3304","0050","203600096",78341,"COMPACTING EMBANKMENT","E056","230818-A02","230120-B01",null,"","","","","","","",null,"",""]
[null,null,"0200XXCS","230818-A03","J1P3318","0040","203600096",78775,"COMPACTING EMBANKMENT","E056","230818-A03","230120-B01",null,"","","","","","","",null,"",""]
[null,null,"0200XXCS","230818-A03","J1P3318","0050","2101006A96",78774,"SUBGRADE COMPACTION (6-INCH DEPTH)","E056","230818-A03","230120-C01",null,"","","","","","","",null,"",""]
[null,null,"0200XXCS","230818-A03","J1P3318","0310","613101296",78749,"SUBGRADE COMPACTION (6 IN. DEPTH) (PAVEMENT REPAIR)","E056","230818-A03","230120-C04",null,"","","","","","","",null,"",""]
[null,null,"0200XXCS","230818-A04","J1P3406","0030","203550096",78317,"EMBANKMENT IN PLACE","E056","230818-A04","230120-C04",null,"","","","","","","",null,"",""]
[null,null,"0200XXCS","230818-A04","J1P3406","0040","203600096",78318,"COMPACTING EMBANKMENT","E056","230818-A04","230120-C04",null,"","","","","","","",null,"",""]
[null,null,"0200XXCS","230818-A08","JNW0007","0040","203600096",78672,"COMPACTING EMBANKMENT","E056","230818-A08","230120-C04",null,"","","","","","","",null,"",""]
[null,null,"0200XXCS","230818-A08","JNW0007","0050","203707596",78673,"COMPACTING IN CUT","E056","230818-A08","230120-C04",null,"","","","","","","",null,"",""]
[null,null,"0200XXCS","230818-A10","JNW0102","0030","203600096",78171,"COMPACTING EMBANKMENT","E056","230818-A10","230120-C04",null,"","","","","","","",null,"",""]
[null,null,"0200XXCS","230818-B02","J2S3448","0040","203600096",78431,"COMPACTING EMBANKMENT","E056","230818-B02","230120-C06",null,"","","","","","","",null,"",""]
[null,null,"0200XXCS","230818-B02","J2S3448","0050","203707596",78432,"COMPACTING IN CUT","E056","230818-B02","230120-C06",null,"","","","","","","",null,"",""]
[null,null,"0200XXCS","230818-C01","JKR0141","0700","613101296",78090,"SUBGRADE COMPACTION (6 IN. DEPTH) (PAVEMENT REPAIR)","E056","230818-C01","230120-C06",null,"","","","","","","",null,"",""]
[null,null,"0200XXCS","230818-C03","J4S3408","0100","613101296",78119,"SUBGRADE COMPACTION (6 IN. DEPTH) (PAVEMENT REPAIR)","E056","230818-C03","230120-C07",null,"","","","","","","",null,"",""]
[null,null,"0200XXCS","230818-H01","J9P3614","0050","203600096",77998,"COMPACTING EMBANKMENT","E056","230818-H01","230120-C07",null,"","","","","","","",null,"",""]
[null,null,"0200XXCS","230915-A03","JNW0005","0040","203600096",79752,"COMPACTING EMBANKMENT","E056","230915-A03","230120-C11",null,"","","","","","","",null,"",""]
[null,null,"0200XXCS","230915-A03","JNW0005","0050","203707596",79753,"COMPACTING IN CUT","E056","230915-A03","230120-C11",null,"","","","","","","",null,"",""]
[null,null,"0200XXCS","230915-A03","JNW0006","0510","203550096",79786,"EMBANKMENT IN PLACE","E056","230915-A03","230120-C11",null,"","","","","","","",null,"",""]
[null,null,"0200XXCS","230915-A03","JNW0006","0520","203600096",79787,"COMPACTING EMBANKMENT","E056","230915-A03","230120-C11",null,"","","","","","","",null,"",""]
[null,null,"0200XXCS","230915-A03","JNW0006","0530","203707596",79788,"COMPACTING IN CUT","E056","230915-A03","230120-D02",null,"","","","","","","",null,"",""]
[null,null,"0200XXCS","230915-B01","J2P3357","0040","203550096",79213,"EMBANKMENT IN PLACE","E056","230915-B01","230120-D02",null,"","","","","","","",null,"",""]
[null,null,"0200XXCS","230915-B01","J2P3357","0050","203600096",79214,"COMPACTING EMBANKMENT","E056","230915-B01","230120-D04",null,"","","","","","","",null,"",""]
[null,null,"0200XXCS","230915-B01","J2P3357","0060","203707596",79215,"COMPACTING IN CUT","E056","230915-B01","230120-D04",null,"","","","","","","",null,"",""]
[null,null,"0200XXCS","230915-C01","J4S3349","0030","203550096",79341,"EMBANKMENT IN PLACE","E056","230915-C01","230120-D04",null,"","","","","","","",null,"",""]
[null,null,"0200XXCS","230915-C01","J4S3349","0040","203600096",79342,"COMPACTING EMBANKMENT","E056","230915-C01","230120-D05",null,"","","","","","","",null,"",""]
[null,null,"0200XXCS","230915-C01","J4S3349","0050","203707596",79343,"COMPACTING IN CUT","E056","230915-C01","230120-D05",null,"","","","","","","",null,"",""]
[null,null,"0200XXCS","230915-C01","J4S3349","0250","613101296",79358,"SUBGRADE COMPACTION (6 IN. DEPTH) (PAVEMENT REPAIR)","E056","230915-C01","230120-F02",null,"","","","","","","",null,"",""]
[null,null,"0200XXCS","230915-D01","J5I3477","0120","613101296",79724,"SUBGRADE COMPACTION (6 IN. DEPTH) (PAVEMENT REPAIR)","E056","230915-D01","230120-F02",null,"","","","","","","",null,"",""]
[null,null,"0200XXCS","230915-G05","J8S3157","0025","203550096",79455,"EMBANKMENT IN PLACE","E056","230915-G05","230120-F03",null,"","","","","","","",null,"",""]
[null,null,"0200XXCS","230915-G05","J8S3157","0030","203600096",79456,"COMPACTING EMBANKMENT","E056","230915-G05","230120-F03",null,"","","","","","","",null,"",""]
[null,null,"0200XXCS","230915-G05","J8S3157","0040","203707596",79457,"COMPACTING IN CUT","E056","230915-G05","230120-F03",null,"","","","","","","",null,"",""]
[null,null,"0200XXCS","231020-C02","J4P3465","5003","203550096",89965,"EMBANKMENT IN PLACE","E056","231020-C02","230120-F04",null,"","","","","","","",null,"",""]
[null,null,"0200XXCS","231020-C03","J4S3347","0030","2101006A96",80486,"SUBGRADE COMPACTION (6-INCH DEPTH)","E056","231020-C03","230120-G02",null,"","","","","","","",null,"",""]
[null,null,"0200XXCS","231020-D02","J5P3517","0080","613101296",80839,"SUBGRADE COMPACTION (6 IN. DEPTH) (PAVEMENT REPAIR)","E056","231020-D02","230120-G02",null,"","","","","","","",null,"",""]
[null,null,"0200XXCS","231020-D03","J5P3542","0040","203600096",81582,"COMPACTING EMBANKMENT","E056","231020-D03","230120-G07",null,"","","","","","","",null,"",""]
[null,null,"0200XXCS","231020-D03","J5P3542","0050","2101006A96",81599,"SUBGRADE COMPACTION (6-INCH DEPTH)","E056","231020-D03","230120-G07",null,"","","","","","","",null,"",""]
[null,null,"0200XXCS","231020-F03","J6S3215","0410","613101296",81494,"SUBGRADE COMPACTION (6 IN. DEPTH) (PAVEMENT REPAIR)","E056","231020-F03","230120-G07",null,"","","","","","","",null,"",""]
[null,null,"0200XXCS","231020-F03","J6S3592","1650","203550096",81389,"EMBANKMENT IN PLACE","E056","231020-F03","230120-H01",null,"","","","","","","",null,"",""]
[null,null,"0200XXCS","231020-F03","J6S3592","1840","613101296",81364,"SUBGRADE COMPACTION (6 IN. DEPTH) (PAVEMENT REPAIR)","E056","231020-F03","230120-H01",null,"","","","","","","",null,"",""]
[null,null,"0200XXCS","231020-G02","J7S3447","0230","2129900",80974,"Linear Grading Class 2 for Shoulders","E056","231020-G02","230120-H04",null,"","","","","","","",null,"",""]
[null,null,"0200XXCS","231020-G02","J7S3447","0240","2129909",80972,"Shoulder Grading","E056","231020-G02","230217-C04",null,"","","","","","","",null,"",""]
[null,null,"0200XXCS","231117-A01","J1P3225","0100","613101296",82749,"SUBGRADE COMPACTION (6 IN. DEPTH) (PAVEMENT REPAIR)","E056","231117-A01","230217-C04",null,"","","","","","","",null,"",""]
[null,null,"0200XXCS","231117-A01","J1P3226","0320","203550096",82763,"EMBANKMENT IN PLACE","E056","231117-A01","230217-C07",null,"","","","","","","",null,"",""]
[null,null,"0200XXCS","231117-A01","J1P3226","0330","203600096",82764,"COMPACTING EMBANKMENT","E056","231117-A01","230217-F02",null,"","","","","","","",null,"",""]
[null,null,"0200XXCS","231117-A01","J1P3226","0450","613101296",82774,"SUBGRADE COMPACTION (6 IN. DEPTH) (PAVEMENT REPAIR)","E056","231117-A01","230217-F07",null,"","","","","","","",null,"",""]
[null,null,"0200XXCS","231117-D07","JCD0171","0190","613101296",83865,"SUBGRADE COMPACTION (6 IN. DEPTH) (PAVEMENT REPAIR)","E056","231117-D07","230217-G04",null,"","","","","","","",null,"",""]
[null,null,"0200XXCS","231117-D08","JCD0173","0030","2101006A96",83905,"SUBGRADE COMPACTION (6-INCH DEPTH)","E056","231117-D08","230217-G04",null,"","","","","","","",null,"",""]
[null,null,"0200XXCS","231117-D08","JCD0173","0150","613101296",83913,"SUBGRADE COMPACTION (6 IN. DEPTH) (PAVEMENT REPAIR)","E056","231117-D08","230217-G04",null,"","","","","","","",null,"",""]
[null,null,"0200XXCS","231117-D2A","J5P3497","0030","203550096",82399,"EMBANKMENT IN PLACE","E056","231117-D2A","230217-G06",null,"","","","","","","",null,"",""]
[null,null,"0200XXCS","231117-D2A","J5P3497","0040","203600096",82400,"COMPACTING EMBANKMENT","E056","231117-D2A","230217-G06",null,"","","","","","","",null,"",""]
[null,null,"0200XXCS","231117-D2A","J5P3497","0070","2101006A96",82401,"SUBGRADE COMPACTION (6-INCH DEPTH)","E056","231117-D2A","230217-G06",null,"","","","","","","",null,"",""]
[null,null,"0200XXCS","231117-D2B","JCD0100","1430","613101296",82671,"SUBGRADE COMPACTION (6 IN. DEPTH) (PAVEMENT REPAIR)","E056","231117-D2B","230217-G06",null,"","","","","","","",null,"",""]
[null,null,"0200XXCS","231117-D2B","JCD0114","1900","203550096",82621,"EMBANKMENT IN PLACE","E056","231117-D2B","230217-H04",null,"","","","","","","",null,"",""]
[null,null,"0200XXCS","231117-D2B","JCD0114","1910","203600096",82622,"COMPACTING EMBANKMENT","E056","231117-D2B","230217-H04",null,"","","","","","","",null,"",""]
[null,null,"0200XXCS","231117-F01","J6S3280","0020","203550096",81829,"EMBANKMENT IN PLACE","E056","231117-F01","230217-H05",null,"","","","","","","",null,"",""]
[null,null,"0200XXCS","231117-F01","J6S3280","0400","613101296",81850,"SUBGRADE COMPACTION (6 IN. DEPTH) (PAVEMENT REPAIR)","E056","231117-F01","230217-H05",null,"","","","","","","",null,"",""]
[null,null,"0200XXCS","231117-F02","J6S3351","0040","203600096",82164,"COMPACTING EMBANKMENT","E056","231117-F02","230217-H05",null,"","","","","","","",null,"",""]
[null,null,"0200XXCS","231117-H01","J9I3844","0120","613101296",82717,"SUBGRADE COMPACTION (6 IN. DEPTH) (PAVEMENT REPAIR)","E056","231117-H01","230217-H05",null,"","","","","","","",null,"",""]
[null,null,"0200XXCS","231215-B01","J2S3256","0030","203550096",83715,"EMBANKMENT IN PLACE","E056","231215-B01","230317-B01",null,"","","","","","","",null,"",""]
[null,null,"0200XXCS","231215-B01","J2S3256","0040","203600096",83716,"COMPACTING EMBANKMENT","E056","231215-B01","230317-B01",null,"","","","","","","",null,"",""]
[null,null,"0200XXCS","231215-B01","J2S3256","0050","2101006A96",83717,"SUBGRADE COMPACTION (6-INCH DEPTH)","E056","231215-B01","230317-B01",null,"","","","","","","",null,"",""]
[null,null,"0200XXCS","231215-C01","J3P3203","0030","203550096",83658,"EMBANKMENT IN PLACE","E056","231215-C01","230317-B02",null,"","","","","","","",null,"",""]
[null,null,"0200XXCS","231215-C01","J3P3203","0040","203600096",83608,"COMPACTING EMBANKMENT","E056",{"$f":"IF(C547=$C$162,D547,\"\")","v":"231215-C01"},"230317-B02",null,{"$f":"(IF(K547=\"\",\"\",IF(OR(D547=$J$33,D547=$T$33, D547=$O$33),D547,\"\")))","v":""},{"$f":"IF(N547=\"\",\"\",F547)","v":""},{"$f":"IF(N547=\"\", \"\", E547)","v":""},{"$f":"IF(N547=\"\", \"\", G547)","v":""},{"$f":"IF(N547=\"\",\"\",I547)","v":""},{"$f":"IF(N547=\"\",\"\",J547)","v":""},"",null,"",""]
[null,null,"0200XXCS","231215-C01","J3P3203","0050","203707596",83609,"COMPACTING IN CUT","E056","231215-C01","230317-B02",null,"","","","","","",{"$f":"IF(N548=\"\",\"\",H548)","v":""},null,"",""]
[null,null,"0200XXCS","231215-C02","J3S3156","0040","203600096",83581,"COMPACTING EMBANKMENT","E056","231215-C02","230317-B02",null,"","","","","","","",null,"",""]
[null,null,"0200XXCS","231215-C02","J3S3156","0050","203707596",83582,"COMPACTING IN CUT","E056","231215-C02","230317-B02",null,"","","","","","","",null,"",""]
[null,null,"0200XXCS","231215-D02","J5P3244","0050","203600096",83514,"COMPACTING EMBANKMENT","E056","231215-D02","230317-B02",null,"","","","","","","",null,"",""]
[null,null,"0200XXCS","231215-F01","J6I3427","0030","203600096",83378,"COMPACTING EMBANKMENT","E056","231215-F01","230317-C01",null,"","","","","","","",null,"",""]
[null,null,"0200XXCS","231215-F01","J6I3427","0040","203707596",83379,"COMPACTING IN CUT","E056","231215-F01","230317-C06",null,"","","","","","","",null,"",""]
[null,null,"0200XXCS","231215-F01","J6I3427","0590","613101296",83344,"SUBGRADE COMPACTION (6 IN. DEPTH) (PAVEMENT REPAIR)","E056","231215-F01","230317-C06",null,"","","","","","","",null,"",""]
[null,null,"0200XXCS","231215-G01","J7S3486","0040","203550096",83203,"EMBANKMENT IN PLACE","E056","231215-G01","230317-D01",null,"","","","","","","",null,"",""]
[null,null,"0200XXCS","231215-G01","J7S3486","0050","203600096",83204,"COMPACTING EMBANKMENT","E056","231215-G01","230317-G04",null,"","","","","","","",null,"",""]
[null,null,"0200XXCS","231215-G01","J7S3486","0060","203707596",83205,"COMPACTING IN CUT","E056","231215-G01","230317-G04",null,"","","","","","","",null,"",""]
[null,null,"0200XXCS","231215-H01","J9P3674","0070","613101296",83158,"SUBGRADE COMPACTION (6 IN. DEPTH) (PAVEMENT REPAIR)","E056","231215-H01","230317-H01",null,"","","","","","","",null,"",""]
[null,null,"0200XXCS","231215-H03","J9S3841","5002","203550096",86809,"EMBANKMENT IN PLACE","E056","231215-H03","230317-H01",null,"","","","","","","",null,"",""]
[null,null,"0200XXCS","231215-H04","J9S3449B","0030","203550096",83086,"EMBANKMENT IN PLACE","E056","231215-H04","230317-H03",null,"","","","","","","",null,"",""]
[null,null,"0200XXCS","231215-H04","J9S3449B","0040","203600096",83087,"COMPACTING EMBANKMENT","E056","231215-H04","230421-A03",null,"","","","","","","",null,"",""]
[null,null,"0200XXCS","240109-A01","JNW0026","0050","Br 01 Rt D, T03261",82973,"DESIGN BUILD - GRADING AND REMOVALS","E056","240109-A01","230421-A03",null,"","","","","","","",null,"",""]
[null,null,"0200XXCS","240109-A01","JNW0026","0050","Br 02 Rt JJ, N06941",82974,"DESIGN BUILD - GRADING AND REMOVALS","E056","240109-A01","230421-A03",null,"","","","","","","",null,"",""]
[null,null,"0200XXCS","240109-A01","JNW0026","0050","Br 03 Rt WW, N07142",82976,"DESIGN BUILD - GRADING AND REMOVALS","E056","240109-A01","230421-C01",null,"","","","","","","",null,"",""]
[null,null,"0200XXCS","240109-A01","JNW0026","0050","Br 04 Rt F, R04051",82975,"DESIGN BUILD - GRADING AND REMOVALS","E056","240109-A01","230421-C01",null,"","","","","","","",null,"",""]
[null,null,"0200XXCS","240109-A01","JNW0026","0050","Br 05 Rt HH, R06111",82977,"DESIGN BUILD - GRADING AND REMOVALS","E056","240109-A01","230421-C01",null,"","","","","","","",null,"",""]
[null,null,"0200XXCS","240109-A01","JNW0026","0050","Br 06 Rt D, T04621",82978,"DESIGN BUILD - GRADING AND REMOVALS","E056","240109-A01","230421-C02",null,"","","","","","","",null,"",""]
[null,null,"0200XXCS","240109-A01","JNW0026","0050","Br 07 Rt CC, A18231",82979,"DESIGN BUILD - GRADING AND REMOVALS","E056","240109-A01","230421-C06",null,"","","","","","","",null,"",""]
[null,null,"0200XXCS","240109-A01","JNW0026","0050","Br 08 Rt CC, N09701",82980,"DESIGN BUILD - GRADING AND REMOVALS","E056","240109-A01","230421-C06",null,"","","","","","","",null,"",""]
[null,null,"0200XXCS","240109-A01","JNW0026","0050","Br 09 Rt U, R05751",82981,"DESIGN BUILD - GRADING AND REMOVALS","E056","240109-A01","230421-C06",null,"","","","","","","",null,"",""]
[null,null,"0200XXCS","240109-A01","JNW0026","0050","Br 10 Rt J, A9510",82982,"DESIGN BUILD - GRADING AND REMOVALS","E056","240109-A01","230421-C07",null,"","","","","","","",null,"",""]
[null,null,"0200XXCS","240109-A01","JNW0026","0050","Br 11 Rt M, A9511",82983,"DESIGN BUILD - GRADING AND REMOVALS","E056","240109-A01","230421-C07",null,"","","","","","","",null,"",""]
[null,null,"0200XXCS","240109-A01","JNW0026","0050","Br 12 Rt CC, A9512",82984,"DESIGN BUILD - GRADING AND REMOVALS","E056","240109-A01","230421-C09",null,"","","","","","","",null,"",""]
[null,null,"0200XXCS","240109-A01","JNW0026","0050","Br 13 Rt PP, A9513",82985,"DESIGN BUILD - GRADING AND REMOVALS","E056","240109-A01","230421-F06",null,"","","","","","","",null,"",""]
[null,null,"0200XXCS","240109-A01","JNW0026","0050","Br 14 Rt 11, A9514",82987,"DESIGN BUILD - GRADING AND REMOVALS","E056","240109-A01","230421-G01",null,"","","","","","","",null,"",""]
[null,null,"0200XXCS","240109-A01","JNW0026","0050","Br 15 MO 139, A9515",82988,"DESIGN BUILD - GRADING AND REMOVALS","E056","240109-A01","230421-G01",null,"","","","","","","",null,"",""]
[null,null,"0200XXCS","240109-A01","JNW0026","0050","Br 16 MO 129, A9516",82989,"DESIGN BUILD - GRADING AND REMOVALS","E056","240109-A01","230421-G01",null,"","","","","","","",null,"",""]
[null,null,"0200XXCS","240109-A01","JNW0026","0050","Br 17 Rt O, A9517",82990,"DESIGN BUILD - GRADING AND REMOVALS","E056","240109-A01","230421-G01",null,"","","","","","","",null,"",""]
[null,null,"0200XXCS","240109-A01","JNW0026","0050","Br 18 Rt KK, A9518",82991,"DESIGN BUILD - GRADING AND REMOVALS","E056","240109-A01","230421-G01",null,"","","","","","","",null,"",""]
[null,null,"0200XXCS","240109-A01","JNW0026","0050","Br 19 Rt K, A9519",82992,"DESIGN BUILD - GRADING AND REMOVALS","E056","240109-A01","230421-G01",null,"","","","","","","",null,"",""]
[null,null,"0200XXCS","240109-A01","JNW0026","0050","Br 20 Rt PP, A9520",82993,"DESIGN BUILD - GRADING AND REMOVALS","E056","240109-A01","230421-G01",null,"","","","","","","",null,"",""]
[null,null,"0200XXCS","240109-A01","JNW0026","0050","Br 21 Rt D, A9521",82994,"DESIGN BUILD - GRADING AND REMOVALS","E056","240109-A01","230421-G01",null,"","","","","","","",null,"",""]
[null,null,"0200XXCS","240109-A01","JNW0026","0050","Br 22 Rt N, A9522",82995,"DESIGN BUILD - GRADING AND REMOVALS","E056","240109-A01","230421-G01",null,"","","","","","","",null,"",""]
[null,null,"0200XXCS","240109-A01","JNW0026","0050","Br 23 MO 11, A9523",82996,"DESIGN BUILD - GRADING AND REMOVALS","E056","240109-A01","230421-G03",null,"","","","","","","",null,"",""]
[null,null,"0200XXCS","240109-A01","JNW0026","0050","Br 24 Rt PP, A9524",82997,"DESIGN BUILD - GRADING AND REMOVALS","E056","240109-A01","230421-G03",null,"","","","","","","",null,"",""]
[null,null,"0200XXCS","240109-A01","JNW0026","0050","Br 25 Rt E, A9525",82998,"DESIGN BUILD - GRADING AND REMOVALS","E056","240109-A01","230421-G03",null,"","","","","","","",null,"",""]
[null,null,"0200XXCS","240109-A01","JNW0026","0050","Br 26 Rt C, A9526",82999,"DESIGN BUILD - GRADING AND REMOVALS","E056","240109-A01","230421-G05",null,"","","","","","","",null,"",""]
[null,null,"0200XXCS","240109-A01","JNW0026","0050","Br 27 MO 129, A9527",83000,"DESIGN BUILD - GRADING AND REMOVALS","E056","240109-A01","230421-G05",null,"","","","","","","",null,"",""]
[null,null,"0200XXCS","240109-A01","JNW0026","0050","Br 28 MO 129, A9528",83001,"DESIGN BUILD - GRADING AND REMOVALS","E056","240109-A01","230421-G05",null,"","","","","","","",null,"",""]
[null,null,"0200XXCS","240109-A01","JNW0026","0050","Br 29 Rt T, A9529",83002,"DESIGN BUILD - GRADING AND REMOVALS","E056","240109-A01","230421-G05",null,"","","","","","","",null,"",""]
[null,null,"0200XXCS","240109-A01","JNW0026","0050","Br 30 Rt N, A9530",83003,"DESIGN BUILD - GRADING AND REMOVALS","E056","240109-A01","230421-G05",null,"","","","","","","",null,"",""]
[null,null,"0200XXCS","240109-A01","JNW0026","0050","Br 31 Rt D, A9531",83004,"DESIGN BUILD - GRADING AND REMOVALS","E056","240109-A01","230421-G05",null,"","","","","","","",null,"",""]
[null,null,"0200XXCS","240119-B01","J2P3062","0040","203550096",85209,"EMBANKMENT IN PLACE","E056","240119-B01","230421-H04",null,"","","","","","","",null,"",""]
[null,null,"0200XXCS","240119-B01","J2P3062","0050","203600096",85210,"COMPACTING EMBANKMENT","E056","240119-B01","230421-H05",null,"","","","","","","",null,"",""]
[null,null,"0200XXCS","240119-B02","J2S3317","0040","203550096",85584,"EMBANKMENT IN PLACE","E056","240119-B02","230421-H05",null,"","","","","","","",null,"",""]
[null,null,"0200XXCS","240119-B02","J2S3317","0050","203600096",85585,"COMPACTING EMBANKMENT","E056","240119-B02","230519-C04",null,"","","","","","","",null,"",""]
[null,null,"0200XXCS","240119-B02","J2S3317","0060","2101006A96",85586,"SUBGRADE COMPACTION (6-INCH DEPTH)","E056","240119-B02","230519-C04",null,"","","","","","","",null,"",""]
[null,null,"0200XXCS","240119-B04","JNE0160","0080","613101296",85866,"SUBGRADE COMPACTION (6 IN. DEPTH) (PAVEMENT REPAIR)","E056","240119-B04","230519-C04",null,"","","","","","","",null,"",""]
[null,null,"0200XXCS","240119-B05","JNE0168","0030","2101006A96",85187,"SUBGRADE COMPACTION (6-INCH DEPTH)","E056","240119-B05","230519-C05",null,"","","","","","","",null,"",""]
[null,null,"0200XXCS","240119-C01","J3P3085H","0030","203550096",85669,"EMBANKMENT IN PLACE","E056","240119-C01","230519-C05",null,"","","","","","","",null,"",""]
[null,null,"0200XXCS","240119-C01","J3P3085H","0040","203600096",85670,"COMPACTING EMBANKMENT","E056","240119-C01","230519-C05",null,"","","","","","","",null,"",""]
[null,null,"0200XXCS","240119-F7A","J6S3487","0080","613101296",85637,"SUBGRADE COMPACTION (6 IN. DEPTH) (PAVEMENT REPAIR)","E056","240119-F7A","230519-C05",null,"","","","","","","",null,"",""]
[null,null,"0200XXCS","240119-G03","J7P3484B","0030","203550096",84937,"EMBANKMENT IN PLACE","E056","240119-G03","230519-C05",null,"","","","","","","",null,"",""]
[null,null,"0200XXCS","240119-G03","J7P3484B","0040","203600096",84938,"COMPACTING EMBANKMENT","E056","240119-G03","230519-C05",null,"","","","","","","",null,"",""]
[null,null,"0200XXCS","240119-G03","J7P3484B","0050","203707596",84939,"COMPACTING IN CUT","E056","240119-G03","230519-C06",null,"","","","","","","",null,"",""]
[null,null,"0200XXCS","240119-G03","J7S3522","0570","203550096",84977,"EMBANKMENT IN PLACE","E056","240119-G03","230519-C06",null,"","","","","","","",null,"",""]
[null,null,"0200XXCS","240119-G03","J7S3522","0580","203600096",84978,"COMPACTING EMBANKMENT","E056","240119-G03","230519-C06",null,"","","","","","","",null,"",""]
[null,null,"0200XXCS","240119-G03","J7S3522","0590","203707596",84979,"COMPACTING IN CUT","E056","240119-G03","230519-C06",null,"","","","","","","",null,"",""]
[null,null,"0200XXCS","240119-G04","J7P3528","0030","203600096",84868,"COMPACTING EMBANKMENT","E056","240119-G04","230519-C06",null,"","","","","","","",null,"",""]
[null,null,"0200XXCS","240119-G04","J7P3528","0040","203707596",84869,"COMPACTING IN CUT","E056","240119-G04","230519-C06",null,"","","","","","","",null,"",""]
[null,null,"0200XXCS","240119-G06","J7S3523","0020","203707596",84840,"COMPACTING IN CUT","E056",{"$f":"IF(C611=$C$162,D611,\"\")","v":"240119-G06"},"230519-C06",null,{"$f":"(IF(K611=\"\",\"\",IF(OR(D611=$J$33,D611=$T$33, D611=$O$33),D611,\"\")))","v":""},{"$f":"IF(N611=\"\",\"\",F611)","v":""},{"$f":"IF(N611=\"\", \"\", E611)","v":""},{"$f":"IF(N611=\"\", \"\", G611)","v":""},{"$f":"IF(N611=\"\",\"\",I611)","v":""},{"$f":"IF(N611=\"\",\"\",J611)","v":""},"",null,"",""]
[null,null,"0200XXCS","240119-H03","J9P3849","0040","203550096",85393,"EMBANKMENT IN PLACE","E056","240119-H03","230519-C10",null,"","","","","","",{"$f":"IF(N612=\"\",\"\",H612)","v":""},null,"",""]
[null,null,"0200XXCS","240119-H03","J9P3849","0050","203600096",85394,"COMPACTING EMBANKMENT","E056","240119-H03","230519-D09",null,"","","","","","","",null,"",""]
[null,null,"0200XXCS","240119-H06","J9S3611","0040","203550096",84625,"EMBANKMENT IN PLACE","E056","240119-H06","230519-D09",null,"","","","","","","",null,"",""]
[null,null,"0200XXCS","240119-H06","J9S3611","0050","203600096",84626,"COMPACTING EMBANKMENT","E056","240119-H06","230519-D09",null,"","","","","","","",null,"",""]
[null,null,"0200XXCS","240119-H07","J9S3640","0030","203550096",84512,"EMBANKMENT IN PLACE","E056","240119-H07","230519-D12",null,"","","","","","","",null,"",""]
[null,null,"0200XXCS","240119-H07","J9S3640","0040","203600096",84513,"COMPACTING EMBANKMENT","E056","240119-H07","230519-D12",null,"","","","","","","",null,"",""]
[null,null,"0200XXCS","240119-H07","J9S3645","0930","203600096",84577,"COMPACTING EMBANKMENT","E056","240119-H07","230519-D12",null,"","","","","","","",null,"",""]
[null,null,"0200XXCS","240119-H07","J9S3645","0950","2101006A96",84579,"SUBGRADE COMPACTION (6-INCH DEPTH)","E056","240119-H07","230519-F01",null,"","","","","","","",null,"",""]
[null,null,"0200XXCS","240119-H08","J9S3641","0040","203600096",84452,"COMPACTING EMBANKMENT","E056","240119-H08","230519-F01",null,"","","","","","","",null,"",""]
[null,null,"0200XXCS","240119-H08","J9S3723","0420","203550096",84378,"EMBANKMENT IN PLACE","E056","240119-H08","230519-F01",null,"","","","","","","",null,"",""]
[null,null,"0200XXCS","240119-H08","J9S3723","0430","203600096",84379,"COMPACTING EMBANKMENT","E056","240119-H08","230519-F03",null,"","","","","","","",null,"",""]
[null,null,"0200XXCS","240119-H08","J9S3724","0940","613101296",84413,"SUBGRADE COMPACTION (6 IN. DEPTH) (PAVEMENT REPAIR)","E056","240119-H08","230519-F03",null,"","","","","","","",null,"",""]
[null,null,"0200XXCS","240119-H08","J9S3769","1230","203550096",84428,"EMBANKMENT IN PLACE","E056","240119-H08","230519-F09",null,"","","","","","","",null,"",""]
[null,null,"0200XXCS","240119-H08","J9S3769","1240","203600096",84429,"COMPACTING EMBANKMENT","E056","240119-H08","230519-G04",null,"","","","","","","",null,"",""]
[null,null,"0200XXCS","240214-D01","JST0021","0300","Earthwork - Compaction and Base",92012,"DESIGN BUILD - GRADING AND REMOVALS","E056","240214-D01","230519-G04",null,"","","","","","","",null,"",""]
[null,null,"0200XXCS","240216-A01","J1I3330","0040","203600096",86108,"COMPACTING EMBANKMENT","E056","240216-A01","230519-G04",null,"","","","","","","",null,"",""]
[null,null,"0200XXCS","240216-B01","JNE0125","0060","203600096",85986,"COMPACTING EMBANKMENT","E056","240216-B01","230519-G06",null,"","","","","","","",null,"",""]
[null,null,"0200XXCS","240216-B01","JNE0125","0070","2101006A96",85987,"SUBGRADE COMPACTION (6-INCH DEPTH)","E056","240216-B01","230519-G06",null,"","","","","","","",null,"",""]
[null,null,"0200XXCS","240216-B02","JNE0126","0030","203600096",86244,"COMPACTING EMBANKMENT","E056","240216-B02","230519-H01",null,"","","","","","","",null,"",""]
[null,null,"0200XXCS","240216-B02","JNE0126","0040","2101006A96",86245,"SUBGRADE COMPACTION (6-INCH DEPTH)","E056","240216-B02","230519-H01",null,"","","","","","","",null,"",""]
[null,null,"0200XXCS","240216-C01","J4P3468C","0030","203600096",86033,"COMPACTING EMBANKMENT","E056","240216-C01","230616-C01",null,"","","","","","","",null,"",""]
[null,null,"0200XXCS","240216-C01","J4P3468C","0040","2101006A96",86034,"SUBGRADE COMPACTION (6-INCH DEPTH)","E056","240216-C01","230616-G01",null,"","","","","","","",null,"",""]
[null,null,"0200XXCS","240216-C03","JKR0084","0080","613101296",86286,"SUBGRADE COMPACTION (6 IN. DEPTH) (PAVEMENT REPAIR)","E056","240216-C03","230818-A02",null,"","","","","","","",null,"",""]
[null,null,"0200XXCS","240216-D04","J5S3484","0040","203550096",86386,"EMBANKMENT IN PLACE","E056","240216-D04","230818-A02",null,"","","","","","","",null,"",""]
[null,null,"0200XXCS","240216-D04","J5S3484","0050","203600096",86387,"COMPACTING EMBANKMENT","E056","240216-D04","230818-A03",null,"","","","","","","",null,"",""]
[null,null,"0200XXCS","240216-G07","J7S3473","0020","203600096",86404,"COMPACTING EMBANKMENT","E056","240216-G07","230818-A03",null,"","","","","","","",null,"",""]
[null,null,"0200XXCS","240216-H02","J9P3121B","0170","613101296",86172,"SUBGRADE COMPACTION (6 IN. DEPTH) (PAVEMENT REPAIR)","E056","240216-H02","230818-A03",null,"","","","","","","",null,"",""]
[null,null,"0200XXCS","240315-C04","J4P3488","0040","203550096",86948,"EMBANKMENT IN PLACE","E056","240315-C04","230818-A04",null,"","","","","","","",null,"",""]
[null,null,"0200XXCS","240315-C04","J4P3488","0050","203600096",86949,"COMPACTING EMBANKMENT","E056","240315-C04","230818-A04",null,"","","","","","","",null,"",""]
[null,null,"0200XXCS","240315-C04","J4P3488","0060","203707596",86950,"COMPACTING IN CUT","E056","240315-C04","230818-A08",null,"","","","","","","",null,"",""]
[null,null,"0200XXCS","240315-F02","J6S2319","0040","203600096",87792,"COMPACTING EMBANKMENT","E056","240315-F02","230818-A08",null,"","","","","","","",null,"",""]
[null,null,"0200XXCS","240315-F02","J6S2319","0050","203707596",87793,"COMPACTING IN CUT","E056","240315-F02","230818-A10",null,"","","","","","","",null,"",""]
[null,null,"0200XXCS","240315-F02","J6S3563","0730","203550096",87841,"EMBANKMENT IN PLACE","E056","240315-F02","230818-B01",null,"","","","","","","",null,"",""]
[null,null,"0200XXCS","240315-F02","J6S3563","0740","203600096",87842,"COMPACTING EMBANKMENT","E056","240315-F02","230818-B01",null,"","","","","","","",null,"",""]
[null,null,"0200XXCS","240315-F02","J6S3563","0750","203707596",87843,"COMPACTING IN CUT","E056","240315-F02","230818-B02",null,"","","","","","","",null,"",""]
[null,null,"0200XXCS","240315-F02","J6S2319","5002","203550096",91376,"EMBANKMENT IN PLACE","E056","240315-F02","230818-B02",null,"","","","","","","",null,"",""]
[null,null,"0200XXCS","240315-G01","J7S3501","0020","203550096",87699,"EMBANKMENT IN PLACE","E056","240315-G01","230818-C01",null,"","","","","","","",null,"",""]
[null,null,"0200XXCS","240315-G06","JSU0101","0050","203600096",87330,"COMPACTING EMBANKMENT","E056","240315-G06","230818-C03",null,"","","","","","","",null,"",""]
[null,null,"0200XXCS","240315-G06","JSU0101","0060","203707596",87331,"COMPACTING IN CUT","E056","240315-G06","230818-F03",null,"","","","","","","",null,"",""]
[null,null,"0200XXCS","240315-H03","JSE0086","0910","203550096",87513,"EMBANKMENT IN PLACE","E056","240315-H03","230818-F03",null,"","","","","","","",null,"",""]
[null,null,"0200XXCS","240315-H03","JSE0086","0920","203600096",87514,"COMPACTING EMBANKMENT","E056","240315-H03","230818-H01",null,"","","","","","","",null,"",""]
[null,null,"0200XXCS","240315-H03","JSE0086","0940","2101006A96",87515,"SUBGRADE COMPACTION (6-INCH DEPTH)","E056","240315-H03","230915-A03",null,"","","","","","","",null,"",""]
[null,null,"0200XXCS","240315-H03","JSE0088","1280","2101006A96",87484,"SUBGRADE COMPACTION (6-INCH DEPTH)","E056","240315-H03","230915-A03",null,"","","","","","","",null,"",""]
[null,null,"0200XXCS","240315-H12","J9S3688","0040","203600096",87622,"COMPACTING EMBANKMENT","E056","240315-H12","230915-A03",null,"","","","","","","",null,"",""]
[null,null,"0200XXCS","240419-A03","JNW0129","0020","613101296",88223,"SUBGRADE COMPACTION (6 IN. DEPTH) (PAVEMENT REPAIR)","E056","240419-A03","230915-A03",null,"","","","","","","",null,"",""]
[null,null,"0200XXCS","240419-B01","JNE0127","0040","203600096",88967,"COMPACTING EMBANKMENT","E056","240419-B01","230915-A03",null,"","","","","","","",null,"",""]
[null,null,"0200XXCS","240419-B01","JNE0127","0050","2101006A96",88968,"SUBGRADE COMPACTION (6-INCH DEPTH)","E056","240419-B01","230915-B01",null,"","","","","","","",null,"",""]
[null,null,"0200XXCS","240419-C02","J4I3366","0080","613101296",89298,"SUBGRADE COMPACTION (6 IN. DEPTH) (PAVEMENT REPAIR)","E056","240419-C02","230915-B01",null,"","","","","","","",null,"",""]
[null,null,"0200XXCS","240419-C02","J4I3366B","0350","613101296",89318,"SUBGRADE COMPACTION (6 IN. DEPTH) (PAVEMENT REPAIR)","E056","240419-C02","230915-B01",null,"","","","","","","",null,"",""]
[null,null,"0200XXCS","240419-C06","JKU0406","0030","203600096",88318,"COMPACTING EMBANKMENT","E056","240419-C06","230915-C01",null,"","","","","","","",null,"",""]
[null,null,"0200XXCS","240419-D03","J5P3516","0020","2101006A96",89245,"SUBGRADE COMPACTION (6-INCH DEPTH)","E056","240419-D03","230915-C01",null,"","","","","","","",null,"",""]
[null,null,"0200XXCS","240419-F01","J6S3368","0040","203600096",88352,"COMPACTING EMBANKMENT","E056","240419-F01","230915-C01",null,"","","","","","","",null,"",""]
[null,null,"0200XXCS","240419-F02","J6S3417","0040","203600096",88423,"COMPACTING EMBANKMENT","E056","240419-F02","230915-C01",null,"","","","","","","",null,"",""]
[null,null,"0200XXCS","240419-F02","J6S3417","0420","613101296",88450,"SUBGRADE COMPACTION (6 IN. DEPTH) (PAVEMENT REPAIR)","E056","240419-F02","230915-D01",null,"","","","","","","",null,"",""]
[null,null,"0200XXCS","240419-F03","J6S3480","0060","613101296",88581,"SUBGRADE COMPACTION (6 IN. DEPTH) (PAVEMENT REPAIR)","E056","240419-F03","230915-G03",null,"","","","","","","",null,"",""]
[null,null,"0200XXCS","240419-F05","J6S3599","0030","203550096",88788,"EMBANKMENT IN PLACE","E056","240419-F05","230915-G04",null,"","","","","","","",null,"",""]
[null,null,"0200XXCS","240419-F05","J6S3599","0040","203707596",88789,"COMPACTING IN CUT","E056","240419-F05","230915-G04",null,"","","","","","","",null,"",""]
[null,null,"0200XXCS","240419-F06","J6S3640","0040","203600096",88826,"COMPACTING EMBANKMENT","E056","240419-F06","230915-G05",null,"","","","","","","",null,"",""]
[null,null,"0200XXCS","240419-F4A","J6S3480B","0060","613101296",88605,"SUBGRADE COMPACTION (6 IN. DEPTH) (PAVEMENT REPAIR)","E056","240419-F4A","230915-G05",null,"","","","","","","",null,"",""]
[null,null,"0200XXCS","240419-G05","J8S3224","2180","613101296",89182,"SUBGRADE COMPACTION (6 IN. DEPTH) (PAVEMENT REPAIR)","E056","240419-G05","230915-G05",null,"","","","","","","",null,"",""]
[null,null,"0200XXCS","240419-H04","J9P3739","0040","203550096",89374,"EMBANKMENT IN PLACE","E056","240419-H04","231020-C02",null,"","","","","","","",null,"",""]
[null,null,"0200XXCS","240419-H04","J9P3739","0050","203600096",89375,"COMPACTING EMBANKMENT","E056","240419-H04","231020-C03",null,"","","","","","","",null,"",""]
[null,null,"0200XXCS","240419-H04","J9P3739","0080","2101006A96",89376,"SUBGRADE COMPACTION (6-INCH DEPTH)","E056","240419-H04","231020-D02",null,"","","","","","","",null,"",""]
[null,null,"0200XXCS","240419-H08","J9S3589","0040","203600096",89467,"COMPACTING EMBANKMENT","E056",{"$f":"IF(C675=$C$162,D675,\"\")","v":"240419-H08"},"231020-D03",null,{"$f":"(IF(K675=\"\",\"\",IF(OR(D675=$J$33,D675=$T$33, D675=$O$33),D675,\"\")))","v":""},{"$f":"IF(N675=\"\",\"\",F675)","v":""},{"$f":"IF(N675=\"\", \"\", E675)","v":""},{"$f":"IF(N675=\"\", \"\", G675)","v":""},{"$f":"IF(N675=\"\",\"\",I675)","v":""},{"$f":"IF(N675=\"\",\"\",J675)","v":""},"",null,"",""]
[null,null,"0200XXCS","240419-H08","J9S3589","0070","2101006A96",89469,"SUBGRADE COMPACTION (6-INCH DEPTH)","E056","240419-H08","231020-D03",null,"","","","","","",{"$f":"IF(N676=\"\",\"\",H676)","v":""},null,"",""]
[null,null,"0200XXCS","240419-H11","JSE0089","0030","203550096",89426,"EMBANKMENT IN PLACE","E056","240419-H11","231020-F03",null,"","","","","","","",null,"",""]
[null,null,"0200XXCS","240419-H11","JSE0089","0040","203600096",89425,"COMPACTING EMBANKMENT","E056","240419-H11","231020-F03",null,"","","","","","","",null,"",""]
[null,null,"0200XXCS","240517-A01","J1P3373","0040","203600096",90008,"COMPACTING EMBANKMENT","E056","240517-A01","231020-F03",null,"","","","","","","",null,"",""]
[null,null,"0200XXCS","240517-A01","J1P3373","0050","203707596",90009,"COMPACTING IN CUT","E056","240517-A01","231020-F07",null,"","","","","","","",null,"",""]
[null,null,"0200XXCS","240517-B01","J2P3043","0060","203550096",90111,"EMBANKMENT IN PLACE","E056","240517-B01","231020-F07",null,"","","","","","","",null,"",""]
[null,null,"0200XXCS","240517-B01","J2P3043","0070","203600096",90112,"COMPACTING EMBANKMENT","E056","240517-B01","231020-G02",null,"","","","","","","",null,"",""]
[null,null,"0200XXCS","240517-C04","J4S3454","0050","203550096",89699,"EMBANKMENT IN PLACE","E056","240517-C04","231020-G02",null,"","","","","","","",null,"",""]
[null,null,"0200XXCS","240517-C04","J4S3454","0060","203600096",89700,"COMPACTING EMBANKMENT","E056","240517-C04","231020-G05",null,"","","","","","","",null,"",""]
[null,null,"0200XXCS","240517-C04","J4S3454","0090","2101006A96",89701,"SUBGRADE COMPACTION (6-INCH DEPTH)","E056","240517-C04","231020-G05",null,"","","","","","","",null,"",""]
[null,null,"0200XXCS","240517-C05","JKU0033","0030","203550096",89736,"EMBANKMENT IN PLACE","E056","240517-C05","231020-G05",null,"","","","","","","",null,"",""]
[null,null,"0200XXCS","240517-C05","JKU0033","0040","203600096",89737,"COMPACTING EMBANKMENT","E056","240517-C05","231117-A01",null,"","","","","","","",null,"",""]
[null,null,"0200XXCS","240517-C05","JKU0033","0050","203707596",89738,"COMPACTING IN CUT","E056","240517-C05","231117-A01",null,"","","","","","","",null,"",""]
[null,null,"0200XXCS","240517-D01","J5P3420","0040","203550096",90574,"EMBANKMENT IN PLACE","E056","240517-D01","231117-A01",null,"","","","","","","",null,"",""]
[null,null,"0200XXCS","240517-D01","J5P3420","0050","203600096",90575,"COMPACTING EMBANKMENT","E056","240517-D01","231117-A01",null,"","","","","","","",null,"",""]
[null,null,"0200XXCS","240517-D05","J5P3575","0030","203550096",91189,"EMBANKMENT IN PLACE","E056","240517-D05","231117-D07",null,"","","","","","","",null,"",""]
[null,null,"0200XXCS","240517-D05","J5P3575","0040","203600096",91190,"COMPACTING EMBANKMENT","E056","240517-D05","231117-D08",null,"","","","","","","",null,"",""]
[null,null,"0200XXCS","240517-D07","JCD0030","0040","203550096",90057,"EMBANKMENT IN PLACE","E056","240517-D07","231117-D08",null,"","","","","","","",null,"",""]
[null,null,"0200XXCS","240517-D07","JCD0030","0050","203600096",90058,"COMPACTING EMBANKMENT","E056","240517-D07","231117-D2A",null,"","","","","","","",null,"",""]
[null,null,"0200XXCS","240517-F07","J6S3278","0230","613101296",90815,"SUBGRADE COMPACTION (6 IN. DEPTH) (PAVEMENT REPAIR)","E056","240517-F07","231117-D2A",null,"","","","","","","",null,"",""]
[null,null,"0200XXCS","240517-F08","J6S3416","0690"," 2079909",91389,"MODIFIED LINEAR GRADING CLASS 2","E056","240517-F08","231117-D2A",null,"","","","","","","",null,"",""]
[null,null,"0200XXCS","240517-F08","J6S3416","0920","613101296",90972,"SUBGRADE COMPACTION (6 IN. DEPTH) (PAVEMENT REPAIR)","E056","240517-F08","231117-D2B",null,"","","","","","","",null,"",""]
[null,null,"0200XXCS","240517-F11","JSL0093","0040","203600096",91481,"COMPACTING EMBANKMENT","E056","240517-F11","231117-D2B",null,"","","","","","","",null,"",""]
[null,null,"0200XXCS","240517-G08","JSR0092","0410","203600096",89853,"COMPACTING EMBANKMENT","E056","240517-G08","231117-D2B",null,"","","","","","","",null,"",""]
[null,null,"0200XXCS","240517-G08","JSR0092","0420","203707596",89854,"COMPACTING IN CUT","E056","240517-G08","231117-F01",null,"","","","","","","",null,"",""]
[null,null,"0200XXCS","240517-G11","J7P3484C","0030","203550096",91117,"EMBANKMENT IN PLACE","E056","240517-G11","231117-F01",null,"","","","","","","",null,"",""]
[null,null,"0200XXCS","240517-G11","J7P3484C","0040","203600096",91118,"COMPACTING EMBANKMENT","E056","240517-G11","231117-F02",null,"","","","","","","",null,"",""]
[null,null,"0200XXCS","240517-H03","J9S3669","0910","203550096",90665,"EMBANKMENT IN PLACE","E056","240517-H03","231117-H01",null,"","","","","","","",null,"",""]
[null,null,"0200XXCS","240517-H03","J9S3669","0920","203600096",90666,"COMPACTING EMBANKMENT","E056","240517-H03","231215-B01",null,"","","","","","","",null,"",""]
[null,null,"0200XXCS","240517-H03","J9S3676","1245","203550096",90687,"EMBANKMENT IN PLACE","E056","240517-H03","231215-B01",null,"","","","","","","",null,"",""]
[null,null,"0200XXCS","240517-H03","J9S3676","1250","203600096",90688,"COMPACTING EMBANKMENT","E056","240517-H03","231215-B01",null,"","","","","","","",null,"",""]
[null,null,"0200XXCS","240517-H03","J9S3676","1260","203707596",90689,"COMPACTING IN CUT","E056","240517-H03","231215-C01",null,"","","","","","","",null,"",""]
[null,null,"0200XXCS","240517-H04","J9S3610","0100","203550096",90361,"EMBANKMENT IN PLACE","E056","240517-H04","231215-C01",null,"","","","","","","",null,"",""]
[null,null,"0200XXCS","240517-H04","J9S3610","0110","203600096",90362,"COMPACTING EMBANKMENT","E056","240517-H04","231215-C01",null,"","","","","","","",null,"",""]
[null,null,"0200XXCS","240517-H04","J9S3610","0120","203707596",90363,"COMPACTING IN CUT","E056","240517-H04","231215-C02",null,"","","","","","","",null,"",""]
[null,null,"0200XXCS","240621-A02","J1S3276","0030","203550096",92125,"EMBANKMENT IN PLACE","E056","240621-A02","231215-C02",null,"","","","","","","",null,"",""]
[null,null,"0200XXCS","240621-A02","J1S3276","0040","203600096",92126,"COMPACTING EMBANKMENT","E056","240621-A02","231215-D02",null,"","","","","","","",null,"",""]
[null,null,"0200XXCS","240621-A03","JNW0033","0050","613101296",91807,"SUBGRADE COMPACTION (6 IN. DEPTH) (PAVEMENT REPAIR)","E056","240621-A03","231215-F01",null,"","","","","","","",null,"",""]
[null,null,"0200XXCS","240621-B01","J2P3245","0160","613101296",92164,"SUBGRADE COMPACTION (6 IN. DEPTH) (PAVEMENT REPAIR)","E056","240621-B01","231215-F01",null,"","","","","","","",null,"",""]
[null,null,"0200XXCS","240621-B03","JNE0121","0420","613101296",91669,"SUBGRADE COMPACTION (6 IN. DEPTH) (PAVEMENT REPAIR)","E056","240621-B03","231215-F01",null,"","","","","","","",null,"",""]
[null,null,"0200XXCS","240621-C01","J3S3204","0040","203600096",91883,"COMPACTING EMBANKMENT","E056","240621-C01","231215-G01",null,"","","","","","","",null,"",""]
[null,null,"0200XXCS","240621-F01","JSL0047","0190","613101296",91851,"SUBGRADE COMPACTION (6 IN. DEPTH) (PAVEMENT REPAIR)","E056","240621-F01","231215-G01",null,"","","","","","","",null,"",""]
[null,null,"0200XXCS","240708-B01","JNE0140","0040","203550096",91596,"EMBANKMENT IN PLACE","E056","240708-B01","231215-G01",null,"","","","","","","",null,"",""]
[null,null,"0200XXCS","240708-B01","JNE0140","0050","203600096",91597,"COMPACTING EMBANKMENT","E056","240708-B01","231215-H01",null,"","","","","","","",null,"",""]
[null,null,"0200XXCS","240708-B01","JNE0140","0060","2101006A96",91598,"SUBGRADE COMPACTION (6-INCH DEPTH)","E056","240708-B01","231215-H03",null,"","","","","","","",null,"",""]
[null,null,"0200XXCS","240816-C04","JKU0072","0100","613101296",92964,"SUBGRADE COMPACTION (6 IN. DEPTH) (PAVEMENT REPAIR)","E056","240816-C04","231215-H04",null,"","","","","","","",null,"",""]
[null,null,"0200XXCS","240816-D01","J5P3522","0030","2101006A96",92933,"SUBGRADE COMPACTION (6-INCH DEPTH)","E056","240816-D01","231215-H04",null,"","","","","","","",null,"",""]
[null,null,"0200XXCS","240816-F02","J6S3633","0380","613101296",92525,"SUBGRADE COMPACTION (6 IN. DEPTH) (PAVEMENT REPAIR)","E056","240816-F02","240109-A01",null,"","","","","","","",null,"",""]
[null,null,"0200XXCS","240816-G02","J7S0532","0030","203550096",92812,"EMBANKMENT IN PLACE","E056","240816-G02","240109-A01",null,"","","","","","","",null,"",""]
[null,null,"0200XXCS","240816-G02","J7S0532","0040","203600096",92813,"COMPACTING EMBANKMENT","E056","240816-G02","240109-A01",null,"","","","","","","",null,"",""]
[null,null,"0200XXCS","240816-G02","J7S0532","0050","203707596",92814,"COMPACTING IN CUT","E056","240816-G02","240109-A01",null,"","","","","","","",null,"",""]
[null,null,"0200XXCS","240920-A01","JNW0002","0080","203600096",94348,"COMPACTING EMBANKMENT","E056","240920-A01","240109-A01",null,"","","","","","","",null,"",""]
[null,null,"0200XXCS","240920-A04","JNW0031","0040","203550096",93555,"EMBANKMENT IN PLACE","E056","240920-A04","240109-A01",null,"","","","","","","",null,"",""]
[null,null,"0200XXCS","240920-A04","JNW0031","0050","203600096",93556,"COMPACTING EMBANKMENT","E056","240920-A04","240109-A01",null,"","","","","","","",null,"",""]
[null,null,"0200XXCS","240920-B01","JNE0033","0100","2101006A96",94713,"SUBGRADE COMPACTION (6-INCH DEPTH)","E056","240920-B01","240109-A01",null,"","","","","","","",null,"",""]
[null,null,"0200XXCS","240920-C02","JKU0020","0100","613101296",93617,"SUBGRADE COMPACTION (6 IN. DEPTH) (PAVEMENT REPAIR)","E056","240920-C02","240109-A01",null,"","","","","","","",null,"",""]
[null,null,"0200XXCS","240920-C03","JKU0046","0080","613101296",93212,"SUBGRADE COMPACTION (6 IN. DEPTH) (PAVEMENT REPAIR)","E056","240920-C03","240109-A01",null,"","","","","","","",null,"",""]
[null,null,"0200XXCS","240920-C03","JKU0054","0470","613101296",93263,"SUBGRADE COMPACTION (6 IN. DEPTH) (PAVEMENT REPAIR)","E056","240920-C03","240109-A01",null,"","","","","","","",null,"",""]
[null,null,"0200XXCS","240920-C04","JKU0050","0030","2101006A96",94044,"SUBGRADE COMPACTION (6-INCH DEPTH)","E056","240920-C04","240109-A01",null,"","","","","","","",null,"",""]
[null,null,"0200XXCS","240920-C04","JKU0050","0170","613101296",94056,"SUBGRADE COMPACTION (6 IN. DEPTH) (PAVEMENT REPAIR)","E056","240920-C04","240109-A01",null,"","","","","","","",null,"",""]
[null,null,"0200XXCS","240920-C04","JKU0052","0520","2101006A96",94082,"SUBGRADE COMPACTION (6-INCH DEPTH)","E056","240920-C04","240109-A01",null,"","","","","","","",null,"",""]
[null,null,"0200XXCS","240920-C04","JKU0052","0630","613101296",94092,"SUBGRADE COMPACTION (6 IN. DEPTH) (PAVEMENT REPAIR)","E056","240920-C04","240109-A01",null,"","","","","","","",null,"",""]
[null,null,"0200XXCS","240920-C06","JKU0073","0060","613101296",93584,"SUBGRADE COMPACTION (6 IN. DEPTH) (PAVEMENT REPAIR)","E056","240920-C06","240109-A01",null,"","","","","","","",null,"",""]
[null,null,"0200XXCS","240920-D01","J5P3498","0050","203600096",93289,"COMPACTING EMBANKMENT","E056",{"$f":"IF(C739=$C$162,D739,\"\")","v":"240920-D01"},"240109-A01",null,{"$f":"(IF(K739=\"\",\"\",IF(OR(D739=$J$33,D739=$T$33, D739=$O$33),D739,\"\")))","v":""},{"$f":"IF(N739=\"\",\"\",F739)","v":""},{"$f":"IF(N739=\"\", \"\", E739)","v":""},{"$f":"IF(N739=\"\", \"\", G739)","v":""},{"$f":"IF(N739=\"\",\"\",I739)","v":""},{"$f":"IF(N739=\"\",\"\",J739)","v":""},"",null,"",""]
[null,null,"0200XXCS","240920-D02","J5S3336","0040","203550096",93431,"EMBANKMENT IN PLACE","E056","240920-D02","240109-A01",null,"","","","","","",{"$f":"IF(N740=\"\",\"\",H740)","v":""},null,"",""]
[null,null,"0200XXCS","240920-D02","J5S3336","0050","203600096",93432,"COMPACTING EMBANKMENT","E056","240920-D02","240109-A01",null,"","","","","","","",null,"",""]
[null,null,"0200XXCS","240920-D07","JCD0122","0020","203550096",94308,"EMBANKMENT IN PLACE","E056","240920-D07","240109-A01",null,"","","","","","","",null,"",""]
[null,null,"0200XXCS","240920-D10","JCD0177","0050","203600096",93712,"COMPACTING EMBANKMENT","E056","240920-D10","240109-A01",null,"","","","","","","",null,"",""]
[null,null,"0200XXCS","240920-H01","J9P3687","0040","203550096",93796,"EMBANKMENT IN PLACE","E056","240920-H01","240109-A01",null,"","","","","","","",null,"",""]
[null,null,"0200XXCS","240920-H01","J9P3687","0050","203600096",93797,"COMPACTING EMBANKMENT","E056","240920-H01","240109-A01",null,"","","","","","","",null,"",""]
[null,null,"0200XXCS","240920-H02","J9P3751","0050","203550096",93853,"EMBANKMENT IN PLACE","E056","240920-H02","240109-A01",null,"","","","","","","",null,"",""]
[null,null,"0200XXCS","240920-H02","J9P3751","0060","203600096",93854,"COMPACTING EMBANKMENT","E056","240920-H02","240109-A01",null,"","","","","","","",null,"",""]
[null,null,"0200XXCS","240920-H02","J9P3751","0070","203707596",93855,"COMPACTING IN CUT","E056","240920-H02","240109-A01",null,"","","","","","","",null,"",""]
[null,null,"0200XXCS","240920-H02","J9P3764","1570","203550096",93958,"EMBANKMENT IN PLACE","E056","240920-H02","240109-A01",null,"","","","","","","",null,"",""]
[null,null,"0200XXCS","240920-H02","J9P3764","1580","203600096",93959,"COMPACTING EMBANKMENT","E056","240920-H02","240109-A01",null,"","","","","","","",null,"",""]
[null,null,"0200XXCS","240920-H02","J9P3764","1590","203707596",93960,"COMPACTING IN CUT","E056","240920-H02","240109-A01",null,"","","","","","","",null,"",""]
[null,null,"0200XXCS","241018-A04","JNW0133","0050","203550096",96222,"EMBANKMENT IN PLACE","E056","241018-A04","240109-A01",null,"","","","","","","",null,"",""]
[null,null,"0200XXCS","241018-A04","JNW0133","0060","203600096",96223,"COMPACTING EMBANKMENT","E056","241018-A04","240109-A01",null,"","","","","","","",null,"",""]
[null,null,"0200XXCS","241018-A04","JNW0133","0070","203707596",96224,"COMPACTING IN CUT","E056","241018-A04","240119-B01",null,"","","","","","","",null,"",""]
[null,null,"0200XXCS","241018-A04","JNW0133","0080","2051010",96407,"MODIFIED SUBGRADE","E056","241018-A04","240119-B01",null,"","","","","","","",null,"",""]
[null,null,"0200XXCS","241018-A04","JNW0133","0550","613101296",96294,"SUBGRADE COMPACTION (6 IN. DEPTH) (PAVEMENT REPAIR)","E056","241018-A04","240119-B02",null,"","","","","","","",null,"",""]
[null,null,"0200XXCS","241018-B01","J2P3354","0110","613101296",94896,"SUBGRADE COMPACTION (6 IN. DEPTH) (PAVEMENT REPAIR)","E056","241018-B01","240119-B02",null,"","","","","","","",null,"",""]
[null,null,"0200XXCS","241018-C02","J4P3468","0030","203600096",95353,"COMPACTING EMBANKMENT","E056","241018-C02","240119-B02",null,"","","","","","","",null,"",""]
[null,null,"0200XXCS","241018-C02","J4P3468","0060","2101006A96",95354,"SUBGRADE COMPACTION (6-INCH DEPTH)","E056","241018-C02","240119-B04",null,"","","","","","","",null,"",""]
[null,null,"0200XXCS","241018-C04","JKR0090","0030","203550096",95387,"EMBANKMENT IN PLACE","E056","241018-C04","240119-B05",null,"","","","","","","",null,"",""]
[null,null,"0200XXCS","241018-C04","JKR0090","0040","203600096",95388,"COMPACTING EMBANKMENT","E056","241018-C04","240119-C01",null,"","","","","","","",null,"",""]
[null,null,"0200XXCS","241018-C04","JKR0090","0050","2101006A96",95389,"SUBGRADE COMPACTION (6-INCH DEPTH)","E056","241018-C04","240119-C01",null,"","","","","","","",null,"",""]
[null,null,"0200XXCS","241018-C04","JKR0090","0130","613101296",95396,"SUBGRADE COMPACTION (6 IN. DEPTH) (PAVEMENT REPAIR)","E056","241018-C04","240119-F7A",null,"","","","","","","",null,"",""]
[null,null,"0200XXCS","241018-C05","JKU0018","0050","613101296",95497,"SUBGRADE COMPACTION (6 IN. DEPTH) (PAVEMENT REPAIR)","E056","241018-C05","240119-G02",null,"","","","","","","",null,"",""]
[null,null,"0200XXCS","241018-C05","JKU0029","0450","613101296",95528,"SUBGRADE COMPACTION (6 IN. DEPTH) (PAVEMENT REPAIR)","E056","241018-C05","240119-G03",null,"","","","","","","",null,"",""]
[null,null,"0200XXCS","241018-C06","JKU0036","0080","613101296",95663,"SUBGRADE COMPACTION (6 IN. DEPTH) (PAVEMENT REPAIR)","E056","241018-C06","240119-G03",null,"","","","","","","",null,"",""]
[null,null,"0200XXCS","241018-C08","JKU0060","0090","613101296",95218,"SUBGRADE COMPACTION (6 IN. DEPTH) (PAVEMENT REPAIR)","E056","241018-C08","240119-G03",null,"","","","","","","",null,"",""]
[null,null,"0200XXCS","241018-C10","JKU0074","0070","613101296",95691,"SUBGRADE COMPACTION (6 IN. DEPTH) (PAVEMENT REPAIR)","E056","241018-C10","240119-G03",null,"","","","","","","",null,"",""]
[null,null,"0200XXCS","241018-D01","J5P3433","0030","203550096",95726,"EMBANKMENT IN PLACE","E056","241018-D01","240119-G03",null,"","","","","","","",null,"",""]
[null,null,"0200XXCS","241018-D01","J5P3433","0040","203600096",95727,"COMPACTING EMBANKMENT","E056","241018-D01","240119-G03",null,"","","","","","","",null,"",""]
[null,null,"0200XXCS","241018-D2A","J5P3500","0030","203600096",95434,"COMPACTING EMBANKMENT","E056","241018-D2A","240119-G04",null,"","","","","","","",null,"",""]
[null,null,"0200XXCS","241018-F03","J6S3582","0030","203600096",94988,"COMPACTING EMBANKMENT","E056","241018-F03","240119-G04",null,"","","","","","","",null,"",""]
[null,null,"0200XXCS","241018-F03","J6S3582","0480","613101296",95019,"SUBGRADE COMPACTION (6 IN. DEPTH) (PAVEMENT REPAIR)","E056","241018-F03","240119-G06",null,"","","","","","","",null,"",""]
[null,null,"0200XXCS","241018-F04","JSL0028","0020","203550096",96134,"EMBANKMENT IN PLACE","E056","241018-F04","240119-H03",null,"","","","","","","",null,"",""]
[null,null,"0200XXCS","241018-F04","JSL0028","0240","613101296",96150,"SUBGRADE COMPACTION (6 IN. DEPTH) (PAVEMENT REPAIR)","E056","241018-F04","240119-H03",null,"","","","","","","",null,"",""]
[null,null,"0200XXCS","241018-F07","JSL0011","0050","613101296",96206,"SUBGRADE COMPACTION (6 IN. DEPTH) (PAVEMENT REPAIR)","E056","241018-F07","240119-H06",null,"","","","","","","",null,"",""]
[null,null,"0200XXCS","241018-H07","JSEM0061","0050","203707596",96551,"COMPACTING IN CUT","E056","241018-H07","240119-H06",null,"","","","","","","",null,"",""]
[null,null,"0200XXCS","241025-A07","JNW0145","0040","2101006A96",96012,"SUBGRADE COMPACTION (6-INCH DEPTH)","E056","241025-A07","240119-H07",null,"","","","","","","",null,"",""]
[null,null,"0200XXCS","241115-A01","JNW0009","0040","203550096",96951,"EMBANKMENT IN PLACE","E056","241115-A01","240119-H07",null,"","","","","","","",null,"",""]
[null,null,"0200XXCS","241115-A01","JNW0009","0050","203600096",96952,"COMPACTING EMBANKMENT","E056","241115-A01","240119-H07",null,"","","","","","","",null,"",""]
[null,null,"0200XXCS","241115-A02","JNW0112","0040","203550096",96898,"EMBANKMENT IN PLACE","E056","241115-A02","240119-H07",null,"","","","","","","",null,"",""]
[null,null,"0200XXCS","241115-A02","JNW0112","0050","203600096",96899,"COMPACTING EMBANKMENT","E056","241115-A02","240119-H08",null,"","","","","","","",null,"",""]
[null,null,"0200XXCS","241115-B02","J2S3195","0040","203550096",97667,"EMBANKMENT IN PLACE","E056","241115-B02","240119-H08",null,"","","","","","","",null,"",""]
[null,null,"0200XXCS","241115-B02","J2S3195","0050","203600096",97668,"COMPACTING EMBANKMENT","E056","241115-B02","240119-H08",null,"","","","","","","",null,"",""]
[null,null,"0200XXCS","241115-B02","J2S3195","0070","2101006A96",97669,"SUBGRADE COMPACTION (6-INCH DEPTH)","E056","241115-B02","240119-H08",null,"","","","","","","",null,"",""]
[null,null,"0200XXCS","241115-B02","J2S3314","0470","203550096",97698,"EMBANKMENT IN PLACE","E056","241115-B02","240119-H08",null,"","","","","","","",null,"",""]
[null,null,"0200XXCS","241115-B02","J2S3314","0480","203600096",97699,"COMPACTING EMBANKMENT","E056","241115-B02","240119-H08",null,"","","","","","","",null,"",""]
[null,null,"0200XXCS","241115-B02","J2S3314","0500","2101006A96",97700,"SUBGRADE COMPACTION (6-INCH DEPTH)","E056","241115-B02","240216-A01",null,"","","","","","","",null,"",""]
[null,null,"0200XXCS","241115-C02","J4P3268D","0030","203550096",97566,"EMBANKMENT IN PLACE","E056","241115-C02","240216-B01",null,"","","","","","","",null,"",""]
[null,null,"0200XXCS","241115-C04","JKU0059","0050","613101296",97742,"SUBGRADE COMPACTION (6 IN. DEPTH) (PAVEMENT REPAIR)","E056","241115-C04","240216-B01",null,"","","","","","","",null,"",""]
[null,null,"0200XXCS","241115-D02","J5P3574","0030","203600096",98724,"COMPACTING EMBANKMENT","E056","241115-D02","240216-B02",null,"","","","","","","",null,"",""]
[null,null,"0200XXCS","241115-D02","JCD0044","1340","613101296",98795,"SUBGRADE COMPACTION (6 IN. DEPTH) (PAVEMENT REPAIR)","E056","241115-D02","240216-B02",null,"","","","","","","",null,"",""]
[null,null,"0200XXCS","241115-F01","J6I3538","0030","203550096",97215,"EMBANKMENT IN PLACE","E056","241115-F01","240216-C01",null,"","","","","","","",null,"",""]
[null,null,"0200XXCS","241115-F01","J6I3538","0040","203600096",97216,"COMPACTING EMBANKMENT","E056","241115-F01","240216-C01",null,"","","","","","","",null,"",""]
[null,null,"0200XXCS","241115-F01","J6I3538","0050","203707596",97217,"COMPACTING IN CUT","E056","241115-F01","240216-C03",null,"","","","","","","",null,"",""]
[null,null,"0200XXCS","241115-F05","JSL0076","0280","613101296",98188,"SUBGRADE COMPACTION (6 IN. DEPTH) (PAVEMENT REPAIR)","E056","241115-F05","240216-D04",null,"","","","","","","",null,"",""]
[null,null,"0200XXCS","241115-F10","JSL0077","0240","613101296",98270,"SUBGRADE COMPACTION (6 IN. DEPTH) (PAVEMENT REPAIR)","E056","241115-F10","240216-D04",null,"","","","","","","",null,"",""]
[null,null,"0200XXCS","241115-G02","J8S0736F","0050","203550096",98450,"EMBANKMENT IN PLACE","E056","241115-G02","240216-G07",null,"","","","","","","",null,"",""]
[null,null,"0200XXCS","241115-G02","J8S0736F","0060","203600096",98451,"COMPACTING EMBANKMENT","E056","241115-G02","240216-H02",null,"","","","","","","",null,"",""]
[null,null,"0200XXCS","241115-G02","J8S0736F","0070","203707596",98452,"COMPACTING IN CUT","E056","241115-G02","240315-C04",null,"","","","","","","",null,"",""]
[null,null,"0200XXCS","241115-G02","JSU0216","1070","203550096",98408,"EMBANKMENT IN PLACE","E056","241115-G02","240315-C04",null,"","","","","","","",null,"",""]
[null,null,"0200XXCS","241115-G02","JSU0216","1080","203600096",98409,"COMPACTING EMBANKMENT","E056","241115-G02","240315-C04",null,"","","","","","","",null,"",""]
[null,null,"0200XXCS","241115-G02","JSU0216","1090","2039907",99325,"OVEREXCAVATION OF UNSUITABLE SOILS/COMPACTED CLAY FILL BELOW 12\" FROM EXISTING GROUND","E056",{"$f":"IF(C803=$C$162,D803,\"\")","v":"241115-G02"},"240315-F02",null,{"$f":"(IF(K803=\"\",\"\",IF(OR(D803=$J$33,D803=$T$33, D803=$O$33),D803,\"\")))","v":""},{"$f":"IF(N803=\"\",\"\",F803)","v":""},{"$f":"IF(N803=\"\", \"\", E803)","v":""},{"$f":"IF(N803=\"\", \"\", G803)","v":""},{"$f":"IF(N803=\"\",\"\",I803)","v":""},{"$f":"IF(N803=\"\",\"\",J803)","v":""},"",null,"",""]
[null,null,"0200XXCS","241115-G05","JSR0094","0040","203550096",97493,"EMBANKMENT IN PLACE","E056","241115-G05","240315-F02",null,"","","","","","",{"$f":"IF(N804=\"\",\"\",H804)","v":""},null,"",""]
[null,null,"0200XXCS","241115-G05","JSR0094","0050","203600096",97494,"COMPACTING EMBANKMENT","E056","241115-G05","240315-F02",null,"","","","","","","",null,"",""]
[null,null,"0200XXCS","241115-G05","JSR0094","0060","203707596",97495,"COMPACTING IN CUT","E056","241115-G05","240315-F02",null,"","","","","","","",null,"",""]
[null,null,"0200XXCS","241115-G05","JSR0094","0070","2101006A96",97496,"SUBGRADE COMPACTION (6-INCH DEPTH)","E056","241115-G05","240315-F02",null,"","","","","","","",null,"",""]
[null,null,"0200XXCS","241115-G10","JSR0095","0040","203550096",97361,"EMBANKMENT IN PLACE","E056","241115-G10","240315-F02",null,"","","","","","","",null,"",""]
[null,null,"0200XXCS","241115-G10","JSR0095","0050","203600096",97362,"COMPACTING EMBANKMENT","E056","241115-G10","240315-G01",null,"","","","","","","",null,"",""]
[null,null,"0200XXCS","241115-G3A","J8S3238","0040","203550096",98933,"EMBANKMENT IN PLACE","E056","241115-G3A","240315-G06",null,"","","","","","","",null,"",""]
[null,null,"0200XXCS","241115-G3A","J8S3238","0050","203600096",98934,"COMPACTING EMBANKMENT","E056","241115-G3A","240315-G06",null,"","","","","","","",null,"",""]
[null,null,"0200XXCS","241115-H01","J9P3548","0060","203600096",97094,"COMPACTING EMBANKMENT","E056","241115-H01","240315-G06",null,"","","","","","","",null,"",""]
[null,null,"0200XXCS","241115-H04","JSE0002","0130","613101296",98698,"SUBGRADE COMPACTION (6 IN. DEPTH) (PAVEMENT REPAIR)","E056","241115-H04","240315-H03",null,"","","","","","","",null,"",""]
[null,null,"0200XXCS","241115-H08","J9S3516","0090","613101296",97329,"SUBGRADE COMPACTION (6 IN. DEPTH) (PAVEMENT REPAIR)","E056","241115-H08","240315-H03",null,"","","","","","","",null,"",""]
[null,null,"0200XXCS","testcontract1","testproject11","0030","203550096",19122,"EMBANKMENT IN PLACE","E056","testcontract1","240315-H03",null,"","","","","","","",null,"",""]
[null,null,"0200XXCS","testcontract1","testproject11","0040","203600096",19123,"COMPACTING EMBANKMENT","E056","testcontract1","240315-H03",null,"","","","","","","",null,"",""]
[null,null,"0200XXCS","testcontract1","testproject11","0050","203707596",19124,"COMPACTING IN CUT","E056","testcontract1","240315-H12",null,"","","","","","","",null,"",""]
[null,null,"0200XXCS","testcontract1","testproject12","1030","203600096",19193,"COMPACTING EMBANKMENT","E056","testcontract1","240419-A03",null,"","","","","","","",null,"",""]
[null,null,"0200XXCS","testcontract1","testproject12","1040","203707596",19194,"COMPACTING IN CUT","E056","testcontract1","240419-B01",null,"","","","","","","",null,"",""]
[null,null,"0303CARB","200821-A05","J1S3354","0090","304991096",28913,"SHOULDER ROCK FILL","E042","","240419-B01",null,"","","","","","","",null,"",""]
[null,null,"0303CARB","200821-A05","J1S3357","0640","304991096",28951,"SHOULDER ROCK FILL","E042","","240419-C02",null,"","","","","","","",null,"",""]
[null,null,"0303CARB","200821-A06","J1S3355","0110","304991096",29140,"SHOULDER ROCK FILL","E042","","240419-C02",null,"","","","","","","",null,"",""]
[null,null,"0303CARB","200821-A06","J1S3357B","0920","304991096",44104,"SHOULDER ROCK FILL","E042","","240419-C06",null,"","","","","","","",null,"",""]
[null,null,"0303CARB","200821-A08","J1S3374","0100","304991096",29216,"SHOULDER ROCK FILL","E042","","240419-D03",null,"","","","","","","",null,"",""]
[null,null,"0303CARB","200821-A08","J1S3374","5005","304991096",60114,"MISC. SHOULDER ROCK FILL","E042","","240419-F01",null,"","","","","","","",null,"",""]
[null,null,"0303CARB","201016-G01","J7I3363","0053","303060096",53412,"FURNISHING ROCK BASE MATERIAL","E042","","240419-F02",null,"","","","","","","",null,"",""]
[null,null,"0303CARB","201120-C06","J4P3213","5017","303060096",61205,"FURNISHING ROCK BASE MATERIAL","E042","","240419-F02",null,"","","","","","","",null,"",""]
[null,null,"0303CARB","210219-A01","J1I3110","0390","806105096",38746,"TYPE C BERM","E042","","240419-F03",null,"","","","","","","",null,"",""]
[null,null,"0303CARB","210319-H04","J9S3213","0440","806105096",39404,"TYPE C BERM","E042","","240419-F05",null,"","","","","","","",null,"",""]
[null,null,"0303CARB","210521-F01","J6S1718","0780","806105096",43065,"TYPE C BERM","E042","","240419-F05",null,"","","","","","","",null,"",""]
[null,null,"0303CARB","210917-A02","J1S3218","0630","806105096",46273,"TYPE C BERM","E042","","240419-F06",null,"","","","","","","",null,"",""]
[null,null,"0303CARB","210917-F05","J6P3418","0070","2051010",59006,"MODIFIED SUBGRADE","E042","","240419-F4A",null,"","","","","","","",null,"",""]
[null,null,"0303CARB","210917-F05","J6P3418","0950","303060096",45632,"FURNISHING ROCK BASE MATERIAL","E042","","240419-G05",null,"","","","","","","",null,"",""]
[null,null,"0303CARB","210917-F05","J6S3600","2710","2051010",49767,"MODIFIED SUBGRADE","E042","","240419-H04",null,"","","","","","","",null,"",""]
[null,null,"0303CARB","210917-F05","J6S3600","3150","303060096",45787,"FURNISHING ROCK BASE MATERIAL","E042","","240419-H04",null,"","","","","","","",null,"",""]
[null,null,"0303CARB","210917-F05","J6P3418","5031","1094000",67568,"FORCE ACCOUNT","E042","","240419-H04",null,"","","","","","","",null,"",""]
[null,null,"0303CARB","211217-D05","J5S3330","0430","806105096",51088,"TYPE C BERM","E042","","240419-H08",null,"","","","","","","",null,"",""]
[null,null,"0303CARB","211217-D05","J5S3403","1010","806105096",51131,"TYPE C BERM","E042","","240419-H08",null,"","","","","","","",null,"",""]
[null,null,"0303CARB","211217-D05","J5S3416","1360","806105096",51154,"TYPE C BERM","E042","","240419-H11",null,"","","","","","","",null,"",""]
[null,null,"0303CARB","211217-F04","J6S3272","0060","303060096",50794,"FURNISHING ROCK BASE MATERIAL","E042","","240419-H11",null,"","","","","","","",null,"",""]
[null,null,"0303CARB","211217-F04","J6S3638","0985","304990796",50718,"MODIFIED ROCK BASE","E042","","240517-A01",null,"","","","","","","",null,"",""]
[null,null,"0303CARB","211217-H04","J9S3452","0560","806105096",50484,"TYPE C BERM","E042","","240517-A01",null,"","","","","","","",null,"",""]
[null,null,"0303CARB","211217-H05","J9I3597","0040","303060096",50404,"FURNISHING ROCK BASE MATERIAL","E042","","240517-B01",null,"","","","","","","",null,"",""]
[null,null,"0303CARB","220120-G01","J7I3420","1875","303060096",67562,"FURNISHING ROCK BASE MATERIAL","E042","","240517-B01",null,"","","","","","","",null,"",""]
[null,null,"0303CARB","220121-D06","J5I3572","2240","303060096",52422,"FURNISHING ROCK BASE MATERIAL","E042","","240517-C04",null,"","","","","","","",null,"",""]
[null,null,"0303CARB","220218-F06","J6I3187","3560","303060096",54467,"FURNISHING ROCK BASE MATERIAL","E042","","240517-C04",null,"","","","","","","",null,"",""]
[null,null,"0303CARB","220218-F06","J6I3149","6018","2029901",81153,"Subgrade Stabilization","E042","","240517-C04",null,"","","","","","","",null,"",""]
[null,null,"0303CARB","220318-B01","J2P3156","0090","303060096",55618,"FURNISHING ROCK BASE MATERIAL","E042","","240517-C05",null,"","","","","","","",null,"",""]
[null,null,"0303CARB","220415-F01","J6I3489","0370","806105096",56630,"TYPE C BERM","E042","","240517-C05",null,"","","","","","","",null,"",""]
[null,null,"0303CARB","220415-G02","J7S3194","0730","806105096",57328,"TYPE C BERM","E042","","240517-C05",null,"","","","","","","",null,"",""]
[null,null,"0303CARB","220520-A07","J1S3258","0530","806105096",58348,"TYPE C BERM","E042","","240517-D01",null,"","","","","","","",null,"",""]
[null,null,"0303CARB","220617-B01","J2P3090","0160","303060096",58669,"FURNISHING ROCK BASE MATERIAL","E042","","240517-D01",null,"","","","","","","",null,"",""]
[null,null,"0303CARB","220617-F05","J6P3062B","0230","806105096",59442,"TYPE C BERM","E042","","240517-D05",null,"","","","","","","",null,"",""]
[null,null,"0303CARB","220715-F01","J6I3020C","0140","303060096",60317,"FURNISHING ROCK BASE MATERIAL","E042","","240517-D05",null,"","","","","","","",null,"",""]
[null,null,"0303CARB","220819-A01","J1I3268","0080","303060096",60836,"FURNISHING ROCK BASE MATERIAL","E042","","240517-D07",null,"","","","","","","",null,"",""]
[null,null,"0303CARB","221021-F01","J6I3501","0050","303060096",62719,"FURNISHING ROCK BASE MATERIAL","E042","","240517-D07",null,"","","","","","","",null,"",""]
[null,null,"0303CARB","221118-A02","J1S3216","0040","304014396",66213,"TYPE 1 AGGREGATE FOR BASE (4 IN. THICK)","E042","","240517-F07",null,"","","","","","","",null,"",""]
[null,null,"0303CARB","221118-A02","J1S3216","0220","806105096",66226,"TYPE C BERM","E042","","240517-F08",null,"","","","","","","",null,"",""]
[null,null,"0303CARB","221118-A03","J1S3362","0320","806105096",66192,"TYPE C BERM","E042","","240517-F08",null,"","","","","","","",null,"",""]
[null,null,"0303CARB","221118-A04","J1S3361","0260","806105096",66142,"TYPE C BERM","E042","","240517-F11",null,"","","","","","","",null,"",""]
[null,null,"0303CARB","221118-A08","J1S3392","0880","806105096",66060,"TYPE C BERM","E042","","240517-G08",null,"","","","","","","",null,"",""]
[null,null,"0303CARB","221118-F03","J6P3555","0670","303060096",65161,"FURNISHING ROCK BASE MATERIAL","E042","","240517-G08",null,"","","","","","","",null,"",""]
[null,null,"0303CARB","221118-G04","J8P0683E","0590","303060096",64791,"FURNISHING ROCK BASE MATERIAL","E042","","240517-G11",null,"","","","","","","",null,"",""]
[null,null,"0303CARB","221216-A03","J1S3211","0280","806105096",66597,"TYPE C BERM","E042","","240517-G11",null,"","","","","","","",null,"",""]
[null,null,"0303CARB","221216-C02","J4I3288","0100","303060096",67104,"FURNISHING ROCK BASE MATERIAL","E042","","240517-H03",null,"","","","","","","",null,"",""]
[null,null,"0303CARB","221216-C02","J4I3288","0870","806105096",67060,"TYPE C BERM","E042","","240517-H03",null,"","","","","","","",null,"",""]
[null,null,"0303CARB","221216-D02","J5S3447","0350","806105096",67426,"TYPE C BERM","E042",{"$f":"IF(C867=$C$162,D867,\"\")","v":""},"240517-H03",null,{"$f":"(IF(K867=\"\",\"\",IF(OR(D867=$J$33,D867=$T$33, D867=$O$33),D867,\"\")))","v":""},{"$f":"IF(N867=\"\",\"\",F867)","v":""},{"$f":"IF(N867=\"\", \"\", E867)","v":""},{"$f":"IF(N867=\"\", \"\", G867)","v":""},{"$f":"IF(N867=\"\",\"\",I867)","v":""},{"$f":"IF(N867=\"\",\"\",J867)","v":""},"",null,"",""]
[null,null,"0303CARB","230120-A03","J1S3360","0390","806105096",68536,"TYPE C BERM","E042","","240517-H03",null,"","","","","","",{"$f":"IF(N868=\"\",\"\",H868)","v":""},null,"",""]
[null,null,"0303CARB","230120-C11","J3S3155","0200","806105096",68352,"TYPE C BERM","E042","","240517-H03",null,"","","","","","","",null,"",""]
[null,null,"0303CARB","230120-C11","J3S3163","0700","806105096",68388,"TYPE C BERM","E042","","240517-H04",null,"","","","","","","",null,"",""]
[null,null,"0303CARB","230120-F02","J6I3490","0720","806105096",68685,"TYPE C BERM","E042","","240517-H04",null,"","","","","","","",null,"",""]
[null,null,"0303CARB","230120-F03","J6I3616","0130","303060096",68602,"FURNISHING ROCK BASE MATERIAL","E042","","240517-H04",null,"","","","","","","",null,"",""]
[null,null,"0303CARB","230120-G07","J8S3138","5001","2039907",83782,"Misc. Soil Stabilization","E042","","testcontract1",null,"","","","","","","",null,"",""]
[null,null,"0303CARB","230120-G07","J8S3138B","5105","2039907",92356,null,"E042","","testcontract1",null,"","","","","","","",null,"",""]
[null,null,"0303CARB","230120-G07","JSU0020","5201","806105096",87966,"TYPE C BERM","E042","","testcontract1",null,"","","","","","","",null,"",""]
[null,null,"0303CARB","230217-H01","J9S3731","0300","303060096",71370,"FURNISHING ROCK BASE MATERIAL","E042","","testcontract1",null,"","","","","","","",null,"",""]
[null,null,"0303CARB","230317-C04","J4S3449","0220","806105096",73013,"TYPE C BERM","E042","","testcontract1",null,"","","","","","","",null,"",""]
[null,null,"0303CARB","230317-C06","J3S3173","0250","806105096",72085,"TYPE C BERM","E042","",null,null,"","","","","","","",null,"",""]
[null,null,"0303CARB","230421-C02","J3P3198","0290","806105096",73375,"TYPE C BERM","E042","",null,null,"","","","","","","",null,"",""]
[null,null,"0303CARB","230421-G01","J7P3433","5022","2149910",96440,"Rock Fill","E042","",null,null,"","","","","","","",null,"",""]
[null,null,"0303CARB","230421-G01","J7P3434","5023","2149910",96441,"MISC., ROCK FILL","E042","",null,null,"","","","","","","",null,"",""]
[null,null,"0303CARB","230421-G05","J8P0605J","1780","806105096",73484,"TYPE C BERM","E042","",null,null,"","","","","","","",null,"",""]
[null,null,"0303CARB","230519-D12","J5S3478","0320","806105096",74997,"TYPE C BERM","E042","",null,null,"","","","","","","",null,"",""]
[null,null,"0303CARB","230519-F01","J6I2090","1480","303060096",75329,"FURNISHING ROCK BASE MATERIAL","E042","",null,null,"","","","","","","",null,"",""]
[null,null,"0303CARB","230519-F01","J6I2090","1550","303060096",75331,"FURNISHING ROCK BASE MATERIAL","E042","",null,null,"","","","","","","",null,"",""]
[null,null,"0303CARB","230519-H01","J9P3735","0780","806105096",76839,"TYPE C BERM","E042","",null,null,"","","","","","","",null,"",""]
[null,null,"0303CARB","230818-A03","J1P3318","0080","303060096",78776,"FURNISHING ROCK BASE MATERIAL","E042","",null,null,"","","","","","","",null,"",""]
[null,null,"0303CARB","230818-A03","J1P3318","0150","401990596",78738,"OPTIONAL PAVEMENT A","E042","",null,null,"","","","","","","",null,"",""]
[null,null,"0303CARB","230818-B02","J2S3448","0410","806105096",78458,"TYPE C BERM","E042","",null,null,"","","","","","","",null,"",""]
[null,null,"0303CARB","230915-A03","JNW0005","0260","806105096",79768,"TYPE C BERM","E042","",null,null,"","","","","","","",null,"",""]
[null,null,"0303CARB","230915-A03","JNW0006","0740","806105096",79803,"TYPE C BERM","E042","",null,null,"","","","","","","",null,"",""]
[null,null,"0303CARB","231117-F02","J6S3351","0080","303060096",82166,"FURNISHING ROCK BASE MATERIAL","E042","",null,null,"","","","","","","",null,"",""]
[null,null,"0303CARB","231215-B01","J2S3256","0230","806105096",83730,"TYPE C BERM","E042","",null,null,"","","","","","","",null,"",""]
[null,null,"0303CARB","231215-D02","J5P3244","0330","806105096",83535,"TYPE C BERM","E042","",null,null,"","","","","","","",null,"",""]
[null,null,"0303CARB","231215-F01","J6I3427","0070","303060096",83380,"FURNISHING ROCK BASE MATERIAL","E042","",null,null,"","","","","","","",null,"",""]
[null,null,"0303CARB","240119-B02","J2S3317","0250","806105096",85578,"TYPE C BERM","E042","",null,null,"","","","","","","",null,"",""]
[null,null,"0303CARB","240119-D04","J5P3513","0340","806105096",85327,"TYPE C BERM","E042","",null,null,"","","","","","","",null,"",""]
[null,null,"0303CARB","240119-H05","J9S3612","0210","806105096",84234,"TYPE C BERM","E042","",null,null,"","","","","","","",null,"",""]
[null,null,"0303CARB","240119-H07","J9S3645","1200","806105096",84598,"TYPE C BERM","E042","",null,null,"","","","","","","",null,"",""]
[null,null,"0303CARB","240119-H07","J9S3646","1700","806105096",84498,"TYPE C BERM","E042","",null,null,"","","","","","","",null,"",""]
[null,null,"0303CARB","240119-H08","J9S3641","0220","806105096",84364,"TYPE C BERM","E042","",null,null,"","","","","","","",null,"",""]
[null,null,"0303CARB","240214-D01","JST0021","0300","Earthwork - Compaction and Base",92012,"DESIGN BUILD - GRADING AND REMOVALS","E042","",null,null,"","","","","","","",null,"",""]
[null,null,"0303CARB","240214-D01","JST0021","0340","Rock Base",92190,"DESIGN BUILD - BASE AND AGGREGATE SURFACES","E042","",null,null,"","","","","","","",null,"",""]
[null,null,"0303CARB","240216-B01","JNE0125","0330","806105096",86006,"TYPE C BERM","E042","",null,null,"","","","","","","",null,"",""]
[null,null,"0303CARB","240216-B02","JNE0126","0250","806105096",86261,"TYPE C BERM","E042","",null,null,"","","","","","","",null,"",""]
[null,null,"0303CARB","240216-D04","J5S3484","0300","806105096",86381,"TYPE C BERM","E042","",null,null,"","","","","","","",null,"",""]
[null,null,"0303CARB","240216-F04","J6S3369","5005","2129909",92124,"MISC. SUBGRADING AND SHOULDERING","E042","",null,null,"","","","","","","",null,"",""]
[null,null,"0303CARB","240216-H03","J9P3756","0040","303060096",86743,"FURNISHING ROCK BASE MATERIAL","E042","",null,null,"","","","","","","",null,"",""]
[null,null,"0303CARB","240315-F02","J6S2319","0400","806105096",87818,"TYPE C BERM","E042","",null,null,"","","","","","","",null,"",""]
[null,null,"0303CARB","240315-F02","J6S3563","1200","806105096",87877,"TYPE C BERM","E042","",null,null,"","","","","","","",null,"",""]
[null,null,"0303CARB","240315-G04","JSR0171","0040","303060096",87750,"FURNISHING ROCK BASE MATERIAL","E042","",null,null,"","","","","","","",null,"",""]
[null,null,"0303CARB","240315-H03","J9P3768","0280","806105096",87460,"TYPE C BERM","E042","",null,null,"","","","","","","",null,"",""]
[null,null,"0303CARB","240315-H12","J9S3688","0400","806105096",87649,"TYPE C BERM","E042","",null,null,"","","","","","","",null,"",""]
[null,null,"0303CARB","240419-H08","J9S3589","0350","806105096",89490,"TYPE C BERM","E042","",null,null,"","","","","","","",null,"",""]
[null,null,"0303CARB","240517-B01","J2P3043","0150","303060096",90114,"FURNISHING ROCK BASE MATERIAL","E042","",null,null,"","","","","","","",null,"",""]
[null,null,"0303CARB","240517-G11","J7P3484C","0440","806105096",91150,"TYPE C BERM","E042","",null,null,"","","","","","","",null,"",""]
[null,null,"0303CARB","240517-H03","J9S3593","0300","806105096",90746,"TYPE C BERM","E042","",null,null,"","","","","","","",null,"",""]
[null,null,"0303CARB","240517-H03","J9S3595","0690","806105096",90775,"TYPE C BERM","E042","",null,null,"","","","","","","",null,"",""]
[null,null,"0303CARB","240517-H03","J9S3676","1590","806105096",90713,"TYPE C BERM","E042","",null,null,"","","","","","","",null,"",""]
[null,null,"0303CARB","240517-H09","JSEM0040","0170","806105096",89947,"TYPE C BERM","E042","",null,null,"","","","","","","",null,"",""]
[null,null,"0303CARB","240621-B02","JNE0006","0050","303060096",91928,"FURNISHING ROCK BASE MATERIAL","E042","",null,null,"","","","","","","",null,"",""]
[null,null,"0303CARB","240708-B01","JNE0140","0220","806105096",91609,"TYPE C BERM","E042","",null,null,"","","","","","","",null,"",""]
[null,null,"0303CARB","240920-A04","JNW0031","0260","806105096",93568,"TYPE C BERM","E042","",null,null,"","","","","","","",null,"",""]
[null,null,"0303CARB","240920-D01","J5P3498","0650","806105096",93336,"TYPE C BERM","E042","",null,null,"","","","","","","",null,"",""]
[null,null,"0303CARB","240920-H01","J9P3687","0390","806105096",93823,"TYPE C BERM","E042","",null,null,"","","","","","","",null,"",""]
[null,null,"0303CARB","240920-H03","J9S3606","0220","806105096",93778,"TYPE C BERM","E042","",null,null,"","","","","","","",null,"",""]
[null,null,"0303CARB","241018-A01","JNW0008","0160","806105096",96844,"TYPE C BERM","E042","",null,null,"","","","","","","",null,"",""]
[null,null,"0303CARB","241018-A03","JNW0111","0300","806105096",96793,"TYPE C BERM","E042","",null,null,"","","","","","","",null,"",""]
[null,null,"0303CARB","241018-F03","J6S3582","0100","2159910",96398,"SHAPING SLOPES CLASS III - MODIFIED MATERIAL REQUIREMENT","E042","",null,null,"","","","","","","",null,"",""]
[null,null,"0303CARB","241018-F03","J6S3582","1090","806105096",95062,"TYPE C BERM","E042","",null,null,"","","","","","","",null,"",""]
[null,null,"0303CARB","241115-A01","JNW0009","0180","806105096",96961,"TYPE C BERM","E042",{"$f":"IF(C931=$C$162,D931,\"\")","v":""},null,null,{"$f":"(IF(K931=\"\",\"\",IF(OR(D931=$J$33,D931=$T$33, D931=$O$33),D931,\"\")))","v":""},{"$f":"IF(N931=\"\",\"\",F931)","v":""},{"$f":"IF(N931=\"\", \"\", E931)","v":""},{"$f":"IF(N931=\"\", \"\", G931)","v":""},{"$f":"IF(N931=\"\",\"\",I931)","v":""},{"$f":"IF(N931=\"\",\"\",J931)","v":""},"",null,"",""]
[null,null,"0303CARB","241115-B02","J2S3195","0270","806105096",97684,"TYPE C BERM","E042","",null,null,"","","","","","",{"$f":"IF(N932=\"\",\"\",H932)","v":""},null,"",""]
[null,null,"0303CARB","241115-B02","J2S3314","0740","806105096",97717,"TYPE C BERM","E042","",null,null,"","","","","","","",null,"",""]
[null,null,"0303CARB","241115-H06","JSE0115","0260","806105096",97169,"TYPE C BERM","E042","",null,null,"","","","","","","",null,"",""]
[null,null,"0303CARB","testcontract1","testproject11","0080","303060096",19126,"FURNISHING ROCK BASE MATERIAL","E042","",null,null,"","","","","","","",null,"",""]
[null,null,"0304SBT15KP","200821-A05","J1S3354","0070","304014396",28911,"TYPE 1 AGGREGATE FOR BASE (4 IN. THICK)","E041","",null,null,"","","","","","","",null,"",""]
[null,null,"0304SBT15KP","200821-A05","J1S3354","0080","304991096",28912,"PERMANENT AGGREGATE EDGE TREATMENT","E041","",null,null,"","","","","","","",null,"",""]
[null,null,"0304SBT15KP","200821-A05","J1S3354","0090","304991096",28913,"SHOULDER ROCK FILL","E041","",null,null,"","","","","","","",null,"",""]
[null,null,"0304SBT15KP","200821-A05","J1S3354","0410","304014396",28934,"TYPE 1 AGGREGATE FOR BASE (4 IN. THICK)","E041","",null,null,"","","","","","","",null,"",""]
[null,null,"0304SBT15KP","200821-A05","J1S3357","0630","304991096",28950,"PERMANENT AGGREGATE EDGE TREATMENT","E041","",null,null,"","","","","","","",null,"",""]
[null,null,"0304SBT15KP","200821-A05","J1S3357","0640","304991096",28951,"SHOULDER ROCK FILL","E041","",null,null,"","","","","","","",null,"",""]
[null,null,"0304SBT15KP","200821-A05","J1S3358","0910","304014396",28966,"TYPE 1 AGGREGATE FOR BASE (4 IN. THICK)","E041","",null,null,"","","","","","","",null,"",""]
[null,null,"0304SBT15KP","200821-A05","J1S3358","0920","304991096",28967,"PERMANENT AGGREGATE EDGE TREATMENT","E041","",null,null,"","","","","","","",null,"",""]
[null,null,"0304SBT15KP","200821-A05","J1S3358","0930","304991096",28968,"SHOULDER ROCK FILL","E041","",null,null,"","","","","","","",null,"",""]
[null,null,"0304SBT15KP","200821-A05","J1S3375","1450","304991096",29006,"PERMANENT AGGREGATE EDGE TREATMENT","E041","",null,null,"","","","","","","",null,"",""]
[null,null,"0304SBT15KP","200821-A05","J1S3375","1460","304991096",29007,"SHOULDER ROCK FILL","E041","",null,null,"","","","","","","",null,"",""]
[null,null,"0304SBT15KP","200821-A06","J1S3355","0090","304014396",29138,"TYPE 1 AGGREGATE FOR BASE (4 IN. THICK)","E041","",null,null,"","","","","","","",null,"",""]
[null,null,"0304SBT15KP","200821-A06","J1S3355","0100","304991096",29139,"PERMANT AGGREGATE EDGE TREATMENT","E041","",null,null,"","","","","","","",null,"",""]
[null,null,"0304SBT15KP","200821-A06","J1S3355","0110","304991096",29140,"SHOULDER ROCK FILL","E041","",null,null,"","","","","","","",null,"",""]
[null,null,"0304SBT15KP","200821-A06","J1S3356","0370","304014396",29157,"TYPE 1 AGGREGATE FOR BASE (4 IN. THICK)","E041","",null,null,"","","","","","","",null,"",""]
[null,null,"0304SBT15KP","200821-A06","J1S3356","0380","304991096",29158,"( PERMANENT AGGREGATE EDGE TREATMENT)","E041","",null,null,"","","","","","","",null,"",""]
[null,null,"0304SBT15KP","200821-A06","J1S3356","0390","304991096",29159,"( SHOULDER ROCK FILL)","E041","",null,null,"","","","","","","",null,"",""]
[null,null,"0304SBT15KP","200821-A06","J1S3357B","0910","304014396",29192,"TYPE 1 AGGREGATE FOR BASE (4 IN. THICK)","E041","",null,null,"","","","","","","",null,"",""]
[null,null,"0304SBT15KP","200821-A06","J1S3357B","0920","304991096",44104,"SHOULDER ROCK FILL","E041","",null,null,"","","","","","","",null,"",""]
[null,null,"0304SBT15KP","200821-A08","J1S3374","0090","304991096",29215,"PERMANENT AGGREGATE EDGE TREATMENT","E041","",null,null,"","","","","","","",null,"",""]
[null,null,"0304SBT15KP","200821-A08","J1S3374","0100","304991096",29216,"SHOULDER ROCK FILL","E041","",null,null,"","","","","","","",null,"",""]
[null,null,"0304SBT15KP","200821-A08","J1S3376","0330","304991096",29231,"PERMANENT AGGREGATE EDGE TREATMENT","E041","",null,null,"","","","","","","",null,"",""]
[null,null,"0304SBT15KP","200821-A08","J1S3374","5005","304991096",60114,"MISC. SHOULDER ROCK FILL","E041","",null,null,"","","","","","","",null,"",""]
[null,null,"0304SBT15KP","200918-F02","J6S3049","0070","304014396",30487,"TYPE 1 AGGREGATE FOR BASE (4 IN. THICK)","E041","",null,null,"","","","","","","",null,"",""]
[null,null,"0304SBT15KP","200918-F02","J6S3049","0080","304050496",30488,"TYPE 5 AGGREGATE FOR BASE (4 IN. THICK)","E041","",null,null,"","","","","","","",null,"",""]
[null,null,"0304SBT15KP","200918-F02","J6S3049","0370","613101396",30507,"TYPE 1 OR 5 AGGREGATE FOR BASE (4 IN. THICK)  (PAVEMENT REPAIR)","E041","",null,null,"","","","","","","",null,"",""]
[null,null,"0304SBT15KP","201016-G01","J7I3363","0060","304050496",31683,"TYPE 5 AGGREGATE FOR BASE (4 IN. THICK)","E041","",null,null,"","","","","","","",null,"",""]
[null,null,"0304SBT15KP","201016-G01","J7I3363","0560","5031010A96",31723,"BRIDGE APPROACH SLAB (MAJOR)","E041","",null,null,"","","","","","","",null,"",""]
[null,null,"0304SBT15KP","201016-G01","J7I3363","5005","2069905",62058,"Misc. 12\" Aggregate and Geotech","E041","",null,null,"","","","","","","",null,"",""]
[null,null,"0304SBT15KP","201016-G01","J7I3363","5013","304990596",68072,"TYPE 5 AGGREGATE FOR BASE OVER TENSAR (12 IN. TO 18.72 IN. THICK)","E041","",null,null,"","","","","","","",null,"",""]
[null,null,"0304SBT15KP","201120-C06","J4P3213","0100","304050496",33041,"TYPE 5 AGGREGATE FOR BASE (4 IN. THICK)","E041","",null,null,"","","","","","","",null,"",""]
[null,null,"0304SBT15KP","201120-C06","J4P3213","0110","304050696",33056,"TYPE 5 AGGREGATE FOR BASE (6 IN. THICK)","E041","",null,null,"","","","","","","",null,"",""]
[null,null,"0304SBT15KP","210219-A01","J1I3110","0040","304014396",38717,"TYPE 1 AGGREGATE FOR BASE (4 IN. THICK)","E041","",null,null,"","","","","","","",null,"",""]
[null,null,"0304SBT15KP","210219-A01","J1I3110","5003","304991096",43602,"Type 1 Aggregate Base","E041","",null,null,"","","","","","","",null,"",""]
[null,null,"0304SBT15KP","210319-H04","J9S3213","0090","304016396",39431,"TYPE 1 AGGREGATE FOR BASE (6 IN. THICK)","E041","",null,null,"","","","","","","",null,"",""]
[null,null,"0304SBT15KP","210416-F02","J6S3048","0050","304018396",41036,"TYPE 1 AGGREGATE FOR BASE (8 IN. THICK)","E041","",null,null,"","","","","","","",null,"",""]
[null,null,"0304SBT15KP","210416-F02","J6S3048","0060","304050496",41037,"TYPE 5 AGGREGATE FOR BASE (4 IN. THICK)","E041","",null,null,"","","","","","","",null,"",""]
[null,null,"0304SBT15KP","210521-F01","J6S1718","0070","304050496",43016,"TYPE 5 AGGREGATE FOR BASE (4 IN. THICK)","E041","",null,null,"","","","","","","",null,"",""]
[null,null,"0304SBT15KP","210521-F01","J6S1718B","2590","304050496",42929,"TYPE 5 AGGREGATE FOR BASE (4 IN. THICK)","E041","",null,null,"","","","","","","",null,"",""]
[null,null,"0304SBT15KP","210521-F01","J6S1718B","2600","304050696",42930,"TYPE 5 AGGREGATE FOR BASE (6 IN. THICK)","E041","",null,null,"","","","","","","",null,"",""]
[null,null,"0304SBT15KP","210521-F01","J6S1718B","2610","304990596",42931,"ASTM NO. 2 AGGREGATE 12 IN. THICK","E041","",null,null,"","","","","","","",null,"",""]
[null,null,"0304SBT15KP","210521-F01","J6S1718B","2620","304990596",42932,"ASTM NO. 57 AGGREGATE 4 IN. THICK","E041","",null,null,"","","","","","","",null,"",""]
[null,null,"0304SBT15KP","210521-F01","J6S1718B","2630","304990596",42933,"ASTM NO. 8 AGGREGATE 2 IN. THICK","E041","",null,null,"","","","","","","",null,"",""]
[null,null,"0304SBT15KP","210521-F01","J6S1718B","2640","304990596",42934,"TYPE 5 AGGREGATE FOR BASE (5 IN. THICK)","E041","",null,null,"","","","","","","",null,"",""]
[null,null,"0304SBT15KP","210521-F01","J6S1718C","4360","304050496",43164,"TYPE 5 AGGREGATE FOR BASE (4 IN. THICK)","E041","",null,null,"","","","","","","",null,"",""]
[null,null,"0304SBT15KP","210521-G08","J8P0588H","0140","304014396",43399,"TYPE 1 AGGREGATE FOR BASE (4 IN. THICK)","E041","",null,null,"","","","","","","",null,"",""]
[null,null,"0304SBT15KP","210521-G08","J8P0588H","0150","304050496",43400,"TYPE 5 AGGREGATE FOR BASE (4 IN. THICK)","E041","",null,null,"","","","","","","",null,"",""]
[null,null,"0304SBT15KP","210521-G08","J8P0588H","0160","304050696",43401,"TYPE 5 AGGREGATE FOR BASE (6 IN. THICK)","E041","",null,null,"","","","","","","",null,"",""]
[null,null,"0304SBT15KP","210521-G08","J8P0588H","1960","304014396",43549,"TYPE 1 AGGREGATE FOR BASE (4 IN. THICK)","E041","",null,null,"","","","","","","",null,"",""]
[null,null,"0304SBT15KP","210521-G08","J8P0588H","1970","304050496",43550,"TYPE 5 AGGREGATE FOR BASE (4 IN. THICK)","E041","",null,null,"","","","","","","",null,"",""]
[null,null,"0304SBT15KP","210521-G08","J8P0588H","1980","304050696",43551,"TYPE 5 AGGREGATE FOR BASE (6 IN. THICK)","E041","",null,null,"","","","","","","",null,"",""]
[null,null,"0304SBT15KP","210521-G08","J8P0588H","2120","304014396",43561,"TYPE 1 AGGREGATE FOR BASE (4 IN. THICK)","E041","",null,null,"","","","","","","",null,"",""]
[null,null,"0304SBT15KP","210820-A01","J1I3231","0090","304050496",44363,"TYPE 5 AGGREGATE FOR BASE (4 IN. THICK)","E041","",null,null,"","","","","","","",null,"",""]
[null,null,"0304SBT15KP","210820-A01","J1I3231","0100","304991096",44364,"PERMANENT AGGREGATE EDGE TREATMENT","E041","",null,null,"","","","","","","",null,"",""]
[null,null,"0304SBT15KP","210820-A02","J1I3242","0050","304050496",44756,"TYPE 5 AGGREGATE FOR BASE (4 IN. THICK)","E041","",null,null,"","","","","","","",null,"",""]
[null,null,"0304SBT15KP","210820-A03","J1I3271","0070","304050496",44523,"TYPE 5 AGGREGATE FOR BASE (4 IN. THICK)","E041","",null,null,"","","","","","","",null,"",""]
[null,null,"0304SBT15KP","210820-A03","J1I3271","0080","304050696",44524,"TYPE 5 AGGREGATE FOR BASE (6 IN. THICK)","E041","",null,null,"","","","","","","",null,"",""]
[null,null,"0304SBT15KP","210820-A03","J1I3271","0090","304990596",44525,"OPTIONAL BASE","E041","",null,null,"","","","","","","",null,"",""]
[null,null,"0304SBT15KP","210820-A03","J1I3271","0100","304991096",44526,"PERMANENT AGGREGATE EDGE TREATMENT","E041","",null,null,"","","","","","","",null,"",""]
[null,null,"0304SBT15KP","210820-A03","J1P3254","0790","304014396",44430,"TYPE 1 AGGREGATE FOR BASE (4 IN. THICK)","E041",{"$f":"IF(C995=$C$162,D995,\"\")","v":""},null,null,{"$f":"(IF(K995=\"\",\"\",IF(OR(D995=$J$33,D995=$T$33, D995=$O$33),D995,\"\")))","v":""},{"$f":"IF(N995=\"\",\"\",F995)","v":""},{"$f":"IF(N995=\"\", \"\", E995)","v":""},{"$f":"IF(N995=\"\", \"\", G995)","v":""},{"$f":"IF(N995=\"\",\"\",I995)","v":""},{"$f":"IF(N995=\"\",\"\",J995)","v":""},"",null,"",""]
[null,null,"0304SBT15KP","210820-A03","J1S3058","1270","304050496",44402,"TYPE 5 AGGREGATE FOR BASE (4 IN. THICK)","E041","",null,null,"","","","","","",{"$f":"IF(N996=\"\",\"\",H996)","v":""},null,"",""]
[null,null,"0304SBT15KP","210820-A03","J1S3058","1280","304991096",44403,"PERMANENT AGGREGATE EDGE TREATMENT","E041","",null,null,"","","","","","","",null,"",""]
[null,null,"0304SBT15KP","210820-A03","J1S3203","1650","304050496",44486,"TYPE 5 AGGREGATE FOR BASE (4 IN. THICK)","E041","",null,null,"","","","","","","",null,"",""]
[null,null,"0304SBT15KP","210820-A03","J1S3203","1680","504100096",44489,"CONCRETE APPROACH PAVEMENT","E041","",null,null,"","","","","","","",null,"",""]
[null,null,"0304SBT15KP","210820-A03","J1S3203","2030","5031011A96",44514,"BRIDGE APPROACH SLAB (MINOR ROAD)","E041","",null,null,"","","","","","","",null,"",""]
[null,null,"0304SBT15KP","210820-A03","J1S3251","2170","304014396",44464,"TYPE 1 AGGREGATE FOR BASE (4 IN. THICK)","E041","",null,null,"","","","","","","",null,"",""]
[null,null,"0304SBT15KP","211119-H10","J9S3499","5006","304991096",57767,"Type 5 Base Rock","E041","",null,null,"","","","","","","",null,"",""]
[null,null,"0304SBT15KP","211217-D05","J5S3330","0520","5031011A96",51095,"BRIDGE APPROACH SLAB (MINOR ROAD)","E041","",null,null,"","","","","","","",null,"",""]
[null,null,"0304SBT15KP","211217-F04","J6S3638","0980","206990796",50717,"MODIFIED SUBGRADE FOR RETAINING WALLS AND EXPRESSLANE RAMP","E041","",null,null,"","","","","","","",null,"",""]
[null,null,"0304SBT15KP","220120-G01","J7I3420","1570","304050496",82864,"TYPE 5 AGGREGATE FOR BASE (4 IN. THICK)","E041","",null,null,"","","","","","","",null,"",""]
[null,null,"0304SBT15KP","220120-G01","J7I3420","1870","304050496",67548,"TYPE 5 AGGREGATE FOR BASE (4 IN. THICK)","E041","",null,null,"","","","","","","",null,"",""]
[null,null,"0304SBT15KP","220120-G01","J7I3420","3370","304050696",86834,"TYPE 5 AGGREGATE FOR BASE (6 IN. THICK)","E041","",null,null,"","","","","","","",null,"",""]
[null,null,"0304SBT15KP","220121-A01","J1P3379","0080","304014396",53050,"TYPE 1 AGGREGATE FOR BASE (4 IN. THICK)","E041","",null,null,"","","","","","","",null,"",""]
[null,null,"0304SBT15KP","220121-D06","J5I3572","2300","304014396",52424,"TYPE 1 AGGREGATE FOR BASE (4 IN. THICK)","E041","",null,null,"","","","","","","",null,"",""]
[null,null,"0304SBT15KP","220218-F06","J6I3149","1130","5031010A96",54558,"BRIDGE APPROACH SLAB (MAJOR)","E041","",null,null,"","","","","","","",null,"",""]
[null,null,"0304SBT15KP","220218-F06","J6I3149","1760","5031010A96",54351,"BRIDGE APPROACH SLAB (MAJOR)","E041","",null,null,"","","","","","","",null,"",""]
[null,null,"0304SBT15KP","220218-F06","J6I3149","2770","5031010A96",54414,"BRIDGE APPROACH SLAB (MAJOR)","E041","",null,null,"","","","","","","",null,"",""]
[null,null,"0304SBT15KP","220218-F06","J6I3187","4610","5031010A96",54597,"BRIDGE APPROACH SLAB (MAJOR)","E041","",null,null,"","","","","","","",null,"",""]
[null,null,"0304SBT15KP","220218-F06","J6I3187","5120","5031010A96",54635,"BRIDGE APPROACH SLAB (MAJOR)","E041","",null,null,"","","","","","","",null,"",""]
[null,null,"0304SBT15KP","220218-F08","J6S3437","0620","304050696",54050,"TYPE 5 AGGREGATE FOR BASE (6 IN. THICK)","E041","",null,null,"","","","","","","",null,"",""]
[null,null,"0304SBT15KP","220218-H04","J9P3598","0060","304050696",54976,"TYPE 5 AGGREGATE FOR BASE (6 IN. THICK)","E041","",null,null,"","","","","","","",null,"",""]
[null,null,"0304SBT15KP","220415-H06","J9P3737","0030","304050696",56962,"TYPE 5 AGGREGATE FOR BASE (6 IN. THICK)","E041","",null,null,"","","","","","","",null,"",""]
[null,null,"0304SBT15KP","220520-G06","J8P3032C","0120","304050696",57540,"TYPE 5 AGGREGATE FOR BASE (6 IN. THICK)","E041","",null,null,"","","","","","","",null,"",""]
[null,null,"0304SBT15KP","220520-H08","J9P3663","0090","304050696",58893,"TYPE 5 AGGREGATE FOR BASE (6 IN. THICK)","E041","",null,null,"","","","","","","",null,"",""]
[null,null,"0304SBT15KP","220715-A02","JNW0091","0090","304991096",59980,"PERMANENT AGGREGATE EDGE TREATMENT","E041","",null,null,"","","","","","","",null,"",""]
[null,null,"0304SBT15KP","220715-A02","JNW0091","0270","304991096",59989,"PERMANENT AGGREGATE EDGE TREATMENT","E041","",null,null,"","","","","","",{"$f":"IF(N1124=\"\",\"\",H1124)","v":""},null,"",""]
[null,null,"0304SBT15KP","220715-A02","JNW0091","0290","304991096",59990,"PERMANENT AGGREGATE EDGE TREATMENT","E041","",null,null,"","","","","","","",null,"",""]
[null,null,"0304SBT15KP","220916-G01","J7P3450","0650","3049901",62038,"PERMANANT AGGREGATE EDGE TREATMENT","E041","",null,null,"","","","","","","",null,"",""]
[null,null,"0304SBT15KP","220916-G01","J7P3451","0850","304991096",61747,"PERM. AGG. EDGE TREATMENT","E041","",null,null,"","","","","","","",null,"",""]
[null,null,"0304SBT15KP","221021-A07","JNW0004","0510","5031011A96",63250,"BRIDGE APPROACH SLAB (MINOR ROAD)","E041","",null,null,"","","","","","","",null,"",""]
[null,null,"0304SBT15KP","221021-C04","J4S3433","5018","4019901",91980,"LANE WIDENING","E041","",null,null,"","","","","","","",null,"",""]
[null,null,"0304SBT15KP","221021-F05","J6S3493","0040","304050496",63022,"TYPE 5 AGGREGATE FOR BASE (4 IN. THICK)","E041","",null,null,"","","","","","","",null,"",""]
[null,null,"0304SBT15KP","221021-H03","J9S3588","1180","304991096",63488,"PERMANENT AGGREGATE EDGE TREATMENT","E041","",null,null,"","","","","","","",null,"",""]
[null,null,"0304SBT15KP","221118-A08","J1S3392","0100","304050496",65971,"TYPE 5 AGGREGATE FOR BASE (4 IN. THICK)","E041","",null,null,"","","","","","","",null,"",""]
[null,null,"0304SBT15KP","221118-A08","J1S3392","0110","304050696",65972,"TYPE 5 AGGREGATE FOR BASE (6 IN. THICK)","E041","",null,null,"","","","","","","",null,"",""]
[null,null,"0304SBT15KP","221118-C01","J4I3334","5004","304991096",83073,"AGGREGATE EDGE TREATMENT","E041","",null,null,"","","","","","","",null,"",""]
[null,null,"0304SBT15KP","221118-C05","J4S3414","0490","304050696",65640,"TYPE 5 AGGREGATE FOR BASE (6 IN. THICK)","E041","",null,null,"","","","","","","",null,"",""]
[null,null,"0304SBT15KP","221118-G04","J7S3488","0080","304050496",64906,"TYPE 5 AGGREGATE FOR BASE (4 IN. THICK)","E041","",null,null,"","","","","","","",null,"",""]
[null,null,"0304SBT15KP","221118-G06","J8S3160","1100","304050496",64529,"TYPE 5 AGGREGATE FOR BASE (4 IN. THICK)","E041","",null,null,"","","","","","","",null,"",""]
[null,null,"0304SBT15KP","221216-A03","J1S3211","0050","304014396",66579,"TYPE 1 AGGREGATE FOR BASE (4 IN. THICK)","E041","",null,null,"","","","","","","",null,"",""]
[null,null,"0304SBT15KP","221216-C02","J4I3288","0120","304050496",67105,"TYPE 5 AGGREGATE FOR BASE (4 IN. THICK)","E041","",null,null,"","","","","","","",null,"",""]
[null,null,"0304SBT15KP","221216-H02","J9P3617","0560","304050696",66951,"TYPE 5 AGGREGATE FOR BASE (6 IN. THICK)","E041","",null,null,"","","","","","","",null,"",""]
[null,null,"0304SBT15KP","230120-A03","J1S3360","0080","304050496",68501,"TYPE 5 AGGREGATE FOR BASE (4 IN. THICK)","E041","",null,null,"","","","","","","",null,"",""]
[null,null,"0304SBT15KP","230120-C04","J3S3154","0920","5031011A96",68477,"BRIDGE APPROACH SLAB (MINOR ROAD)","E041","",null,null,"","","","","","","",null,"",""]
[null,null,"0304SBT15KP","230120-C06","J3S3123","0660","5031011A96",69805,"BRIDGE APPROACH SLAB (MINOR ROAD)","E041","",null,null,"","","","","","","",null,"",""]
[null,null,"0304SBT15KP","230120-C11","J3S3163","0740","5031011A96",68390,"BRIDGE APPROACH SLAB (MINOR ROAD)","E041","",null,null,"","","","","","","",null,"",""]
[null,null,"0304SBT15KP","230120-F02","J6P3548","3690","5031010A96",68701,"BRIDGE APPROACH SLAB (MAJOR)","E041","",null,null,"","","","","","","",null,"",""]
[null,null,"0304SBT15KP","230120-F04","J6I3647","0040","304050496",70111,"TYPE 5 AGGREGATE FOR BASE (4 IN. THICK)","E041","",null,null,"","","","","","","",null,"",""]
[null,null,"0304SBT15KP","230120-G01","J7I3524","0650","5031010A96",69475,"BRIDGE APPROACH SLAB (MAJOR)","E041","",null,null,"","","","","","","",null,"",""]
[null,null,"0304SBT15KP","230120-G07","JSU0020","3640","403990596",69056,"APPROACH PAVEMENT","E041","",null,null,"","","","","","","",null,"",""]
[null,null,"0304SBT15KP","230120-H01","J9P3459","0360","304991096",68211,"PERMANENT AGGREGATE EDGE TREATMENT","E041","",null,null,"","","","","","","",null,"",""]
[null,null,"0304SBT15KP","230120-H01","J9P3650","1030","304050696",68160,"TYPE 5 AGGREGATE FOR BASE (6 IN. THICK)","E041","",null,null,"","","","","","","",null,"",""]
[null,null,"0304SBT15KP","230120-H04","J9S3455","0090","304016396",70142,"TYPE 1 AGGREGATE FOR BASE (6 IN. THICK)","E041","",null,null,"","","","","","","",null,"",""]
[null,null,"0304SBT15KP","230217-C07","J4S3444","0310","5031011A96",71898,"BRIDGE APPROACH SLAB (MINOR ROAD)","E041","",null,null,"","","","","","","",null,"",""]
[null,null,"0304SBT15KP","230217-G06","J7S3479","0420","5031011A96",70668,"BRIDGE APPROACH SLAB (MINOR ROAD)","E041","",null,null,"","","","","","","",null,"",""]
[null,null,"0304SBT15KP","230217-H05","J9S3325","0280","5031011A96",71854,"BRIDGE APPROACH SLAB (MINOR ROAD)","E041","",null,null,"","","","","","","",null,"",""]
[null,null,"0304SBT15KP","230317-A05","JNW0012","0300","304991096",72119,"PERMANENT AGGREGATE EDGE TREATMENT","E041","",null,null,"","","","","","","",null,"",""]
[null,null,"0304SBT15KP","230317-C06","J3S3173","0070","304050496",72073,"TYPE 5 AGGREGATE FOR BASE (4 IN. THICK)","E041","",null,null,"","","","","","","",null,"",""]
[null,null,"0304SBT15KP","230317-C06","J3S3173","0320","5031011A96",72090,"BRIDGE APPROACH SLAB (MINOR ROAD)","E041","",null,null,"","","","","","","",null,"",""]
[null,null,"0304SBT15KP","230317-G04","J8S3173","2680","304050496",72224,"TYPE 5 AGGREGATE FOR BASE (4 IN. THICK)","E041","",null,null,"","","","","","","",null,"",""]
[null,null,"0304SBT15KP","230317-H03","J9S3528","0660","304991096",73132,"PERMANENT AGGREGATE EDGE TREATMENT","E041","",null,null,"","","","","","","",null,"",""]
[null,null,"0304SBT15KP","230421-A03","J1S3363","0500","5031011A96",73969,"BRIDGE APPROACH SLAB (MINOR ROAD)","E041","",null,null,"","","","","","","",null,"",""]
[null,null,"0304SBT15KP","230421-F06","J6P3288","0025","304050496",74398,"TYPE 5 AGGREGATE FOR BASE (4 IN. THICK)","E041","",null,null,"","","","","","","",null,"",""]
[null,null,"0304SBT15KP","230421-G01","J7P3433","0120","304050496",73720,"TYPE 5 AGGREGATE FOR BASE (4 IN. THICK)","E041","",null,null,"","","","","","","",null,"",""]
[null,null,"0304SBT15KP","230421-G01","J7P3434","0870","304050696",73637,"TYPE 5 AGGREGATE FOR BASE (6 IN. THICK)","E041","",null,null,"","","","","","","",null,"",""]
[null,null,"0304SBT15KP","230421-G01","J7P3434","5013","304990596",86859,"TYPE 5 AGGREGATE FOR BASE (5 IN. THICK)","E041","",null,null,"","","","","","","",null,"",""]
[null,null,"0304SBT15KP","230421-G01","J8P3198","5034","304991096",96426,"PERMANENT AGGREGATE EDGE TREATMENT","E041","",null,null,"","","","","","","",null,"",""]
[null,null,"0304SBT15KP","230421-G05","J8P0605J","1100","304050696",73433,"TYPE 5 AGGREGATE FOR BASE (6 IN. THICK)","E041","",null,null,"","","","","","","",null,"",""]
[null,null,"0304SBT15KP","230421-H05","J9P3749","5006","304990796",81202,"Wedge of Rock Across Box Culvert Top","E041","",null,null,"","","","","","","",null,"",""]
[null,null,"0304SBT15KP","230519-C04","J4P3443","0110","304990596",75859,"OPTIONAL BASE","E041","",null,null,"","","","","","",{"$f":"IF(N1380=\"\",\"\",H1380)","v":""},null,"",""]
[null,null,"0304SBT15KP","230519-C06","J4S3405","0090","304050496",76196,"TYPE 5 AGGREGATE FOR BASE (4 IN. THICK)","E041","",null,null,"","","","","","","",null,"",""]
[null,null,"0304SBT15KP","230519-D05","J5S3369","0040","304050496",76024,"TYPE 5 AGGREGATE FOR BASE (4 IN. THICK)","E041","",null,null,"","","","","","","",null,"",""]
[null,null,"0304SBT15KP","230519-D05","J5S3369","0110","608300696",76029,"6 IN. CONCRETE MEDIAN STRIP","E041","",null,null,"","","","","","","",null,"",""]
[null,null,"0304SBT15KP","230519-D12","J5S3478","0380","5031011A96",75000,"BRIDGE APPROACH SLAB (MINOR ROAD)","E041","",null,null,"","","","","","","",null,"",""]
[null,null,"0304SBT15KP","230519-F01","J6I2090","1620","304050696",75326,"TYPE 5 AGGREGATE FOR BASE (6 IN. THICK)","E041","",null,null,"","","","","","","",null,"",""]
[null,null,"0304SBT15KP","230519-G02","J7P3477","0260","5031011A96",75039,"BRIDGE APPROACH SLAB (MINOR ROAD)","E041","",null,null,"","","","","","","",null,"",""]
[null,null,"0304SBT15KP","230519-H01","J9P3735","5002","304990596",84044,"MISC. RIGID GEOGRID","E041","",null,null,"","","","","","","",null,"",""]
[null,null,"0304SBT15KP","230616-G01","J8S3149","0250","304050496",77450,"TYPE 5 AGGREGATE FOR BASE (4 IN. THICK)","E041","",null,null,"","","","","","","",null,"",""]
[null,null,"0304SBT15KP","230616-H01","J9S3371","0030","304991096",77281,"PERMANENT AGGREGATE EDGE TREATMENT","E041","",null,null,"","","","","","","",null,"",""]
[null,null,"0304SBT15KP","230616-H02","J9S3826","0390","304991096",77643,"PERMANENT AGGREGATE EDGE TREATMENT","E041",{"$f":"IF(C1443=$C$162,D1443,\"\")","v":""},null,null,{"$f":"(IF(K1443=\"\",\"\",IF(OR(D1443=$J$33,D1443=$T$33, D1443=$O$33),D1443,\"\")))","v":""},{"$f":"IF(N1443=\"\",\"\",F1443)","v":""},{"$f":"IF(N1443=\"\", \"\", E1443)","v":""},{"$f":"IF(N1443=\"\", \"\", G1443)","v":""},{"$f":"IF(N1443=\"\",\"\",I1443)","v":""},{"$f":"IF(N1443=\"\",\"\",J1443)","v":""},"",null,"",""]
[null,null,"0304SBT15KP","230818-A03","J1P3318","0100","304014396",80328,"TYPE 1 AGGREGATE FOR BASE (4 IN. THICK)","E041","",null,null,"","","","","","","",null,"",""]
[null,null,"0304SBT15KP","230818-A05","J1S3324","0250","304991096",78291,"PERMANENT AGGREGATE EDGE TREATMENT","E041","",null,null,"","","","","","","",null,"",""]
[null,null,"0304SBT15KP","230818-A05","J1S3324","0340","304991096",78300,"PERMANENT AGGREGATE EDGE TREATMENT","E041","",null,null,"","","","","","","",null,"",""]
[null,null,"0304SBT15KP","230818-A09","JNW0027","0250","304991096",78804,"PERMANENT AGGREGATE EDGE TREATMENT","E041","",null,null,"","","","","","","",null,"",""]
[null,null,"0304SBT15KP","230818-A11","JST0048","0120","304991096",78151,"PERMANENT AGGREGATE EDGE TREATMENT","E041","",null,null,"","","","","","","",null,"",""]
[null,null,"0304SBT15KP","230818-A11","JST0048","0180","304991096",78157,"PERMANENT AGGREGATE EDGE TREATMENT","E041","",null,null,"","","","","","","",null,"",""]
[null,null,"0304SBT15KP","230818-C01","J4S3411","0240","304991096",78055,"PERMANENT AGGREGATE EDGE TREATMENT","E041","",null,null,"","","","","","","",null,"",""]
[null,null,"0304SBT15KP","230818-G01","J7S3491","0640","304014396",78561,"TYPE 1 AGGREGATE FOR BASE (4 IN. THICK)","E041","",null,null,"","","","","","","",null,"",""]
[null,null,"0304SBT15KP","230818-G01","J7S3492","1020","304991096",78505,"PERMANENT AGGREGATE EDGE TREATMENT","E041","",null,null,"","","","","","","",null,"",""]
[null,null,"0304SBT15KP","230915-A01","J1P3223","0280","304991096",79709,"PERMANENT AGGREGATE EDGE TREATMENT","E041","",null,null,"","","","","","","",null,"",""]
[null,null,"0304SBT15KP","230915-A03","JNW0005","0330","5031011A96",79773,"BRIDGE APPROACH SLAB (MINOR ROAD)","E041","",null,null,"","","","","","","",null,"",""]
[null,null,"0304SBT15KP","230915-A06","JST0049","0220","304991096",79643,"PERMANENT AGGREGATE EDGE TREATMENT","E041","",null,null,"","","","","","","",null,"",""]
[null,null,"0304SBT15KP","230915-A4B","JST0050","0140","304991096",79130,"PERMANENT AGGREGATE EDGE TREATMENT","E041","",null,null,"","","","","","","",null,"",""]
[null,null,"0304SBT15KP","230915-A4B","JST0050","0200","304991096",79136,"PERMANENT AGGREGATE EDGE TREATMENT","E041","",null,null,"","","","","","","",null,"",""]
[null,null,"0304SBT15KP","230915-C01","J4S3349","0110","304991096",79346,"PERMANENT AGGREGATE EDGE TREATMENT","E041","",null,null,"","","","","","","",null,"",""]
[null,null,"0304SBT15KP","230915-G06","J8S3226","0010","304991096",80039,"PERMANENT AGGREGATE EDGE TREATMENT","E041","",null,null,"","","","","","","",null,"",""]
[null,null,"0304SBT15KP","230915-G06","J8S3227","0160","304991096",80049,"PERMANENT AGGREGATE EDGE TREATMENT","E041","",null,null,"","","","","","","",null,"",""]
[null,null,"0304SBT15KP","230915-G08","JST0045","0300","304991096",79567,"PERMANENT AGGREGATE EDGE TREATMENT","E041","",null,null,"","","","","","","",null,"",""]
[null,null,"0304SBT15KP","230915-H01","JST0032","0240","304991096",79848,"PERMANENT AGGREGATE EDGE TREATMENT","E041","",null,null,"","","","","","","",null,"",""]
[null,null,"0304SBT15KP","231020-B01","J2P2212","0030","304991096",80698,"PERMANENT AGGREGATE EDGE TREATMENT","E041","",null,null,"","","","","","","",null,"",""]
[null,null,"0304SBT15KP","231020-C06","JKRM0042","0160","304991096",81083,"PERMANENT AGGREGATE EDGE TREATMENT","E041","",null,null,"","","","","","","",null,"",""]
[null,null,"0304SBT15KP","231020-C06","JST0023","0450","304991096",81114,"PERMANENT AGGREGATE EDGE TREATMENT","E041","",null,null,"","","","","","","",null,"",""]
[null,null,"0304SBT15KP","231020-D03","J5P3542","0470","5031011A96",81615,"BRIDGE APPROACH SLAB (MINOR ROAD)","E041","",null,null,"","","","","","","",null,"",""]
[null,null,"0304SBT15KP","231020-G05","J7S3550","0050","203707596",81033,"COMPACTING IN CUT","E041","",null,null,"","","","","","","",null,"",""]
[null,null,"0304SBT15KP","231020-H02","J9P3681","0030","304991096",80991,"PERMANENT AGGREGATE EDGE TREATMENT","E041","",null,null,"","","","","","","",null,"",""]
[null,null,"0304SBT15KP","231117-D07","JCD0171","0050","304990596",83878,"2 IN. TYPE 1 AGGREGATE FOR BASE","E041","",null,null,"","","","","","","",null,"",""]
[null,null,"0304SBT15KP","231117-D08","JCD0173","0050","304050496",83906,"TYPE 5 AGGREGATE FOR BASE (4 IN. THICK)","E041","",null,null,"","","","","","","",null,"",""]
[null,null,"0304SBT15KP","231117-F01","J6S3280","0080","304050696",81831,"TYPE 5 AGGREGATE FOR BASE (6 IN. THICK)","E041","",null,null,"","","","","","","",null,"",""]
[null,null,"0304SBT15KP","231117-F02","J6S3351","0110","304050496",82168,"TYPE 5 AGGREGATE FOR BASE (4 IN. THICK)","E041","",null,null,"","","","","","","",null,"",""]
[null,null,"0304SBT15KP","231117-G05","J7P3521","0620","5031010A96",82242,"BRIDGE APPROACH SLAB (MAJOR)","E041","",null,null,"","","","","","","",null,"",""]
[null,null,"0304SBT15KP","231215-C01","J3P3203","0090","304014396",83610,"TYPE 1 AGGREGATE FOR BASE (4 IN. THICK)","E041","",null,null,"","","","","","","",null,"",""]
[null,null,"0304SBT15KP","231215-H03","J9S3841","0040","304050496",83783,"TYPE 5 AGGREGATE FOR BASE (4 IN. THICK)","E041","",null,null,"","","","","","","",null,"",""]
[null,null,"0304SBT15KP","240109-A01","JNW0026","0050","Br 01 Rt D, T03261",82973,"DESIGN BUILD - GRADING AND REMOVALS","E041",{"$f":"IF(C1635=$C$162,D1635,\"\")","v":""},null,null,{"$f":"(IF(K1635=\"\",\"\",IF(OR(D1635=$J$33,D1635=$T$33, D1635=$O$33),D1635,\"\")))","v":""},{"$f":"IF(N1635=\"\",\"\",F1635)","v":""},{"$f":"IF(N1635=\"\", \"\", E1635)","v":""},{"$f":"IF(N1635=\"\", \"\", G1635)","v":""},{"$f":"IF(N1635=\"\",\"\",I1635)","v":""},{"$f":"IF(N1635=\"\",\"\",J1635)","v":""},"",null,"",""]
[null,null,"0304SBT15KP","240109-A01","JNW0026","0050","Br 08 Rt CC, N09701",82980,"DESIGN BUILD - GRADING AND REMOVALS","E041","",null,null,"","","","","","","",null,"",""]
[null,null,"0304SBT15KP","240109-A01","JNW0026","0050","Br 11 Rt M, A9511",82983,"DESIGN BUILD - GRADING AND REMOVALS","E041","",null,null,"","","","","","","",null,"",""]
[null,null,"0304SBT15KP","240109-A01","JNW0026","0050","Br 18 Rt KK, A9518",82991,"DESIGN BUILD - GRADING AND REMOVALS","E041","",null,null,"","","","","","","",null,"",""]
[null,null,"0304SBT15KP","240109-A01","JNW0026","0050","Br 27 MO 129, A9527",83000,"DESIGN BUILD - GRADING AND REMOVALS","E041","",null,null,"","","","","","","",null,"",""]
[null,null,"0304SBT15KP","240109-A01","JNW0026","0050","Br 30 Rt N, A9530",83003,"DESIGN BUILD - GRADING AND REMOVALS","E041","",null,null,"","","","","","","",null,"",""]
[null,null,"0304SBT15KP","240119-B05","JNE0168","0260","5031010A96",85204,"BRIDGE APPROACH SLAB (MAJOR)","E041","",null,null,"","","","","","","",null,"",""]
[null,null,"0304SBT15KP","240119-D08","J5S3526","0060","304014396",85263,"TYPE 1 AGGREGATE FOR BASE (4 IN. THICK)","E041","",null,null,"","","","","","","",null,"",""]
[null,null,"0304SBT15KP","240119-G03","J7P3484B","0080","304014396",84941,"TYPE 1 AGGREGATE FOR BASE (4 IN. THICK)","E041","",null,null,"","","","","","","",null,"",""]
[null,null,"0304SBT15KP","240119-G04","J7P3528","0640","5031010A96",84917,"BRIDGE APPROACH SLAB (MAJOR)","E041","",null,null,"","","","","","","",null,"",""]
[null,null,"0304SBT15KP","240119-G09","J8S3240","0020","304014396",84810,"TYPE 1 AGGREGATE FOR BASE (4 IN. THICK)","E041","",null,null,"","","","","","","",null,"",""]
[null,null,"0304SBT15KP","240119-H04","J9S3477","0030","304050696",85344,"TYPE 5 AGGREGATE FOR BASE (6 IN. THICK)","E041",{"$f":"IF(C1699=$C$162,D1699,\"\")","v":""},null,null,{"$f":"(IF(K1699=\"\",\"\",IF(OR(D1699=$J$33,D1699=$T$33, D1699=$O$33),D1699,\"\")))","v":""},{"$f":"IF(N1699=\"\",\"\",F1699)","v":""},{"$f":"IF(N1699=\"\", \"\", E1699)","v":""},{"$f":"IF(N1699=\"\", \"\", G1699)","v":""},{"$f":"IF(N1699=\"\",\"\",I1699)","v":""},{"$f":"IF(N1699=\"\",\"\",J1699)","v":""},"",null,"",""]
[null,null,"0304SBT15KP","240119-H07","J9S3642","0820","5031011A96",84570,"BRIDGE APPROACH SLAB (MINOR ROAD)","E041","",null,null,"","","","","","","",null,"",""]
[null,null,"0304SBT15KP","240119-H07","J9S3646","1450","304014396",84482,"TYPE 1 AGGREGATE FOR BASE (4 IN. THICK)","E041","",null,null,"","","","","","","",null,"",""]
[null,null,"0304SBT15KP","240119-H08","J9S3724","0860","304016396",84407,"TYPE 1 AGGREGATE FOR BASE (6 IN. THICK)","E041","",null,null,"","","","","","","",null,"",""]
[null,null,"0304SBT15KP","240216-A02","JST0075","0180","304991096",86124,"PERMANENT AGGREGATE EDGE TREATMENT","E041","",null,null,"","","","","","","",null,"",""]
[null,null,"0304SBT15KP","240216-B01","JNE0125","0100","304014396",85989,"TYPE 1 AGGREGATE FOR BASE (4 IN. THICK)","E041","",null,null,"","","","","","","",null,"",""]
[null,null,"0304SBT15KP","240216-D02","J5S3479","0150","5031011A96",86770,"BRIDGE APPROACH SLAB (MINOR ROAD)","E041","",null,null,"","","","","","","",null,"",""]
[null,null,"0304SBT15KP","240216-G07","J7S3473","0050","304014396",86405,"TYPE 1 AGGREGATE FOR BASE (4 IN. THICK)","E041","",null,null,"","","","","","","",null,"",""]
[null,null,"0304SBT15KP","240216-G12","JST0074","0280","304991096",86623,"PERMANENT AGGREGATE EDGE TREATMENT","E041","",null,null,"","","","","","","",null,"",""]
[null,null,"0304SBT15KP","240216-H03","J9P3756","0050","3030610A",89555,"PLACING ROCK BASE","E041","",null,null,"","","","","","","",null,"",""]
[null,null,"0304SBT15KP","240315-D02","J5S3480","5005","5031010A96",92037,"BRIDGE APPROACH SLAB (MAJOR)","E041","",null,null,"","","","","","","",null,"",""]
[null,null,"0304SBT15KP","240315-F02","J6S3563","0780","304050696",87845,"TYPE 5 AGGREGATE FOR BASE (6 IN. THICK)","E041","",null,null,"","","","","","","",null,"",""]
[null,null,"0304SBT15KP","240315-G03","JSR0056","0030","304014396",87284,"TYPE 1 AGGREGATE FOR BASE (4 IN. THICK)","E041","",null,null,"","","","","","","",null,"",""]
[null,null,"0304SBT15KP","240315-G03","JSR0056","0040","304050496",87285,"TYPE 5 AGGREGATE FOR BASE (4 IN. THICK)","E041","",null,null,"","","","","","","",null,"",""]
[null,null,"0304SBT15KP","240315-H03","J9S3608","0600","304014396",87417,"TYPE 1 AGGREGATE FOR BASE (4 IN. THICK)","E041","",null,null,"","","","","","","",null,"",""]
[null,null,"0304SBT15KP","240315-H03","JSE0088","1290","304014396",87485,"TYPE 1 AGGREGATE FOR BASE (4 IN. THICK)","E041","",null,null,"","","","","","","",null,"",""]
[null,null,"0304SBT15KP","240419-C04","JKR0153","0040","304991096",89337,"TYPE 1 OR TYPE 5 BASE ROCK","E041","",null,null,"","","","","","","",null,"",""]
[null,null,"0304SBT15KP","240419-F05","J6S3599","0090","304050496",88790,"TYPE 5 AGGREGATE FOR BASE (4 IN. THICK)","E041","",null,null,"","","","","","","",null,"",""]
[null,null,"0304SBT15KP","240419-F06","J6S3640","0090","304050696",88828,"TYPE 5 AGGREGATE FOR BASE (6 IN. THICK)","E041","",null,null,"","","","","","","",null,"",""]
[null,null,"0304SBT15KP","240419-H04","J9P3739","0100","304050696",89378,"TYPE 5 AGGREGATE FOR BASE (6 IN. THICK)","E041","",null,null,"","","","","","","",null,"",""]
[null,null,"0304SBT15KP","240517-B01","J2P3043","2130","5031010A96",90268,"BRIDGE APPROACH SLAB (MAJOR)","E041","",null,null,"","","","","","","",null,"",""]
[null,null,"0304SBT15KP","240517-B02","JNE0183","0030","304014396",90328,"TYPE 1 AGGREGATE FOR BASE (4 IN. THICK)","E041","",null,null,"","","","","","","",null,"",""]
[null,null,"0304SBT15KP","240517-D07","JCD0030","0060","304050496",90059,"TYPE 5 AGGREGATE FOR BASE (4 IN. THICK)","E041","",null,null,"","","","","","","",null,"",""]
[null,null,"0304SBT15KP","240517-D07","JCD0030","5009","304990596",93010,"3 Inch Minus Base Rock (6 inch thick)","E041","",null,null,"","","","","","","",null,"",""]
[null,null,"0304SBT15KP","240517-F08","J6S3279","0500","304050496",90945,"TYPE 5 AGGREGATE FOR BASE (4 IN. THICK)","E041","",null,null,"","","","","","","",null,"",""]
[null,null,"0304SBT15KP","240517-G11","J7P3484C","0750","5031010A96",91171,"BRIDGE APPROACH SLAB (MAJOR)","E041","",null,null,"","","","","","","",null,"",""]
[null,null,"0304SBT15KP","240517-H03","J9S3676","1670","5031011A96",90718,"BRIDGE APPROACH SLAB (MINOR ROAD)","E041","",null,null,"","","","","","","",null,"",""]
[null,null,"0304SBT15KP","240517-H04","J9S3610","0180","304991096",90367,"MISC.(Permanent Aggregate Edge Treatment)","E041","",null,null,"","","","","","","",null,"",""]
[null,null,"0304SBT15KP","240621-A06","JNW0022","0030","304014396",91767,"TYPE 1 AGGREGATE FOR BASE (4 IN. THICK)","E041","",null,null,"","","","","","","",null,"",""]
[null,null,"0304SBT15KP","240621-B01","J2P3245","0050","304016396",92155,"TYPE 1 AGGREGATE FOR BASE (6 IN. THICK)","E041","",null,null,"","","","","","","",null,"",""]
[null,null,"0304SBT15KP","240816-A01","J1S3413","0040","304991096",92711,"PERMANENT AGGREGATE EDGE TREATMENT","E041","",null,null,"","","","","","","",null,"",""]
[null,null,"0304SBT15KP","240816-C03","JKU0067","0320","304991096",92908,"PERMANENT EDGE TREATMENT","E041","",null,null,"","","","","","","",null,"",""]
[null,null,"0304SBT15KP","240816-F02","J6S3633","0060","304050496",92505,"TYPE 5 AGGREGATE FOR BASE (4 IN. THICK)","E041","",null,null,"","","","","","","",null,"",""]
[null,null,"0304SBT15KP","240920-A01","JNW0002","0120","304050496",94349,"TYPE 5 AGGREGATE FOR BASE (4 IN. THICK)","E041","",null,null,"","","","","","","",null,"",""]
[null,null,"0304SBT15KP","240920-A03","JNW0028","0140","304991096",93652,"Permanent Aggregate Edge Treatment","E041","",null,null,"","","","","","","",null,"",""]
[null,null,"0304SBT15KP","240920-A03","JNW0028","0200","304991096",93657,"Permanent Aggregate Edge Treatment","E041","",null,null,"","","","","","","",null,"",""]
[null,null,"0304SBT15KP","240920-A06","JST0099","0280","304991096",93527,"Permanent Aggregate Edge Treatment","E041","",null,null,"","","","","","","",null,"",""]
[null,null,"0304SBT15KP","240920-A06","JST0099","0300","304991096",93529,"Permanent Aggregate Edge Treatment","E041","",null,null,"","","","","","","",null,"",""]
[null,null,"0304SBT15KP","240920-A07","JST0100","0220","304991096",94667,"PERMANENT AGGREGATE EDGE TREATMENT","E041","",null,null,"","","","","","","",null,"",""]
[null,null,"0304SBT15KP","240920-C03","JKU0054","0400","304991096",93256,"PERMANENT AGGREGATE EDGE TREATMENT","E041","",null,null,"","","","","","","",null,"",""]
[null,null,"0304SBT15KP","240920-C05","JKU0070","0050","304991096",93273,"PERMANENT AGGREGATE EDGE TREATMENT","E041","",null,null,"","","","","","","",null,"",""]
[null,null,"0304SBT15KP","240920-G04","JST0108","0020","304991096",94210,"PERMANENT AGGREGATE EDGE TREATMENT","E041","",null,null,"","","","","","","",null,"",""]
[null,null,"0304SBT15KP","240920-G04","JST0108","0060","304991096",94218,"PERMANENT AGGREGATE EDGE TREATMENT","E041","",null,null,"","","","","","","",null,"",""]
[null,null,"0304SBT15KP","240920-H02","J9P3751","0125","304990596",93857,"MODIFIED ROCK BASE","E041","",null,null,"","","","","","","",null,"",""]
[null,null,"0304SBT15KP","240920-H04","JST0112","0110","304991096",94133,"PERMANENT AGGREGATE EDGE TREATMENT","E041","",null,null,"","","","","","","",null,"",""]
[null,null,"0304SBT15KP","240920-H04","JST0112","0140","304991096",94136,"PERMANENT AGGREGATE EDGE TREATMENT","E041","",null,null,"","","","","","","",null,"",""]
[null,null,"0304SBT15KP","240920-H04","JST0112","0410","304991096",94163,"PERMANENT AGGREGATE EDGE TREATMENT","E041","",null,null,"","","","","","","",null,"",""]
[null,null,"0304SBT15KP","241018-A03","JNW0111","0060","304014396",96777,"TYPE 1 AGGREGATE FOR BASE (4 IN. THICK)","E041","",null,null,"","","","","","","",null,"",""]
[null,null,"0304SBT15KP","241018-A03","JNW0111","0530","5031011A96",96811,"BRIDGE APPROACH SLAB (MINOR ROAD)","E041","",null,null,"","","","","","","",null,"",""]
[null,null,"0304SBT15KP","241018-A05","JST0102","0190","304991096",95591,"PERMANENT AGGREGATE EDGE TREATMENT","E041","",null,null,"","","","","","","",null,"",""]
[null,null,"0304SBT15KP","241018-A06","JST0101","0110","304991096",96679,"PERMANENT AGGREGATE EDGE TREATMENT","E041","",null,null,"","","","","","","",null,"",""]
[null,null,"0304SBT15KP","241018-A06","JST0101","0170","304991096",96685,"PERMANENT AGGREGATE EDGE TREATMENT","E041","",null,null,"","","","","","","",null,"",""]
[null,null,"0304SBT15KP","241018-C02","J4P3468","0080","304050496",95355,"TYPE 5 AGGREGATE FOR BASE (4 IN. THICK)","E041","",null,null,"","","","","","","",null,"",""]
[null,null,"0304SBT15KP","241018-C04","JKR0090","0070","304050696",95391,"TYPE 5 AGGREGATE FOR BASE (6 IN. THICK)","E041","",null,null,"","","","","","","",null,"",""]
[null,null,"0304SBT15KP","241018-D01","J5P3433","0080","304050496",95728,"TYPE 5 AGGREGATE FOR BASE (4 IN. THICK)","E041",{"$f":"IF(C2019=$C$162,D2019,\"\")","v":""},null,null,{"$f":"(IF(K2019=\"\",\"\",IF(OR(D2019=$J$33,D2019=$T$33, D2019=$O$33),D2019,\"\")))","v":""},{"$f":"IF(N2019=\"\",\"\",F2019)","v":""},{"$f":"IF(N2019=\"\", \"\", E2019)","v":""},{"$f":"IF(N2019=\"\", \"\", G2019)","v":""},{"$f":"IF(N2019=\"\",\"\",I2019)","v":""},{"$f":"IF(N2019=\"\",\"\",J2019)","v":""},"",null,"",""]
[null,null,"0304SBT15KP","241018-F03","J6S3582","2400","5031010A96",95183,"BRIDGE APPROACH SLAB (MAJOR)","E041","",null,null,"","","","","","","",null,"",""]
[null,null,"0304SBT15KP","241018-G02","JST0109","0170","304991096",95943,"PERMANENT AGGREGATE EDGE TREATMENT","E041","",null,null,"","","","","","","",null,"",""]
[null,null,"0304SBT15KP","241018-G03","JST0110","0220","304991096",95312,"PERMANENT AGGREGATE EDGE TREATMENT","E041","",null,null,"","","","","","","",null,"",""]
[null,null,"0304SBT15KP","241115-A01","JNW0009","0490","5031011A96",96931,"BRIDGE APPROACH SLAB (MINOR ROAD)","E041","",null,null,"","","","","","","",null,"",""]
[null,null,"0304SBT15KP","241115-A02","JNW0112","0240","5031011A96",96910,"BRIDGE APPROACH SLAB (MINOR ROAD)","E041","",null,null,"","","","","","","",null,"",""]
[null,null,"0304SBT15KP","241115-C02","J4P3268D","0090","304050496",97567,"TYPE 5 AGGREGATE FOR BASE (4 IN. THICK)","E041","",null,null,"","","","","","","",null,"",""]
[null,null,"0304SBT15KP","241115-C08","JST0107","0130","304991096",97553,"PERMANENT AGGREGATE EDGE TREATMENT","E041","",null,null,"","","","","","","",null,"",""]
[null,null,"0304SBT15KP","241115-D05","JCD0057","0040","304014396",96980,"TYPE 1 AGGREGATE FOR BASE (4 IN. THICK)","E041","",null,null,"","","","","","","",null,"",""]
[null,null,"0304SBT15KP","241115-F03","J6S3283","1750","5031010A96",98062,"BRIDGE APPROACH SLAB (MAJOR)","E041","",null,null,"","","","","","","",null,"",""]
[null,null,"0304SBT15KP","241115-F10","JSL0077","0050","304050496",98332,"TYPE 5 AGGREGATE FOR BASE (4 IN. THICK)","E041","",null,null,"","","","","","","",null,"",""]
[null,null,"0304SBT15KP","241115-G02","JSU0216","1110","304990596",98410,"TYPE 5 AGGREGATE FOR BASE (4 IN. THICK)","E041",{"$f":"IF(C2083=$C$162,D2083,\"\")","v":""},null,null,{"$f":"(IF(K2083=\"\",\"\",IF(OR(D2083=$J$33,D2083=$T$33, D2083=$O$33),D2083,\"\")))","v":""},{"$f":"IF(N2083=\"\",\"\",F2083)","v":""},{"$f":"IF(N2083=\"\", \"\", E2083)","v":""},{"$f":"IF(N2083=\"\", \"\", G2083)","v":""},{"$f":"IF(N2083=\"\",\"\",I2083)","v":""},{"$f":"IF(N2083=\"\",\"\",J2083)","v":""},"",null,"",""]
[null,null,"0304SBT15KP","241115-G11","JST0111","0210","304991096",97048,"PERMANENT AGGREGATE EDGE TREATMENT","E041","",null,null,"","","","","","","",null,"",""]
[null,null,"0304SBT15KP","241115-G11","JST0111","0390","304991096",97064,"PERMANENT AGGREGATE EDGE TREATMENT","E041","",null,null,"","","","","","","",null,"",""]
[null,null,"0304SBT15KP","241115-G3A","J8S3238","1070","304050496",99014,"TYPE 5 AGGREGATE FOR BASE (4 IN. THICK)","E041","",null,null,"","","","","","","",null,"",""]
[null,null,"0304SBT15KP","241115-H02","J9P3667","0050","304050696",97277,"TYPE 5 AGGREGATE FOR BASE (6 IN. THICK)","E041","",null,null,"","","","","","","",null,"",""]
[null,null,"0304SBT15KP","241127-C09","JST0016B","0740","5031011A96",98159,"BRIDGE APPROACH SLAB (MINOR ROAD)","E041","",null,null,"","","","","","","",null,"",""]
[null,null,"0304SBT7KP","230120-G07","J8S3138B","1860","304050696",69139,"TYPE 5 AGGREGATE FOR BASE (6 IN. THICK)","E041","",null,null,"","","","","","","",null,"",""]
[null,null,"0304SBT7KP","230317-G01","J8S3200","0920","304014396",72637,"TYPE 1 AGGREGATE FOR BASE (4 IN. THICK)","E041","",null,null,"","","","","","","",null,"",""]
[null,null,"0304SBT7KP","240419-G05","J8S3171","1700","304014396",89125,"TYPE 1 AGGREGATE FOR BASE (4 IN. THICK)","E041","",null,null,"","","","","","","",null,"",""]
[null,null,null,null,null,null,null,null,null,null,"",null,null,"","","","","","","",null,"",""]
[null,null,null,null,null,null,null,null,null,null,"",null,null,"","","","","","","",null,"",""]
[null,null,null,null,null,null,null,null,null,null,"",null,null,"","","","","","","",null,"",""]
[null,null,null,null,null,null,null,null,null,null,"",null,null,"","","","","","","",null,"",""]
[null,null,null,null,null,null,null,null,null,null,"",null,null,"","","","","","","",null,"",""]
[null,null,null,null,null,null,null,null,null,null,"",null,null,"","","","","","","",null,"",""]
[null,null,null,null,null,null,null,null,null,null,"",null,null,"","","","","","","",null,"",""]
[null,null,null,null,null,null,null,null,null,null,"",null,null,"","","","","","","",null,"",""]
[null,null,null,null,null,null,null,null,null,null,"",null,null,"","","","","","","",null,"",""]
[null,null,null,null,null,null,null,null,null,null,"",null,null,"","","","","","","",null,"",""]
[null,null,null,null,null,null,null,null,null,null,"",null,null,"","","","","","","",null,"",""]
[null,null,null,null,null,null,null,null,null,null,"",null,null,"","","","","","","",null,"",""]
[null,null,null,null,null,null,null,null,null,null,"",null,null,"","","","","","","",null,"",""]
[null,null,null,null,null,null,null,null,null,null,"",null,null,"","","","","","","",null,"",""]
[null,null,null,null,null,null,null,null,null,null,"",null,null,"","","","","","","",null,"",""]
[null,null,null,null,null,null,null,null,null,null,"",null,null,"","","","","","","",null,"",""]
[null,null,null,null,null,null,null,null,null,null,"",null,null,"","","","","","","",null,"",""]
[null,null,null,null,null,null,null,null,null,null,"",null,null,"","","","","","","",null,"",""]
[null,null,null,null,null,null,null,null,null,null,"",null,null,"","","","","","","",null,"",""]
[null,null,null,null,null,null,null,null,null,null,"",null,null,"","","","","","","",null,"",""]
[null,null,null,null,null,null,null,null,null,null,"",null,null,"","","","","","","",null,"",""]
[null,null,null,null,null,null,null,null,null,null,"",null,null,"","","","","","","",null,"",""]
[null,null,null,null,null,null,null,null,null,null,"",null,null,"","","","","","","",null,"",""]
[null,null,null,null,null,null,null,null,null,null,"",null,null,"","","","","","","",null,"",""]
[null,null,null,null,null,null,null,null,null,null,"",null,null,"","","","","","","",null,"",""]
[null,null,null,null,null,null,null,null,null,null,"",null,null,"","","","","","","",null,"",""]
[null,null,null,null,null,null,null,null,null,null,"",null,null,"","","","","","","",null,"",""]
[null,null,null,null,null,null,null,null,null,null,"",null,null,"","","","","","","",null,"",""]
[null,null,null,null,null,null,null,null,null,null,"",null,null,"","","","","","","",null,"",""]
[null,null,null,null,null,null,null,null,null,null,"",null,null,"","","","","","","",null,"",""]
[null,null,null,null,null,null,null,null,null,null,"",null,null,"","","","","","","",null,"",""]
[null,null,null,null,null,null,null,null,null,null,"",null,null,"","","","","","","",null,"",""]
[null,null,null,null,null,null,null,null,null,null,"",null,null,"","","","","","","",null,"",""]
[null,null,null,null,null,null,null,null,null,null,"",null,null,"","","","","","","",null,"",""]
[null,null,null,null,null,null,null,null,null,null,"",null,null,"","","","","","",{"$f":"IF(N2340=\"\",\"\",H2340)","v":""},null,"",""]
[null,null,null,null,null,null,null,null,null,null,"",null,null,"","","","","","","",null,"",""]
[null,null,null,null,null,null,null,null,null,null,"",null,null,"","","","","","","",null,"",""]
[null,null,null,null,null,null,null,null,null,null,"",null,null,"","","","","","","",null,"",""]
[null,null,null,null,null,null,null,null,null,null,"",null,null,"","","","","","","",null,"",""]
[null,null,null,null,null,null,null,null,null,null,"",null,null,"","","","","","","",null,"",""]
[null,null,null,null,null,null,null,null,null,null,"",null,null,"","","","","","","",null,"",""]
[null,null,null,null,null,null,null,null,null,null,"",null,null,"","","","","","","",null,"",""]
[null,null,null,null,null,null,null,null,null,null,"",null,null,"","","","","","","",null,"",""]
[null,null,null,null,null,null,null,null,null,null,"",null,null,"","","","","","","",null,"",""]
[null,null,null,null,null,null,null,null,null,null,"",null,null,"","","","","","","",null,"",""]
[null,null,null,null,null,null,null,null,null,null,"",null,null,"","","","","","","",null,"",""]
[null,null,null,null,null,null,null,null,null,null,"",null,null,"","","","","","","",null,"",""]
[null,null,null,null,null,null,null,null,null,null,"",null,null,"","","","","","","",null,"",""]
[null,null,null,null,null,null,null,null,null,null,"",null,null,"","","","","","","",null,"",""]
[null,null,null,null,null,null,null,null,null,null,"",null,null,"","","","","","","",null,"",""]
[null,null,null,null,null,null,null,null,null,null,"",null,null,"","","","","","","",null,"",""]
[null,null,null,null,null,null,null,null,null,null,"",null,null,"","","","","","","",null,"",""]
[null,null,null,null,null,null,null,null,null,null,"",null,null,"","","","","","","",null,"",""]
[null,null,null,null,null,null,null,null,null,null,"",null,null,"","","","","","","",null,"",""]
[null,null,null,null,null,null,null,null,null,null,"",null,null,"","","","","","","",null,"",""]
[null,null,null,null,null,null,null,null,null,null,"",null,null,"","","","","","","",null,"",""]
[null,null,null,null,null,null,null,null,null,null,"",null,null,"","","","","","","",null,"",""]
[null,null,null,null,null,null,null,null,null,null,"",null,null,"","","","","","","",null,"",""]
[null,null,null,null,null,null,null,null,null,null,"",null,null,"","","","","","","",null,"",""]
[null,null,null,null,null,null,null,null,null,null,"",null,null,"","","","","","","",null,"",""]
[null,null,null,null,null,null,null,null,null,null,"",null,null,"","","","","","","",null,"",""]
[null,null,null,null,null,null,null,null,null,null,"",null,null,"","","","","","","",null,"",""]
[null,null,null,null,null,null,null,null,null,null,"",null,null,"","","","","","","",null,"",""]
[null,null,null,null,null,null,null,null,null,null,"",null,null,"","","","","","","",null,"",""]
[null,null,null,null,null,null,null,null,null,null,"",null,null,"","","","","","","",null,"",""]
[null,null,null,null,null,null,null,null,null,null,"",null,null,"","","","","","","",null,"",""]
[null,null,null,null,null,null,null,null,null,null,"",null,null,"","","","","","","",null,"",""]
[null,null,null,null,null,null,null,null,null,null,"",null,null,"","","","","","",{"$f":"IF(N2532=\"\",\"\",H2532)","v":""},null,"",""]
[null,null,null,null,null,null,null,null,null,null,"",null,null,"","","","","","","",null,"",""]
[null,null,null,null,null,null,null,null,null,null,"",null,null,"","","","","","","",null,"",""]
[null,null,null,null,null,null,null,null,null,null,"",null,null,"","","","","","","",null,"",""]
[null,null,null,null,null,null,null,null,null,null,"",null,null,"","","","","","","",null,"",""]
[null,null,null,null,null,null,null,null,null,null,"",null,null,"","","","","","","",null,"",""]
[null,null,null,null,null,null,null,null,null,null,"",null,null,"","","","","","","",null,"",""]
[null,null,null,null,null,null,null,null,null,null,"",null,null,"","","","","","","",null,"",""]
[null,null,null,null,null,null,null,null,null,null,"",null,null,"","","","","","","",null,"",""]
[null,null,null,null,null,null,null,null,null,null,"",null,null,"","","","","","","",null,"",""]
[null,null,null,null,null,null,null,null,null,null,{"$f":"IF(C2595=$C$162,D2595,\"\")","v":""},null,null,{"$f":"(IF(K2595=\"\",\"\",IF(OR(D2595=$J$33,D2595=$T$33, D2595=$O$33),D2595,\"\")))","v":""},{"$f":"IF(N2595=\"\",\"\",F2595)","v":""},{"$f":"IF(N2595=\"\", \"\", E2595)","v":""},{"$f":"IF(N2595=\"\", \"\", G2595)","v":""},{"$f":"IF(N2595=\"\",\"\",I2595)","v":""},{"$f":"IF(N2595=\"\",\"\",J2595)","v":""},"",null,"",""]
[null,null,null,null,null,null,null,null,null,null,"",null,null,"","","","","","","",null,"",""]
[null,null,null,null,null,null,null,null,null,null,"",null,null,"","","","","","","",null,"",""]
[null,null,null,null,null,null,null,null,null,null,"",null,null,"","","","","","","",null,"",""]
[null,null,null,null,null,null,null,null,null,null,"",null,null,"","","","","","","",null,"",""]
[null,null,null,null,null,null,null,null,null,null,"",null,null,"","","","","","","",null,"",""]
[null,null,null,null,null,null,null,null,null,null,"",null,null,"","","","","","","",null,"",""]
[null,null,null,null,null,null,null,null,null,null,"",null,null,"","","","","","","",null,"",""]
[null,null,null,null,null,null,null,null,null,null,"",null,null,"","","","","","","",null,"",""]
[null,null,null,null,null,null,null,null,null,null,"",null,null,"","","","","","","",null,"",""]
[null,null,null,null,null,null,null,null,null,null,"",null,null,"","","","","","","",null,"",""]
[null,null,null,null,null,null,null,null,null,null,"",null,null,"","","","","","","",null,null,""]
[null,null,null,null,null,null,null,null,null,null,"",null,null,"","","","","","","",null,null,""]
[null,null,null,null,null,null,null,null,null,null,"",null,null,"","","","","","","",null,null,""]
[null,null,null,null,null,null,null,null,null,null,"",null,null,"","","","","","","",null,null,""]
[null,null,null,null,null,null,null,null,null,null,"",null,null,"","","","","","","",null,null,""]
[null,null,null,null,null,null,null,null,null,null,"",null,null,"","","","","","","",null,null,""]
[null,null,null,null,null,null,null,null,null,null,"",null,null,"","","","","","","",null,null,""]
[null,null,null,null,null,null,null,null,null,null,"",null,null,"","","","","","","",null,null,""]
[null,null,null,null,null,null,null,null,null,null,"",null,null,"","","","","","","",null,null,""]
[null,null,null,null,null,null,null,null,null,null,"",null,null,"","","","","","","",null,null,""]
[null,null,null,null,null,null,null,null,null,null,"",null,null,"","","","","","","",null,null,""]
[null,null,null,null,null,null,null,null,null,null,"",null,null,"","","","","","","",null,null,""]
[null,null,null,null,null,null,null,null,null,null,"",null,null,"","","","","","","",null,null,""]
[null,null,null,null,null,null,null,null,null,null,"",null,null,"","","","","","","",null,null,""]
[null,null,null,null,null,null,null,null,null,null,"",null,null,"","","","","","","",null,null,""]
[null,null,null,null,null,null,null,null,null,null,"",null,null,"","","","","","","",null,null,""]
[null,null,null,null,null,null,null,null,null,null,"",null,null,"","","","","","","",null,null,""]
[null,null,null,null,null,null,null,null,null,null,"",null,null,"","","","","","","",null,null,""]
[null,null,null,null,null,null,null,null,null,null,"",null,null,"","","","","","","",null,null,""]
[null,null,null,null,null,null,null,null,null,null,"",null,null,"","","","","","","",null,null,""]
[null,null,null,null,null,null,null,null,null,null,"",null,null,"","","","","","","",null,null,""]
[null,null,null,null,null,null,null,null,null,null,"",null,null,"","","","","","","",null,null,""]
[null,null,null,null,null,null,null,null,null,null,"",null,null,"","","","","","","",null,null,""]
[null,null,null,null,null,null,null,null,null,null,"",null,null,"","","","","","","",null,null,""]
[null,null,null,null,null,null,null,null,null,null,"",null,null,"","","","","","","",null,null,""]
[null,null,null,null,null,null,null,null,null,null,"",null,null,"","","","","","","",null,null,""]
[null,null,null,null,null,null,null,null,null,null,"",null,null,"","","","","","","",null,null,""]
[null,null,null,null,null,null,null,null,null,null,"",null,null,"","","","","","","",null,null,""]
[null,null,null,null,null,null,null,null,null,null,"",null,null,"","","","","","","",null,null,""]
[null,null,null,null,null,null,null,null,null,null,"",null,null,"","","","","","","",null,null,""]
[null,null,null,null,null,null,null,null,null,null,"",null,null,"","","","","","","",null,null,""]
[null,null,null,null,null,null,null,null,null,null,"",null,null,"","","","","","","",null,null,""]
[null,null,null,null,null,null,null,null,null,null,"",null,null,"","","","","","","",null,null,""]
[null,null,null,null,null,null,null,null,null,null,{"$f":"IF(C2851=$C$162,D2851,\"\")","v":""},null,null,{"$f":"(IF(K2851=\"\",\"\",IF(OR(D2851=$J$33,D2851=$T$33, D2851=$O$33),D2851,\"\")))","v":""},{"$f":"IF(N2851=\"\",\"\",F2851)","v":""},{"$f":"IF(N2851=\"\", \"\", E2851)","v":""},{"$f":"IF(N2851=\"\", \"\", G2851)","v":""},{"$f":"IF(N2851=\"\",\"\",I2851)","v":""},{"$f":"IF(N2851=\"\",\"\",J2851)","v":""},"",null,null,""]
[null,null,null,null,null,null,null,null,null,null,"",null,null,"","","","","","","",null,null,""]
[null,null,null,null,null,null,null,null,null,null,"",null,null,"","","","","","","",null,null,""]
[null,null,null,null,null,null,null,null,null,null,"",null,null,"","","","","","","",null,null,""]
[null,null,null,null,null,null,null,null,null,null,"",null,null,"","","","","","","",null,null,""]
[null,null,null,null,null,null,null,null,null,null,"",null,null,"","","","","","","",null,null,""]
[null,null,null,null,null,null,null,null,null,null,"",null,null,"","","","","","","",null,null,""]
[null,null,null,null,null,null,null,null,null,null,"",null,null,"","","","","","","",null,null,""]
[null,null,null,null,null,null,null,null,null,null,"",null,null,"","","","","","","",null,null,""]
[null,null,null,null,null,null,null,null,null,null,"",null,null,"","","","","","","",null,null,""]
[null,null,null,null,null,null,null,null,null,null,"",null,null,"","","","","","","",null,null,""]
[null,null,null,null,null,null,null,null,null,null,"",null,null,"","","","","","","",null,null,""]
[null,null,null,null,null,null,null,null,null,null,"",null,null,"","","","","","","",null,null,""]
[null,null,null,null,null,null,null,null,null,null,"",null,null,"","","","","","","",null,null,""]
[null,null,null,null,null,null,null,null,null,null,"",null,null,"","","","","","","",null,null,""]
[null,null,null,null,null,null,null,null,null,null,"",null,null,"","","","","","","",null,null,""]
[null,null,null,null,null,null,null,null,null,null,"",null,null,"","","","","","","",null,null,""]
[null,null,null,null,null,null,null,null,null,null,"",null,null,"","","","","","","",null,null,""]
[null,null,null,null,null,null,null,null,null,null,"",null,null,"","","","","","","",null,null,""]
[null,null,null,null,null,null,null,null,null,null,"",null,null,"","","","","","","",null,null,""]
[null,null,null,null,null,null,null,null,null,null,"",null,null,"","","","","","","",null,null,""]
[null,null,null,null,null,null,null,null,null,null,"",null,null,"","","","","","",{"$f":"IF(N2980=\"\",\"\",H2980)","v":""},null,null,""]
[null,null,null,null,null,null,null,null,null,null,"",null,null,"","","","","","","",null,null,""]
[null,null,null,null,null,null,null,null,null,null,"",null,null,"","","","","","","",null,null,""]
[null,null,null,null,null,null,null,null,null,null,"",null,null,"","","","","","","",null,null,""]
[null,null,null,null,null,null,null,null,null,null,"",null,null,"","","","","","","",null,null,""]
[null,null,null,null,null,null,null,null,null,null,"",null,null,"","","","","","","",null,null,""]
[null,null,null,null,null,null,null,null,null,null,"",null,null,"","","","","","","",null,null,""]
[null,null,null,null,null,null,null,null,null,null,"",null,null,"","","","","","","",null,null,""]
[null,null,null,null,null,null,null,null,null,null,"",null,null,"","","","","","","",null,null,""]
[null,null,null,null,null,null,null,null,null,null,"",null,null,"","","","","","","",null,null,""]
[null,null,null,null,null,null,null,null,null,null,"",null,null,"","","","","","","",null,null,""]
[null,null,null,null,null,null,null,null,null,null,"",null,null,"","","","","","","",null,null,""]
[null,null,null,null,null,null,null,null,null,null,"",null,null,"","","","","","","",null,null,""]
[null,null,null,null,null,null,null,null,null,null,"",null,null,"","","","","","","",null,null,""]
[null,null,null,null,null,null,null,null,null,null,"",null,null,"","","","","","","",null,null,""]
[null,null,null,null,null,null,null,null,null,null,"",null,null,"","","","","","","",null,null,""]
[null,null,null,null,null,null,null,null,null,null,"",null,null,"","","","","","","",null,null,""]
[null,null,null,null,null,null,null,null,null,null,"",null,null,"","","","","","","",null,null,""]
[null,null,null,null,null,null,null,null,null,null,"",null,null,"","","","","","","",null,null,""]
[null,null,null,null,null,null,null,null,null,null,"",null,null,"","","","","","","",null,null,""]
[null,null,null,null,null,null,null,null,null,null,"",null,null,"","","","","","","",null,null,""]
[null,null,null,null,null,null,null,null,null,null,"",null,null,"","","","","","","",null,null,""]
[null,null,null,null,null,null,null,null,null,null,{"$f":"IF(C3107=$C$162,D3107,\"\")","v":""},null,null,{"$f":"(IF(K3107=\"\",\"\",IF(OR(D3107=$J$33,D3107=$T$33, D3107=$O$33),D3107,\"\")))","v":""},{"$f":"IF(N3107=\"\",\"\",F3107)","v":""},{"$f":"IF(N3107=\"\", \"\", E3107)","v":""},{"$f":"IF(N3107=\"\", \"\", G3107)","v":""},{"$f":"IF(N3107=\"\",\"\",I3107)","v":""},{"$f":"IF(N3107=\"\",\"\",J3107)","v":""},"",null,null,""]
[null,null,null,null,null,null,null,null,null,null,"",null,null,"","","","","","","",null,null,""]
[null,null,null,null,null,null,null,null,null,null,"",null,null,"","","","","","","",null,null,""]
[null,null,null,null,null,null,null,null,null,null,"",null,null,"","","","","","","",null,null,""]
[null,null,null,null,null,null,null,null,null,null,"",null,null,"","","","","","","",null,null,""]
[null,null,null,null,null,null,null,null,null,null,"",null,null,"","","","","","","",null,null,""]
[null,null,null,null,null,null,null,null,null,null,"",null,null,"","","","","","","",null,null,""]
[null,null,null,null,null,null,null,null,null,null,"",null,null,"","","","","","","",null,null,""]
[null,null,null,null,null,null,null,null,null,null,"",null,null,"","","","","","","",null,null,""]
[null,null,null,null,null,null,null,null,null,null,"",null,null,"","","","","","","",null,null,""]
[null,null,null,null,null,null,null,null,null,null,"",null,null,"","","","","","","",null,null,""]
[null,null,null,null,null,null,null,null,null,null,"",null,null,"","","","","","",{"$f":"IF(N3172=\"\",\"\",H3172)","v":""},null,null,""]
[null,null,null,null,null,null,null,null,null,null,"",null,null,"","","","","","","",null,null,""]
[null,null,null,null,null,null,null,null,null,null,"",null,null,"","","","","","","",null,null,""]
[null,null,null,null,null,null,null,null,null,null,"",null,null,"","","","","","","",null,null,""]
[null,null,null,null,null,null,null,null,null,null,"",null,null,"","","","","","","",null,null,""]
[null,null,null,null,null,null,null,null,null,null,"",null,null,"","","","","","","",null,null,""]
[null,null,null,null,null,null,null,null,null,null,"",null,null,"","","","","","","",null,null,""]
[null,null,null,null,null,null,null,null,null,null,"",null,null,"","","","","","","",null,null,""]
[null,null,null,null,null,null,null,null,null,null,"",null,null,"","","","","","","",null,null,""]
[null,null,null,null,null,null,null,null,null,null,"",null,null,"","","","","","","",null,null,""]
[null,null,null,null,null,null,null,null,null,null,"",null,null,"","","","","","","",null,null,""]
[null,null,null,null,null,null,null,null,null,null,"",null,null,"","","","","","","",null,null,""]
[null,null,null,null,null,null,null,null,null,null,"",null,null,"","","","","","","",null,null,""]
[null,null,null,null,null,null,null,null,null,null,"",null,null,"","","","","","","",null,null,""]
[null,null,null,null,null,null,null,null,null,null,"",null,null,"","","","","","","",null,null,""]
[null,null,null,null,null,null,null,null,null,null,"",null,null,"","","","","","","",null,null,""]
[null,null,null,null,null,null,null,null,null,null,"",null,null,"","","","","","","",null,null,""]
[null,null,null,null,null,null,null,null,null,null,"",null,null,"","","","","","","",null,null,""]
[null,null,null,null,null,null,null,null,null,null,"",null,null,"","","","","","","",null,null,""]
[null,null,null,null,null,null,null,null,null,null,"",null,null,"","","","","","","",null,null,""]
[null,null,null,null,null,null,null,null,null,null,"",null,null,"","","","","","","",null,null,""]
[null,null,null,null,null,null,null,null,null,null,"",null,null,"","","","","","",{"$f":"IF(N3300=\"\",\"\",H3300)","v":""},null,null,""]
[null,null,null,null,null,null,null,null,null,null,"",null,null,"","","","","","","",null,null,""]
[null,null,null,null,null,null,null,null,null,null,"",null,null,"","","","","","","",null,null,""]
[null,null,null,null,null,null,null,null,null,null,"",null,null,"","","","","","","",null,null,""]
[null,null,null,null,null,null,null,null,null,null,"",null,null,"","","","","","","",null,null,""]
[null,null,null,null,null,null,null,null,null,null,"",null,null,"","","","","","","",null,null,""]
[null,null,null,null,null,null,null,null,null,null,"",null,null,"","","","","","","",null,null,""]
[null,null,null,null,null,null,null,null,null,null,"",null,null,"","","","","","","",null,null,""]
[null,null,null,null,null,null,null,null,null,null,"",null,null,"","","","","","","",null,null,""]
[null,null,null,null,null,null,null,null,null,null,"",null,null,"","","","","","","",null,null,""]
[null,null,null,null,null,null,null,null,null,null,"",null,null,"","","","","","","",null,null,""]
[null,null,null,null,null,null,null,null,null,null,"",null,null,"","","","","","","",null,null,""]
[null,null,null,null,null,null,null,null,null,null,"",null,null,"","","","","","","",null,null,""]
[null,null,null,null,null,null,null,null,null,null,"",null,null,"","","","","","","",null,null,""]
[null,null,null,null,null,null,null,null,null,null,"",null,null,"","","","","","","",null,null,""]
[null,null,null,null,null,null,null,null,null,null,"",null,null,"","","","","","","",null,null,""]
[null,null,null,null,null,null,null,null,null,null,"",null,null,"","","","","","","",null,null,""]
[null,null,null,null,null,null,null,null,null,null,"",null,null,"","","","","","","",null,null,""]
[null,null,null,null,null,null,null,null,null,null,"",null,null,"","","","","","","",null,null,""]
[null,null,null,null,null,null,null,null,null,null,"",null,null,"","","","","","","",null,null,""]
[null,null,null,null,null,null,null,null,null,null,"",null,null,"","","","","","","",null,null,""]
[null,null,null,null,null,null,null,null,null,null,"",null,null,"","","","","","","",null,null,""]
[null,null,null,null,null,null,null,null,null,null,"",null,null,"","","","","","","",null,null,""]
[null,null,null,null,null,null,null,null,null,null,"",null,null,"","","","","","","",null,null,""]
[null,null,null,null,null,null,null,null,null,null,"",null,null,"","","","","","","",null,null,""]
[null,null,null,null,null,null,null,null,null,null,"",null,null,"","","","","","","",null,null,""]
[null,null,null,null,null,null,null,null,null,null,"",null,null,"","","","","","","",null,null,""]
[null,null,null,null,null,null,null,null,null,null,"",null,null,"","","","","","","",null,null,""]
[null,null,null,null,null,null,null,null,null,null,"",null,null,"","","","","","","",null,null,""]
[null,null,null,null,null,null,null,null,null,null,"",null,null,"","","","","","","",null,null,""]
[null,null,null,null,null,null,null,null,null,null,"",null,null,"","","","","","","",null,null,""]
[null,null,null,null,null,null,null,null,null,null,"",null,null,"","","","","","","",null,null,""]
[null,null,null,null,null,null,null,null,null,null,"",null,null,"","","","","","","",null,null,""]
[null,null,null,null,null,null,null,null,null,null,"",null,null,"","","","","","",{"$f":"IF(N3492=\"\",\"\",H3492)","v":""},null,null,""]
[null,null,null,null,null,null,null,null,null,null,"",null,null,"","","","","","","",null,null,""]
[null,null,null,null,null,null,null,null,null,null,"",null,null,"","","","","","","",null,null,""]
[null,null,null,null,null,null,null,null,null,null,"",null,null,"","","","","","","",null,null,""]
[null,null,null,null,null,null,null,null,null,null,"",null,null,"","","","","","","",null,null,""]
[null,null,null,null,null,null,null,null,null,null,"",null,null,"","","","","","","",null,null,""]
[null,null,null,null,null,null,null,null,null,null,"",null,null,"","","","","","","",null,null,""]
[null,null,null,null,null,null,null,null,null,null,"",null,null,"","","","","","","",null,null,""]
[null,null,null,null,null,null,null,null,null,null,"",null,null,"","","","","","","",null,null,""]
[null,null,null,null,null,null,null,null,null,null,"",null,null,"","","","","","","",null,null,""]
[null,null,null,null,null,null,null,null,null,null,"",null,null,"","","","","","","",null,null,""]
[null,null,null,null,null,null,null,null,null,null,"",null,null,"","","","","","",{"$f":"IF(N3556=\"\",\"\",H3556)","v":""},null,null,""]
[null,null,null,null,null,null,null,null,null,null,"",null,null,"","","","","","","",null,null,""]
[null,null,null,null,null,null,null,null,null,null,"",null,null,"","","","","","","",null,null,""]
[null,null,null,null,null,null,null,null,null,null,"",null,null,"","","","","","","",null,null,""]
[null,null,null,null,null,null,null,null,null,null,"",null,null,"","","","","","","",null,null,""]
[null,null,null,null,null,null,null,null,null,null,"",null,null,"","","","","","","",null,null,""]
[null,null,null,null,null,null,null,null,null,null,"",null,null,"","","","","","","",null,null,""]
[null,null,null,null,null,null,null,null,null,null,"",null,null,"","","","","","","",null,null,""]
[null,null,null,null,null,null,null,null,null,null,"",null,null,"","","","","","","",null,null,""]
[null,null,null,null,null,null,null,null,null,null,"",null,null,"","","","","","","",null,null,""]
[null,null,null,null,null,null,null,null,null,null,"",null,null,"","","","","","","",null,null,""]
[null,null,null,null,null,null,null,null,null,null,"",null,null,"","","","","","","",null,null,""]
[null,null,null,null,null,null,null,null,null,null,"",null,null,"","","","","","","",null,null,""]
[null,null,null,null,null,null,null,null,null,null,"",null,null,"","","","","","","",null,null,""]
[null,null,null,null,null,null,null,null,null,null,"",null,null,"","","","","","","",null,null,""]
[null,null,null,null,null,null,null,null,null,null,"",null,null,"","","","","","","",null,null,""]
[null,null,null,null,null,null,null,null,null,null,"",null,null,"","","","","","","",null,null,""]
[null,null,null,null,null,null,null,null,null,null,"",null,null,"","","","","","","",null,null,""]
[null,null,null,null,null,null,null,null,null,null,"",null,null,"","","","","","","",null,null,""]
[null,null,null,null,null,null,null,null,null,null,"",null,null,"","","","","","","",null,null,""]
[null,null,null,null,null,null,null,null,null,null,"",null,null,"","","","","","","",null,null,""]
[null,null,null,null,null,null,null,null,null,null,"",null,null,"","","","","","","",null,null,""]
[null,null,null,null,null,null,null,null,null,null,"",null,null,"","","","","","","",null,null,""]
[null,null,null,null,null,null,null,null,null,null,"",null,null,"","","","","","","",null,null,""]
[null,null,null,null,null,null,null,null,null,null,"",null,null,"","","","","","","",null,null,""]
[null,null,null,null,null,null,null,null,null,null,"",null,null,"","","","","","","",null,null,""]
[null,null,null,null,null,null,null,null,null,null,"",null,null,"","","","","","","",null,null,""]
[null,null,null,null,null,null,null,null,null,null,"",null,null,"","","","","","","",null,null,""]
[null,null,null,null,null,null,null,null,null,null,"",null,null,"","","","","","","",null,null,""]
[null,null,null,null,null,null,null,null,null,null,"",null,null,"","","","","","","",null,null,""]
[null,null,null,null,null,null,null,null,null,null,"",null,null,"","","","","","","",null,null,""]
[null,null,null,null,null,null,null,null,null,null,"",null,null,"","","","","","","",null,null,""]
[null,null,null,null,null,null,null,null,null,null,"",null,null,"","","","","","","",null,null,""]
[null,null,null,null,null,null,null,null,null,null,"",null,null,"","","","","","","",null,null,""]
[null,null,null,null,null,null,null,null,null,null,"",null,null,"","","","","","","",null,null,""]
[null,null,null,null,null,null,null,null,null,null,"",null,null,"","","","","","","",null,null,""]
[null,null,null,null,null,null,null,null,null,null,"",null,null,"","","","","","","",null,null,""]
[null,null,null,null,null,null,null,null,null,null,"",null,null,"","","","","","","",null,null,""]
[null,null,null,null,null,null,null,null,null,null,"",null,null,"","","","","","","",null,null,""]
[null,null,null,null,null,null,null,null,null,null,"",null,null,"","","","","","","",null,null,""]
[null,null,null,null,null,null,null,null,null,null,"",null,null,"","","","","","","",null,null,""]
[null,null,null,null,null,null,null,null,null,null,"",null,null,"","","","","","","",null,null,""]
[null,null,null,null,null,null,null,null,null,null,"",null,null,"","","","","","","",null,null,""]
[null,null,null,null,null,null,null,null,null,null,{"$f":"IF(C3811=$C$162,D3811,\"\")","v":""},null,null,{"$f":"(IF(K3811=\"\",\"\",IF(OR(D3811=$J$33,D3811=$T$33, D3811=$O$33),D3811,\"\")))","v":""},{"$f":"IF(N3811=\"\",\"\",F3811)","v":""},{"$f":"IF(N3811=\"\", \"\", E3811)","v":""},{"$f":"IF(N3811=\"\", \"\", G3811)","v":""},{"$f":"IF(N3811=\"\",\"\",I3811)","v":""},{"$f":"IF(N3811=\"\",\"\",J3811)","v":""},"",null,null,""]
[null,null,null,null,null,null,null,null,null,null,"",null,null,"","","","","","","",null,null,""]
[null,null,null,null,null,null,null,null,null,null,"",null,null,"","","","","","","",null,null,""]
[null,null,null,null,null,null,null,null,null,null,"",null,null,"","","","","","","",null,null,""]
[null,null,null,null,null,null,null,null,null,null,"",null,null,"","","","","","","",null,null,""]
[null,null,null,null,null,null,null,null,null,null,"",null,null,"","","","","","","",null,null,""]
[null,null,null,null,null,null,null,null,null,null,"",null,null,"","","","","","","",null,null,""]
[null,null,null,null,null,null,null,null,null,null,"",null,null,"","","","","","","",null,null,""]
[null,null,null,null,null,null,null,null,null,null,"",null,null,"","","","","","","",null,null,""]
[null,null,null,null,null,null,null,null,null,null,"",null,null,"","","","","","","",null,null,""]
[null,null,null,null,null,null,null,null,null,null,"",null,null,"","","","","","","",null,null,""]
[null,null,null,null,null,null,null,null,null,null,"",null,null,"","","","","","","",null,null,""]
[null,null,null,null,null,null,null,null,null,null,"",null,null,"","","","","","","",null,null,""]
[null,null,null,null,null,null,null,null,null,null,"",null,null,"","","","","","","",null,null,""]
[null,null,null,null,null,null,null,null,null,null,"",null,null,"","","","","","","",null,null,""]
[null,null,null,null,null,null,null,null,null,null,"",null,null,"","","","","","","",null,null,""]
[null,null,null,null,null,null,null,null,null,null,"",null,null,"","","","","","","",null,null,""]
[null,null,null,null,null,null,null,null,null,null,"",null,null,"","","","","","","",null,null,""]
[null,null,null,null,null,null,null,null,null,null,"",null,null,"","","","","","","",null,null,""]
[null,null,null,null,null,null,null,null,null,null,"",null,null,"","","","","","","",null,null,""]
[null,null,null,null,null,null,null,null,null,null,"",null,null,"","","","","","","",null,null,""]
[null,null,null,null,null,null,null,null,null,null,"",null,null,"","","","","","","",null,null,""]
[null,null,null,null,null,null,null,null,null,null,"",null,null,"","","","","","","",null,null,""]
[null,null,null,null,null,null,null,null,null,null,"",null,null,"","","","","","","",null,null,""]
[null,null,null,null,null,null,null,null,null,null,"",null,null,"","","","","","","",null,null,""]
[null,null,null,null,null,null,null,null,null,null,"",null,null,"","","","","","","",null,null,""]
[null,null,null,null,null,null,null,null,null,null,"",null,null,"","","","","","","",null,null,""]
[null,null,null,null,null,null,null,null,null,null,"",null,null,"","","","","","","",null,null,""]
[null,null,null,null,null,null,null,null,null,null,"",null,null,"","","","","","","",null,null,""]
[null,null,null,null,null,null,null,null,null,null,"",null,null,"","","","","","","",null,null,""]
[null,null,null,null,null,null,null,null,null,null,"",null,null,"","","","","","","",null,null,""]
[null,null,null,null,null,null,null,null,null,null,"",null,null,"","","","","","","",null,null,""]
[null,null,null,null,null,null,null,null,null,null,"",null,null,"","","","","","","",null,null,""]
[null,null,null,null,null,null,null,null,null,null,"",null,null,"","","","","","","",null,null,""]
[null,null,null,null,null,null,null,null,null,null,"",null,null,"","","","","","","",null,null,""]
[null,null,null,null,null,null,null,null,null,null,"",null,null,"","","","","","","",null,null,""]
[null,null,null,null,null,null,null,null,null,null,"",null,null,"","","","","","","",null,null,""]
[null,null,null,null,null,null,null,null,null,null,"",null,null,"","","","","","","",null,null,""]
[null,null,null,null,null,null,null,null,null,null,"",null,null,"","","","","","","",null,null,""]
[null,null,null,null,null,null,null,null,null,null,"",null,null,"","","","","","","",null,null,""]
[null,null,null,null,null,null,null,null,null,null,"",null,null,"","","","","","","",null,null,""]
[null,null,null,null,null,null,null,null,null,null,"",null,null,"","","","","","","",null,null,""]
[null,null,null,null,null,null,null,null,null,null,"",null,null,"","","","","","","",null,null,""]
[null,null,null,null,null,null,null,null,null,null,"",null,null,"","","","","","","",null,null,""]
[null,null,null,null,null,null,null,null,null,null,"",null,null,"","","","","","","",null,null,""]
[null,null,null,null,null,null,null,null,null,null,"",null,null,"","","","","","","",null,null,""]
[null,null,null,null,null,null,null,null,null,null,"",null,null,"","","","","","","",null,null,""]
[null,null,null,null,null,null,null,null,null,null,"",null,null,"","","","","","","",null,null,""]
[null,null,null,null,null,null,null,null,null,null,"",null,null,"","","","","","","",null,null,""]
[null,null,null,null,null,null,null,null,null,null,"",null,null,"","","","","","","",null,null,""]
[null,null,null,null,null,null,null,null,null,null,"",null,null,"","","","","","","",null,null,""]
[null,null,null,null,null,null,null,null,null,null,"",null,null,"","","","","","","",null,null,""]
[null,null,null,null,null,null,null,null,null,null,"",null,null,"","","","","","","",null,null,""]
[null,null,null,null,null,null,null,null,null,null,"",null,null,"","","","","","","",null,null,""]
[null,null,null,null,null,null,null,null,null,null,"",null,null,"","","","","","","",null,null,""]
[null,null,null,null,null,null,null,null,null,null,"",null,null,"","","","","","","",null,null,""]
[null,null,null,null,null,null,null,null,null,null,"",null,null,"","","","","","","",null,null,""]
[null,null,null,null,null,null,null,null,null,null,"",null,null,"","","","","","","",null,null,""]
[null,null,null,null,null,null,null,null,null,null,"",null,null,"","","","","","","",null,null,""]
[null,null,null,null,null,null,null,null,null,null,"",null,null,"","","","","","","",null,null,""]
[null,null,null,null,null,null,null,null,null,null,"",null,null,"","","","","","","",null,null,""]
[null,null,null,null,null,null,null,null,null,null,"",null,null,"","","","","","","",null,null,""]
[null,null,null,null,null,null,null,null,null,null,"",null,null,"","","","","","","",null,null,""]
[null,null,null,null,null,null,null,null,null,null,"",null,null,"","","","","","","",null,null,""]
[null,null,null,null,null,null,null,null,null,null,"",null,null,"","","","","","","",null,null,""]
[null,null,null,null,null,null,null,null,null,null,"",null,null,"","","","","","",{"$f":"IF(N4196=\"\",\"\",H4196)","v":""},null,null,""]
[null,null,null,null,null,null,null,null,null,null,"",null,null,"","","","","","","",null,null,""]
[null,null,null,null,null,null,null,null,null,null,"",null,null,"","","","","","","",null,null,""]
[null,null,null,null,null,null,null,null,null,null,"",null,null,"","","","","","","",null,null,""]
[null,null,null,null,null,null,null,null,null,null,"",null,null,"","","","","","","",null,null,""]
[null,null,null,null,null,null,null,null,null,null,"",null,null,"","","","","","","",null,null,""]
[null,null,null,null,null,null,null,null,null,null,"",null,null,"","","","","","","",null,null,""]
[null,null,null,null,null,null,null,null,null,null,"",null,null,"","","","","","","",null,null,""]
[null,null,null,null,null,null,null,null,null,null,"",null,null,"","","","","","","",null,null,""]
[null,null,null,null,null,null,null,null,null,null,"",null,null,"","","","","","","",null,null,""]
[null,null,null,null,null,null,null,null,null,null,"",null,null,"","","","","","","",null,null,""]
[null,null,null,null,null,null,null,null,null,null,"",null,null,"","","","","","",{"$f":"IF(N4260=\"\",\"\",H4260)","v":""},null,null,""]
[null,null,null,null,null,null,null,null,null,null,"",null,null,"","","","","","","",null,null,""]
[null,null,null,null,null,null,null,null,null,null,"",null,null,"","","","","","","",null,null,""]
[null,null,null,null,null,null,null,null,null,null,"",null,null,"","","","","","","",null,null,""]
[null,null,null,null,null,null,null,null,null,null,"",null,null,"","","","","","","",null,null,""]
[null,null,null,null,null,null,null,null,null,null,"",null,null,"","","","","","","",null,null,""]
[null,null,null,null,null,null,null,null,null,null,"",null,null,"","","","","","","",null,null,""]
[null,null,null,null,null,null,null,null,null,null,"",null,null,"","","","","","","",null,null,""]
[null,null,null,null,null,null,null,null,null,null,"",null,null,"","","","","","","",null,null,""]
[null,null,null,null,null,null,null,null,null,null,"",null,null,"","","","","","","",null,null,""]
[null,null,null,null,null,null,null,null,null,null,"",null,null,"","","","","","","",null,null,""]
[null,null,null,null,null,null,null,null,null,null,"",null,null,"","","","","","","",null,null,""]
[null,null,null,null,null,null,null,null,null,null,"",null,null,"","","","","","","",null,null,""]
[null,null,null,null,null,null,null,null,null,null,"",null,null,"","","","","","","",null,null,""]
[null,null,null,null,null,null,null,null,null,null,"",null,null,"","","","","","","",null,null,""]
[null,null,null,null,null,null,null,null,null,null,"",null,null,"","","","","","","",null,null,""]
[null,null,null,null,null,null,null,null,null,null,"",null,null,"","","","","","","",null,null,""]
[null,null,null,null,null,null,null,null,null,null,"",null,null,"","","","","","","",null,null,""]
[null,null,null,null,null,null,null,null,null,null,"",null,null,"","","","","","","",null,null,""]
[null,null,null,null,null,null,null,null,null,null,"",null,null,"","","","","","","",null,null,""]
[null,null,null,null,null,null,null,null,null,null,"",null,null,"","","","","","","",null,null,""]
[null,null,null,null,null,null,null,null,null,null,"",null,null,"","","","","","","",null,null,""]
[null,null,null,null,null,null,null,null,null,null,"",null,null,"","","","","","","",null,null,""]
[null,null,null,null,null,null,null,null,null,null,"",null,null,"","","","","","","",null,null,""]
[null,null,null,null,null,null,null,null,null,null,"",null,null,"","","","","","","",null,null,""]
[null,null,null,null,null,null,null,null,null,null,"",null,null,"","","","","","","",null,null,""]
[null,null,null,null,null,null,null,null,null,null,"",null,null,"","","","","","","",null,null,""]
[null,null,null,null,null,null,null,null,null,null,"",null,null,"","","","","","","",null,null,""]
[null,null,null,null,null,null,null,null,null,null,"",null,null,"","","","","","","",null,null,""]
[null,null,null,null,null,null,null,null,null,null,"",null,null,"","","","","","","",null,null,""]
[null,null,null,null,null,null,null,null,null,null,"",null,null,"","","","","","","",null,null,""]
[null,null,null,null,null,null,null,null,null,null,"",null,null,"","","","","","","",null,null,""]
[null,null,null,null,null,null,null,null,null,null,"",null,null,"","","","","","",{"$f":"IF(N4452=\"\",\"\",H4452)","v":""},null,null,""]
[null,null,null,null,null,null,null,null,null,null,"",null,null,"","","","","","","",null,null,""]
[null,null,null,null,null,null,null,null,null,null,"",null,null,"","","","","","","",null,null,""]
[null,null,null,null,null,null,null,null,null,null,"",null,null,"","","","","","","",null,null,""]
[null,null,null,null,null,null,null,null,null,null,"",null,null,"","","","","","","",null,null,""]
[null,null,null,null,null,null,null,null,null,null,"",null,null,"","","","","","","",null,null,""]
[null,null,null,null,null,null,null,null,null,null,"",null,null,"","","","","","","",null,null,""]
[null,null,null,null,null,null,null,null,null,null,"",null,null,"","","","","","","",null,null,""]
[null,null,null,null,null,null,null,null,null,null,"",null,null,"","","","","","","",null,null,""]
[null,null,null,null,null,null,null,null,null,null,"",null,null,"","","","","","","",null,null,""]
[null,null,null,null,null,null,null,null,null,null,"",null,null,"","","","","","","",null,null,""]
[null,null,null,null,null,null,null,null,null,null,"",null,null,"","","","","","","",null,null,""]
[null,null,null,null,null,null,null,null,null,null,"",null,null,"","","","","","","",null,null,""]
[null,null,null,null,null,null,null,null,null,null,"",null,null,"","","","","","","",null,null,""]
[null,null,null,null,null,null,null,null,null,null,"",null,null,"","","","","","","",null,null,""]
[null,null,null,null,null,null,null,null,null,null,"",null,null,"","","","","","","",null,null,""]
[null,null,null,null,null,null,null,null,null,null,"",null,null,"","","","","","","",null,null,""]
[null,null,null,null,null,null,null,null,null,null,"",null,null,"","","","","","","",null,null,""]
[null,null,null,null,null,null,null,null,null,null,"",null,null,"","","","","","","",null,null,""]
[null,null,null,null,null,null,null,null,null,null,"",null,null,"","","","","","","",null,null,""]
[null,null,null,null,null,null,null,null,null,null,"",null,null,"","","","","","","",null,null,""]
[null,null,null,null,null,null,null,null,null,null,"",null,null,"","","","","","","",null,null,""]
[null,null,null,null,null,null,null,null,null,null,"",null,null,"","","","","","","",null,null,""]
[null,null,null,null,null,null,null,null,null,null,"",null,null,"","","","","","","",null,null,""]
[null,null,null,null,null,null,null,null,null,null,"",null,null,"","","","","","","",null,null,""]
[null,null,null,null,null,null,null,null,null,null,"",null,null,"","","","","","","",null,null,""]
[null,null,null,null,null,null,null,null,null,null,"",null,null,"","","","","","","",null,null,""]
[null,null,null,null,null,null,null,null,null,null,"",null,null,"","","","","","","",null,null,""]
[null,null,null,null,null,null,null,null,null,null,"",null,null,"","","","","","","",null,null,""]
[null,null,null,null,null,null,null,null,null,null,"",null,null,"","","","","","","",null,null,""]
[null,null,null,null,null,null,null,null,null,null,"",null,null,"","","","","","","",null,null,""]
[null,null,null,null,null,null,null,null,null,null,"",null,null,"","","","","","","",null,null,""]
[null,null,null,null,null,null,null,null,null,null,"",null,null,"","","","","","","",null,null,""]
[null,null,null,null,null,null,null,null,null,null,"",null,null,"","","","","","","",null,null,""]
[null,null,null,null,null,null,null,null,null,null,"",null,null,"","","","","","","",null,null,""]
[null,null,null,null,null,null,null,null,null,null,"",null,null,"","","","","","","",null,null,""]
[null,null,null,null,null,null,null,null,null,null,"",null,null,"","","","","","","",null,null,""]
[null,null,null,null,null,null,null,null,null,null,"",null,null,"","","","","","","",null,null,""]
[null,null,null,null,null,null,null,null,null,null,"",null,null,"","","","","","","",null,null,""]
[null,null,null,null,null,null,null,null,null,null,"",null,null,"","","","","","","",null,null,""]
[null,null,null,null,null,null,null,null,null,null,"",null,null,"","","","","","","",null,null,""]
[null,null,null,null,null,null,null,null,null,null,"",null,null,"","","","","","","",null,null,""]
[null,null,null,null,null,null,null,null,null,null,"",null,null,"","","","","","","",null,null,""]
[null,null,null,null,null,null,null,null,null,null,"",null,null,"","","","","","","",null,null,""]
[null,null,null,null,null,null,null,null,null,null,"",null,null,"","","","","","",{"$f":"IF(N4708=\"\",\"\",H4708)","v":""},null,null,""]
[null,null,null,null,null,null,null,null,null,null,"",null,null,"","","","","","","",null,null,""]
[null,null,null,null,null,null,null,null,null,null,"",null,null,"","","","","","","",null,null,""]
[null,null,null,null,null,null,null,null,null,null,"",null,null,"","","","","","","",null,null,""]
[null,null,null,null,null,null,null,null,null,null,"",null,null,"","","","","","","",null,null,""]
[null,null,null,null,null,null,null,null,null,null,"",null,null,"","","","","","","",null,null,""]
[null,null,null,null,null,null,null,null,null,null,"",null,null,"","","","","","","",null,null,""]
[null,null,null,null,null,null,null,null,null,null,"",null,null,"","","","","","","",null,null,""]
[null,null,null,null,null,null,null,null,null,null,"",null,null,"","","","","","","",null,null,""]
[null,null,null,null,null,null,null,null,null,null,"",null,null,"","","","","","","",null,null,""]
[null,null,null,null,null,null,null,null,null,null,{"$f":"IF(C4771=$C$162,D4771,\"\")","v":""},null,null,{"$f":"(IF(K4771=\"\",\"\",IF(OR(D4771=$J$33,D4771=$T$33, D4771=$O$33),D4771,\"\")))","v":""},{"$f":"IF(N4771=\"\",\"\",F4771)","v":""},{"$f":"IF(N4771=\"\", \"\", E4771)","v":""},{"$f":"IF(N4771=\"\", \"\", G4771)","v":""},{"$f":"IF(N4771=\"\",\"\",I4771)","v":""},{"$f":"IF(N4771=\"\",\"\",J4771)","v":""},"",null,null,""]
[null,null,null,null,null,null,null,null,null,null,"",null,null,"","","","","","","",null,null,""]
[null,null,null,null,null,null,null,null,null,null,"",null,null,"","","","","","","",null,null,""]
[null,null,null,null,null,null,null,null,null,null,"",null,null,"","","","","","","",null,null,""]
[null,null,null,null,null,null,null,null,null,null,"",null,null,"","","","","","","",null,null,""]
[null,null,null,null,null,null,null,null,null,null,"",null,null,"","","","","","","",null,null,""]
[null,null,null,null,null,null,null,null,null,null,"",null,null,"","","","","","","",null,null,""]
[null,null,null,null,null,null,null,null,null,null,"",null,null,"","","","","","","",null,null,""]
[null,null,null,null,null,null,null,null,null,null,"",null,null,"","","","","","","",null,null,""]
[null,null,null,null,null,null,null,null,null,null,"",null,null,"","","","","","","",null,null,""]
[null,null,null,null,null,null,null,null,null,null,"",null,null,"","","","","","","",null,null,""]
[null,null,null,null,null,null,null,null,null,null,"",null,null,"","","","","","","",null,null,""]
[null,null,null,null,null,null,null,null,null,null,"",null,null,"","","","","","","",null,null,""]
[null,null,null,null,null,null,null,null,null,null,"",null,null,"","","","","","","",null,null,""]
[null,null,null,null,null,null,null,null,null,null,"",null,null,"","","","","","","",null,null,""]
[null,null,null,null,null,null,null,null,null,null,"",null,null,"","","","","","","",null,null,""]
[null,null,null,null,null,null,null,null,null,null,"",null,null,"","","","","","","",null,null,""]
[null,null,null,null,null,null,null,null,null,null,"",null,null,"","","","","","","",null,null,""]
[null,null,null,null,null,null,null,null,null,null,"",null,null,"","","","","","","",null,null,""]
[null,null,null,null,null,null,null,null,null,null,"",null,null,"","","","","","","",null,null,""]
[null,null,null,null,null,null,null,null,null,null,"",null,null,"","","","","","","",null,null,""]
[null,null,null,null,null,null,null,null,null,null,"",null,null,"","","","","","","",null,null,""]
[null,null,null,null,null,null,null,null,null,null,"",null,null,"","","","","","","",null,null,""]
[null,null,null,null,null,null,null,null,null,null,"",null,null,"","","","","","","",null,null,""]
[null,null,null,null,null,null,null,null,null,null,"",null,null,"","","","","","","",null,null,""]
[null,null,null,null,null,null,null,null,null,null,"",null,null,"","","","","","","",null,null,""]
[null,null,null,null,null,null,null,null,null,null,"",null,null,"","","","","","","",null,null,""]
[null,null,null,null,null,null,null,null,null,null,"",null,null,"","","","","","","",null,null,""]
[null,null,null,null,null,null,null,null,null,null,"",null,null,"","","","","","","",null,null,""]
[null,null,null,null,null,null,null,null,null,null,"",null,null,"","","","","","","",null,null,""]
[null,null,null,null,null,null,null,null,null,null,"",null,null,"","","","","","","",null,null,""]
[null,null,null,null,null,null,null,null,null,null,"",null,null,"","","","","","","",null,null,""]
[null,null,null,null,null,null,null,null,null,null,"",null,null,"","","","","","","",null,null,""]
[null,null,null,null,null,null,null,null,null,null,{"$f":"IF(C4963=$C$162,D4963,\"\")","v":""},null,null,{"$f":"(IF(K4963=\"\",\"\",IF(OR(D4963=$J$33,D4963=$T$33, D4963=$O$33),D4963,\"\")))","v":""},{"$f":"IF(N4963=\"\",\"\",F4963)","v":""},{"$f":"IF(N4963=\"\", \"\", E4963)","v":""},{"$f":"IF(N4963=\"\", \"\", G4963)","v":""},{"$f":"IF(N4963=\"\",\"\",I4963)","v":""},{"$f":"IF(N4963=\"\",\"\",J4963)","v":""},"",null,null,""]
[null,null,null,null,null,null,null,null,null,null,"",null,null,"","","","","","","",null,null,""]
[null,null,null,null,null,null,null,null,null,null,"",null,null,"","","","","","","",null,null,""]
[null,null,null,null,null,null,null,null,null,null,"",null,null,"","","","","","","",null,null,""]
[null,null,null,null,null,null,null,null,null,null,"",null,null,"","","","","","","",null,null,""]
[null,null,null,null,null,null,null,null,null,null,"",null,null,"","","","","","","",null,null,""]
[null,null,null,null,null,null,null,null,null,null,"",null,null,"","","","","","","",null,null,""]
[null,null,null,null,null,null,null,null,null,null,"",null,null,"","","","","","","",null,null,""]
[null,null,null,null,null,null,null,null,null,null,"",null,null,"","","","","","","",null,null,""]
[null,null,null,null,null,null,null,null,null,null,"",null,null,"","","","","","","",null,null,""]
[null,null,null,null,null,null,null,null,null,null,"",null,null,"","","","","","","",null,null,""]
[null,null,null,null,null,null,null,null,null,null,{"$f":"IF(C5027=$C$162,D5027,\"\")","v":""},null,null,{"$f":"(IF(K5027=\"\",\"\",IF(OR(D5027=$J$33,D5027=$T$33, D5027=$O$33),D5027,\"\")))","v":""},{"$f":"IF(N5027=\"\",\"\",F5027)","v":""},{"$f":"IF(N5027=\"\", \"\", E5027)","v":""},{"$f":"IF(N5027=\"\", \"\", G5027)","v":""},{"$f":"IF(N5027=\"\",\"\",I5027)","v":""},{"$f":"IF(N5027=\"\",\"\",J5027)","v":""},"",null,null,""]
[null,null,null,null,null,null,null,null,null,null,"",null,null,"","","","","","","",null,null,""]
[null,null,null,null,null,null,null,null,null,null,"",null,null,"","","","","","","",null,null,""]
[null,null,null,null,null,null,null,null,null,null,"",null,null,"","","","","","","",null,null,""]
[null,null,null,null,null,null,null,null,null,null,"",null,null,"","","","","","","",null,null,""]
[null,null,null,null,null,null,null,null,null,null,"",null,null,"","","","","","","",null,null,""]
[null,null,null,null,null,null,null,null,null,null,"",null,null,"","","","","","","",null,null,""]
[null,null,null,null,null,null,null,null,null,null,"",null,null,"","","","","","","",null,null,""]
[null,null,null,null,null,null,null,null,null,null,"",null,null,"","","","","","","",null,null,""]
[null,null,null,null,null,null,null,null,null,null,"",null,null,"","","","","","","",null,null,""]
[null,null,null,null,null,null,null,null,null,null,"",null,null,"","","","","","","",null,null,""]
[null,null,null,null,null,null,null,null,null,null,"",null,null,"","","","","","","",null,null,""]
[null,null,null,null,null,null,null,null,null,null,"",null,null,"","","","","","","",null,null,""]
[null,null,null,null,null,null,null,null,null,null,"",null,null,"","","","","","","",null,null,""]
[null,null,null,null,null,null,null,null,null,null,"",null,null,"","","","","","","",null,null,""]
[null,null,null,null,null,null,null,null,null,null,"",null,null,"","","","","","","",null,null,""]
[null,null,null,null,null,null,null,null,null,null,"",null,null,"","","","","","","",null,null,""]
[null,null,null,null,null,null,null,null,null,null,"",null,null,"","","","","","","",null,null,""]
[null,null,null,null,null,null,null,null,null,null,"",null,null,"","","","","","","",null,null,""]
[null,null,null,null,null,null,null,null,null,null,"",null,null,"","","","","","","",null,null,""]
[null,null,null,null,null,null,null,null,null,null,"",null,null,"","","","","","","",null,null,""]
[null,null,null,null,null,null,null,null,null,null,"",null,null,"","","","","","",{"$f":"IF(N5156=\"\",\"\",H5156)","v":""},null,null,""]
[null,null,null,null,null,null,null,null,null,null,"",null,null,"","","","","","","",null,null,""]
[null,null,null,null,null,null,null,null,null,null,"",null,null,"","","","","","","",null,null,""]
[null,null,null,null,null,null,null,null,null,null,"",null,null,"","","","","","","",null,null,""]
[null,null,null,null,null,null,null,null,null,null,"",null,null,"","","","","","","",null,null,""]
[null,null,null,null,null,null,null,null,null,null,"",null,null,"","","","","","","",null,null,""]
[null,null,null,null,null,null,null,null,null,null,"",null,null,"","","","","","","",null,null,""]
[null,null,null,null,null,null,null,null,null,null,"",null,null,"","","","","","","",null,null,""]
[null,null,null,null,null,null,null,null,null,null,"",null,null,"","","","","","","",null,null,""]
[null,null,null,null,null,null,null,null,null,null,"",null,null,"","","","","","","",null,null,""]
[null,null,null,null,null,null,null,null,null,null,"",null,null,"","","","","","","",null,null,""]
[null,null,null,null,null,null,null,null,null,null,"",null,null,"","","","","","","",null,null,""]
[null,null,null,null,null,null,null,null,null,null,"",null,null,"","","","","","","",null,null,""]
[null,null,null,null,null,null,null,null,null,null,"",null,null,"","","","","","","",null,null,""]
[null,null,null,null,null,null,null,null,null,null,"",null,null,"","","","","","","",null,null,""]
[null,null,null,null,null,null,null,null,null,null,"",null,null,"","","","","","","",null,null,""]
[null,null,null,null,null,null,null,null,null,null,"",null,null,"","","","","","","",null,null,""]
[null,null,null,null,null,null,null,null,null,null,"",null,null,"","","","","","","",null,null,""]
[null,null,null,null,null,null,null,null,null,null,"",null,null,"","","","","","","",null,null,""]
[null,null,null,null,null,null,null,null,null,null,"",null,null,"","","","","","","",null,null,""]
[null,null,null,null,null,null,null,null,null,null,"",null,null,"","","","","","","",null,null,""]
[null,null,null,null,null,null,null,null,null,null,"",null,null,"","","","","","","",null,null,""]
[null,null,null,null,null,null,null,null,null,null,"",null,null,"","","","","","",{"$f":"IF(N5284=\"\",\"\",H5284)","v":""},null,null,""]
[null,null,null,null,null,null,null,null,null,null,"",null,null,"","","","","","","",null,null,""]
[null,null,null,null,null,null,null,null,null,null,"",null,null,"","","","","","","",null,null,""]
[null,null,null,null,null,null,null,null,null,null,"",null,null,"","","","","","","",null,null,""]
[null,null,null,null,null,null,null,null,null,null,"",null,null,"","","","","","","",null,null,""]
[null,null,null,null,null,null,null,null,null,null,"",null,null,"","","","","","","",null,null,""]
[null,null,null,null,null,null,null,null,null,null,"",null,null,"","","","","","","",null,null,""]
[null,null,null,null,null,null,null,null,null,null,"",null,null,"","","","","","","",null,null,""]
[null,null,null,null,null,null,null,null,null,null,"",null,null,"","","","","","","",null,null,""]
[null,null,null,null,null,null,null,null,null,null,"",null,null,"","","","","","","",null,null,""]
[null,null,null,null,null,null,null,null,null,null,"",null,null,"","","","","","","",null,null,""]
[null,null,null,null,null,null,null,null,null,null,"",null,null,"","","","","","",{"$f":"IF(N5348=\"\",\"\",H5348)","v":""},null,null,""]
[null,null,null,null,null,null,null,null,null,null,"",null,null,"","","","","","","",null,null,""]
[null,null,null,null,null,null,null,null,null,null,"",null,null,"","","","","","","",null,null,""]
[null,null,null,null,null,null,null,null,null,null,"",null,null,"","","","","","","",null,null,""]
[null,null,null,null,null,null,null,null,null,null,"",null,null,"","","","","","","",null,null,""]
[null,null,null,null,null,null,null,null,null,null,"",null,null,"","","","","","","",null,null,""]
[null,null,null,null,null,null,null,null,null,null,"",null,null,"","","","","","","",null,null,""]
[null,null,null,null,null,null,null,null,null,null,"",null,null,"","","","","","","",null,null,""]
[null,null,null,null,null,null,null,null,null,null,"",null,null,"","","","","","","",null,null,""]
[null,null,null,null,null,null,null,null,null,null,"",null,null,"","","","","","","",null,null,""]
[null,null,null,null,null,null,null,null,null,null,"",null,null,"","","","","","","",null,null,""]
[null,null,null,null,null,null,null,null,null,null,"",null,null,"","","","","","","",null,null,""]
[null,null,null,null,null,null,null,null,null,null,"",null,null,"","","","","","","",null,null,""]
[null,null,null,null,null,null,null,null,null,null,"",null,null,"","","","","","","",null,null,""]
[null,null,null,null,null,null,null,null,null,null,"",null,null,"","","","","","","",null,null,""]
[null,null,null,null,null,null,null,null,null,null,"",null,null,"","","","","","","",null,null,""]
[null,null,null,null,null,null,null,null,null,null,"",null,null,"","","","","","","",null,null,""]
[null,null,null,null,null,null,null,null,null,null,"",null,null,"","","","","","","",null,null,""]
[null,null,null,null,null,null,null,null,null,null,"",null,null,"","","","","","","",null,null,""]
[null,null,null,null,null,null,null,null,null,null,"",null,null,"","","","","","","",null,null,""]
[null,null,null,null,null,null,null,null,null,null,"",null,null,"","","","","","","",null,null,""]
[null,null,null,null,null,null,null,null,null,null,"",null,null,"","","","","","","",null,null,""]
[null,null,null,null,null,null,null,null,null,null,"",null,null,"","","","","","","",null,null,""]
[null,null,null,null,null,null,null,null,null,null,"",null,null,"","","","","","","",null,null,""]
[null,null,null,null,null,null,null,null,null,null,"",null,null,"","","","","","","",null,null,""]
[null,null,null,null,null,null,null,null,null,null,"",null,null,"","","","","","","",null,null,""]
[null,null,null,null,null,null,null,null,null,null,"",null,null,"","","","","","","",null,null,""]
[null,null,null,null,null,null,null,null,null,null,"",null,null,"","","","","","","",null,null,""]
[null,null,null,null,null,null,null,null,null,null,"",null,null,"","","","","","","",null,null,""]
[null,null,null,null,null,null,null,null,null,null,"",null,null,"","","","","","","",null,null,""]
[null,null,null,null,null,null,null,null,null,null,"",null,null,"","","","","","","",null,null,""]
[null,null,null,null,null,null,null,null,null,null,"",null,null,"","","","","","","",null,null,""]
[null,null,null,null,null,null,null,null,null,null,"",null,null,"","","","","","","",null,null,""]
[null,null,null,null,null,null,null,null,null,null,"",null,null,"","","","","","","",null,null,""]
[null,null,null,null,null,null,null,null,null,null,"",null,null,"","","","","","","",null,null,""]
[null,null,null,null,null,null,null,null,null,null,"",null,null,"","","","","","","",null,null,""]
[null,null,null,null,null,null,null,null,null,null,"",null,null,"","","","","","","",null,null,""]
[null,null,null,null,null,null,null,null,null,null,"",null,null,"","","","","","","",null,null,""]
[null,null,null,null,null,null,null,null,null,null,"",null,null,"","","","","","","",null,null,""]
[null,null,null,null,null,null,null,null,null,null,"",null,null,"","","","","","","",null,null,""]
[null,null,null,null,null,null,null,null,null,null,"",null,null,"","","","","","","",null,null,""]
[null,null,null,null,null,null,null,null,null,null,"",null,null,"","","","","","","",null,null,""]
[null,null,null,null,null,null,null,null,null,null,"",null,null,"","","","","","","",null,null,""]
[null,null,null,null,null,null,null,null,null,null,"",null,null,"","","","","","","",null,null,""]
[null,null,null,null,null,null,null,null,null,null,"",null,null,"","","","","","","",null,null,""]
[null,null,null,null,null,null,null,null,null,null,"",null,null,"","","","","","","",null,null,""]
[null,null,null,null,null,null,null,null,null,null,"",null,null,"","","","","","","",null,null,""]
[null,null,null,null,null,null,null,null,null,null,"",null,null,"","","","","","","",null,null,""]
[null,null,null,null,null,null,null,null,null,null,"",null,null,"","","","","","","",null,null,""]
[null,null,null,null,null,null,null,null,null,null,"",null,null,"","","","","","","",null,null,""]
[null,null,null,null,null,null,null,null,null,null,"",null,null,"","","","","","","",null,null,""]
[null,null,null,null,null,null,null,null,null,null,"",null,null,"","","","","","","",null,null,""]
[null,null,null,null,null,null,null,null,null,null,"",null,null,"","","","","","","",null,null,""]
[null,null,null,null,null,null,null,null,null,null,"",null,null,"","","","","","","",null,null,""]
[null,null,null,null,null,null,null,null,null,null,"",null,null,"","","","","","",{"$f":"IF(N5668=\"\",\"\",H5668)","v":""},null,null,""]
[null,null,null,null,null,null,null,null,null,null,"",null,null,"","","","","","","",null,null,""]
[null,null,null,null,null,null,null,null,null,null,"",null,null,"","","","","","","",null,null,""]
[null,null,null,null,null,null,null,null,null,null,"",null,null,"","","","","","","",null,null,""]
[null,null,null,null,null,null,null,null,null,null,"",null,null,"","","","","","","",null,null,""]
[null,null,null,null,null,null,null,null,null,null,"",null,null,"","","","","","","",null,null,""]
[null,null,null,null,null,null,null,null,null,null,"",null,null,"","","","","","","",null,null,""]
[null,null,null,null,null,null,null,null,null,null,"",null,null,"","","","","","","",null,null,""]
[null,null,null,null,null,null,null,null,null,null,"",null,null,"","","","","","","",null,null,""]
[null,null,null,null,null,null,null,null,null,null,"",null,null,"","","","","","","",null,null,""]
[null,null,null,null,null,null,null,null,null,null,"",null,null,"","","","","","","",null,null,""]
[null,null,null,null,null,null,null,null,null,null,"",null,null,"","","","","","","",null,null,""]
[null,null,null,null,null,null,null,null,null,null,"",null,null,"","","","","","","",null,null,""]
[null,null,null,null,null,null,null,null,null,null,"",null,null,"","","","","","","",null,null,""]
[null,null,null,null,null,null,null,null,null,null,"",null,null,"","","","","","","",null,null,""]
[null,null,null,null,null,null,null,null,null,null,"",null,null,"","","","","","","",null,null,""]
[null,null,null,null,null,null,null,null,null,null,"",null,null,"","","","","","","",null,null,""]
[null,null,null,null,null,null,null,null,null,null,"",null,null,"","","","","","","",null,null,""]
[null,null,null,null,null,null,null,null,null,null,"",null,null,"","","","","","","",null,null,""]
[null,null,null,null,null,null,null,null,null,null,"",null,null,"","","","","","","",null,null,""]
[null,null,null,null,null,null,null,null,null,null,"",null,null,"","","","","","","",null,null,""]
[null,null,null,null,null,null,null,null,null,null,"",null,null,"","","","","","","",null,null,""]
[null,null,null,null,null,null,null,null,null,null,"",null,null,"","","","","","","",null,null,""]
[null,null,null,null,null,null,null,null,null,null,"",null,null,"","","","","","","",null,null,""]
[null,null,null,null,null,null,null,null,null,null,"",null,null,"","","","","","","",null,null,""]
[null,null,null,null,null,null,null,null,null,null,"",null,null,"","","","","","","",null,null,""]
[null,null,null,null,null,null,null,null,null,null,"",null,null,"","","","","","","",null,null,""]
[null,null,null,null,null,null,null,null,null,null,"",null,null,"","","","","","","",null,null,""]
[null,null,null,null,null,null,null,null,null,null,"",null,null,"","","","","","","",null,null,""]
[null,null,null,null,null,null,null,null,null,null,"",null,null,"","","","","","","",null,null,""]
[null,null,null,null,null,null,null,null,null,null,"",null,null,"","","","","","","",null,null,""]
[null,null,null,null,null,null,null,null,null,null,"",null,null,"","","","","","","",null,null,""]
[null,null,null,null,null,null,null,null,null,null,"",null,null,"","","","","","","",null,null,""]
[null,null,null,null,null,null,null,null,null,null,"",null,null,"","","","","","","",null,null,""]
[null,null,null,null,null,null,null,null,null,null,"",null,null,"","","","","","","",null,null,""]
[null,null,null,null,null,null,null,null,null,null,"",null,null,"","","","","","","",null,null,""]
[null,null,null,null,null,null,null,null,null,null,"",null,null,"","","","","","","",null,null,""]
[null,null,null,null,null,null,null,null,null,null,"",null,null,"","","","","","","",null,null,""]
[null,null,null,null,null,null,null,null,null,null,"",null,null,"","","","","","","",null,null,""]
[null,null,null,null,null,null,null,null,null,null,"",null,null,"","","","","","","",null,null,""]
[null,null,null,null,null,null,null,null,null,null,"",null,null,"","","","","","","",null,null,""]
[null,null,null,null,null,null,null,null,null,null,"",null,null,"","","","","","","",null,null,""]
[null,null,null,null,null,null,null,null,null,null,"",null,null,"","","","","","","",null,null,""]
[null,null,null,null,null,null,null,null,null,null,{"$f":"IF(C5923=$C$162,D5923,\"\")","v":""},null,null,{"$f":"(IF(K5923=\"\",\"\",IF(OR(D5923=$J$33,D5923=$T$33, D5923=$O$33),D5923,\"\")))","v":""},{"$f":"IF(N5923=\"\",\"\",F5923)","v":""},{"$f":"IF(N5923=\"\", \"\", E5923)","v":""},{"$f":"IF(N5923=\"\", \"\", G5923)","v":""},{"$f":"IF(N5923=\"\",\"\",I5923)","v":""},{"$f":"IF(N5923=\"\",\"\",J5923)","v":""},"",null,null,""]
[null,null,null,null,null,null,null,null,null,null,"",null,null,"","","","","","","",null,null,""]
[null,null,null,null,null,null,null,null,null,null,"",null,null,"","","","","","","",null,null,""]
[null,null,null,null,null,null,null,null,null,null,"",null,null,"","","","","","","",null,null,""]
[null,null,null,null,null,null,null,null,null,null,"",null,null,"","","","","","","",null,null,""]
[null,null,null,null,null,null,null,null,null,null,"",null,null,"","","","","","","",null,null,""]
[null,null,null,null,null,null,null,null,null,null,"",null,null,"","","","","","","",null,null,""]
[null,null,null,null,null,null,null,null,null,null,"",null,null,"","","","","","","",null,null,""]
[null,null,null,null,null,null,null,null,null,null,"",null,null,"","","","","","","",null,null,""]
[null,null,null,null,null,null,null,null,null,null,"",null,null,"","","","","","","",null,null,""]
[null,null,null,null,null,null,null,null,null,null,"",null,null,"","","","","","","",null,null,""]
[null,null,null,null,null,null,null,null,null,null,"",null,null,"","","","","","","",null,null,""]
[null,null,null,null,null,null,null,null,null,null,"",null,null,"","","","","","","",null,null,""]
[null,null,null,null,null,null,null,null,null,null,"",null,null,"","","","","","","",null,null,""]
[null,null,null,null,null,null,null,null,null,null,"",null,null,"","","","","","","",null,null,""]
[null,null,null,null,null,null,null,null,null,null,"",null,null,"","","","","","","",null,null,""]
[null,null,null,null,null,null,null,null,null,null,"",null,null,"","","","","","","",null,null,""]
[null,null,null,null,null,null,null,null,null,null,"",null,null,"","","","","","","",null,null,""]
[null,null,null,null,null,null,null,null,null,null,"",null,null,"","","","","","","",null,null,""]
[null,null,null,null,null,null,null,null,null,null,"",null,null,"","","","","","","",null,null,""]
[null,null,null,null,null,null,null,null,null,null,"",null,null,"","","","","","","",null,null,""]
[null,null,null,null,null,null,null,null,null,null,"",null,null,"","","","","","","",null,null,""]
[null,null,null,null,null,null,null,null,null,null,"",null,null,"","","","","","","",null,null,""]
[null,null,null,null,null,null,null,null,null,null,"",null,null,"","","","","","","",null,null,""]
[null,null,null,null,null,null,null,null,null,null,"",null,null,"","","","","","","",null,null,""]
[null,null,null,null,null,null,null,null,null,null,"",null,null,"","","","","","","",null,null,""]
[null,null,null,null,null,null,null,null,null,null,"",null,null,"","","","","","","",null,null,""]
[null,null,null,null,null,null,null,null,null,null,"",null,null,"","","","","","","",null,null,""]
[null,null,null,null,null,null,null,null,null,null,"",null,null,"","","","","","","",null,null,""]
[null,null,null,null,null,null,null,null,null,null,"",null,null,"","","","","","","",null,null,""]
[null,null,null,null,null,null,null,null,null,null,"",null,null,"","","","","","","",null,null,""]
[null,null,null,null,null,null,null,null,null,null,"",null,null,"","","","","","","",null,null,""]
[null,null,null,null,null,null,null,null,null,null,"",null,null,"","","","","","","",null,null,""]
[null,null,null,null,null,null,null,null,null,null,"",null,null,"","","","","","","",null,null,""]
[null,null,null,null,null,null,null,null,null,null,"",null,null,"","","","","","","",null,null,""]
[null,null,null,null,null,null,null,null,null,null,"",null,null,"","","","","","","",null,null,""]
[null,null,null,null,null,null,null,null,null,null,"",null,null,"","","","","","","",null,null,""]
[null,null,null,null,null,null,null,null,null,null,"",null,null,"","","","","","","",null,null,""]
[null,null,null,null,null,null,null,null,null,null,"",null,null,"","","","","","","",null,null,""]
[null,null,null,null,null,null,null,null,null,null,"",null,null,"","","","","","","",null,null,""]
[null,null,null,null,null,null,null,null,null,null,"",null,null,"","","","","","","",null,null,""]
[null,null,null,null,null,null,null,null,null,null,"",null,null,"","","","","","","",null,null,""]
[null,null,null,null,null,null,null,null,null,null,"",null,null,"","","","","","","",null,null,""]
[null,null,null,null,null,null,null,null,null,null,"",null,null,"","","","","","","",null,null,""]
[null,null,null,null,null,null,null,null,null,null,"",null,null,"","","","","","","",null,null,""]
[null,null,null,null,null,null,null,null,null,null,"",null,null,"","","","","","","",null,null,""]
[null,null,null,null,null,null,null,null,null,null,"",null,null,"","","","","","","",null,null,""]
[null,null,null,null,null,null,null,null,null,null,"",null,null,"","","","","","","",null,null,""]
[null,null,null,null,null,null,null,null,null,null,"",null,null,"","","","","","","",null,null,""]
[null,null,null,null,null,null,null,null,null,null,"",null,null,"","","","","","","",null,null,""]
[null,null,null,null,null,null,null,null,null,null,"",null,null,"","","","","","","",null,null,""]
[null,null,null,null,null,null,null,null,null,null,"",null,null,"","","","","","","",null,null,""]
[null,null,null,null,null,null,null,null,null,null,"",null,null,"","","","","","","",null,null,""]
[null,null,null,null,null,null,null,null,null,null,"",null,null,"","","","","","","",null,null,""]
[null,null,null,null,null,null,null,null,null,null,"",null,null,"","","","","","","",null,null,""]
[null,null,null,null,null,null,null,null,null,null,"",null,null,"","","","","","","",null,null,""]
[null,null,null,null,null,null,null,null,null,null,"",null,null,"","","","","","","",null,null,""]
[null,null,null,null,null,null,null,null,null,null,"",null,null,"","","","","","","",null,null,""]
[null,null,null,null,null,null,null,null,null,null,"",null,null,"","","","","","","",null,null,""]
[null,null,null,null,null,null,null,null,null,null,"",null,null,"","","","","","","",null,null,""]
[null,null,null,null,null,null,null,null,null,null,"",null,null,"","","","","","","",null,null,""]
[null,null,null,null,null,null,null,null,null,null,"",null,null,"","","","","","","",null,null,""]
[null,null,null,null,null,null,null,null,null,null,"",null,null,"","","","","","","",null,null,""]
[null,null,null,null,null,null,null,null,null,null,"",null,null,"","","","","","","",null,null,""]
[null,null,null,null,null,null,null,null,null,null,"",null,null,"","","","","","","",null,null,""]
[null,null,null,null,null,null,null,null,null,null,"",null,null,"","","","","","",{"$f":"IF(N6308=\"\",\"\",H6308)","v":""},null,null,""]
[null,null,null,null,null,null,null,null,null,null,"",null,null,"","","","","","","",null,null,""]
[null,null,null,null,null,null,null,null,null,null,"",null,null,"","","","","","","",null,null,""]
[null,null,null,null,null,null,null,null,null,null,"",null,null,"","","","","","","",null,null,""]
[null,null,null,null,null,null,null,null,null,null,"",null,null,"","","","","","","",null,null,""]
[null,null,null,null,null,null,null,null,null,null,"",null,null,"","","","","","","",null,null,""]
[null,null,null,null,null,null,null,null,null,null,"",null,null,"","","","","","","",null,null,""]
[null,null,null,null,null,null,null,null,null,null,"",null,null,"","","","","","","",null,null,""]
[null,null,null,null,null,null,null,null,null,null,"",null,null,"","","","","","","",null,null,""]
[null,null,null,null,null,null,null,null,null,null,"",null,null,"","","","","","","",null,null,""]
[null,null,null,null,null,null,null,null,null,null,"",null,null,"","","","","","","",null,null,""]
[null,null,null,null,null,null,null,null,null,null,"",null,null,"","","","","","",{"$f":"IF(N6372=\"\",\"\",H6372)","v":""},null,null,""]
[null,null,null,null,null,null,null,null,null,null,"",null,null,"","","","","","","",null,null,""]
[null,null,null,null,null,null,null,null,null,null,"",null,null,"","","","","","","",null,null,""]
[null,null,null,null,null,null,null,null,null,null,"",null,null,"","","","","","","",null,null,""]
[null,null,null,null,null,null,null,null,null,null,"",null,null,"","","","","","","",null,null,""]
[null,null,null,null,null,null,null,null,null,null,"",null,null,"","","","","","","",null,null,""]
[null,null,null,null,null,null,null,null,null,null,"",null,null,"","","","","","","",null,null,""]
[null,null,null,null,null,null,null,null,null,null,"",null,null,"","","","","","","",null,null,""]
[null,null,null,null,null,null,null,null,null,null,"",null,null,"","","","","","","",null,null,""]
[null,null,null,null,null,null,null,null,null,null,"",null,null,"","","","","","","",null,null,""]
[null,null,null,null,null,null,null,null,null,null,"",null,null,"","","","","","","",null,null,""]
[null,null,null,null,null,null,null,null,null,null,"",null,null,"","","","","","","",null,null,""]
[null,null,null,null,null,null,null,null,null,null,"",null,null,"","","","","","","",null,null,""]
[null,null,null,null,null,null,null,null,null,null,"",null,null,"","","","","","","",null,null,""]
[null,null,null,null,null,null,null,null,null,null,"",null,null,"","","","","","","",null,null,""]
[null,null,null,null,null,null,null,null,null,null,"",null,null,"","","","","","","",null,null,""]
[null,null,null,null,null,null,null,null,null,null,"",null,null,"","","","","","","",null,null,""]
[null,null,null,null,null,null,null,null,null,null,"",null,null,"","","","","","","",null,null,""]
[null,null,null,null,null,null,null,null,null,null,"",null,null,"","","","","","","",null,null,""]
[null,null,null,null,null,null,null,null,null,null,"",null,null,"","","","","","","",null,null,""]
[null,null,null,null,null,null,null,null,null,null,"",null,null,"","","","","","","",null,null,""]
[null,null,null,null,null,null,null,null,null,null,"",null,null,"","","","","","","",null,null,""]
[null,null,null,null,null,null,null,null,null,null,"",null,null,"","","","","","","",null,null,""]
[null,null,null,null,null,null,null,null,null,null,"",null,null,"","","","","","","",null,null,""]
[null,null,null,null,null,null,null,null,null,null,"",null,null,"","","","","","","",null,null,""]
[null,null,null,null,null,null,null,null,null,null,"",null,null,"","","","","","","",null,null,""]
[null,null,null,null,null,null,null,null,null,null,"",null,null,"","","","","","","",null,null,""]
[null,null,null,null,null,null,null,null,null,null,"",null,null,"","","","","","","",null,null,""]
[null,null,null,null,null,null,null,null,null,null,"",null,null,"","","","","","","",null,null,""]
[null,null,null,null,null,null,null,null,null,null,"",null,null,"","","","","","","",null,null,""]
[null,null,null,null,null,null,null,null,null,null,"",null,null,"","","","","","","",null,null,""]
[null,null,null,null,null,null,null,null,null,null,"",null,null,"","","","","","","",null,null,""]
[null,null,null,null,null,null,null,null,null,null,"",null,null,"","","","","","","",null,null,""]
[null,null,null,null,null,null,null,null,null,null,"",null,null,"","","","","","","",null,null,""]
[null,null,null,null,null,null,null,null,null,null,"",null,null,"","","","","","","",null,null,""]
[null,null,null,null,null,null,null,null,null,null,"",null,null,"","","","","","","",null,null,""]
[null,null,null,null,null,null,null,null,null,null,"",null,null,"","","","","","","",null,null,""]
[null,null,null,null,null,null,null,null,null,null,"",null,null,"","","","","","","",null,null,""]
[null,null,null,null,null,null,null,null,null,null,"",null,null,"","","","","","","",null,null,""]
[null,null,null,null,null,null,null,null,null,null,"",null,null,"","","","","","","",null,null,""]
[null,null,null,null,null,null,null,null,null,null,"",null,null,"","","","","","","",null,null,""]
[null,null,null,null,null,null,null,null,null,null,"",null,null,"","","","","","","",null,null,""]
[null,null,null,null,null,null,null,null,null,null,"",null,null,"","","","","","","",null,null,""]
[null,null,null,null,null,null,null,null,null,null,"",null,null,"","","","","","",{"$f":"IF(N6628=\"\",\"\",H6628)","v":""},null,null,""]
[null,null,null,null,null,null,null,null,null,null,"",null,null,"","","","","","","",null,null,""]
[null,null,null,null,null,null,null,null,null,null,"",null,null,"","","","","","","",null,null,""]
[null,null,null,null,null,null,null,null,null,null,"",null,null,"","","","","","","",null,null,""]
[null,null,null,null,null,null,null,null,null,null,"",null,null,"","","","","","","",null,null,""]
[null,null,null,null,null,null,null,null,null,null,"",null,null,"","","","","","","",null,null,""]
[null,null,null,null,null,null,null,null,null,null,"",null,null,"","","","","","","",null,null,""]
[null,null,null,null,null,null,null,null,null,null,"",null,null,"","","","","","","",null,null,""]
[null,null,null,null,null,null,null,null,null,null,"",null,null,"","","","","","","",null,null,""]
[null,null,null,null,null,null,null,null,null,null,"",null,null,"","","","","","","",null,null,""]
[null,null,null,null,null,null,null,null,null,null,"",null,null,"","","","","","","",null,null,""]
[null,null,null,null,null,null,null,null,null,null,"",null,null,"","","","","","","",null,null,""]
[null,null,null,null,null,null,null,null,null,null,"",null,null,"","","","","","","",null,null,""]
[null,null,null,null,null,null,null,null,null,null,"",null,null,"","","","","","","",null,null,""]
[null,null,null,null,null,null,null,null,null,null,"",null,null,"","","","","","","",null,null,""]
[null,null,null,null,null,null,null,null,null,null,"",null,null,"","","","","","","",null,null,""]
[null,null,null,null,null,null,null,null,null,null,"",null,null,"","","","","","","",null,null,""]
[null,null,null,null,null,null,null,null,null,null,"",null,null,"","","","","","","",null,null,""]
[null,null,null,null,null,null,null,null,null,null,"",null,null,"","","","","","","",null,null,""]
[null,null,null,null,null,null,null,null,null,null,"",null,null,"","","","","","","",null,null,""]
[null,null,null,null,null,null,null,null,null,null,"",null,null,"","","","","","","",null,null,""]
[null,null,null,null,null,null,null,null,null,null,"",null,null,"","","","","","","",null,null,""]
[null,null,null,null,null,null,null,null,null,null,"",null,null,"","","","","","","",null,null,""]
[null,null,null,null,null,null,null,null,null,null,"",null,null,"","","","","","","",null,null,""]
[null,null,null,null,null,null,null,null,null,null,"",null,null,"","","","","","","",null,null,""]
[null,null,null,null,null,null,null,null,null,null,"",null,null,"","","","","","","",null,null,""]
[null,null,null,null,null,null,null,null,null,null,"",null,null,"","","","","","","",null,null,""]
[null,null,null,null,null,null,null,null,null,null,"",null,null,"","","","","","","",null,null,""]
[null,null,null,null,null,null,null,null,null,null,"",null,null,"","","","","","","",null,null,""]
[null,null,null,null,null,null,null,null,null,null,"",null,null,"","","","","","","",null,null,""]
[null,null,null,null,null,null,null,null,null,null,"",null,null,"","","","","","","",null,null,""]
[null,null,null,null,null,null,null,null,null,null,"",null,null,"","","","","","","",null,null,""]
[null,null,null,null,null,null,null,null,null,null,"",null,null,"","","","","","","",null,null,""]
[null,null,null,null,null,null,null,null,null,null,"",null,null,"","","","","","",{"$f":"IF(N6820=\"\",\"\",H6820)","v":""},null,null,""]
[null,null,null,null,null,null,null,null,null,null,"",null,null,"","","","","","","",null,null,""]
[null,null,null,null,null,null,null,null,null,null,"",null,null,"","","","","","","",null,null,""]
[null,null,null,null,null,null,null,null,null,null,"",null,null,"","","","","","","",null,null,""]
[null,null,null,null,null,null,null,null,null,null,"",null,null,"","","","","","","",null,null,""]
[null,null,null,null,null,null,null,null,null,null,"",null,null,"","","","","","","",null,null,""]
[null,null,null,null,null,null,null,null,null,null,"",null,null,"","","","","","","",null,null,""]
[null,null,null,null,null,null,null,null,null,null,"",null,null,"","","","","","","",null,null,""]
[null,null,null,null,null,null,null,null,null,null,"",null,null,"","","","","","","",null,null,""]
[null,null,null,null,null,null,null,null,null,null,"",null,null,"","","","","","","",null,null,""]
[null,null,null,null,null,null,null,null,null,null,{"$f":"IF(C6883=$C$162,D6883,\"\")","v":""},null,null,{"$f":"(IF(K6883=\"\",\"\",IF(OR(D6883=$J$33,D6883=$T$33, D6883=$O$33),D6883,\"\")))","v":""},{"$f":"IF(N6883=\"\",\"\",F6883)","v":""},{"$f":"IF(N6883=\"\", \"\", E6883)","v":""},{"$f":"IF(N6883=\"\", \"\", G6883)","v":""},{"$f":"IF(N6883=\"\",\"\",I6883)","v":""},{"$f":"IF(N6883=\"\",\"\",J6883)","v":""},"",null,null,""]
[null,null,null,null,null,null,null,null,null,null,"",null,null,"","","","","","",{"$f":"IF(N6884=\"\",\"\",H6884)","v":""},null,null,""]
[null,null,null,null,null,null,null,null,null,null,"",null,null,"","","","","","","",null,null,""]
[null,null,null,null,null,null,null,null,null,null,"",null,null,"","","","","","","",null,null,""]
[null,null,null,null,null,null,null,null,null,null,"",null,null,"","","","","","","",null,null,""]
[null,null,null,null,null,null,null,null,null,null,"",null,null,"","","","","","","",null,null,""]
[null,null,null,null,null,null,null,null,null,null,"",null,null,"","","","","","","",null,null,""]
[null,null,null,null,null,null,null,null,null,null,"",null,null,"","","","","","","",null,null,""]
[null,null,null,null,null,null,null,null,null,null,"",null,null,"","","","","","","",null,null,""]
[null,null,null,null,null,null,null,null,null,null,"",null,null,"","","","","","","",null,null,""]
[null,null,null,null,null,null,null,null,null,null,"",null,null,"","","","","","","",null,null,""]
[null,null,null,null,null,null,null,null,null,null,"",null,null,"","","","","","","",null,null,""]
[null,null,null,null,null,null,null,null,null,null,"",null,null,"","","","","","","",null,null,""]
[null,null,null,null,null,null,null,null,null,null,"",null,null,"","","","","","","",null,null,""]
[null,null,null,null,null,null,null,null,null,null,"",null,null,"","","","","","","",null,null,""]
[null,null,null,null,null,null,null,null,null,null,"",null,null,"","","","","","","",null,null,""]
[null,null,null,null,null,null,null,null,null,null,"",null,null,"","","","","","","",null,null,""]
[null,null,null,null,null,null,null,null,null,null,"",null,null,"","","","","","","",null,null,""]
[null,null,null,null,null,null,null,null,null,null,"",null,null,"","","","","","","",null,null,""]
[null,null,null,null,null,null,null,null,null,null,"",null,null,"","","","","","","",null,null,""]
[null,null,null,null,null,null,null,null,null,null,"",null,null,"","","","","","","",null,null,""]
[null,null,null,null,null,null,null,null,null,null,"",null,null,"","","","","","","",null,null,""]
[null,null,null,null,null,null,null,null,null,null,"",null,null,"","","","","","","",null,null,""]
[null,null,null,null,null,null,null,null,null,null,"",null,null,"","","","","","","",null,null,""]
[null,null,null,null,null,null,null,null,null,null,"",null,null,"","","","","","","",null,null,""]
[null,null,null,null,null,null,null,null,null,null,"",null,null,"","","","","","","",null,null,""]
[null,null,null,null,null,null,null,null,null,null,"",null,null,"","","","","","","",null,null,""]
[null,null,null,null,null,null,null,null,null,null,"",null,null,"","","","","","","",null,null,""]
[null,null,null,null,null,null,null,null,null,null,"",null,null,"","","","","","","",null,null,""]
[null,null,null,null,null,null,null,null,null,null,"",null,null,"","","","","","","",null,null,""]
[null,null,null,null,null,null,null,null,null,null,"",null,null,"","","","","","","",null,null,""]
[null,null,null,null,null,null,null,null,null,null,"",null,null,"","","","","","","",null,null,""]
[null,null,null,null,null,null,null,null,null,null,"",null,null,"","","","","","","",null,null,""]
[null,null,null,null,null,null,null,null,null,null,"",null,null,"","","","","","","",null,null,""]
[null,null,null,null,null,null,null,null,null,null,"",null,null,"","","","","","","",null,null,""]
[null,null,null,null,null,null,null,null,null,null,"",null,null,"","","","","","","",null,null,""]
[null,null,null,null,null,null,null,null,null,null,"",null,null,"","","","","","","",null,null,""]
[null,null,null,null,null,null,null,null,null,null,"",null,null,"","","","","","","",null,null,""]
[null,null,null,null,null,null,null,null,null,null,"",null,null,"","","","","","","",null,null,""]
[null,null,null,null,null,null,null,null,null,null,{"$f":"IF(C6947=$C$162,D6947,\"\")","v":""},null,null,{"$f":"(IF(K6947=\"\",\"\",IF(OR(D6947=$J$33,D6947=$T$33, D6947=$O$33),D6947,\"\")))","v":""},{"$f":"IF(N6947=\"\",\"\",F6947)","v":""},{"$f":"IF(N6947=\"\", \"\", E6947)","v":""},{"$f":"IF(N6947=\"\", \"\", G6947)","v":""},{"$f":"IF(N6947=\"\",\"\",I6947)","v":""},{"$f":"IF(N6947=\"\",\"\",J6947)","v":""},"",null,null,""]
[null,null,null,null,null,null,null,null,null,null,"",null,null,"","","","","","",{"$f":"IF(N6948=\"\",\"\",H6948)","v":""},null,null,""]
[null,null,null,null,null,null,null,null,null,null,"",null,null,"","","","","","","",null,null,""]
[null,null,null,null,null,null,null,null,null,null,"",null,null,"","","","","","","",null,null,""]
[null,null,null,null,null,null,null,null,null,null,"",null,null,"","","","","","","",null,null,""]
[null,null,null,null,null,null,null,null,null,null,"",null,null,"","","","","","","",null,null,""]
[null,null,null,null,null,null,null,null,null,null,"",null,null,"","","","","","","",null,null,""]
[null,null,null,null,null,null,null,null,null,null,"",null,null,"","","","","","","",null,null,""]
[null,null,null,null,null,null,null,null,null,null,"",null,null,"","","","","","","",null,null,""]
[null,null,null,null,null,null,null,null,null,null,"",null,null,"","","","","","","",null,null,""]
[null,null,null,null,null,null,null,null,null,null,"",null,null,"","","","","","","",null,null,""]
[null,null,null,null,null,null,null,null,null,null,"",null,null,"","","","","","","",null,null,""]
[null,null,null,null,null,null,null,null,null,null,"",null,null,"","","","","","","",null,null,""]
[null,null,null,null,null,null,null,null,null,null,"",null,null,"","","","","","","",null,null,""]
[null,null,null,null,null,null,null,null,null,null,"",null,null,"","","","","","","",null,null,""]
[null,null,null,null,null,null,null,null,null,null,"",null,null,"","","","","","","",null,null,""]
[null,null,null,null,null,null,null,null,null,null,"",null,null,"","","","","","","",null,null,""]
[null,null,null,null,null,null,null,null,null,null,"",null,null,"","","","","","","",null,null,""]
[null,null,null,null,null,null,null,null,null,null,"",null,null,"","","","","","","",null,null,""]
[null,null,null,null,null,null,null,null,null,null,"",null,null,"","","","","","","",null,null,""]
[null,null,null,null,null,null,null,null,null,null,"",null,null,"","","","","","","",null,null,""]
[null,null,null,null,null,null,null,null,null,null,"",null,null,"","","","","","","",null,null,""]
[null,null,null,null,null,null,null,null,null,null,"",null,null,"","","","","","","",null,null,""]
[null,null,null,null,null,null,null,null,null,null,"",null,null,"","","","","","","",null,null,""]
[null,null,null,null,null,null,null,null,null,null,"",null,null,"","","","","","","",null,null,""]
[null,null,null,null,null,null,null,null,null,null,"",null,null,"","","","","","","",null,null,""]
[null,null,null,null,null,null,null,null,null,null,"",null,null,"","","","","","","",null,null,""]
[null,null,null,null,null,null,null,null,null,null,"",null,null,"","","","","","","",null,null,""]
[null,null,null,null,null,null,null,null,null,null,"",null,null,"","","","","","","",null,null,""]
[null,null,null,null,null,null,null,null,null,null,"",null,null,"","","","","","","",null,null,""]
[null,null,null,null,null,null,null,null,null,null,"",null,null,"","","","","","","",null,null,""]
[null,null,null,null,null,null,null,null,null,null,"",null,null,"","","","","","","",null,null,""]
[null,null,null,null,null,null,null,null,null,null,"",null,null,"","","","","","","",null,null,""]
[null,null,null,null,null,null,null,null,null,null,"",null,null,"","","","","","","",null,null,""]
[null,null,null,null,null,null,null,null,null,null,"",null,null,"","","","","","","",null,null,""]
[null,null,null,null,null,null,null,null,null,null,"",null,null,"","","","","","","",null,null,""]
[null,null,null,null,null,null,null,null,null,null,"",null,null,"","","","","","","",null,null,""]
[null,null,null,null,null,null,null,null,null,null,"",null,null,"","","","","","","",null,null,""]
[null,null,null,null,null,null,null,null,null,null,"",null,null,"","","","","","","",null,null,""]
[null,null,null,null,null,null,null,null,null,null,"",null,null,"","","","","","","",null,null,""]
[null,null,null,null,null,null,null,null,null,null,"",null,null,"","","","","","","",null,null,""]
[null,null,null,null,null,null,null,null,null,null,"",null,null,"","","","","","","",null,null,""]
[null,null,null,null,null,null,null,null,null,null,"",null,null,"","","","","","","",null,null,""]
[null,null,null,null,null,null,null,null,null,null,"",null,null,"","","","","","","",null,null,""]
[null,null,null,null,null,null,null,null,null,null,"",null,null,"","","","","","","",null,null,""]
[null,null,null,null,null,null,null,null,null,null,"",null,null,"","","","","","","",null,null,""]
[null,null,null,null,null,null,null,null,null,null,"",null,null,"","","","","","","",null,null,""]
[null,null,null,null,null,null,null,null,null,null,"",null,null,"","","","","","","",null,null,""]
[null,null,null,null,null,null,null,null,null,null,"",null,null,"","","","","","","",null,null,""]
[null,null,null,null,null,null,null,null,null,null,"",null,null,"","","","","","","",null,null,""]
[null,null,null,null,null,null,null,null,null,null,"",null,null,"","","","","","","",null,null,""]
[null,null,null,null,null,null,null,null,null,null,"",null,null,"","","","","","","",null,null,""]
[null,null,null,null,null,null,null,null,null,null,"",null,null,"","","","","","","",null,null,""]
[null,null,null,null,null,null,null,null,null,null,"",null,null,"","","","","","","",null,null,""]
[null,null,null,null,null,null,null,null,null,null,"",null,null,"","","","","","","",null,null,""]
[null,null,null,null,null,null,null,null,null,null,"",null,null,"","","","","","","",null,null,""]
[null,null,null,null,null,null,null,null,null,null,"",null,null,"","","","","","","",null,null,""]
[null,null,null,null,null,null,null,null,null,null,"",null,null,"","","","","","","",null,null,""]
[null,null,null,null,null,null,null,null,null,null,"",null,null,"","","","","","","",null,null,""]
[null,null,null,null,null,null,null,null,null,null,"",null,null,"","","","","","","",null,null,""]
[null,null,null,null,null,null,null,null,null,null,"",null,null,"","","","","","","",null,null,""]
[null,null,null,null,null,null,null,null,null,null,"",null,null,"","","","","","","",null,null,""]
[null,null,null,null,null,null,null,null,null,null,"",null,null,"","","","","","","",null,null,""]
[null,null,null,null,null,null,null,null,null,null,"",null,null,"","","","","","","",null,null,""]
[null,null,null,null,null,null,null,null,null,null,{"$f":"IF(C7011=$C$162,D7011,\"\")","v":""},null,null,{"$f":"(IF(K7011=\"\",\"\",IF(OR(D7011=$J$33,D7011=$T$33, D7011=$O$33),D7011,\"\")))","v":""},{"$f":"IF(N7011=\"\",\"\",F7011)","v":""},{"$f":"IF(N7011=\"\", \"\", E7011)","v":""},{"$f":"IF(N7011=\"\", \"\", G7011)","v":""},{"$f":"IF(N7011=\"\",\"\",I7011)","v":""},{"$f":"IF(N7011=\"\",\"\",J7011)","v":""},"",null,null,""]
[null,null,null,null,null,null,null,null,null,null,"",null,null,"","","","","","",{"$f":"IF(N7012=\"\",\"\",H7012)","v":""},null,null,""]
[null,null,null,null,null,null,null,null,null,null,"",null,null,"","","","","","","",null,null,""]
[null,null,null,null,null,null,null,null,null,null,"",null,null,"","","","","","","",null,null,""]
[null,null,null,null,null,null,null,null,null,null,"",null,null,"","","","","","","",null,null,""]
[null,null,null,null,null,null,null,null,null,null,"",null,null,"","","","","","","",null,null,""]
[null,null,null,null,null,null,null,null,null,null,"",null,null,"","","","","","","",null,null,""]
[null,null,null,null,null,null,null,null,null,null,"",null,null,"","","","","","","",null,null,""]
[null,null,null,null,null,null,null,null,null,null,"",null,null,"","","","","","","",null,null,""]
[null,null,null,null,null,null,null,null,null,null,"",null,null,"","","","","","","",null,null,""]
[null,null,null,null,null,null,null,null,null,null,"",null,null,"","","","","","","",null,null,""]
[null,null,null,null,null,null,null,null,null,null,"",null,null,"","","","","","","",null,null,""]
[null,null,null,null,null,null,null,null,null,null,"",null,null,"","","","","","","",null,null,""]
[null,null,null,null,null,null,null,null,null,null,"",null,null,"","","","","","","",null,null,""]
[null,null,null,null,null,null,null,null,null,null,"",null,null,"","","","","","","",null,null,""]
[null,null,null,null,null,null,null,null,null,null,"",null,null,"","","","","","","",null,null,""]
[null,null,null,null,null,null,null,null,null,null,"",null,null,"","","","","","","",null,null,""]
[null,null,null,null,null,null,null,null,null,null,"",null,null,"","","","","","","",null,null,""]
[null,null,null,null,null,null,null,null,null,null,"",null,null,"","","","","","","",null,null,""]
[null,null,null,null,null,null,null,null,null,null,"",null,null,"","","","","","","",null,null,""]
[null,null,null,null,null,null,null,null,null,null,"",null,null,"","","","","","","",null,null,""]
[null,null,null,null,null,null,null,null,null,null,"",null,null,"","","","","","","",null,null,""]
[null,null,null,null,null,null,null,null,null,null,"",null,null,"","","","","","","",null,null,""]
[null,null,null,null,null,null,null,null,null,null,"",null,null,"","","","","","","",null,null,""]
[null,null,null,null,null,null,null,null,null,null,"",null,null,"","","","","","","",null,null,""]
[null,null,null,null,null,null,null,null,null,null,"",null,null,"","","","","","","",null,null,""]
[null,null,null,null,null,null,null,null,null,null,"",null,null,"","","","","","","",null,null,""]
[null,null,null,null,null,null,null,null,null,null,"",null,null,"","","","","","","",null,null,""]
[null,null,null,null,null,null,null,null,null,null,"",null,null,"","","","","","","",null,null,""]
[null,null,null,null,null,null,null,null,null,null,"",null,null,"","","","","","","",null,null,""]
[null,null,null,null,null,null,null,null,null,null,"",null,null,"","","","","","","",null,null,""]
[null,null,null,null,null,null,null,null,null,null,"",null,null,"","","","","","","",null,null,""]
[null,null,null,null,null,null,null,null,null,null,"",null,null,"","","","","","","",null,null,""]
[null,null,null,null,null,null,null,null,null,null,"",null,null,"","","","","","","",null,null,""]
[null,null,null,null,null,null,null,null,null,null,"",null,null,"","","","","","","",null,null,""]
[null,null,null,null,null,null,null,null,null,null,"",null,null,"","","","","","","",null,null,""]
[null,null,null,null,null,null,null,null,null,null,"",null,null,"","","","","","","",null,null,""]
[null,null,null,null,null,null,null,null,null,null,"",null,null,"","","","","","","",null,null,""]
[null,null,null,null,null,null,null,null,null,null,"",null,null,"","","","","","","",null,null,""]
[null,null,null,null,null,null,null,null,null,null,"",null,null,"","","","","","","",null,null,""]
[null,null,null,null,null,null,null,null,null,null,"",null,null,"","","","","","","",null,null,""]
[null,null,null,null,null,null,null,null,null,null,"",null,null,"","","","","","","",null,null,""]
[null,null,null,null,null,null,null,null,null,null,"",null,null,"","","","","","","",null,null,""]
[null,null,null,null,null,null,null,null,null,null,"",null,null,"","","","","","","",null,null,""]
[null,null,null,null,null,null,null,null,null,null,"",null,null,"","","","","","","",null,null,""]
[null,null,null,null,null,null,null,null,null,null,"",null,null,"","","","","","","",null,null,""]
[null,null,null,null,null,null,null,null,null,null,"",null,null,"","","","","","","",null,null,""]
[null,null,null,null,null,null,null,null,null,null,"",null,null,"","","","","","","",null,null,""]
[null,null,null,null,null,null,null,null,null,null,"",null,null,"","","","","","","",null,null,""]
[null,null,null,null,null,null,null,null,null,null,"",null,null,"","","","","","","",null,null,""]
[null,null,null,null,null,null,null,null,null,null,"",null,null,"","","","","","","",null,null,""]
[null,null,null,null,null,null,null,null,null,null,"",null,null,"","","","","","","",null,null,""]
[null,null,null,null,null,null,null,null,null,null,"",null,null,"","","","","","","",null,null,""]
[null,null,null,null,null,null,null,null,null,null,"",null,null,"","","","","","","",null,null,""]
[null,null,null,null,null,null,null,null,null,null,"",null,null,"","","","","","","",null,null,""]
[null,null,null,null,null,null,null,null,null,null,"",null,null,"","","","","","","",null,null,""]
[null,null,null,null,null,null,null,null,null,null,"",null,null,"","","","","","","",null,null,""]
[null,null,null,null,null,null,null,null,null,null,"",null,null,"","","","","","","",null,null,""]
[null,null,null,null,null,null,null,null,null,null,"",null,null,"","","","","","","",null,null,""]
[null,null,null,null,null,null,null,null,null,null,"",null,null,"","","","","","","",null,null,""]
[null,null,null,null,null,null,null,null,null,null,"",null,null,"","","","","","","",null,null,""]
[null,null,null,null,null,null,null,null,null,null,"",null,null,"","","","","","","",null,null,""]
[null,null,null,null,null,null,null,null,null,null,"",null,null,"","","","","","","",null,null,""]
[null,null,null,null,null,null,null,null,null,null,"",null,null,"","","","","","","",null,null,""]
[null,null,null,null,null,null,null,null,null,null,{"$f":"IF(C7075=$C$162,D7075,\"\")","v":""},null,null,{"$f":"(IF(K7075=\"\",\"\",IF(OR(D7075=$J$33,D7075=$T$33, D7075=$O$33),D7075,\"\")))","v":""},{"$f":"IF(N7075=\"\",\"\",F7075)","v":""},{"$f":"IF(N7075=\"\", \"\", E7075)","v":""},{"$f":"IF(N7075=\"\", \"\", G7075)","v":""},{"$f":"IF(N7075=\"\",\"\",I7075)","v":""},{"$f":"IF(N7075=\"\",\"\",J7075)","v":""},"",null,null,""]
[null,null,null,null,null,null,null,null,null,null,"",null,null,"","","","","","",{"$f":"IF(N7076=\"\",\"\",H7076)","v":""},null,null,""]
[null,null,null,null,null,null,null,null,null,null,"",null,null,"","","","","","",""]
[null,null,null,null,null,null,null,null,null,null,"",null,null,"","","","","","",""]
[null,null,null,null,null,null,null,null,null,null,"",null,null,"","","","","","",""]
[null,null,null,null,null,null,null,null,null,null,"",null,null,"","","","","","",""]
[null,null,null,null,null,null,null,null,null,null,"",null,null,"","","","","","",""]
[null,null,null,null,null,null,null,null,null,null,"",null,null,"","","","","","",""]
[null,null,null,null,null,null,null,null,null,null,"",null,null,"","","","","","",""]
[null,null,null,null,null,null,null,null,null,null,"",null,null,"","","","","","",""]
[null,null,null,null,null,null,null,null,null,null,"",null,null,"","","","","","",""]
[null,null,null,null,null,null,null,null,null,null,"",null,null,"","","","","","",""]
[null,null,null,null,null,null,null,null,null,null,"",null,null,"","","","","","",""]
[null,null,null,null,null,null,null,null,null,null,"",null,null,"","","","","","",""]
[null,null,null,null,null,null,null,null,null,null,"",null,null,"","","","","","",""]
[null,null,null,null,null,null,null,null,null,null,"",null,null,"","","","","","",""]
[null,null,null,null,null,null,null,null,null,null,"",null,null,"","","","","","",""]
[null,null,null,null,null,null,null,null,null,null,"",null,null,"","","","","","",""]
[null,null,null,null,null,null,null,null,null,null,"",null,null,"","","","","","",""]
[null,null,null,null,null,null,null,null,null,null,"",null,null,"","","","","","",""]
[null,null,null,null,null,null,null,null,null,null,"",null,null,"","","","","","",""]
[null,null,null,null,null,null,null,null,null,null,"",null,null,"","","","","","",""]
[null,null,null,null,null,null,null,null,null,null,"",null,null,"","","","","","",""]
[null,null,null,null,null,null,null,null,null,null,"",null,null,"","","","","","",""]
[null,null,null,null,null,null,null,null,null,null,"",null,null,"","","","","","",""]
[null,null,null,null,null,null,null,null,null,null,"",null,null,"","","","","","",""]
[null,null,null,null,null,null,null,null,null,null,"",null,null,"","","","","","",""]
[null,null,null,null,null,null,null,null,null,null,"",null,null,"","","","","","",""]
[null,null,null,null,null,null,null,null,null,null,"",null,null,"","","","","","",""]
[null,null,null,null,null,null,null,null,null,null,"",null,null,"","","","","","",""]
[null,null,null,null,null,null,null,null,null,null,"",null,null,"","","","","","",""]
[null,null,null,null,null,null,null,null,null,null,"",null,null,"","","","","","",""]
[null,null,null,null,null,null,null,null,null,null,"",null,null,"","","","","","",""]
[null,null,null,null,null,null,null,null,null,null,"",null,null,"","","","","","",""]
[null,null,null,null,null,null,null,null,null,null,"",null,null,"","","","","","",""]
[null,null,null,null,null,null,null,null,null,null,"",null,null,"","","","","","",""]
[null,null,null,null,null,null,null,null,null,null,"",null,null,"","","","","","",""]
[null,null,null,null,null,null,null,null,null,null,"",null,null,"","","","","","",""]
[null,null,null,null,null,null,null,null,null,null,"",null,null,"","","","","","",""]
[null,null,null,null,null,null,null,null,null,null,"",null,null,"","","","","","",""]
[null,null,null,null,null,null,null,null,null,null,"",null,null,"","","","","","",""]
[null,null,null,null,null,null,null,null,null,null,"",null,null,"","","","","","",""]
[null,null,null,null,null,null,null,null,null,null,"",null,null,"","","","","","",""]
[null,null,null,null,null,null,null,null,null,null,"",null,null,"","","","","","",""]
[null,null,null,null,null,null,null,null,null,null,"",null,null,"","","","","","",""]
[null,null,null,null,null,null,null,null,null,null,"",null,null,"","","","","","",""]
[null,null,null,null,null,null,null,null,null,null,"",null,null,"","","","","","",""]
[null,null,null,null,null,null,null,null,null,null,"",null,null,"","","","","","",""]
[null,null,null,null,null,null,null,null,null,null,"",null,null,"","","","","","",""]
[null,null,null,null,null,null,null,null,null,null,"",null,null,"","","","","","",""]
[null,null,null,null,null,null,null,null,null,null,"",null,null,"","","","","","",""]
[null,null,null,null,null,null,null,null,null,null,"",null,null,"","","","","","",""]
[null,null,null,null,null,null,null,null,null,null,"",null,null,"","","","","","",""]
[null,null,null,null,null,null,null,null,null,null,"",null,null,"","","","","","",""]
[null,null,null,null,null,null,null,null,null,null,"",null,null,"","","","","","",""]
[null,null,null,null,null,null,null,null,null,null,"",null,null,"","","","","","",""]
[null,null,null,null,null,null,null,null,null,null,"",null,null,"","","","","","",""]
[null,null,null,null,null,null,null,null,null,null,"",null,null,"","","","","","",""]
[null,null,null,null,null,null,null,null,null,null,"",null,null,"","","","","","",""]
[null,null,null,null,null,null,null,null,null,null,"",null,null,"","","","","","",""]
[null,null,null,null,null,null,null,null,null,null,"",null,null,"","","","","","",""]
[null,null,null,null,null,null,null,null,null,null,"",null,null,"","","","","","",""]
[null,null,null,null,null,null,null,null,null,null,"",null,null,"","","","","","",""]
[null,null,null,null,null,null,null,null,null,null,"",null,null,"","","","","","",""]
[null,null,null,null,null,null,null,null,null,null,{"$f":"IF(C7139=$C$162,D7139,\"\")","v":""},null,null,{"$f":"(IF(K7139=\"\",\"\",IF(OR(D7139=$J$33,D7139=$T$33, D7139=$O$33),D7139,\"\")))","v":""},{"$f":"IF(N7139=\"\",\"\",F7139)","v":""},{"$f":"IF(N7139=\"\", \"\", E7139)","v":""},{"$f":"IF(N7139=\"\", \"\", G7139)","v":""},{"$f":"IF(N7139=\"\",\"\",I7139)","v":""},{"$f":"IF(N7139=\"\",\"\",J7139)","v":""},""]
[null,null,null,null,null,null,null,null,null,null,"",null,null,"","","","","","",{"$f":"IF(N7140=\"\",\"\",H7140)","v":""}]
[null,null,null,null,null,null,null,null,null,null,"",null,null,"","","","","","",""]
[null,null,null,null,null,null,null,null,null,null,"",null,null,"","","","","","",""]
[null,null,null,null,null,null,null,null,null,null,"",null,null,"","","","","","",""]
[null,null,null,null,null,null,null,null,null,null,"",null,null,"","","","","","",""]
[null,null,null,null,null,null,null,null,null,null,"",null,null,"","","","","","",""]
[null,null,null,null,null,null,null,null,null,null,"",null,null,"","","","","","",""]
[null,null,null,null,null,null,null,null,null,null,"",null,null,"","","","","","",""]
[null,null,null,null,null,null,null,null,null,null,"",null,null,"","","","","","",""]
[null,null,null,null,null,null,null,null,null,null,"",null,null,"","","","","","",""]
[null,null,null,null,null,null,null,null,null,null,"",null,null,"","","","","","",""]
[null,null,null,null,null,null,null,null,null,null,"",null,null,"","","","","","",""]
[null,null,null,null,null,null,null,null,null,null,"",null,null,"","","","","","",""]
[null,null,null,null,null,null,null,null,null,null,"",null,null,"","","","","","",""]
[null,null,null,null,null,null,null,null,null,null,"",null,null,"","","","","","",""]
[null,null,null,null,null,null,null,null,null,null,"",null,null,"","","","","","",""]
[null,null,null,null,null,null,null,null,null,null,"",null,null,"","","","","","",""]
[null,null,null,null,null,null,null,null,null,null,"",null,null,"","","","","","",""]
[null,null,null,null,null,null,null,null,null,null,"",null,null,"","","","","","",""]
[null,null,null,null,null,null,null,null,null,null,"",null,null,"","","","","","",""]
[null,null,null,null,null,null,null,null,null,null,"",null,null,"","","","","","",""]
[null,null,null,null,null,null,null,null,null,null,"",null,null,"","","","","","",""]
[null,null,null,null,null,null,null,null,null,null,"",null,null,"","","","","","",""]
[null,null,null,null,null,null,null,null,null,null,"",null,null,"","","","","","",""]

{"sheet":"Free Form","index":2,"n_rows":56,"n_cols":29,"rows_kept":56,"cut":false,"hidden":false,"merged":[[40,1,41,24],[5,32,5,33],[8,32,8,33],[7,20,7,25],[5,19,6,21],[8,24,8,25],[8,18,8,19],[8,20,8,21],[9,1,9,23],[13,1,38,24],[5,7,6,9],[5,1,6,3],[11,1,11,23],[5,22,6,24],[2,16,3,18],[2,19,3,21],[0,4,1,24],[2,22,3,24],[5,16,6,18],[2,10,3,12],[2,13,3,15],[5,13,6,15],[5,10,6,12],[2,4,3,6],[2,7,3,9],[5,4,6,6]]}
[null,null,null,null,{"$f":"Main!E1","v":"AWP Contractor Reporting E2O - Earthwork Contractor QC"}]
[null,null,null,null,null,null,null,null,null,null,null,null,null,null,null,null,null,null,null,null,null,null,null,null,null,{"$f":"Main!Z2","v":"v"},{"$f":"Main!AA2","v":"5.00"},null,"Timestamp function"]
[null,null,null,null," ",null,null,{"$f":"Main!H3","v":"Main"},null,null,{"$f":"Main!K3","v":"Quantity"},null,null,null,null,null,{"$f":"Main!Q3","v":"Send/Sync"},null,null,{"$f":"Main!T3","v":"Reports"},null,null,{"$f":"Main!W3","v":"Help"},null,null,null,null,null,{"$f":"TEXT(B12,\"mm/dd/yyyy\")","v":"2030 Characters Maximum  (spaces count)"}]
[null,null,null,null,null,null,null,null,null,null,null,null,null,null,null,null,null,null,null,null,null,null,null,null,null,null,null,null,{"$f":"TEXT(B13,\"HH:MM:SS \")","v":"00:00:00 "}]
[]
[null,{"$f":"Main!B6","v":"General"},null,null,{"$f":"Main!E6","v":"Free Form"},null,null,{"$f":"IF(Main!H6=\"\", \"\", Main!H6)","v":"Subgrade"},null,null,{"$f":"IF(Main!K6=\"\", \"\", Main!K6)","v":"Rock Base"},null,null,{"$f":"IF(Main!N6=\"\", \"\", Main!N6)","v":"Agg Bases"},null,null,{"$f":"IF(Main!Q6=\"\", \"\", Main!Q6)","v":"T90/T99"},null,null,{"$f":"IF(Main!T6=\"\", \"\", Main!T6)","v":"DCP"},null,null,{"$f":"IF(Main!W6=\"\", \"\", Main!W6)","v":""}]
[]
[]
[]
[null,"Use a \"Free Form\" to record general notes, test results, or related information for which there is no other field"]
[]
[null,"2030 Characters Maximum  (spaces count)"]
[]
[]
[]
[]
[]
[]
[]
[]
[]
[]
[]
[]
[]
[]
[]
[]
[]
[]
[]
[]
[]
[]
[]
[]
[]
[]
[]
[null,null,null,null,null,null,null,null,null,null,null,null,null,null,null,null,null,null,null,null,null,null,null,null,null,null,null,null,"Is any I info entered?"]
[null,"The Free Form is used for test results that do not fit elsewhere and as a remarks and statement area.",null,null,null,null,null,null,null,null,null,null,null,null,null,null,null,null,null,null,null,null,null,null,null,null,null,null,{"$f":"IF(LEN(B14)>5,1,0)","v":0}]
[]
[]
[]
[]
[]
[]
[null,null,"Seq","end",null,"Populate"]
[null,null,1,254,null,{"$f":"IF(G49=\"\", \"N\", \"Y\")","v":"N"},{"$f":"RIGHT(LEFT($B$14,D49),254)","v":""}]
[null,null,2,{"$f":"$D$49+D49","v":508},null,{"$f":"IF(G50=\"\", \"N\", \"Y\")","v":"N"},{"$f":"MID($B$14,(D50-253),254)","v":""}]
[null,null,3,{"$f":"$D$49+D50","v":762},null,"N",{"$f":"MID($B$14,(D51-253),254)","v":""}]
[null,null,4,1016,null,"N",""]
[null,null,5,1270,null,"N",""]
[null,null,6,1524,null,"N",""]
[null,null,7,1778,null,"N",""]
[null,null,8,2032,null,"N",""]

{"sheet":"Help","index":3,"n_rows":45,"n_cols":27,"rows_kept":45,"cut":false,"hidden":false,"merged":[[43,1,43,25],[44,1,47,25],[35,1,35,14],[34,1,34,25],[5,1,6,3],[5,4,6,6],[5,7,6,9],[5,10,6,12],[5,13,6,15],[5,16,6,18],[5,19,6,21],[22,1,24,25],[16,1,19,25],[30,1,33,25],[21,1,21,25],[15,1,15,25],[29,1,29,25],[28,1,28,25],[26,1,26,25],[27,1,27,25],[25,1,25,25],[0,4,1,24],[8,1,8,25],[14,1,14,25],[13,1,13,25],[9,1,11,25],[12,1,12,25],[2,13,3,15],[2,16,3,18],[2,19,3,21],[5,22,6,24],[7,1,7,25],[2,4,3,6],[2,7,3,9],[2,22,3,24],[2,10,3,12]]}
[null,null,null,null,{"$f":"Main!E1","v":"AWP Contractor Reporting E2O - Earthwork Contractor QC"}]
[null,null,null,null,null,null,null,null,null,null,null,null,null,null,null,null,null,null,null,null,null,null,null,null,null,{"$f":"Main!Z2","v":"v"},{"$f":"Main!AA2","v":"5.00"}]
[null,null,null,null," ",null,null,{"$f":"Main!H3","v":"Main"},null,null,{"$f":"Main!K3","v":"Quantity"},null,null,null,null,null,{"$f":"Main!Q3","v":"Send/Sync"},null,null,{"$f":"Main!T3","v":"Reports"},null,null,{"$f":"Main!W3","v":"Help"}]
[]
[]
[null,{"$f":"Main!B6","v":"General"}]
[]
[]
[null,"Report Numbering"]
[null,"Each report must be uniquely numbered by the contractor making the report.  Every contracting company must devise a way to ensure that the various people submitting reports do not use the same numbers.   An easy way is to assign each person within your company a range of numbers.  "]
[]
[]
[null,"Numbers range from 0001-9999.          Lead zeros should be used to aid in sorting of reports.       The numbers reset every year."]
[]
[]
[null,"Security Word"]
[null,"Each contracting company is issued a four letter security word.   If the security word entered on the report does not match the contracting company, the report will not be processed.   The purpose of the security word is to prevent unathorized persons from submitting reports to represent a contracting company.   MoDOT may re-issue security words periodically.  MoDOT can also re-issue a companies security word upon request."]
[]
[]
[]
[]
[null,"Rejection by the Server"]
[null,"When a report is submitted, there is a chance the processing server will find a fault and reject the report.  Once rejected, the fault will need to be corrected and the report resubmitted.  The processing server will send out a rejection notice email with a basic reason for rejection to the contractor email address and MoDOT employee listed in the contact area."]
[]
[]
[]
[]
[]
[]
[null,"Allow Updating"]
[null,"The Excel2Oracle will not overwrite existing data in SiteManager by defualt.  This is to protect the existing data from acccidentlly being replaced.  Once clicked, the \"allow updating\" button will let Excel2Oracle to overwrite existing data in SiteManager.  Care should be taken when doing this to make sure the sample ID is correct."]
[]
[]
[]
[null,"Spreadsheet Versions"]
[null,"* Reports that are too out of date may no longer be processed."]
[null,"* The changes in the version number indicate how major or minor a change was."]
[null,null,"For Example:   Version    A.BC"]
[null,null,null,"\"A\" is the major version.   Major changes are rare and usually will require switching to the newest version"]
[null,null,null,"\"B\" is the minor version.   Minor changes will not usually require switching, but updating is reccomended."]
[null,null,null,"\"C\" is the errata version.  Errata fixes do not require switching."]
[null,null,null,"*  Note that some changes do not warrant a new version number.  Picklist updates fall in this category."]
[]
[null,"Latest News and Updates"]
[null,"Each time the Send/Sync tab is opened, the latest news informatin is fetched from the Internet.  This enables MoDOT to broadcast need information to all users"]

{"sheet":"Test 1","index":4,"n_rows":208,"n_cols":35,"rows_kept":208,"cut":false,"hidden":false,"merged":[[2,10,3,12],[2,13,3,15],[37,13,37,14],[43,1,43,14],[2,16,3,18],[2,19,3,21],[2,22,3,24],[2,4,3,6],[2,7,3,9],[5,13,6,15],[5,16,6,18],[27,1,27,4],[27,5,27,7],[27,10,27,12],[27,13,27,14],[30,1,31,8],[30,9,32,24],[32,6,32,8],[26,1,26,4],[26,5,26,7],[26,10,26,12],[26,13,26,14],[26,16,26,18],[5,19,6,21],[5,22,6,24],[5,1,6,3],[5,4,6,6],[5,7,6,9],[5,10,6,12],[37,1,37,4],[37,5,37,7],[37,10,37,12],[35,16,35,18],[35,20,35,22],[36,1,36,4],[36,5,36,7],[36,10,36,12],[36,13,36,14],[36,16,36,18],[36,20,36,22],[33,1,33,14],[34,1,34,14],[35,1,35,4],[35,5,35,7],[35,10,35,12],[35,13,35,14],[20,1,21,8],[20,9,22,24],[22,6,22,8],[23,1,23,14],[24,1,24,14],[25,1,25,4],[25,5,25,7],[25,10,25,12],[25,13,25,14],[25,16,25,18],[13,1,13,14],[15,20,15,22],[16,20,16,22],[14,1,14,14],[10,9,12,24],[12,6,12,8],[15,10,15,12],[16,10,16,12],[15,13,15,14],[16,13,16,14],[10,1,11,8],[15,1,15,4],[16,1,16,4],[15,5,15,7],[16,5,16,7],[15,16,15,18],[14,16,14,19],[45,16,45,18],[45,20,45,22],[40,1,41,8],[40,9,42,24],[42,6,42,8],[44,1,44,14],[24,16,24,19],[24,20,24,24],[34,16,34,19],[26,20,26,22],[47,1,47,4],[47,5,47,7],[47,10,47,12],[47,13,47,14],[46,1,46,4],[14,20,14,24],[46,16,46,18],[46,20,46,22],[45,1,45,4],[45,5,45,7],[46,5,46,7],[46,10,46,12],[46,13,46,14],[34,20,34,24],[16,16,16,18],[25,20,25,22],[44,16,44,19],[44,20,44,24],[45,10,45,12],[45,13,45,14],[17,1,17,4],[17,5,17,7],[17,10,17,12],[17,13,17,14],[50,1,51,8],[50,9,52,24],[52,6,52,8],[53,1,53,14],[54,1,54,14],[54,16,54,19],[54,20,54,24],[55,1,55,4],[55,5,55,7],[55,10,55,12],[55,13,55,14],[55,16,55,18],[55,20,55,22],[56,1,56,4],[56,5,56,7],[56,10,56,12],[56,13,56,14],[56,16,56,18],[56,20,56,22],[57,1,57,4],[57,5,57,7],[57,10,57,12],[57,13,57,14],[60,1,61,8],[60,9,62,24],[62,6,62,8],[63,1,63,14],[64,1,64,14],[64,16,64,19],[64,20,64,24],[65,1,65,4],[65,5,65,7],[65,10,65,12],[65,13,65,14],[65,16,65,18],[65,20,65,22],[66,1,66,4],[66,5,66,7],[66,10,66,12],[66,13,66,14],[66,16,66,18],[66,20,66,22],[67,1,67,4],[67,5,67,7],[67,10,67,12],[67,13,67,14],[70,1,71,8],[70,9,72,24],[72,6,72,8],[73,1,73,14],[74,1,74,14],[74,16,74,19],[74,20,74,24],[75,1,75,4],[75,5,75,7],[75,10,75,12],[75,13,75,14],[75,16,75,18],[75,20,75,22],[76,1,76,4],[76,5,76,7],[76,10,76,12],[76,13,76,14],[76,16,76,18],[76,20,76,22],[77,1,77,4],[77,5,77,7],[77,10,77,12],[77,13,77,14],[80,1,81,8],[80,9,82,24],[82,6,82,8],[83,1,83,14],[84,1,84,14],[84,16,84,19],[84,20,84,24],[85,1,85,4],[85,5,85,7],[85,10,85,12],[85,13,85,14],[85,16,85,18],[85,20,85,22],[86,1,86,4],[86,5,86,7],[86,10,86,12],[86,13,86,14],[86,16,86,18],[86,20,86,22],[87,1,87,4],[87,5,87,7],[87,10,87,12],[87,13,87,14],[90,1,91,8],[90,9,92,24],[92,6,92,8],[93,1,93,14],[94,1,94,14],[94,16,94,19],[94,20,94,24],[95,1,95,4],[95,5,95,7],[95,10,95,12],[95,13,95,14],[95,16,95,18],[95,20,95,22],[96,1,96,4],[96,5,96,7],[96,10,96,12],[96,13,96,14],[96,16,96,18],[96,20,96,22],[97,1,97,4],[97,5,97,7],[97,10,97,12],[97,13,97,14],[100,1,101,8],[100,9,102,24],[102,6,102,8],[103,1,103,14],[104,1,104,14],[104,16,104,19],[104,20,104,24],[105,1,105,4],[105,5,105,7],[105,10,105,12],[105,13,105,14],[105,16,105,18],[105,20,105,22],[106,1,106,4],[106,5,106,7],[106,10,106,12],[106,13,106,14],[106,16,106,18],[106,20,106,22],[107,1,107,4],[107,5,107,7],[107,10,107,12],[107,13,107,14],[110,1,111,8],[110,9,112,24],[112,6,112,8],[113,1,113,14],[114,1,114,14],[114,16,114,19],[114,20,114,24],[115,1,115,4],[115,5,115,7],[115,10,115,12],[115,13,115,14],[115,16,115,18],[115,20,115,22],[116,1,116,4],[116,5,116,7],[116,10,116,12],[116,13,116,14],[116,16,116,18],[116,20,116,22],[117,1,117,4],[117,5,117,7],[117,10,117,12],[117,13,117,14],[120,1,121,8],[120,9,122,24],[122,6,122,8],[123,1,123,14],[124,1,124,14],[124,16,124,19],[124,20,124,24],[125,1,125,4],[125,5,125,7],[125,10,125,12],[125,13,125,14],[125,16,125,18],[125,20,125,22],[126,1,126,4],[126,5,126,7],[126,10,126,12],[126,13,126,14],[126,16,126,18],[126,20,126,22],[127,1,127,4],[127,5,127,7],[127,10,127,12],[127,13,127,14],[130,1,131,8],[130,9,132,24],[132,6,132,8],[133,1,133,14],[134,1,134,14],[134,16,134,19],[134,20,134,24],[135,1,135,4],[135,5,135,7],[135,10,135,12],[135,13,135,14],[135,16,135,18],[135,20,135,22],[136,1,136,4],[136,5,136,7],[136,10,136,12],[136,13,136,14],[136,16,136,18],[136,20,136,22],[137,1,137,4],[137,5,137,7],[137,10,137,12],[137,13,137,14],[140,1,141,8],[140,9,142,24],[142,6,142,8],[143,1,143,14],[144,1,144,14],[144,16,144,19],[144,20,144,24],[145,1,145,4],[145,5,145,7],[145,10,145,12],[145,13,145,14],[145,16,145,18],[145,20,145,22],[146,1,146,4],[146,5,146,7],[146,10,146,12],[146,13,146,14],[146,16,146,18],[146,20,146,22],[147,1,147,4],[147,5,147,7],[147,10,147,12],[147,13,147,14],[150,1,151,8],[150,9,152,24],[152,6,152,8],[153,1,153,14],[154,1,154,14],[154,16,154,19],[154,20,154,24],[155,1,155,4],[155,5,155,7],[155,10,155,12],[155,13,155,14],[155,16,155,18],[155,20,155,22],[156,1,156,4],[156,5,156,7],[156,10,156,12],[156,13,156,14],[156,16,156,18],[156,20,156,22],[157,1,157,4],[157,5,157,7],[157,10,157,12],[157,13,157,14],[160,1,161,8],[160,9,162,24],[162,6,162,8],[163,1,163,14],[164,1,164,14],[164,16,164,19],[164,20,164,24],[165,1,165,4],[165,5,165,7],[165,10,165,12],[165,13,165,14],[165,16,165,18],[165,20,165,22],[166,1,166,4],[166,5,166,7],[166,10,166,12],[166,13,166,14],[166,16,166,18],[166,20,166,22],[167,1,167,4],[167,5,167,7],[167,10,167,12],[167,13,167,14],[170,1,171,8],[170,9,172,24],[172,6,172,8],[173,1,173,14],[174,1,174,14],[174,16,174,19],[174,20,174,24],[175,1,175,4],[175,5,175,7],[175,10,175,12],[175,13,175,14],[175,16,175,18],[175,20,175,22],[176,1,176,4],[176,5,176,7],[176,10,176,12],[176,13,176,14],[176,16,176,18],[176,20,176,22],[177,1,177,4],[177,5,177,7],[177,10,177,12],[177,13,177,14],[180,1,181,8],[180,9,182,24],[182,6,182,8],[183,1,183,14],[184,1,184,14],[184,16,184,19],[184,20,184,24],[185,1,185,4],[185,5,185,7],[185,10,185,12],[185,13,185,14],[185,16,185,18],[185,20,185,22],[186,1,186,4],[186,5,186,7],[186,10,186,12],[186,13,186,14],[186,16,186,18],[186,20,186,22],[187,1,187,4],[187,5,187,7],[187,10,187,12],[187,13,187,14],[190,1,191,8],[190,9,192,24],[192,6,192,8],[193,1,193,14],[194,1,194,14],[194,16,194,19],[194,20,194,24],[195,1,195,4],[195,5,195,7],[195,10,195,12],[195,13,195,14],[195,16,195,18],[195,20,195,22],[196,1,196,4],[196,5,196,7],[196,10,196,12],[196,13,196,14],[196,16,196,18],[196,20,196,22],[197,1,197,4],[197,5,197,7],[197,10,197,12],[197,13,197,14],[0,4,1,24],[206,1,206,4],[206,5,206,7],[206,10,206,12],[206,13,206,14],[206,16,206,18],[206,20,206,22],[207,1,207,4],[207,5,207,7],[207,10,207,12],[207,13,207,14],[200,1,201,8],[200,9,202,24],[202,6,202,8],[203,1,203,14],[204,1,204,14],[204,16,204,19],[204,20,204,24],[205,1,205,4],[205,5,205,7],[205,10,205,12],[205,13,205,14],[205,16,205,18],[205,20,205,22]]}
[null,null,null,null,{"$f":"Main!E1","v":"AWP Contractor Reporting E2O - Earthwork Contractor QC"}]
[null,null,null,null,null,null,null,null,null,null,null,null,null,null,null,null,null,null,null,null,null,null,null,null,null,{"$f":"Main!Z2","v":"v"},{"$f":"Main!AA2","v":"5.00"}]
[null,null,null,null," ",null,null,"Main",null,null,"Quantity",null,null,null,null,null,{"$f":"Main!Q3","v":"Send/Sync"},null,null,"Reports",null,null,"Help"]
[]
[]
[null,{"$f":"Main!B6","v":"General"},null,null,{"$f":"Main!E6","v":"Free Form"},null,null,{"$f":"IF(Main!H6=\"\",\"\",Main!H6)","v":"Subgrade"},null,null,{"$f":"IF(Main!K6=\"\",\"\",Main!K6)","v":"Rock Base"},null,null,{"$f":"IF(Main!N6=\"\",\"\",Main!N6)","v":"Agg Bases"},null,null,{"$f":"IF(Main!Q6=\"\",\"\",Main!Q6)","v":"T90/T99"},null,null,{"$f":"IF(Main!T6=\"\",\"\",Main!T6)","v":"DCP"},null,null,{"$f":"IF(Main!W6=\"\",\"\",Main!W6)","v":""}]
[null,null,null,null,null,null,null,null,null,null,null,null,null,null,null,null,null,null,null,null,null,null,null,null,null,null,null,null,"checks",{"$f":"IF(Main!AG3=\"S\",\"ok\", \"no\")","v":"ok"},"master populate for type"]
[]
[null,{"$f":"IF(Main!AG3=\"S\",\"This tab is used to report subgrade inspection and testing as outlined in Section 200.\",\"DO NOT USE this tab to report anything other than subgrade testing\")","v":"This tab is used to report subgrade inspection and testing as outlined in Section 200."}]
[]
[null,"Activity 1:"]
[]
[null,null,null,null,null,null,"Comments:"]
[null,null,null,null,null,null,null,null,null,null,null,null,null,null,null,null,null,null,null,null,null,null,null,null,null,null,null,null,null,null,"rounded",null,null,null,"Populate"]
[null,"Quantity",null,null,null,null,null,null,null,null,null,null,null,null,null,null,"Compaction",null,null,null,"Proctor Value",null,null,null,null,null,null,null,null,null,{"$f":"IF(F16=\"\",\"\",ROUND(F16,1))","v":""},{"$f":"IF(K16=\"\",\"\",ROUND(K16,2))","v":""},{"$f":"IF(Q16=\"\",\"\",ROUND(Q16,1))","v":""},{"$f":"IF(U16=\"\",\"\",ROUND(U16,1))","v":""},{"$f":"IF(AND(SUM(F16,K16,F18,K18,K17,F17)>0,$AD$7=\"ok\"),\"Y\",\"N\")","v":"N"}]
[null,"Above 18\"",null,null,null,null,null,null,"CY","or",null,null,null,"Stations",null,null,null,null,null,"%",null,null,null,"lb/cf",null,null,null,null,{"$f":"IF(SUM(F16,K16)>0, IF(SUM(Q16,U16)>0,0,1),0)","v":0},null,{"$f":"IF(F17=\"\",\"\",ROUND(F17,1))","v":""},{"$f":"IF(K17=\"\",\"\",ROUND(K17,2))","v":""},{"$f":"IF(Q17=\"\",\"\",ROUND(Q17,1))","v":""},{"$f":"IF(U17=\"\",\"\",ROUND(U17,1))","v":""}]
[null,"Below 18\"",null,null,null,null,null,null,"CY","or",null,null,null,"Stations",null,null,null,null,null,"%",null,null,null,"lb/cf",null,null,null,null,{"$f":"IF(SUM(F17,K17)>0, IF(SUM(Q17,U17)>0,0,1),0)","v":0},null,{"$f":"IF(F18=\"\",\"\",ROUND(F18,1))","v":""},{"$f":"IF(K18=\"\",\"\",ROUND(K18,2))","v":""}]
[null,"Too Rocky To Test",null,null,null,null,null,null,"CY","or",null,null,null,"Stations",null,null,null,null,null,null,null,null,null,null,null,null,null,null,null,null,{"$f":"MID(AE15,9,3)","v":""},{"$f":"MID(AF15,9,3)","v":""},{"$f":"MID(AG15,9,3)","v":""},""]
[]
[]
[null,"Activity 2:"]
[]
[null,null,null,null,null,null,"Comments:"]
[]
[null,"Quantity",null,null,null,null,null,null,null,null,null,null,null,null,null,null,"Compaction",null,null,null,"Proctor Value",null,null,null,null,null,null,null,null,null,{"$f":"IF(F26=\"\",\"\",ROUND(F26,1))","v":""},{"$f":"IF(K26=\"\",\"\",ROUND(K26,2))","v":""},{"$f":"IF(Q26=\"\",\"\",ROUND(Q26,1))","v":""},{"$f":"IF(U26=\"\",\"\",ROUND(U26,1))","v":""},{"$f":"IF(AND(SUM(F26,K26,F28,K28,K27,F27)>0,$AD$7=\"ok\"),\"Y\",\"N\")","v":"N"}]
[null,"Above 18\"",null,null,null,null,null,null,"CY","or",null,null,null,"Stations",null,null,null,null,null,"%",null,null,null,"lb/cf",null,null,null,null,{"$f":"IF(SUM(F26,K26)>0, IF(SUM(Q26,U26)>0,0,1),0)","v":0},null,{"$f":"IF(F27=\"\",\"\",ROUND(F27,1))","v":""},{"$f":"IF(K27=\"\",\"\",ROUND(K27,2))","v":""},{"$f":"IF(Q27=\"\",\"\",ROUND(Q27,1))","v":""},{"$f":"IF(U27=\"\",\"\",ROUND(U27,1))","v":""}]
[null,"Below 18\"",null,null,null,null,null,null,"CY","or",null,null,null,"Stations",null,null,null,null,null,"%",null,null,null,"lb/cf",null,null,null,null,{"$f":"IF(SUM(F27,K27)>0, IF(SUM(Q27,U27)>0,0,1),0)","v":0},null,{"$f":"IF(F28=\"\",\"\",ROUND(F28,1))","v":""},{"$f":"IF(K28=\"\",\"\",ROUND(K28,2))","v":""}]
[null,"Too Rocky To Test",null,null,null,null,null,null,"CY","or",null,null,null,"Stations",null,null,null,null,null,null,null,null,null,null,null,null,null,null,null,null,{"$f":"MID(AE25,9,3)","v":""},{"$f":"MID(AF25,9,3)","v":""},{"$f":"MID(AG25,9,3)","v":""},""]
[null,null,null,null,null,null,null,null,null,null,null,null,null,null,null,null,null,null,null,null,null,null,null,null,null,null,null,null,null,null,{"$f":"MID(AE26,9,3)","v":""},"","",""]
[]
[null,"Activity 3:"]
[]
[null,null,null,null,null,null,"Comments:"]
[]
[null,"Quantity",null,null,null,null,null,null,null,null,null,null,null,null,null,null,"Compaction",null,null,null,"Proctor Value",null,null,null,null,null,null,null,null,null,{"$f":"IF(F36=\"\",\"\",ROUND(F36,1))","v":""},{"$f":"IF(K36=\"\",\"\",ROUND(K36,2))","v":""},{"$f":"IF(Q36=\"\",\"\",ROUND(Q36,1))","v":""},{"$f":"IF(U36=\"\",\"\",ROUND(U36,1))","v":""},{"$f":"IF(AND(SUM(F36,K36,F38,K38,K37,F37)>0,$AD$7=\"ok\"),\"Y\",\"N\")","v":"N"}]
[null,"Above 18\"",null,null,null,null,null,null,"CY","or",null,null,null,"Stations",null,null,null,null,null,"%",null,null,null,"lb/cf",null,null,null,null,{"$f":"IF(SUM(F36,K36)>0, IF(SUM(Q36,U36)>0,0,1),0)","v":0},null,{"$f":"IF(F37=\"\",\"\",ROUND(F37,1))","v":""},{"$f":"IF(K37=\"\",\"\",ROUND(K37,2))","v":""},{"$f":"IF(Q37=\"\",\"\",ROUND(Q37,1))","v":""},{"$f":"IF(U37=\"\",\"\",ROUND(U37,1))","v":""}]
[null,"Below 18\"",null,null,null,null,null,null,"CY","or",null,null,null,"Stations",null,null,null,null,null,"%",null,null,null,"lb/cf",null,null,null,null,{"$f":"IF(SUM(F37,K37)>0, IF(SUM(Q37,U37)>0,0,1),0)","v":0},null,{"$f":"IF(F38=\"\",\"\",ROUND(F38,1))","v":""},{"$f":"IF(K38=\"\",\"\",ROUND(K38,2))","v":""}]
[null,"Too Rocky To Test",null,null,null,null,null,null,"CY","or",null,null,null,"Stations",null,null,null,null,null,null,null,null,null,null,null,null,null,null,null,null,{"$f":"MID(AE35,9,3)","v":""},{"$f":"MID(AF35,9,3)","v":""},{"$f":"MID(AG35,9,3)","v":""},""]
[]
[]
[null,"Activity 4:"]
[]
[null,null,null,null,null,null,"Comments:"]
[]
[null,"Quantity",null,null,null,null,null,null,null,null,null,null,null,null,null,null,"Compaction",null,null,null,"Proctor Value",null,null,null,null,null,null,null,null,null,{"$f":"IF(F46=\"\",\"\",ROUND(F46,1))","v":""},{"$f":"IF(K46=\"\",\"\",ROUND(K46,2))","v":""},{"$f":"IF(Q46=\"\",\"\",ROUND(Q46,1))","v":""},{"$f":"IF(U46=\"\",\"\",ROUND(U46,1))","v":""},{"$f":"IF(AND(SUM(F46,K46,F48,K48,K47,F47)>0,$AD$7=\"ok\"),\"Y\",\"N\")","v":"N"}]
[null,"Above 18\"",null,null,null,null,null,null,"CY","or",null,null,null,"Stations",null,null,null,null,null,"%",null,null,null,"lb/cf",null,null,null,null,{"$f":"IF(SUM(F46,K46)>0, IF(SUM(Q46,U46)>0,0,1),0)","v":0},null,{"$f":"IF(F47=\"\",\"\",ROUND(F47,1))","v":""},{"$f":"IF(K47=\"\",\"\",ROUND(K47,2))","v":""},{"$f":"IF(Q47=\"\",\"\",ROUND(Q47,1))","v":""},{"$f":"IF(U47=\"\",\"\",ROUND(U47,1))","v":""}]
[null,"Below 18\"",null,null,null,null,null,null,"CY","or",null,null,null,"Stations",null,null,null,null,null,"%",null,null,null,"lb/cf",null,null,null,null,{"$f":"IF(SUM(F47,K47)>0, IF(SUM(Q47,U47)>0,0,1),0)","v":0},null,{"$f":"IF(F48=\"\",\"\",ROUND(F48,1))","v":""},{"$f":"IF(K48=\"\",\"\",ROUND(K48,2))","v":""}]
[null,"Too Rocky To Test",null,null,null,null,null,null,"CY","or",null,null,null,"Stations"]
[null,null,null,null,null,null,null,null,null,null,null,null,null,null,null,null,null,null,null,null,null,null,null,null,null,null,null,null,"Final error check total:"]
[null,null,null,null,null,null,null,null,null,null,null,null,null,null,null,null,null,null,null,null,null,null,null,null,null,null,null,null,{"$f":"IF($AD$7=\"ok\",SUM(AC16:AC17,AC25:AC29,AC35:AC39,AC45:AC48,AC56:AC57,AC66:AC67,AC76:AC77,AC86:AC87,AC96:AC97,AC106:AC107,AC116:AC117,AC126:AC127,AC136:AC137,AC146:AC147,AC156:AC157,AC166:AC167,AC176:AC177,AC186:AC187,AC196:AC197,AC206:AC207),0)","v":0}]
[null,"Activity 5:"]
[]
[null,null,null,null,null,null,"Comments:"]
[]
[null,"Quantity",null,null,null,null,null,null,null,null,null,null,null,null,null,null,"Compaction",null,null,null,"Proctor Value",null,null,null,null,null,null,null,null,null,{"$f":"IF(F56=\"\",\"\",ROUND(F56,1))","v":""},{"$f":"IF(K56=\"\",\"\",ROUND(K56,2))","v":""},{"$f":"IF(Q56=\"\",\"\",ROUND(Q56,1))","v":""},{"$f":"IF(U56=\"\",\"\",ROUND(U56,1))","v":""},{"$f":"IF(AND(SUM(F56,K56,F58,K58,K57,F57)>0,$AD$7=\"ok\"),\"Y\",\"N\")","v":"N"}]
[null,"Above 18\"",null,null,null,null,null,null,"CY","or",null,null,null,"Stations",null,null,null,null,null,"%",null,null,null,"lb/cf",null,null,null,null,{"$f":"IF(SUM(F56,K56)>0, IF(SUM(Q56,U56)>0,0,1),0)","v":0},null,{"$f":"IF(F57=\"\",\"\",ROUND(F57,1))","v":""},{"$f":"IF(K57=\"\",\"\",ROUND(K57,2))","v":""},{"$f":"IF(Q57=\"\",\"\",ROUND(Q57,1))","v":""},{"$f":"IF(U57=\"\",\"\",ROUND(U57,1))","v":""}]
[null,"Below 18\"",null,null,null,null,null,null,"CY","or",null,null,null,"Stations",null,null,null,null,null,"%",null,null,null,"lb/cf",null,null,null,null,{"$f":"IF(SUM(F57,K57)>0, IF(SUM(Q57,U57)>0,0,1),0)","v":0},null,{"$f":"IF(F58=\"\",\"\",ROUND(F58,1))","v":""},{"$f":"IF(K58=\"\",\"\",ROUND(K58,2))","v":""}]
[null,"Too Rocky To Test",null,null,null,null,null,null,"CY","or",null,null,null,"Stations",null,null,null,null,null,null,null,null,null,null,null,null,null,null,null,null,{"$f":"MID(AE55,9,3)","v":""},{"$f":"MID(AF55,9,3)","v":""},{"$f":"MID(AG55,9,3)","v":""},""]
[]
[]
[null,"Activity 6:"]
[]
[null,null,null,null,null,null,"Comments:"]
[]
[null,"Quantity",null,null,null,null,null,null,null,null,null,null,null,null,null,null,"Compaction",null,null,null,"Proctor Value",null,null,null,null,null,null,null,null,null,{"$f":"IF(F66=\"\",\"\",ROUND(F66,1))","v":""},{"$f":"IF(K66=\"\",\"\",ROUND(K66,2))","v":""},{"$f":"IF(Q66=\"\",\"\",ROUND(Q66,1))","v":""},{"$f":"IF(U66=\"\",\"\",ROUND(U66,1))","v":""},{"$f":"IF(AND(SUM(F66,K66,F68,K68,K67,F67)>0,$AD$7=\"ok\"),\"Y\",\"N\")","v":"N"}]
[null,"Above 18\"",null,null,null,null,null,null,"CY","or",null,null,null,"Stations",null,null,null,null,null,"%",null,null,null,"lb/cf",null,null,null,null,{"$f":"IF(SUM(F66,K66)>0, IF(SUM(Q66,U66)>0,0,1),0)","v":0},null,{"$f":"IF(F67=\"\",\"\",ROUND(F67,1))","v":""},{"$f":"IF(K67=\"\",\"\",ROUND(K67,2))","v":""},{"$f":"IF(Q67=\"\",\"\",ROUND(Q67,1))","v":""},{"$f":"IF(U67=\"\",\"\",ROUND(U67,1))","v":""}]
[null,"Below 18\"",null,null,null,null,null,null,"CY","or",null,null,null,"Stations",null,null,null,null,null,"%",null,null,null,"lb/cf",null,null,null,null,{"$f":"IF(SUM(F67,K67)>0, IF(SUM(Q67,U67)>0,0,1),0)","v":0},null,{"$f":"IF(F68=\"\",\"\",ROUND(F68,1))","v":""},{"$f":"IF(K68=\"\",\"\",ROUND(K68,2))","v":""}]
[null,"Too Rocky To Test",null,null,null,null,null,null,"CY","or",null,null,null,"Stations"]
[]
[]
[null,"Activity 7:"]
[]
[null,null,null,null,null,null,"Comments:"]
[]
[null,"Quantity",null,null,null,null,null,null,null,null,null,null,null,null,null,null,"Compaction",null,null,null,"Proctor Value",null,null,null,null,null,null,null,null,null,{"$f":"IF(F76=\"\",\"\",ROUND(F76,1))","v":""},{"$f":"IF(K76=\"\",\"\",ROUND(K76,2))","v":""},{"$f":"IF(Q76=\"\",\"\",ROUND(Q76,1))","v":""},{"$f":"IF(U76=\"\",\"\",ROUND(U76,1))","v":""},{"$f":"IF(AND(SUM(F76,K76,F78,K78,K77,F77)>0,$AD$7=\"ok\"),\"Y\",\"N\")","v":"N"}]
[null,"Above 18\"",null,null,null,null,null,null,"CY","or",null,null,null,"Stations",null,null,null,null,null,"%",null,null,null,"lb/cf",null,null,null,null,{"$f":"IF(SUM(F76,K76)>0, IF(SUM(Q76,U76)>0,0,1),0)","v":0},null,{"$f":"IF(F77=\"\",\"\",ROUND(F77,1))","v":""},{"$f":"IF(K77=\"\",\"\",ROUND(K77,2))","v":""},{"$f":"IF(Q77=\"\",\"\",ROUND(Q77,1))","v":""},{"$f":"IF(U77=\"\",\"\",ROUND(U77,1))","v":""}]
[null,"Below 18\"",null,null,null,null,null,null,"CY","or",null,null,null,"Stations",null,null,null,null,null,"%",null,null,null,"lb/cf",null,null,null,null,{"$f":"IF(SUM(F77,K77)>0, IF(SUM(Q77,U77)>0,0,1),0)","v":0},null,{"$f":"IF(F78=\"\",\"\",ROUND(F78,1))","v":""},{"$f":"IF(K78=\"\",\"\",ROUND(K78,2))","v":""}]
[null,"Too Rocky To Test",null,null,null,null,null,null,"CY","or",null,null,null,"Stations",null,null,null,null,null,null,null,null,null,null,null,null,null,null,null,null,{"$f":"MID(AE75,9,3)","v":""},{"$f":"MID(AF75,9,3)","v":""},{"$f":"MID(AG75,9,3)","v":""},""]
[]
[]
[null,"Activity 8:"]
[]
[null,null,null,null,null,null,"Comments:"]
[]
[null,"Quantity",null,null,null,null,null,null,null,null,null,null,null,null,null,null,"Compaction",null,null,null,"Proctor Value",null,null,null,null,null,null,null,null,null,{"$f":"IF(F86=\"\",\"\",ROUND(F86,1))","v":""},{"$f":"IF(K86=\"\",\"\",ROUND(K86,2))","v":""},{"$f":"IF(Q86=\"\",\"\",ROUND(Q86,1))","v":""},{"$f":"IF(U86=\"\",\"\",ROUND(U86,1))","v":""},{"$f":"IF(AND(SUM(F86,K86,F88,K88,K87,F87)>0,$AD$7=\"ok\"),\"Y\",\"N\")","v":"N"}]
[null,"Above 18\"",null,null,null,null,null,null,"CY","or",null,null,null,"Stations",null,null,null,null,null,"%",null,null,null,"lb/cf",null,null,null,null,{"$f":"IF(SUM(F86,K86)>0, IF(SUM(Q86,U86)>0,0,1),0)","v":0},null,{"$f":"IF(F87=\"\",\"\",ROUND(F87,1))","v":""},{"$f":"IF(K87=\"\",\"\",ROUND(K87,2))","v":""},{"$f":"IF(Q87=\"\",\"\",ROUND(Q87,1))","v":""},{"$f":"IF(U87=\"\",\"\",ROUND(U87,1))","v":""}]
[null,"Below 18\"",null,null,null,null,null,null,"CY","or",null,null,null,"Stations",null,null,null,null,null,"%",null,null,null,"lb/cf",null,null,null,null,{"$f":"IF(SUM(F87,K87)>0, IF(SUM(Q87,U87)>0,0,1),0)","v":0},null,{"$f":"IF(F88=\"\",\"\",ROUND(F88,1))","v":""},{"$f":"IF(K88=\"\",\"\",ROUND(K88,2))","v":""}]
[null,"Too Rocky To Test",null,null,null,null,null,null,"CY","or",null,null,null,"Stations"]
[]
[]
[null,"Activity 9:"]
[]
[null,null,null,null,null,null,"Comments:"]
[]
[null,"Quantity",null,null,null,null,null,null,null,null,null,null,null,null,null,null,"Compaction",null,null,null,"Proctor Value",null,null,null,null,null,null,null,null,null,{"$f":"IF(F96=\"\",\"\",ROUND(F96,1))","v":""},{"$f":"IF(K96=\"\",\"\",ROUND(K96,2))","v":""},{"$f":"IF(Q96=\"\",\"\",ROUND(Q96,1))","v":""},{"$f":"IF(U96=\"\",\"\",ROUND(U96,1))","v":""},{"$f":"IF(AND(SUM(F96,K96,F98,K98,K97,F97)>0,$AD$7=\"ok\"),\"Y\",\"N\")","v":"N"}]
[null,"Above 18\"",null,null,null,null,null,null,"CY","or",null,null,null,"Stations",null,null,null,null,null,"%",null,null,null,"lb/cf",null,null,null,null,{"$f":"IF(SUM(F96,K96)>0, IF(SUM(Q96,U96)>0,0,1),0)","v":0},null,{"$f":"IF(F97=\"\",\"\",ROUND(F97,1))","v":""},{"$f":"IF(K97=\"\",\"\",ROUND(K97,2))","v":""},{"$f":"IF(Q97=\"\",\"\",ROUND(Q97,1))","v":""},{"$f":"IF(U97=\"\",\"\",ROUND(U97,1))","v":""}]
[null,"Below 18\"",null,null,null,null,null,null,"CY","or",null,null,null,"Stations",null,null,null,null,null,"%",null,null,null,"lb/cf",null,null,null,null,{"$f":"IF(SUM(F97,K97)>0, IF(SUM(Q97,U97)>0,0,1),0)","v":0},null,{"$f":"IF(F98=\"\",\"\",ROUND(F98,1))","v":""},{"$f":"IF(K98=\"\",\"\",ROUND(K98,2))","v":""}]
[null,"Too Rocky To Test",null,null,null,null,null,null,"CY","or",null,null,null,"Stations",null,null,null,null,null,null,null,null,null,null,null,null,null,null,null,null,{"$f":"MID(AE95,9,3)","v":""},{"$f":"MID(AF95,9,3)","v":""},{"$f":"MID(AG95,9,3)","v":""},""]
[]
[]
[null,"Activity 10:"]
[]
[null,null,null,null,null,null,"Comments:"]
[]
[null,"Quantity",null,null,null,null,null,null,null,null,null,null,null,null,null,null,"Compaction",null,null,null,"Proctor Value",null,null,null,null,null,null,null,null,null,{"$f":"IF(F106=\"\",\"\",ROUND(F106,1))","v":""},{"$f":"IF(K106=\"\",\"\",ROUND(K106,2))","v":""},{"$f":"IF(Q106=\"\",\"\",ROUND(Q106,1))","v":""},{"$f":"IF(U106=\"\",\"\",ROUND(U106,1))","v":""},{"$f":"IF(AND(SUM(F106,K106,F108,K108,K107,F107)>0,$AD$7=\"ok\"),\"Y\",\"N\")","v":"N"}]
[null,"Above 18\"",null,null,null,null,null,null,"CY","or",null,null,null,"Stations",null,null,null,null,null,"%",null,null,null,"lb/cf",null,null,null,null,{"$f":"IF(SUM(F106,K106)>0, IF(SUM(Q106,U106)>0,0,1),0)","v":0},null,{"$f":"IF(F107=\"\",\"\",ROUND(F107,1))","v":""},{"$f":"IF(K107=\"\",\"\",ROUND(K107,2))","v":""},{"$f":"IF(Q107=\"\",\"\",ROUND(Q107,1))","v":""},{"$f":"IF(U107=\"\",\"\",ROUND(U107,1))","v":""}]
[null,"Below 18\"",null,null,null,null,null,null,"CY","or",null,null,null,"Stations",null,null,null,null,null,"%",null,null,null,"lb/cf",null,null,null,null,{"$f":"IF(SUM(F107,K107)>0, IF(SUM(Q107,U107)>0,0,1),0)","v":0},null,{"$f":"IF(F108=\"\",\"\",ROUND(F108,1))","v":""},{"$f":"IF(K108=\"\",\"\",ROUND(K108,2))","v":""}]
[null,"Too Rocky To Test",null,null,null,null,null,null,"CY","or",null,null,null,"Stations"]
[]
[]
[null,"Activity 11:"]
[]
[null,null,null,null,null,null,"Comments:"]
[]
[null,"Quantity",null,null,null,null,null,null,null,null,null,null,null,null,null,null,"Compaction",null,null,null,"Proctor Value",null,null,null,null,null,null,null,null,null,{"$f":"IF(F116=\"\",\"\",ROUND(F116,1))","v":""},{"$f":"IF(K116=\"\",\"\",ROUND(K116,2))","v":""},{"$f":"IF(Q116=\"\",\"\",ROUND(Q116,1))","v":""},{"$f":"IF(U116=\"\",\"\",ROUND(U116,1))","v":""},{"$f":"IF(AND(SUM(F116,K116,F118,K118,K117,F117)>0,$AD$7=\"ok\"),\"Y\",\"N\")","v":"N"}]
[null,"Above 18\"",null,null,null,null,null,null,"CY","or",null,null,null,"Stations",null,null,null,null,null,"%",null,null,null,"lb/cf",null,null,null,null,{"$f":"IF(SUM(F116,K116)>0, IF(SUM(Q116,U116)>0,0,1),0)","v":0},null,{"$f":"IF(F117=\"\",\"\",ROUND(F117,1))","v":""},{"$f":"IF(K117=\"\",\"\",ROUND(K117,2))","v":""},{"$f":"IF(Q117=\"\",\"\",ROUND(Q117,1))","v":""},{"$f":"IF(U117=\"\",\"\",ROUND(U117,1))","v":""}]
[null,"Below 18\"",null,null,null,null,null,null,"CY","or",null,null,null,"Stations",null,null,null,null,null,"%",null,null,null,"lb/cf",null,null,null,null,{"$f":"IF(SUM(F117,K117)>0, IF(SUM(Q117,U117)>0,0,1),0)","v":0},null,{"$f":"IF(F118=\"\",\"\",ROUND(F118,1))","v":""},{"$f":"IF(K118=\"\",\"\",ROUND(K118,2))","v":""}]
[null,"Too Rocky To Test",null,null,null,null,null,null,"CY","or",null,null,null,"Stations",null,null,null,null,null,null,null,null,null,null,null,null,null,null,null,null,{"$f":"MID(AE115,9,3)","v":""},{"$f":"MID(AF115,9,3)","v":""},{"$f":"MID(AG115,9,3)","v":""},""]
[]
[]
[null,"Activity 12:"]
[]
[null,null,null,null,null,null,"Comments:"]
[]
[null,"Quantity",null,null,null,null,null,null,null,null,null,null,null,null,null,null,"Compaction",null,null,null,"Proctor Value",null,null,null,null,null,null,null,null,null,{"$f":"IF(F126=\"\",\"\",ROUND(F126,1))","v":""},{"$f":"IF(K126=\"\",\"\",ROUND(K126,2))","v":""},{"$f":"IF(Q126=\"\",\"\",ROUND(Q126,1))","v":""},{"$f":"IF(U126=\"\",\"\",ROUND(U126,1))","v":""},{"$f":"IF(AND(SUM(F126,K126,F128,K128,K127,F127)>0,$AD$7=\"ok\"),\"Y\",\"N\")","v":"N"}]
[null,"Above 18\"",null,null,null,null,null,null,"CY","or",null,null,null,"Stations",null,null,null,null,null,"%",null,null,null,"lb/cf",null,null,null,null,{"$f":"IF(SUM(F126,K126)>0, IF(SUM(Q126,U126)>0,0,1),0)","v":0},null,{"$f":"IF(F127=\"\",\"\",ROUND(F127,1))","v":""},{"$f":"IF(K127=\"\",\"\",ROUND(K127,2))","v":""},{"$f":"IF(Q127=\"\",\"\",ROUND(Q127,1))","v":""},{"$f":"IF(U127=\"\",\"\",ROUND(U127,1))","v":""}]
[null,"Below 18\"",null,null,null,null,null,null,"CY","or",null,null,null,"Stations",null,null,null,null,null,"%",null,null,null,"lb/cf",null,null,null,null,{"$f":"IF(SUM(F127,K127)>0, IF(SUM(Q127,U127)>0,0,1),0)","v":0},null,{"$f":"IF(F128=\"\",\"\",ROUND(F128,1))","v":""},{"$f":"IF(K128=\"\",\"\",ROUND(K128,2))","v":""}]
[null,"Too Rocky To Test",null,null,null,null,null,null,"CY","or",null,null,null,"Stations"]
[]
[]
[null,"Activity 13:"]
[]
[null,null,null,null,null,null,"Comments:"]
[]
[null,"Quantity",null,null,null,null,null,null,null,null,null,null,null,null,null,null,"Compaction",null,null,null,"Proctor Value",null,null,null,null,null,null,null,null,null,{"$f":"IF(F136=\"\",\"\",ROUND(F136,1))","v":""},{"$f":"IF(K136=\"\",\"\",ROUND(K136,2))","v":""},{"$f":"IF(Q136=\"\",\"\",ROUND(Q136,1))","v":""},{"$f":"IF(U136=\"\",\"\",ROUND(U136,1))","v":""},{"$f":"IF(AND(SUM(F136,K136,F138,K138,K137,F137)>0,$AD$7=\"ok\"),\"Y\",\"N\")","v":"N"}]
[null,"Above 18\"",null,null,null,null,null,null,"CY","or",null,null,null,"Stations",null,null,null,null,null,"%",null,null,null,"lb/cf",null,null,null,null,{"$f":"IF(SUM(F136,K136)>0, IF(SUM(Q136,U136)>0,0,1),0)","v":0},null,{"$f":"IF(F137=\"\",\"\",ROUND(F137,1))","v":""},{"$f":"IF(K137=\"\",\"\",ROUND(K137,2))","v":""},{"$f":"IF(Q137=\"\",\"\",ROUND(Q137,1))","v":""},{"$f":"IF(U137=\"\",\"\",ROUND(U137,1))","v":""}]
[null,"Below 18\"",null,null,null,null,null,null,"CY","or",null,null,null,"Stations",null,null,null,null,null,"%",null,null,null,"lb/cf",null,null,null,null,{"$f":"IF(SUM(F137,K137)>0, IF(SUM(Q137,U137)>0,0,1),0)","v":0},null,{"$f":"IF(F138=\"\",\"\",ROUND(F138,1))","v":""},{"$f":"IF(K138=\"\",\"\",ROUND(K138,2))","v":""}]
[null,"Too Rocky To Test",null,null,null,null,null,null,"CY","or",null,null,null,"Stations",null,null,null,null,null,null,null,null,null,null,null,null,null,null,null,null,{"$f":"MID(AE135,9,3)","v":""},{"$f":"MID(AF135,9,3)","v":""},{"$f":"MID(AG135,9,3)","v":""},""]
[]
[]
[null,"Activity 14:"]
[]
[null,null,null,null,null,null,"Comments:"]
[]
[null,"Quantity",null,null,null,null,null,null,null,null,null,null,null,null,null,null,"Compaction",null,null,null,"Proctor Value",null,null,null,null,null,null,null,null,null,{"$f":"IF(F146=\"\",\"\",ROUND(F146,1))","v":""},{"$f":"IF(K146=\"\",\"\",ROUND(K146,2))","v":""},{"$f":"IF(Q146=\"\",\"\",ROUND(Q146,1))","v":""},{"$f":"IF(U146=\"\",\"\",ROUND(U146,1))","v":""},{"$f":"IF(AND(SUM(F146,K146,F148,K148,K147,F147)>0,$AD$7=\"ok\"),\"Y\",\"N\")","v":"N"}]
[null,"Above 18\"",null,null,null,null,null,null,"CY","or",null,null,null,"Stations",null,null,null,null,null,"%",null,null,null,"lb/cf",null,null,null,null,{"$f":"IF(SUM(F146,K146)>0, IF(SUM(Q146,U146)>0,0,1),0)","v":0},null,{"$f":"IF(F147=\"\",\"\",ROUND(F147,1))","v":""},{"$f":"IF(K147=\"\",\"\",ROUND(K147,2))","v":""},{"$f":"IF(Q147=\"\",\"\",ROUND(Q147,1))","v":""},{"$f":"IF(U147=\"\",\"\",ROUND(U147,1))","v":""}]
[null,"Below 18\"",null,null,null,null,null,null,"CY","or",null,null,null,"Stations",null,null,null,null,null,"%",null,null,null,"lb/cf",null,null,null,null,{"$f":"IF(SUM(F147,K147)>0, IF(SUM(Q147,U147)>0,0,1),0)","v":0},null,{"$f":"IF(F148=\"\",\"\",ROUND(F148,1))","v":""},{"$f":"IF(K148=\"\",\"\",ROUND(K148,2))","v":""}]
[null,"Too Rocky To Test",null,null,null,null,null,null,"CY","or",null,null,null,"Stations"]
[]
[]
[null,"Activity 15:"]
[]
[null,null,null,null,null,null,"Comments:"]
[]
[null,"Quantity",null,null,null,null,null,null,null,null,null,null,null,null,null,null,"Compaction",null,null,null,"Proctor Value",null,null,null,null,null,null,null,null,null,{"$f":"IF(F156=\"\",\"\",ROUND(F156,1))","v":""},{"$f":"IF(K156=\"\",\"\",ROUND(K156,2))","v":""},{"$f":"IF(Q156=\"\",\"\",ROUND(Q156,1))","v":""},{"$f":"IF(U156=\"\",\"\",ROUND(U156,1))","v":""},{"$f":"IF(AND(SUM(F156,K156,F158,K158,K157,F157)>0,$AD$7=\"ok\"),\"Y\",\"N\")","v":"N"}]
[null,"Above 18\"",null,null,null,null,null,null,"CY","or",null,null,null,"Stations",null,null,null,null,null,"%",null,null,null,"lb/cf",null,null,null,null,{"$f":"IF(SUM(F156,K156)>0, IF(SUM(Q156,U156)>0,0,1),0)","v":0},null,{"$f":"IF(F157=\"\",\"\",ROUND(F157,1))","v":""},{"$f":"IF(K157=\"\",\"\",ROUND(K157,2))","v":""},{"$f":"IF(Q157=\"\",\"\",ROUND(Q157,1))","v":""},{"$f":"IF(U157=\"\",\"\",ROUND(U157,1))","v":""}]
[null,"Below 18\"",null,null,null,null,null,null,"CY","or",null,null,null,"Stations",null,null,null,null,null,"%",null,null,null,"lb/cf",null,null,null,null,{"$f":"IF(SUM(F157,K157)>0, IF(SUM(Q157,U157)>0,0,1),0)","v":0},null,{"$f":"IF(F158=\"\",\"\",ROUND(F158,1))","v":""},{"$f":"IF(K158=\"\",\"\",ROUND(K158,2))","v":""}]
[null,"Too Rocky To Test",null,null,null,null,null,null,"CY","or",null,null,null,"Stations",null,null,null,null,null,null,null,null,null,null,null,null,null,null,null,null,{"$f":"MID(AE155,9,3)","v":""},{"$f":"MID(AF155,9,3)","v":""},{"$f":"MID(AG155,9,3)","v":""},""]
[]
[]
[null,"Activity 16:"]
[]
[null,null,null,null,null,null,"Comments:"]
[]
[null,"Quantity",null,null,null,null,null,null,null,null,null,null,null,null,null,null,"Compaction",null,null,null,"Proctor Value",null,null,null,null,null,null,null,null,null,{"$f":"IF(F166=\"\",\"\",ROUND(F166,1))","v":""},{"$f":"IF(K166=\"\",\"\",ROUND(K166,2))","v":""},{"$f":"IF(Q166=\"\",\"\",ROUND(Q166,1))","v":""},{"$f":"IF(U166=\"\",\"\",ROUND(U166,1))","v":""},{"$f":"IF(AND(SUM(F166,K166,F168,K168,K167,F167)>0,$AD$7=\"ok\"),\"Y\",\"N\")","v":"N"}]
[null,"Above 18\"",null,null,null,null,null,null,"CY","or",null,null,null,"Stations",null,null,null,null,null,"%",null,null,null,"lb/cf",null,null,null,null,{"$f":"IF(SUM(F166,K166)>0, IF(SUM(Q166,U166)>0,0,1),0)","v":0},null,{"$f":"IF(F167=\"\",\"\",ROUND(F167,1))","v":""},{"$f":"IF(K167=\"\",\"\",ROUND(K167,2))","v":""},{"$f":"IF(Q167=\"\",\"\",ROUND(Q167,1))","v":""},{"$f":"IF(U167=\"\",\"\",ROUND(U167,1))","v":""}]
[null,"Below 18\"",null,null,null,null,null,null,"CY","or",null,null,null,"Stations",null,null,null,null,null,"%",null,null,null,"lb/cf",null,null,null,null,{"$f":"IF(SUM(F167,K167)>0, IF(SUM(Q167,U167)>0,0,1),0)","v":0},null,{"$f":"IF(F168=\"\",\"\",ROUND(F168,1))","v":""},{"$f":"IF(K168=\"\",\"\",ROUND(K168,2))","v":""}]
[null,"Too Rocky To Test",null,null,null,null,null,null,"CY","or",null,null,null,"Stations"]
[]
[]
[null,"Activity 17:"]
[]
[null,null,null,null,null,null,"Comments:"]
[]
[null,"Quantity",null,null,null,null,null,null,null,null,null,null,null,null,null,null,"Compaction",null,null,null,"Proctor Value",null,null,null,null,null,null,null,null,null,{"$f":"IF(F176=\"\",\"\",ROUND(F176,1))","v":""},{"$f":"IF(K176=\"\",\"\",ROUND(K176,2))","v":""},{"$f":"IF(Q176=\"\",\"\",ROUND(Q176,1))","v":""},{"$f":"IF(U176=\"\",\"\",ROUND(U176,1))","v":""},{"$f":"IF(AND(SUM(F176,K176,F178,K178,K177,F177)>0,$AD$7=\"ok\"),\"Y\",\"N\")","v":"N"}]
[null,"Above 18\"",null,null,null,null,null,null,"CY","or",null,null,null,"Stations",null,null,null,null,null,"%",null,null,null,"lb/cf",null,null,null,null,{"$f":"IF(SUM(F176,K176)>0, IF(SUM(Q176,U176)>0,0,1),0)","v":0},null,{"$f":"IF(F177=\"\",\"\",ROUND(F177,1))","v":""},{"$f":"IF(K177=\"\",\"\",ROUND(K177,2))","v":""},{"$f":"IF(Q177=\"\",\"\",ROUND(Q177,1))","v":""},{"$f":"IF(U177=\"\",\"\",ROUND(U177,1))","v":""}]
[null,"Below 18\"",null,null,null,null,null,null,"CY","or",null,null,null,"Stations",null,null,null,null,null,"%",null,null,null,"lb/cf",null,null,null,null,{"$f":"IF(SUM(F177,K177)>0, IF(SUM(Q177,U177)>0,0,1),0)","v":0},null,{"$f":"IF(F178=\"\",\"\",ROUND(F178,1))","v":""},{"$f":"IF(K178=\"\",\"\",ROUND(K178,2))","v":""}]
[null,"Too Rocky To Test",null,null,null,null,null,null,"CY","or",null,null,null,"Stations",null,null,null,null,null,null,null,null,null,null,null,null,null,null,null,null,{"$f":"MID(AE175,9,3)","v":""},{"$f":"MID(AF175,9,3)","v":""},{"$f":"MID(AG175,9,3)","v":""},""]
[]
[]
[null,"Activity 18:"]
[]
[null,null,null,null,null,null,"Comments:"]
[]
[null,"Quantity",null,null,null,null,null,null,null,null,null,null,null,null,null,null,"Compaction",null,null,null,"Proctor Value",null,null,null,null,null,null,null,null,null,{"$f":"IF(F186=\"\",\"\",ROUND(F186,1))","v":""},{"$f":"IF(K186=\"\",\"\",ROUND(K186,2))","v":""},{"$f":"IF(Q186=\"\",\"\",ROUND(Q186,1))","v":""},{"$f":"IF(U186=\"\",\"\",ROUND(U186,1))","v":""},{"$f":"IF(AND(SUM(F186,K186,F188,K188,K187,F187)>0,$AD$7=\"ok\"),\"Y\",\"N\")","v":"N"}]
[null,"Above 18\"",null,null,null,null,null,null,"CY","or",null,null,null,"Stations",null,null,null,null,null,"%",null,null,null,"lb/cf",null,null,null,null,{"$f":"IF(SUM(F186,K186)>0, IF(SUM(Q186,U186)>0,0,1),0)","v":0},null,{"$f":"IF(F187=\"\",\"\",ROUND(F187,1))","v":""},{"$f":"IF(K187=\"\",\"\",ROUND(K187,2))","v":""},{"$f":"IF(Q187=\"\",\"\",ROUND(Q187,1))","v":""},{"$f":"IF(U187=\"\",\"\",ROUND(U187,1))","v":""}]
[null,"Below 18\"",null,null,null,null,null,null,"CY","or",null,null,null,"Stations",null,null,null,null,null,"%",null,null,null,"lb/cf",null,null,null,null,{"$f":"IF(SUM(F187,K187)>0, IF(SUM(Q187,U187)>0,0,1),0)","v":0},null,{"$f":"IF(F188=\"\",\"\",ROUND(F188,1))","v":""},{"$f":"IF(K188=\"\",\"\",ROUND(K188,2))","v":""}]
[null,"Too Rocky To Test",null,null,null,null,null,null,"CY","or",null,null,null,"Stations"]
[]
[]
[null,"Activity 19:"]
[]
[null,null,null,null,null,null,"Comments:"]
[]
[null,"Quantity",null,null,null,null,null,null,null,null,null,null,null,null,null,null,"Compaction",null,null,null,"Proctor Value",null,null,null,null,null,null,null,null,null,{"$f":"IF(F196=\"\",\"\",ROUND(F196,1))","v":""},{"$f":"IF(K196=\"\",\"\",ROUND(K196,2))","v":""},{"$f":"IF(Q196=\"\",\"\",ROUND(Q196,1))","v":""},{"$f":"IF(U196=\"\",\"\",ROUND(U196,1))","v":""},{"$f":"IF(AND(SUM(F196,K196,F198,K198,K197,F197)>0,$AD$7=\"ok\"),\"Y\",\"N\")","v":"N"}]
[null,"Above 18\"",null,null,null,null,null,null,"CY","or",null,null,null,"Stations",null,null,null,null,null,"%",null,null,null,"lb/cf",null,null,null,null,{"$f":"IF(SUM(F196,K196)>0, IF(SUM(Q196,U196)>0,0,1),0)","v":0},null,{"$f":"IF(F197=\"\",\"\",ROUND(F197,1))","v":""},{"$f":"IF(K197=\"\",\"\",ROUND(K197,2))","v":""},{"$f":"IF(Q197=\"\",\"\",ROUND(Q197,1))","v":""},{"$f":"IF(U197=\"\",\"\",ROUND(U197,1))","v":""}]
[null,"Below 18\"",null,null,null,null,null,null,"CY","or",null,null,null,"Stations",null,null,null,null,null,"%",null,null,null,"lb/cf",null,null,null,null,{"$f":"IF(SUM(F197,K197)>0, IF(SUM(Q197,U197)>0,0,1),0)","v":0},null,{"$f":"IF(F198=\"\",\"\",ROUND(F198,1))","v":""},{"$f":"IF(K198=\"\",\"\",ROUND(K198,2))","v":""}]
[null,"Too Rocky To Test",null,null,null,null,null,null,"CY","or",null,null,null,"Stations",null,null,null,null,null,null,null,null,null,null,null,null,null,null,null,null,{"$f":"MID(AE195,9,3)","v":""},{"$f":"MID(AF195,9,3)","v":""},{"$f":"MID(AG195,9,3)","v":""},""]
[]
[]
[null,"Activity 20:"]
[]
[null,null,null,null,null,null,"Comments:"]
[]
[null,"Quantity",null,null,null,null,null,null,null,null,null,null,null,null,null,null,"Compaction",null,null,null,"Proctor Value",null,null,null,null,null,null,null,null,null,{"$f":"IF(F206=\"\",\"\",ROUND(F206,1))","v":""},{"$f":"IF(K206=\"\",\"\",ROUND(K206,2))","v":""},{"$f":"IF(Q206=\"\",\"\",ROUND(Q206,1))","v":""},{"$f":"IF(U206=\"\",\"\",ROUND(U206,1))","v":""},{"$f":"IF(AND(SUM(F206,K206,F208,K208,K207,F207)>0,$AD$7=\"ok\"),\"Y\",\"N\")","v":"N"}]
[null,"Above 18\"",null,null,null,null,null,null,"CY","or",null,null,null,"Stations",null,null,null,null,null,"%",null,null,null,"lb/cf",null,null,null,null,{"$f":"IF(SUM(F206,K206)>0, IF(SUM(Q206,U206)>0,0,1),0)","v":0},null,{"$f":"IF(F207=\"\",\"\",ROUND(F207,1))","v":""},{"$f":"IF(K207=\"\",\"\",ROUND(K207,2))","v":""},{"$f":"IF(Q207=\"\",\"\",ROUND(Q207,1))","v":""},{"$f":"IF(U207=\"\",\"\",ROUND(U207,1))","v":""}]
[null,"Below 18\"",null,null,null,null,null,null,"CY","or",null,null,null,"Stations",null,null,null,null,null,"%",null,null,null,"lb/cf",null,null,null,null,{"$f":"IF(SUM(F207,K207)>0, IF(SUM(Q207,U207)>0,0,1),0)","v":0},null,{"$f":"IF(F208=\"\",\"\",ROUND(F208,1))","v":""},{"$f":"IF(K208=\"\",\"\",ROUND(K208,2))","v":""}]
[null,"Too Rocky To Test",null,null,null,null,null,null,"CY","or",null,null,null,"Stations"]

{"sheet":"Test 2","index":5,"n_rows":62,"n_cols":32,"rows_kept":62,"cut":false,"hidden":false,"merged":[[0,4,1,24],[2,22,3,24],[2,4,3,6],[2,7,3,9],[2,10,3,12],[2,13,3,15],[2,16,3,18],[2,19,3,21],[17,3,17,7],[5,19,6,21],[5,22,6,24],[5,1,6,3],[5,4,6,6],[5,7,6,9],[5,10,6,12],[5,13,6,15],[5,16,6,18],[14,8,14,11],[14,14,14,23],[14,1,14,6],[17,8,17,10],[21,3,21,7],[21,20,21,24],[20,17,20,18],[21,17,21,18],[22,17,22,18],[19,8,19,10],[21,8,21,10],[20,13,20,16],[21,13,21,16],[10,1,11,8],[10,9,12,24],[12,6,12,8],[13,1,13,14],[19,13,19,16],[16,8,16,10],[16,3,16,7],[15,8,15,10],[15,3,15,7],[19,3,19,7],[19,21,19,24],[19,17,19,18],[18,1,18,6],[18,8,18,11],[38,3,38,7],[38,13,38,16],[31,1,31,6],[31,8,31,11],[31,14,31,23],[35,1,35,6],[35,8,35,11],[36,3,36,7],[36,13,36,16],[37,13,37,16],[24,13,24,16],[18,14,18,23],[34,3,34,7],[34,8,34,10],[41,13,41,16],[41,17,41,18],[40,17,40,18],[39,17,39,18],[39,13,39,16],[40,3,40,7],[40,8,40,10],[40,13,40,16],[27,1,28,8],[27,9,29,24],[29,6,29,8],[30,1,30,14],[35,14,35,23],[36,21,36,24],[36,17,36,18],[37,17,37,18],[38,17,38,18],[40,20,40,24],[38,20,38,24],[36,8,36,10],[38,8,38,10],[32,3,32,7],[32,8,32,10],[33,3,33,7],[33,8,33,10],[23,8,23,10],[23,3,23,7],[23,20,23,24],[23,17,23,18],[24,17,24,18],[23,13,23,16],[22,13,22,16]]}
[null,null,null,null,{"$f":"Main!E1","v":"AWP Contractor Reporting E2O - Earthwork Contractor QC"}]
[null,null,null,null,null,null,null,null,null,null,null,null,null,null,null,null,null,null,null,null,null,null,null,null,null,"v",{"$f":"Main!AA2","v":"5.00"}]
[null,null,null,null," ",null,null,"Main",null,null,"Quantity",null,null,null,null,null,{"$f":"Main!Q3","v":"Send/Sync"},null,null,"Reports",null,null,"Help"]
[]
[]
[null,{"$f":"Main!B6","v":"General"},null,null,{"$f":"Main!E6","v":"Free Form"},null,null,{"$f":"IF(Main!H6=\"\",\"\",Main!H6)","v":"Subgrade"},null,null,{"$f":"IF(Main!K6=\"\",\"\",Main!K6)","v":"Rock Base"},null,null,{"$f":"IF(Main!N6=\"\",\"\",Main!N6)","v":"Agg Bases"},null,null,{"$f":"IF(Main!Q6=\"\",\"\",Main!Q6)","v":"T90/T99"},null,null,{"$f":"IF(Main!T6=\"\",\"\",Main!T6)","v":"DCP"},null,null,{"$f":"IF(Main!W6=\"\",\"\",Main!W6)","v":""}]
[null,null,null,null,null,null,null,null,null,null,null,null,null,null,null,null,null,null,null,null,null,null,null,null,null,null,null,null,"Checks",{"$f":"IF(Main!AH3=\"R\",\"ok\", \"no\")","v":"no"},"Master Populate for type"]
[]
[null,{"$f":"IF(Main!AH3=\"R\", \"This tab is used to report rock base inspection and testing as outlined in Section 300.\", \"DO NOT USE this tab to report anything other than rock base\")","v":"DO NOT USE this tab to report anything other than rock base"}]
[]
[null,"Activity 1:"]
[]
[null,null,null,null,null,null,"Comments:",null,null,null,null,null,null,null,null,null,null,null,null,null,null,null,null,null,null,null,null,null,null,null,null,"Populate?"]
[null,null,null,null,null,null,null,null,null,null,null,null,null,null,null,null,null,null,null,null,null,null,null,null,null,null,null,null,null,"Y",null,{"$f":"IF(AND(SUM(I16:K18,I20,I22,I24)>0,$AD$7=\"ok\"),\"Y\", \"N\")","v":"N"}]
[null,"Bottom Material:",null,null,null,null,null,null,"Quantity",null,null,null,null,null,"Quality",null,null,null,null,null,null,null,null,null,null,null,null,null,null,"N"]
[null,null,null,"Sound Rock",null,null,null,null,null,null,null,"CY",null,null,"Met the gradation conditions in Sec 304",null,null,null,null,null,null,null,null,null,null,null,null,null,{"$f":"IF(AND(I16>0,ISBLANK(N16)),1,0)","v":0}]
[null,null,null,"Recycled Concrete",null,null,null,null,null,null,null,"CY",null,null,"Met the gradation conditions in Sec 304",null,null,null,null,null,null,null,null,null,null,null,null,null,{"$f":"IF(AND(I17>0,ISBLANK(N17)),1,0)","v":0}]
[null,null,null,"Recycled Asphalt",null,null,null,null,null,null,null,"CY",null,null,"Met the gradation conditions in Sec 304",null,null,null,null,null,null,null,null,null,null,null,null,null,{"$f":"IF(AND(I18>0,ISBLANK(N18)),1,0)","v":0}]
[null,"Topping Material:",null,null,null,null,null,null,"Quantity",null,null,null,null,null,"Quality"]
[null,null,null,"Sound Rock",null,null,null,null,null,null,null,"CY",null,"Retained on 2\"",null,null,null,null,null,"%","PI :",null,null,null,null,null,null,null,{"$f":"IF(AND(I20>0,OR(ISBLANK(R21),ISBLANK(V20),ISBLANK(R20))),1,0)","v":0},null,{"$f":"IF(ISBLANK(R20),(IF(ISBLANK(R22),(IF(ISBLANK(R24),\"\",R24)),R22)),R20)","v":""}]
[null,null,null,null,null,null,null,null,null,null,null,null,null,"Retained on #4",null,null,null,null,null,"%",null,null,null,null,null,null,null,null,null,null,{"$f":"IF(ISBLANK(R21),(IF(ISBLANK(R23),(IF(ISBLANK(R25),\"\",R25)),R23)),R21)","v":""}]
[null,null,null,"Recycled Concrete",null,null,null,null,null,null,null,"CY",null,"Retained on 2\"",null,null,null,null,null,"%","Met 1007 Gradation ?",null,null,null,null,null,null,null,{"$f":"IF(AND(I22>0,OR(ISBLANK(R23),ISBLANK(Z22),ISBLANK(R22))),1,0)","v":0}]
[null,null,null,null,null,null,null,null,null,null,null,null,null,"Retained on #4",null,null,null,null,null,"%"]
[null,null,null,"Recycled Asphalt",null,null,null,null,null,null,null,"CY",null,"Retained on 2\"",null,null,null,null,null,"%","Met 1007 Gradation ?",null,null,null,null,null,null,null,{"$f":"IF(AND(I24>0,OR(ISBLANK(R25),ISBLANK(Z24),ISBLANK(R24))),1,0)","v":0}]
[null,null,null,null,null,null,null,null,null,null,null,null,null,"Retained on #4",null,null,null,null,null,"%"]
[]
[]
[null,"Activity 2:"]
[]
[null,null,null,null,null,null,"Comments:"]
[null,null,null,null,null,null,null,null,null,null,null,null,null,null,null,null,null,null,null,null,null,null,null,null,null,null,null,null,null,null,null,{"$f":"IF(AND(SUM(I33:K35,I37,I39,I41)>0,$AD$7=\"ok\"),\"Y\", \"N\")","v":"N"}]
[null,"Bottom Material:",null,null,null,null,null,null,"Quantity",null,null,null,null,null,"Quality"]
[null,null,null,"Sound Rock",null,null,null,null,null,null,null,"CY",null,null,"Met the gradation conditions in Sec 304",null,null,null,null,null,null,null,null,null,null,null,null,null,{"$f":"IF(AND(I33>0,ISBLANK(N33)),1,0)","v":0}]
[null,null,null,"Recycled Concrete",null,null,null,null,null,null,null,"CY",null,null,"Met the gradation conditions in Sec 304",null,null,null,null,null,null,null,null,null,null,null,null,null,{"$f":"IF(AND(I34>0,ISBLANK(N34)),1,0)","v":0}]
[null,null,null,"Recycled Asphalt",null,null,null,null,null,null,null,"CY",null,null,"Met the gradation conditions in Sec 304",null,null,null,null,null,null,null,null,null,null,null,null,null,{"$f":"IF(AND(I35>0,ISBLANK(N35)),1,0)","v":0}]
[null,"Topping Material:",null,null,null,null,null,null,"Quantity",null,null,null,null,null,"Quality"]
[null,null,null,"Sound Rock",null,null,null,null,null,null,null,"CY",null,"Retained on 2\"",null,null,null,null,null,"%","PI :",null,null,null,null,null,null,null,{"$f":"IF(AND(I37>0,OR(ISBLANK(R38),ISBLANK(V37),ISBLANK(R37))),1,0)","v":0},null,{"$f":"IF(ISBLANK(R37),(IF(ISBLANK(R39),(IF(ISBLANK(R41),\"\",R41)),R39)),R37)","v":""}]
[null,null,null,null,null,null,null,null,null,null,null,null,null,"Retained on #4",null,null,null,null,null,"%",null,null,null,null,null,null,null,null,null,null,{"$f":"IF(ISBLANK(R38),(IF(ISBLANK(R40),(IF(ISBLANK(R42),\"\",R42)),R40)),R38)","v":""}]
[null,null,null,"Recycled Concrete",null,null,null,null,null,null,null,"CY",null,"Retained on 2\"",null,null,null,null,null,"%","Met 1007 Gradation ?",null,null,null,null,null,null,null,{"$f":"IF(AND(I39>0,OR(ISBLANK(R40),ISBLANK(Z39),ISBLANK(R39))),1,0)","v":0}]
[null,null,null,null,null,null,null,null,null,null,null,null,null,"Retained on #4",null,null,null,null,null,"%"]
[null,null,null,"Recycled Asphalt",null,null,null,null,null,null,null,"CY",null,"Retained on 2\"",null,null,null,null,null,"%","Met 1007 Gradation ?",null,null,null,null,null,null,null,{"$f":"IF(AND(I41>0,OR(ISBLANK(R42),ISBLANK(Z41),ISBLANK(R41))),1,0)","v":0}]
[null,null,null,null,null,null,null,null,null,null,null,null,null,"Retained on #4",null,null,null,null,null,"%"]
[]
[]
[]
[]
[]
[]
[]
[]
[]
[]
[]
[]
[]
[]
[]
[]
[]
[]
[null,null,null,null,null,null,null,null,null,null,null,null,null,null,null,null,null,null,null,null,null,null,null,null,null,null,null,null,"Final error check total:"]
[null,null,null,null,null,null,null,null,null,null,null,null,null,null,null,null,null,null,null,null,null,null,null,null,null,null,null,null,{"$f":"IF($AD$7=\"ok\",SUM(AC19:AC20,AC37:AC41,AC42:AC46),0)","v":0}]

{"sheet":"Test 3","index":6,"n_rows":63,"n_cols":34,"rows_kept":63,"cut":false,"hidden":false,"merged":[[0,4,1,24],[10,11,10,12],[10,1,11,5],[15,10,15,13],[12,4,12,6],[12,14,12,18],[16,13,16,16],[14,9,14,10],[17,13,17,16],[16,6,16,8],[17,6,17,8],[13,17,13,18],[14,17,14,18],[13,2,13,8],[13,9,13,10],[14,4,14,8],[13,12,13,16],[14,12,14,16],[17,2,17,3],[2,22,3,24],[2,4,3,6],[2,7,3,9],[2,10,3,12],[2,13,3,15],[2,16,3,18],[2,19,3,21],[5,19,6,21],[5,22,6,24],[5,1,6,3],[5,4,6,6],[5,7,6,9],[5,10,6,12],[5,13,6,15],[5,16,6,18],[10,6,10,7],[10,8,10,9],[10,13,10,14],[10,15,10,20],[11,6,11,11],[11,12,11,20],[21,4,21,6],[21,14,21,18],[22,2,22,8],[22,9,22,10],[22,12,22,16],[22,17,22,18],[19,1,20,5],[19,6,19,7],[19,8,19,9],[19,11,19,12],[19,13,19,14],[19,15,19,20],[20,6,20,11],[20,12,20,20],[16,9,16,10],[17,9,17,10],[16,17,16,18],[17,17,17,18],[23,4,23,8],[23,12,23,16],[23,17,23,18],[23,9,23,10],[24,10,24,13],[25,6,25,8],[25,13,25,16],[26,2,26,3],[26,6,26,8],[26,13,26,16],[28,1,29,5],[28,6,28,7],[28,8,28,9],[28,11,28,12],[28,13,28,14],[28,15,28,20],[29,6,29,11],[25,17,25,18],[26,17,26,18],[25,9,25,10],[26,9,26,10],[29,12,29,20],[30,4,30,6],[30,14,30,18],[31,2,31,8],[31,9,31,10],[31,12,31,16],[31,17,31,18],[32,4,32,8],[32,12,32,16],[32,17,32,18],[33,10,33,13],[34,6,34,8],[34,13,34,16],[32,9,32,10],[34,9,34,10],[35,2,35,3],[35,6,35,8],[35,13,35,16],[37,1,38,5],[37,6,37,7],[37,8,37,9],[37,11,37,12],[37,13,37,14],[37,15,37,20],[38,6,38,11],[38,12,38,20],[35,9,35,10],[34,17,34,18],[35,17,35,18],[39,4,39,6],[39,14,39,18],[40,2,40,8],[40,9,40,10],[40,12,40,16],[40,17,40,18],[41,4,41,8],[41,12,41,16],[41,17,41,18],[41,9,41,10],[42,10,42,13],[43,6,43,8],[43,13,43,16],[43,17,43,18],[44,2,44,3],[44,6,44,8],[44,13,44,16],[46,1,47,5],[46,6,46,7],[46,8,46,9],[46,11,46,12],[46,13,46,14],[46,15,46,20],[47,6,47,11],[47,12,47,20],[44,17,44,18],[43,9,43,10],[44,9,44,10],[48,4,48,6],[48,14,48,18],[49,2,49,8],[49,9,49,10],[49,12,49,16],[49,17,49,18],[53,2,53,3],[53,6,53,8],[53,13,53,16],[50,4,50,8],[50,12,50,16],[50,17,50,18],[51,10,51,13],[52,6,52,8],[52,13,52,16],[50,9,50,10],[52,17,52,18],[53,17,53,18],[52,9,52,10],[53,9,53,10]]}
[null,null,null,null,{"$f":"Main!E1","v":"AWP Contractor Reporting E2O - Earthwork Contractor QC"}]
[null,null,null,null,null,null,null,null,null,null,null,null,null,null,null,null,null,null,null,null,null,null,null,null,null,"v",{"$f":"Main!AA2","v":"5.00"}]
[null,null,null,null," ",null,null,"Main",null,null,"Quantity",null,null,null,null,null,{"$f":"Main!Q3","v":"Send/Sync"},null,null,"Reports",null,null,"Help"]
[]
[]
[null,{"$f":"Main!B6","v":"General"},null,null,{"$f":"Main!E6","v":"Free Form"},null,null,{"$f":"IF(Main!H6=\"\",\"\",Main!H6)","v":"Subgrade"},null,null,{"$f":"IF(Main!K6=\"\",\"\",Main!K6)","v":"Rock Base"},null,null,{"$f":"IF(Main!N6=\"\",\"\",Main!N6)","v":"Agg Bases"},null,null,{"$f":"IF(Main!Q6=\"\",\"\",Main!Q6)","v":"T90/T99"},null,null,{"$f":"IF(Main!T6=\"\",\"\",Main!T6)","v":"DCP"},null,null,{"$f":"IF(Main!W6=\"\",\"\",Main!W6)","v":""},null,null,null,null,null,null,{"$f":"IF(Main!AI3=\"G\",\"ok\", \"no\")","v":"no"},"Master Populate for type"]
[]
[]
[null,{"$f":"IF(Main!AI3=\"G\", \"This tab is used to report aggregate base inspection and testing as outlined in Section 300.\", \"DO NOT USE this tab to report anything other than aggregate base\")","v":"DO NOT USE this tab to report anything other than aggregate base"}]
[]
[null,"Activity 1:",null,null,null,null,"Station:",null,null,null,"+",null,null,"Testor:"]
[null,null,null,null,null,null,"Location L/R of Centerline:"]
[null,null,null,null,"Thickness ",null,null,null,null,null,null,null,null,null,"Compaction Standard",null,null,null,null,null,null,null,null,null,null,null,null,null,null,null,"rounding",null,null,"populate"]
[null,null,"Layer Thickness Measurement:",null,null,null,null,null,null,null,null,"in","Maximum Density:",null,null,null,null,null,null,"lb/cf",null,null,null,null,null,null,null,null,null,null,null,{"$f":"IF(J14=\"\",\"\",ROUND(J14,1))","v":""},null,{"$f":"IF(AND(R17>0,$AD$6=\"OK\"), \"Y\", \"N\")","v":"N"}]
[null,null,null,null,"Thickness Specified:",null,null,null,null,null,null,"in","Optimum Moisture:",null,null,null,null,null,null,"%",null,null,null,null,null,null,null,null,null,null,null,{"$f":"IF(J15=\"\",\"\",ROUND(J15,1))","v":""},{"$f":"IF(R15=\"\",\"\",ROUND(R15,1))","v":""}]
[null,null,null,null,null,null,null,null,null,null,"Density Testing"]
[null,null,"Testing Depth: ",null,null,null,"Dry Density:",null,null,null,null,"lb/cf",null,"%Compaction:",null,null,null,null,null,"%",null,null,null,null,null,null,null,null,{"$f":"IF(AND(R17>0,OR(ISBLANK(R14),ISBLANK(R15),ISBLANK(R18))),1,0)","v":0},null,null,{"$f":"IF(J17=\"\",\"\",ROUND(J17,1))","v":""},{"$f":"IF(R17=\"\",\"\",ROUND(R17,1))","v":""}]
[null,null,null,null,"in.",null,"Wet Density:",null,null,null,null,"lb/cf",null,"Moisture:",null,null,null,null,null,"%",null,null,null,null,null,null,null,null,null,null,{"$f":"IF(C18=\"\",\"\",ROUND(C18,1))","v":""},{"$f":"IF(J18=\"\",\"\",ROUND(J18,1))","v":""},{"$f":"IF(R18=\"\",\"\",ROUND(R18,1))","v":""}]
[]
[null,"Activity 2:",null,null,null,null,"Station:",null,null,null,"+",null,null,"Testor:"]
[null,null,null,null,null,null,"Location L/R of Centerline:"]
[null,null,null,null,"Thickness ",null,null,null,null,null,null,null,null,null,"Compaction Standard"]
[null,null,"Layer Thickness Measurement:",null,null,null,null,null,null,null,null,"in","Maximum Density:",null,null,null,null,null,null,"lb/cf",null,null,null,null,null,null,null,null,null,null,null,{"$f":"IF(J23=\"\",\"\",ROUND(J23,1))","v":""},null,{"$f":"IF(AND(R26>0,$AD$6=\"OK\"), \"Y\", \"N\")","v":"N"}]
[null,null,null,null,"Thickness Specified:",null,null,null,null,null,null,"in","Optimum Moisture:",null,null,null,null,null,null,"%",null,null,null,null,null,null,null,null,null,null,null,{"$f":"IF(J24=\"\",\"\",ROUND(J24,1))","v":""},{"$f":"IF(R24=\"\",\"\",ROUND(R24,1))","v":""}]
[null,null,null,null,null,null,null,null,null,null,"Density Testing"]
[null,null,"Testing Depth: ",null,null,null,"Dry Density:",null,null,null,null,"lb/cf",null,"%Compaction:",null,null,null,null,null,"%",null,null,null,null,null,null,null,null,{"$f":"IF(AND(R26>0,OR(ISBLANK(R23),ISBLANK(R24),ISBLANK(R27))),1,0)","v":0},null,null,{"$f":"IF(J26=\"\",\"\",ROUND(J26,1))","v":""},{"$f":"IF(R26=\"\",\"\",ROUND(R26,1))","v":""}]
[null,null,null,null,"in.",null,"Wet Density:",null,null,null,null,"lb/cf",null,"Moisture:",null,null,null,null,null,"%",null,null,null,null,null,null,null,null,null,null,{"$f":"IF(C27=\"\",\"\",ROUND(C27,1))","v":""},{"$f":"IF(J27=\"\",\"\",ROUND(J27,1))","v":""},{"$f":"IF(R27=\"\",\"\",ROUND(R27,1))","v":""}]
[]
[null,"Activity 3:",null,null,null,null,"Station:",null,null,null,"+",null,null,"Testor:"]
[null,null,null,null,null,null,"Location L/R of Centerline:"]
[null,null,null,null,"Thickness ",null,null,null,null,null,null,null,null,null,"Compaction Standard"]
[null,null,"Layer Thickness Measurement:",null,null,null,null,null,null,null,null,"in","Maximum Density:",null,null,null,null,null,null,"lb/cf",null,null,null,null,null,null,null,null,null,null,null,{"$f":"IF(J32=\"\",\"\",ROUND(J32,1))","v":""},null,{"$f":"IF(AND(R35>0,$AD$6=\"OK\"), \"Y\", \"N\")","v":"N"}]
[null,null,null,null,"Thickness Specified:",null,null,null,null,null,null,"in","Optimum Moisture:",null,null,null,null,null,null,"%",null,null,null,null,null,null,null,null,null,null,null,{"$f":"IF(J33=\"\",\"\",ROUND(J33,1))","v":""},{"$f":"IF(R33=\"\",\"\",ROUND(R33,1))","v":""}]
[null,null,null,null,null,null,null,null,null,null,"Density Testing"]
[null,null,"Testing Depth: ",null,null,null,"Dry Density:",null,null,null,null,"lb/cf",null,"%Compaction:",null,null,null,null,null,"%",null,null,null,null,null,null,null,null,{"$f":"IF(AND(R35>0,OR(ISBLANK(R32),ISBLANK(R33),ISBLANK(R36))),1,0)","v":0},null,null,{"$f":"IF(J35=\"\",\"\",ROUND(J35,1))","v":""},{"$f":"IF(R35=\"\",\"\",ROUND(R35,1))","v":""}]
[null,null,null,null,"in.",null,"Wet Density:",null,null,null,null,"lb/cf",null,"Moisture:",null,null,null,null,null,"%",null,null,null,null,null,null,null,null,null,null,{"$f":"IF(C36=\"\",\"\",ROUND(C36,1))","v":""},{"$f":"IF(J36=\"\",\"\",ROUND(J36,1))","v":""},{"$f":"IF(R36=\"\",\"\",ROUND(R36,1))","v":""}]
[]
[null,"Activity 4:",null,null,null,null,"Station:",null,null,null,"+",null,null,"Testor:"]
[null,null,null,null,null,null,"Location L/R of Centerline:"]
[null,null,null,null,"Thickness ",null,null,null,null,null,null,null,null,null,"Compaction Standard"]
[null,null,"Layer Thickness Measurement:",null,null,null,null,null,null,null,null,"in","Maximum Density:",null,null,null,null,null,null,"lb/cf",null,null,null,null,null,null,null,null,null,null,null,{"$f":"IF(J41=\"\",\"\",ROUND(J41,1))","v":""},null,{"$f":"IF(AND(R44>0,$AD$6=\"OK\"), \"Y\", \"N\")","v":"N"}]
[null,null,null,null,"Thickness Specified:",null,null,null,null,null,null,"in","Optimum Moisture:",null,null,null,null,null,null,"%",null,null,null,null,null,null,null,null,null,null,null,{"$f":"IF(J42=\"\",\"\",ROUND(J42,1))","v":""},{"$f":"IF(R42=\"\",\"\",ROUND(R42,1))","v":""}]
[null,null,null,null,null,null,null,null,null,null,"Density Testing"]
[null,null,"Testing Depth: ",null,null,null,"Dry Density:",null,null,null,null,"lb/cf",null,"%Compaction:",null,null,null,null,null,"%",null,null,null,null,null,null,null,null,{"$f":"IF(AND(R44>0,OR(ISBLANK(R41),ISBLANK(R42),ISBLANK(R45))),1,0)","v":0},null,null,{"$f":"IF(J44=\"\",\"\",ROUND(J44,1))","v":""},{"$f":"IF(R44=\"\",\"\",ROUND(R44,1))","v":""}]
[null,null,null,null,"in.",null,"Wet Density:",null,null,null,null,"lb/cf",null,"Moisture:",null,null,null,null,null,"%",null,null,null,null,null,null,null,null,null,null,{"$f":"IF(C45=\"\",\"\",ROUND(C45,1))","v":""},{"$f":"IF(J45=\"\",\"\",ROUND(J45,1))","v":""},{"$f":"IF(R45=\"\",\"\",ROUND(R45,1))","v":""}]
[]
[null,"Activity 5:",null,null,null,null,"Station:",null,null,null,"+",null,null,"Testor:"]
[null,null,null,null,null,null,"Location L/R of Centerline:"]
[null,null,null,null,"Thickness ",null,null,null,null,null,null,null,null,null,"Compaction Standard"]
[null,null,"Layer Thickness Measurement:",null,null,null,null,null,null,null,null,"in","Maximum Density:",null,null,null,null,null,null,"lb/cf",null,null,null,null,null,null,null,null,null,null,null,{"$f":"IF(J50=\"\",\"\",ROUND(J50,1))","v":""},null,{"$f":"IF(AND(R53>0,$AD$6=\"OK\"), \"Y\", \"N\")","v":"N"}]
[null,null,null,null,"Thickness Specified:",null,null,null,null,null,null,"in","Optimum Moisture:",null,null,null,null,null,null,"%",null,null,null,null,null,null,null,null,null,null,null,{"$f":"IF(J51=\"\",\"\",ROUND(J51,1))","v":""},{"$f":"IF(R51=\"\",\"\",ROUND(R51,1))","v":""}]
[null,null,null,null,null,null,null,null,null,null,"Density Testing"]
[null,null,"Testing Depth: ",null,null,null,"Dry Density:",null,null,null,null,"lb/cf",null,"%Compaction:",null,null,null,null,null,"%",null,null,null,null,null,null,null,null,{"$f":"IF(AND(R53>0,OR(ISBLANK(R50),ISBLANK(R51),ISBLANK(R54))),1,0)","v":0},null,null,{"$f":"IF(J53=\"\",\"\",ROUND(J53,1))","v":""},{"$f":"IF(R53=\"\",\"\",ROUND(R53,1))","v":""}]
[null,null,null,null,"in.",null,"Wet Density:",null,null,null,null,"lb/cf",null,"Moisture:",null,null,null,null,null,"%",null,null,null,null,null,null,null,null,null,null,{"$f":"IF(C54=\"\",\"\",ROUND(C54,1))","v":""},{"$f":"IF(J54=\"\",\"\",ROUND(J54,1))","v":""},{"$f":"IF(R54=\"\",\"\",ROUND(R54,1))","v":""}]
[]
[]
[null,"*note that this record only covers the construction aspect of placing aggregate bases. "]
[null,null,"An additional record covering the Section 1000 quality requirements may be required."]
[]
[]
[]
[null,null,null,null,null,null,null,null,null,null,null,null,null,null,null,null,null,null,null,null,null,null,null,null,null,null,null,null,"Final error check total:"]
[null,null,null,null,null,null,null,null,null,null,null,null,null,null,null,null,null,null,null,null,null,null,null,null,null,null,null,null,{"$f":"IF($AD$6=\"ok\",SUM(AC16:AC26,AC34:AC38,AC43:AC54),0)","v":0}]

{"sheet":"Test 4","index":7,"n_rows":26,"n_cols":35,"rows_kept":26,"cut":false,"hidden":false,"merged":[[0,4,1,24],[2,22,3,24],[2,4,3,6],[2,7,3,9],[2,10,3,12],[2,13,3,15],[2,16,3,18],[2,19,3,21],[5,19,6,21],[5,22,6,24],[5,1,6,3],[5,4,6,6],[5,7,6,9],[5,10,6,12],[5,13,6,15],[5,16,6,18],[11,2,11,4],[11,6,11,8],[12,2,12,4],[12,6,12,8],[18,15,18,21],[25,8,25,10],[18,2,18,8],[21,2,21,4],[23,2,23,4],[25,2,25,4],[23,8,23,10],[21,8,21,10],[21,15,21,17],[21,21,21,23],[23,15,23,17],[23,21,23,23],[25,15,25,17],[25,21,25,23]]}
[null,null,null,null,{"$f":"Main!E1","v":"AWP Contractor Reporting E2O - Earthwork Contractor QC"}]
[null,null,null,null,null,null,null,null,null,null,null,null,null,null,null,null,null,null,null,null,null,null,null,null,null,"v",{"$f":"Main!AA2","v":"5.00"}]
[null,null,null,null," ",null,null,"Main",null,null,"Quantity",null,null,null,null,null,{"$f":"Main!Q3","v":"Send/Sync"},null,null,"Reports",null,null,"Help"]
[]
[]
[null,{"$f":"Main!B6","v":"General"},null,null,{"$f":"Main!E6","v":"Free Form"},null,null,{"$f":"IF(Main!H6=\"\",\"\",Main!H6)","v":"Subgrade"},null,null,{"$f":"IF(Main!K6=\"\",\"\",Main!K6)","v":"Rock Base"},null,null,{"$f":"IF(Main!N6=\"\",\"\",Main!N6)","v":"Agg Bases"},null,null,{"$f":"IF(Main!Q6=\"\",\"\",Main!Q6)","v":"T90/T99"},null,null,{"$f":"IF(Main!T6=\"\",\"\",Main!T6)","v":"DCP"},null,null,{"$f":"IF(Main!W6=\"\",\"\",Main!W6)","v":""}]
[null,null,null,null,null,null,null,null,null,null,null,null,null,null,null,null,null,null,null,null,null,null,null,null,null,null,null,null,null,{"$f":"IF(OR(Main!AG3=\"S\",Main!AI3=\"G\"),\"ok\", \"no\")","v":"ok"},"master populate for type"]
[]
[null,{"$f":"IF(OR(Main!AG3=\"S\",Main!AI3=\"G\"),\"This tab is used to report subgrade/agg base PI and Compaction Tests\",\"DO NOT USE this tab to report anything other than subgrade/agg base PI and Compaction Results\")","v":"This tab is used to report subgrade/agg base PI and Compaction Tests"}]
[null,null,null,null,null,null,null,null,null,null,null,null,null,null,null,null,null,null,null,null,null,null,null,null,null,null,null,null,null,null,null,null,null,"Populate?"]
["Plasticity Index",null,null,null,null,null,null,null,null,null,null,null,null,null,null,null,null,null,null,null,null,null,null,null,null,null,null,null,null,null,null,null,null,"PI #1","PI #2"]
[null,null,"(1)",null,null,null,"(2)",null,null,null,null,null,null,null,null,null,null,null,null,null,null,null,null,null,null,null,null,null,null,null,null,null,null,{"$f":"IF(AND(NOT(ISBLANK(C13)),$AD$7=\"ok\"),\"Y\",\"N\")","v":"N"},{"$f":"IF(AND(NOT(ISBLANK(G13)),$AD$7=\"ok\"),\"Y\",\"N\")","v":"N"}]
["PI",null,null,null,null,"%",null,null,null,"%"]
[null,"Note:  Enter \"NP\" for non plastic material",null,null,null,null,null,null,null,null,null,null,null,null,null,null,null,null,null,null,null,null,null,null,null,null,null,null,null,null,"A-Soil Standard 4''"]
[null,null,null,null,null,null,null,null,null,null,null,null,null,null,null,null,null,null,null,null,null,null,null,null,null,null,null,null,null,null,"B-Soil Standard 6''"]
["Compaction",null,null,null,null,null,null,null,null,null,null,null,null,null,null,null,null,null,null,null,null,null,null,null,null,null,null,null,null,"Yes","C-Base Standard 4''"]
[null," ",null,null,"(1)",null,null,null,null,null,null,null,null,null," ",null,null,"(2)",null,null,null,null,null,null,null,null,null,null,null,"No","D-Base Standard 6''"]
[null," ","AASHTO T99 Method",null,null,null,null,null,null,null,null,null,null,null,null,"AASHTO T99 Method",null,null,null,null,null,null,null,null,null,null,null,null,null,null,"Unspecified"]
[null," ",null,null,null,null,null,null,null,null,null,null,null,null,null,null,null,null,null,null,null,null,null,null,null,null,null,null,null,null,"rounding",null,null,"T99 #1","T99 #2"]
[null,null,"AASHTO T224",null,null,null,null,"Too Many Oversized",null,null,null,null,null,null,null,"AASHTO T224",null,null,null,null,"Too Many Oversized",null,null,null,null,null,null,null,null,null,{"$f":"IF(C22=AD16,\"True\",\"False\")","v":"False"},{"$f":"IF(P22=AD16,\"True\",\"False\")","v":"False"},null,{"$f":"IF(OR(I22=\"Yes\",(AND(NOT(ISBLANK(I24)),NOT(ISBLANK(I26)),NOT(ISBLANK(C19)),$AD$7=\"ok\"))),\"Y\",\"N\")","v":"N"},{"$f":"IF(OR(V22=\"Yes\",(AND(NOT(ISBLANK(V24)),NOT(ISBLANK(V26)),NOT(ISBLANK(P19)),$AD$7=\"ok\"))),\"Y\",\"N\")","v":"N"}]
[null,null,"Correction Applied?",null,null,null,null,"Particles to Test?",null,null,null,null,null,null,null,"Correction Applied?",null,null,null,null,"Particles to Test?",null,null,null,null,null,null,null,null,null,{"$f":"IF(I22=AD16,\"True\",\"False\")","v":"False"},{"$f":"IF(V22=AD16,\"True\",\"False\")","v":"False"}]
[null,null,null,null,null,null,null,null,null,null,null,null,null,null,null,null,null,null,null,null,null,null,null,null,null,null,null,null,null,null,{"$f":"IF(C24=\"\",\"\",ROUND(C24,1))","v":""},{"$f":"IF(P24=\"\",\"\",ROUND(P24,1))","v":""}]
["Retained",null,null,null,null,null,null,"Maximum ",null,null,null,null,null,"Retained",null,null,null,null,null,null,"Maximum ",null,null,null,null,null,null,null,null,null,{"$f":"IF(C26=\"\",\"\",ROUND(C26,1))","v":""},{"$f":"IF(P26=\"\",\"\",ROUND(P26,1))","v":""}]
[null," on 3/4\":",null,null,null,"%",null,"Density:",null,null,null,"lb/cf",null,null," on 3/4\":",null,null,null,"%",null,"Density:",null,null,null,"lb/cf"]
["Retained",null,null,null,null,null,null,"Optimum",null,null,null,null,null,"Retained",null,null,null,null,null,null,"Optimum"]
[null,"on #4:",null,null,null,"%",null,"Moisture:",null,null,null,"%",null,null,"on #4:",null,null,null,"%",null,"Moisture:",null,null,null,"%"]

{"sheet":"Test 5","index":8,"n_rows":182,"n_cols":35,"rows_kept":182,"cut":false,"hidden":false,"merged":[[12,4,12,5],[12,7,12,8],[14,15,14,16],[14,17,14,22],[10,14,11,18],[12,17,12,18],[12,20,12,21],[16,2,16,10],[14,2,14,3],[14,4,14,9],[15,2,15,7],[10,1,11,5],[62,15,62,17],[62,18,62,20],[62,21,62,23],[60,15,60,17],[60,18,60,20],[60,21,60,23],[61,15,61,17],[61,18,61,20],[61,21,61,23],[58,15,58,17],[58,18,58,20],[58,21,58,23],[59,15,59,17],[59,18,59,20],[59,21,59,23],[57,15,57,17],[57,18,57,20],[57,21,57,23],[41,2,41,4],[41,5,41,7],[41,8,41,10],[42,2,42,4],[42,5,42,7],[42,8,42,10],[39,2,39,4],[39,5,39,7],[39,8,39,10],[40,2,40,4],[40,5,40,7],[40,8,40,10],[37,2,37,4],[37,5,37,7],[37,8,37,10],[38,2,38,4],[38,5,38,7],[38,8,38,10],[35,2,35,4],[35,5,35,7],[35,8,35,10],[36,2,36,4],[36,5,36,7],[36,8,36,10],[33,2,33,4],[33,5,33,7],[33,8,33,10],[34,2,34,4],[34,5,34,7],[34,8,34,10],[31,2,31,4],[31,5,31,7],[31,8,31,10],[32,2,32,4],[32,5,32,7],[32,8,32,10],[29,2,29,4],[29,5,29,7],[29,8,29,10],[30,2,30,4],[30,5,30,7],[30,8,30,10],[26,2,26,4],[26,5,26,7],[26,8,26,10],[27,2,27,4],[27,5,27,7],[27,8,27,10],[28,2,28,4],[28,5,28,7],[28,8,28,10],[24,2,24,4],[24,5,24,7],[24,8,24,10],[25,2,25,4],[25,5,25,7],[25,8,25,10],[20,9,20,10],[23,2,23,4],[23,5,23,7],[23,8,23,10],[17,4,17,6],[18,2,18,8],[18,9,18,10],[19,4,19,8],[19,9,19,10],[2,22,3,24],[5,19,6,21],[5,22,6,24],[5,16,6,18],[2,4,3,6],[2,7,3,9],[2,10,3,12],[2,13,3,15],[2,16,3,18],[2,19,3,21],[5,1,6,3],[5,4,6,6],[5,7,6,9],[5,10,6,12],[5,13,6,15],[12,15,12,16],[15,15,15,20],[16,15,16,23],[12,2,12,3],[17,17,17,19],[18,15,18,21],[18,22,18,23],[19,17,19,21],[19,22,19,23],[20,22,20,23],[23,15,23,17],[23,18,23,20],[23,21,23,23],[24,15,24,17],[24,18,24,20],[24,21,24,23],[25,15,25,17],[25,18,25,20],[25,21,25,23],[26,15,26,17],[26,18,26,20],[26,21,26,23],[27,15,27,17],[27,18,27,20],[27,21,27,23],[28,15,28,17],[28,18,28,20],[28,21,28,23],[29,15,29,17],[29,18,29,20],[29,21,29,23],[30,15,30,17],[30,18,30,20],[30,21,30,23],[31,15,31,17],[31,18,31,20],[31,21,31,23],[32,15,32,17],[32,18,32,20],[32,21,32,23],[33,15,33,17],[33,18,33,20],[33,21,33,23],[34,15,34,17],[34,18,34,20],[34,21,34,23],[35,15,35,17],[35,18,35,20],[35,21,35,23],[36,15,36,17],[36,18,36,20],[36,21,36,23],[37,15,37,17],[37,18,37,20],[37,21,37,23],[38,15,38,17],[38,18,38,20],[38,21,38,23],[39,15,39,17],[39,18,39,20],[39,21,39,23],[40,15,40,17],[40,18,40,20],[40,21,40,23],[41,15,41,17],[41,18,41,20],[41,21,41,23],[42,21,42,23],[44,1,45,5],[44,14,45,18],[46,2,46,3],[46,4,46,5],[46,7,46,8],[46,15,46,16],[46,17,46,18],[46,20,46,21],[48,2,48,3],[48,4,48,9],[48,15,48,16],[48,17,48,22],[49,2,49,7],[49,15,49,20],[50,2,50,10],[50,15,50,23],[51,4,51,6],[51,17,51,19],[52,2,52,8],[52,9,52,10],[52,15,52,21],[52,22,52,23],[53,4,53,8],[53,9,53,10],[53,17,53,21],[53,22,53,23],[54,9,54,10],[54,22,54,23],[57,2,57,4],[57,5,57,7],[57,8,57,10],[58,2,58,4],[58,5,58,7],[58,8,58,10],[59,2,59,4],[59,5,59,7],[59,8,59,10],[60,2,60,4],[60,5,60,7],[60,8,60,10],[61,2,61,4],[61,5,61,7],[61,8,61,10],[62,2,62,4],[62,5,62,7],[62,8,62,10],[63,2,63,4],[63,5,63,7],[63,8,63,10],[63,15,63,17],[63,18,63,20],[63,21,63,23],[64,2,64,4],[64,5,64,7],[64,8,64,10],[64,15,64,17],[64,18,64,20],[64,21,64,23],[65,2,65,4],[65,5,65,7],[65,8,65,10],[65,15,65,17],[65,18,65,20],[65,21,65,23],[66,2,66,4],[66,5,66,7],[66,8,66,10],[66,15,66,17],[66,18,66,20],[66,21,66,23],[66,11,66,12],[67,2,67,4],[67,5,67,7],[67,8,67,10],[67,15,67,17],[67,18,67,20],[67,21,67,23],[68,2,68,4],[68,5,68,7],[68,8,68,10],[68,15,68,17],[68,18,68,20],[68,21,68,23],[67,11,67,12],[68,11,68,12],[69,2,69,4],[69,5,69,7],[69,8,69,10],[69,15,69,17],[69,18,69,20],[69,21,69,23],[70,2,70,4],[70,5,70,7],[70,8,70,10],[70,15,70,17],[70,18,70,20],[70,21,70,23],[69,11,69,12],[70,11,70,12],[71,2,71,4],[71,5,71,7],[71,8,71,10],[71,15,71,17],[71,18,71,20],[71,21,71,23],[72,2,72,4],[72,5,72,7],[72,8,72,10],[72,15,72,17],[72,18,72,20],[72,21,72,23],[71,11,71,12],[72,11,72,12],[73,2,73,4],[73,5,73,7],[73,8,73,10],[73,15,73,17],[73,18,73,20],[73,21,73,23],[74,2,74,4],[74,5,74,7],[74,8,74,10],[74,15,74,17],[74,18,74,20],[74,21,74,23],[73,11,73,12],[74,11,74,12],[75,2,75,4],[75,5,75,7],[75,8,75,10],[75,15,75,17],[75,18,75,20],[75,21,75,23],[76,2,76,4],[76,5,76,7],[76,8,76,10],[76,15,76,17],[76,18,76,20],[76,21,76,23],[75,11,75,12],[76,11,76,12],[78,1,79,5],[78,14,79,18],[80,2,80,3],[80,4,80,5],[80,7,80,8],[80,15,80,16],[80,17,80,18],[80,20,80,21],[82,2,82,3],[82,4,82,9],[82,15,82,16],[82,17,82,22],[83,2,83,7],[83,15,83,20],[84,2,84,10],[84,15,84,23],[85,4,85,6],[85,17,85,19],[86,2,86,8],[86,9,86,10],[86,15,86,21],[86,22,86,23],[87,4,87,8],[87,9,87,10],[87,17,87,21],[87,22,87,23],[88,9,88,10],[88,22,88,23],[91,2,91,4],[91,5,91,7],[91,8,91,10],[91,15,91,17],[91,18,91,20],[91,21,91,23],[92,2,92,4],[92,5,92,7],[92,8,92,10],[92,15,92,17],[92,18,92,20],[92,21,92,23],[93,2,93,4],[93,5,93,7],[93,8,93,10],[93,15,93,17],[93,18,93,20],[93,21,93,23],[94,2,94,4],[94,5,94,7],[94,8,94,10],[94,15,94,17],[94,18,94,20],[94,21,94,23],[95,2,95,4],[95,5,95,7],[95,8,95,10],[95,15,95,17],[95,18,95,20],[95,21,95,23],[96,2,96,4],[96,5,96,7],[96,8,96,10],[96,15,96,17],[96,18,96,20],[96,21,96,23],[97,2,97,4],[97,5,97,7],[97,8,97,10],[97,15,97,17],[97,18,97,20],[97,21,97,23],[98,2,98,4],[98,5,98,7],[98,8,98,10],[98,15,98,17],[98,18,98,20],[98,21,98,23],[99,2,99,4],[99,5,99,7],[99,8,99,10],[99,15,99,17],[99,18,99,20],[99,21,99,23],[98,11,98,12],[99,11,99,12],[100,2,100,4],[100,5,100,7],[100,8,100,10],[100,15,100,17],[100,18,100,20],[100,21,100,23],[101,2,101,4],[101,5,101,7],[101,8,101,10],[101,15,101,17],[101,18,101,20],[101,21,101,23],[100,11,100,12],[101,11,101,12],[102,2,102,4],[102,5,102,7],[102,8,102,10],[102,15,102,17],[102,18,102,20],[102,21,102,23],[103,2,103,4],[103,5,103,7],[103,8,103,10],[103,15,103,17],[103,18,103,20],[103,21,103,23],[102,11,102,12],[103,11,103,12],[104,2,104,4],[104,5,104,7],[104,8,104,10],[104,15,104,17],[104,18,104,20],[104,21,104,23],[105,2,105,4],[105,5,105,7],[105,8,105,10],[105,15,105,17],[105,18,105,20],[105,21,105,23],[104,11,104,12],[105,11,105,12],[106,2,106,4],[106,5,106,7],[106,8,106,10],[106,15,106,17],[106,18,106,20],[106,21,106,23],[107,2,107,4],[107,5,107,7],[107,8,107,10],[107,15,107,17],[107,18,107,20],[107,21,107,23],[106,11,106,12],[107,11,107,12],[108,2,108,4],[108,5,108,7],[108,8,108,10],[108,15,108,17],[108,18,108,20],[108,21,108,23],[109,2,109,4],[109,5,109,7],[109,8,109,10],[109,15,109,17],[109,18,109,20],[109,21,109,23],[108,11,108,12],[109,11,109,12],[110,2,110,4],[110,5,110,7],[110,8,110,10],[110,15,110,17],[110,18,110,20],[110,21,110,23],[112,1,113,5],[112,14,113,18],[114,2,114,3],[114,4,114,5],[114,7,114,8],[114,15,114,16],[114,17,114,18],[114,20,114,21],[110,11,110,12],[116,2,116,3],[116,4,116,9],[116,15,116,16],[116,17,116,22],[117,2,117,7],[117,15,117,20],[118,2,118,10],[118,15,118,23],[119,4,119,6],[119,17,119,19],[120,2,120,8],[120,9,120,10],[120,15,120,21],[120,22,120,23],[121,4,121,8],[121,9,121,10],[121,17,121,21],[121,22,121,23],[122,9,122,10],[122,22,122,23],[125,2,125,4],[125,5,125,7],[125,8,125,10],[125,15,125,17],[125,18,125,20],[125,21,125,23],[126,2,126,4],[126,5,126,7],[126,8,126,10],[126,15,126,17],[126,18,126,20],[126,21,126,23],[127,2,127,4],[127,5,127,7],[127,8,127,10],[127,15,127,17],[127,18,127,20],[127,21,127,23],[128,2,128,4],[128,5,128,7],[128,8,128,10],[128,15,128,17],[128,18,128,20],[128,21,128,23],[129,2,129,4],[129,5,129,7],[129,8,129,10],[129,15,129,17],[129,18,129,20],[129,21,129,23],[130,2,130,4],[130,5,130,7],[130,8,130,10],[130,15,130,17],[130,18,130,20],[130,21,130,23],[130,11,130,12],[131,2,131,4],[131,5,131,7],[131,8,131,10],[131,15,131,17],[131,18,131,20],[131,21,131,23],[132,2,132,4],[132,5,132,7],[132,8,132,10],[132,15,132,17],[132,18,132,20],[132,21,132,23],[131,11,131,12],[132,11,132,12],[133,2,133,4],[133,5,133,7],[133,8,133,10],[133,15,133,17],[133,18,133,20],[133,21,133,23],[134,2,134,4],[134,5,134,7],[134,8,134,10],[134,15,134,17],[134,18,134,20],[134,21,134,23],[133,11,133,12],[134,11,134,12],[135,2,135,4],[135,5,135,7],[135,8,135,10],[135,15,135,17],[135,18,135,20],[135,21,135,23],[136,2,136,4],[136,5,136,7],[136,8,136,10],[136,15,136,17],[136,18,136,20],[136,21,136,23],[135,11,135,12],[136,11,136,12],[137,2,137,4],[137,5,137,7],[137,8,137,10],[137,15,137,17],[137,18,137,20],[137,21,137,23],[138,2,138,4],[138,5,138,7],[138,8,138,10],[138,15,138,17],[138,18,138,20],[138,21,138,23],[137,11,137,12],[138,11,138,12],[139,2,139,4],[139,5,139,7],[139,8,139,10],[139,15,139,17],[139,18,139,20],[139,21,139,23],[140,2,140,4],[140,5,140,7],[140,8,140,10],[140,15,140,17],[140,18,140,20],[140,21,140,23],[139,11,139,12],[140,11,140,12],[141,2,141,4],[141,5,141,7],[141,8,141,10],[141,15,141,17],[141,18,141,20],[141,21,141,23],[142,2,142,4],[142,5,142,7],[142,8,142,10],[142,15,142,17],[142,18,142,20],[142,21,142,23],[141,11,141,12],[142,11,142,12],[143,2,143,4],[143,5,143,7],[143,8,143,10],[143,15,143,17],[143,18,143,20],[143,21,143,23],[144,2,144,4],[144,5,144,7],[144,8,144,10],[144,15,144,17],[144,18,144,20],[144,21,144,23],[143,11,143,12],[144,11,144,12],[146,1,147,5],[146,14,147,18],[148,2,148,3],[148,4,148,5],[148,7,148,8],[148,15,148,16],[148,17,148,18],[148,20,148,21],[150,2,150,3],[150,4,150,9],[150,15,150,16],[150,17,150,22],[151,2,151,7],[151,15,151,20],[152,2,152,10],[152,15,152,23],[153,4,153,6],[153,17,153,19],[154,2,154,8],[154,9,154,10],[154,15,154,21],[154,22,154,23],[155,4,155,8],[155,9,155,10],[155,17,155,21],[155,22,155,23],[156,9,156,10],[156,22,156,23],[159,2,159,4],[159,5,159,7],[159,8,159,10],[159,15,159,17],[159,18,159,20],[159,21,159,23],[160,2,160,4],[160,5,160,7],[160,8,160,10],[160,15,160,17],[160,18,160,20],[160,21,160,23],[161,2,161,4],[161,5,161,7],[161,8,161,10],[161,15,161,17],[161,18,161,20],[161,21,161,23],[162,2,162,4],[162,5,162,7],[162,8,162,10],[162,15,162,17],[162,18,162,20],[162,21,162,23],[163,2,163,4],[163,5,163,7],[163,8,163,10],[163,15,163,17],[163,18,163,20],[163,21,163,23],[162,11,162,12],[163,11,163,12],[164,2,164,4],[164,5,164,7],[164,8,164,10],[164,15,164,17],[164,18,164,20],[164,21,164,23],[165,2,165,4],[165,5,165,7],[165,8,165,10],[165,15,165,17],[165,18,165,20],[165,21,165,23],[164,11,164,12],[165,11,165,12],[166,2,166,4],[166,5,166,7],[166,8,166,10],[166,15,166,17],[166,18,166,20],[166,21,166,23],[167,2,167,4],[167,5,167,7],[167,8,167,10],[167,15,167,17],[167,18,167,20],[167,21,167,23],[166,11,166,12],[167,11,167,12],[168,2,168,4],[168,5,168,7],[168,8,168,10],[168,15,168,17],[168,18,168,20],[168,21,168,23],[169,2,169,4],[169,5,169,7],[169,8,169,10],[169,15,169,17],[169,18,169,20],[169,21,169,23],[168,11,168,12],[169,11,169,12],[170,2,170,4],[170,5,170,7],[170,8,170,10],[170,15,170,17],[170,18,170,20],[170,21,170,23],[171,2,171,4],[171,5,171,7],[171,8,171,10],[171,15,171,17],[171,18,171,20],[171,21,171,23],[170,11,170,12],[171,11,171,12],[172,2,172,4],[172,5,172,7],[172,8,172,10],[172,15,172,17],[172,18,172,20],[172,21,172,23],[173,2,173,4],[173,5,173,7],[173,8,173,10],[173,15,173,17],[173,18,173,20],[173,21,173,23],[172,11,172,12],[173,11,173,12],[174,2,174,4],[174,5,174,7],[174,8,174,10],[174,15,174,17],[174,18,174,20],[174,21,174,23],[175,2,175,4],[175,5,175,7],[175,8,175,10],[175,15,175,17],[175,18,175,20],[175,21,175,23],[174,11,174,12],[175,11,175,12],[176,2,176,4],[176,5,176,7],[176,8,176,10],[176,15,176,17],[176,18,176,20],[176,21,176,23],[177,2,177,4],[177,5,177,7],[177,8,177,10],[177,15,177,17],[177,18,177,20],[177,21,177,23],[176,11,176,12],[177,11,177,12],[178,2,178,4],[178,5,178,7],[178,8,178,10],[178,15,178,17],[178,18,178,20],[178,21,178,23],[23,11,23,12],[24,11,24,12],[25,11,25,12],[26,11,26,12],[27,11,27,12],[28,11,28,12],[29,11,29,12],[30,11,30,12],[31,11,31,12],[32,11,32,12],[33,11,33,12],[34,11,34,12],[35,11,35,12],[36,11,36,12],[37,11,37,12],[38,11,38,12],[39,11,39,12],[40,11,40,12],[41,11,41,12],[42,11,42,12],[23,24,23,25],[24,24,24,25],[25,24,25,25],[26,24,26,25],[27,24,27,25],[28,24,28,25],[29,24,29,25],[30,24,30,25],[31,24,31,25],[32,24,32,25],[33,24,33,25],[34,24,34,25],[35,24,35,25],[36,24,36,25],[37,24,37,25],[38,24,38,25],[39,24,39,25],[40,24,40,25],[41,24,41,25],[42,24,42,25],[42,15,42,17],[42,18,42,20],[57,11,57,12],[58,11,58,12],[59,11,59,12],[60,11,60,12],[61,11,61,12],[62,11,62,12],[63,11,63,12],[64,11,64,12],[65,11,65,12],[57,24,57,25],[58,24,58,25],[59,24,59,25],[60,24,60,25],[61,24,61,25],[62,24,62,25],[63,24,63,25],[64,24,64,25],[65,24,65,25],[66,24,66,25],[67,24,67,25],[68,24,68,25],[69,24,69,25],[70,24,70,25],[71,24,71,25],[72,24,72,25],[73,24,73,25],[74,24,74,25],[75,24,75,25],[76,24,76,25],[91,11,91,12],[92,11,92,12],[93,11,93,12],[94,11,94,12],[95,11,95,12],[96,11,96,12],[97,11,97,12],[91,24,91,25],[92,24,92,25],[93,24,93,25],[94,24,94,25],[95,24,95,25],[96,24,96,25],[97,24,97,25],[98,24,98,25],[99,24,99,25],[100,24,100,25],[101,24,101,25],[102,24,102,25],[103,24,103,25],[104,24,104,25],[105,24,105,25],[106,24,106,25],[107,24,107,25],[108,24,108,25],[109,24,109,25],[110,24,110,25],[125,11,125,12],[126,11,126,12],[127,11,127,12],[128,11,128,12],[129,11,129,12],[125,24,125,25],[126,24,126,25],[127,24,127,25],[128,24,128,25],[129,24,129,25],[141,24,141,25],[142,24,142,25],[143,24,143,25],[144,24,144,25],[159,11,159,12],[160,11,160,12],[161,11,161,12],[130,24,130,25],[131,24,131,25],[132,24,132,25],[133,24,133,25],[134,24,134,25],[135,24,135,25],[136,24,136,25],[137,24,137,25],[138,24,138,25],[0,4,1,24],[178,11,178,12],[159,24,159,25],[160,24,160,25],[161,24,161,25],[162,24,162,25],[163,24,163,25],[164,24,164,25],[165,24,165,25],[166,24,166,25],[167,24,167,25],[168,24,168,25],[169,24,169,25],[170,24,170,25],[171,24,171,25],[172,24,172,25],[173,24,173,25],[174,24,174,25],[175,24,175,25],[176,24,176,25],[177,24,177,25],[178,24,178,25],[139,24,139,25],[140,24,140,25]]}
[null,null,null,null,{"$f":"Main!E1","v":"AWP Contractor Reporting E2O - Earthwork Contractor QC"}]
[null,null,null,null,null,null,null,null,null,null,null,null,null,null,null,null,null,null,null,null,null,null,null,null,null,"v",{"$f":"Main!AA2","v":"5.00"}]
[null,null,null,null," ",null,null,{"$f":"Main!H3","v":"Main"},null,null,{"$f":"Main!K3","v":"Quantity"},null,null,null,null,null,{"$f":"Main!Q3","v":"Send/Sync"},null,null,{"$f":"Main!T3","v":"Reports"},null,null,{"$f":"Main!W3","v":"Help"}]
[]
[]
[null,{"$f":"Main!B6","v":"General"},null,null,{"$f":"Main!E6","v":"Free Form"},null,null,{"$f":"IF(Main!H6=\"\",\"\",Main!H6)","v":"Subgrade"},null,null,{"$f":"IF(Main!K6=\"\",\"\",Main!K6)","v":"Rock Base"},null,null,{"$f":"IF(Main!N6=\"\",\"\",Main!N6)","v":"Agg Bases"},null,null,{"$f":"IF(Main!Q6=\"\",\"\",Main!Q6)","v":"T90/T99"},null,null,{"$f":"IF(Main!T6=\"\",\"\",Main!T6)","v":"DCP"},null,null,{"$f":"IF(Main!W6=\"\",\"\",Main!W6)","v":""},null,null,null,null,null,null,{"$f":"'Test 3'!AD6","v":"no"},"Master Populate for type"]
[null,null,null,null,null,null,null,null,null,null,null,null,null,null,null,null,null,null,null,null,null,null,null,null,null,null,null,null,null,null,"Populate?"]
[null,null,null,null,null,null,null,null,null,null,null,null,null,null,null,null,null,null,null,null,null,null,null,null,null,null,null,null,null,{"$f":"IF(AND($AD$6=\"ok\",NOT(J21=\"\")),\"Y\",\"N\")","v":"N"},"test 1"]
[null,{"$f":"IF(Main!AI3=\"G\", \"This tab is used to report aggregate base DCP testing as outlined in Section 300.\", \"DO NOT USE this tab to report anything other than aggregate base\")","v":"DO NOT USE this tab to report anything other than aggregate base"},null,null,null,null,null,null,null,null,null,null,null,null,null,null,null,null,null,null,null,null,null,null,null,null,null,null,null,{"$f":"IF(AND($AD$6=\"ok\",NOT(W21=\"\")),\"Y\",\"N\")","v":"N"},"test 2"]
[null,null,null,null,null,null,null,null,null,null,null,null,null,null,null,null,null,null,null,null,null,null,null,null,null,null,null,null,null,{"$f":"IF(AND($AD$6=\"ok\",NOT(J55=\"\")),\"Y\",\"N\")","v":"N"},"test 3"]
[null,"Activity 1:",null,null,null,null,null,null,null,null,null,null,null,null,"Activity 2:",null,null,null,null,null,null,null,null,null,null,null,null,null,null,{"$f":"IF(AND($AD$6=\"ok\",NOT(W55=\"\")),\"Y\",\"N\")","v":"N"},"test 4"]
[null,null,null,null,null,null,null,null,null,null,null,null,null,null,null,null,null,null,null,null,null,null,null,null,null,null,null,null,null,{"$f":"IF(AND($AD$6=\"ok\",NOT(J89=\"\")),\"Y\",\"N\")","v":"N"},"test 5"]
[null,null,"Station:",null,null,null,"+",null,null,null,null,null,null,null,null,"Station:",null,null,null,"+",null,null,null,null,null,null,null,null,null,{"$f":"IF(AND($AD$6=\"ok\",NOT(W89=\"\")),\"Y\",\"N\")","v":"N"},"test 6"]
[null,null,null,null,null,null,null,null,null,null,null,null,null,null,null,null,null,null,null,null,null,null,null,null,null,null,null,null,null,{"$f":"IF(AND($AD$6=\"ok\",NOT(J123=\"\")),\"Y\",\"N\")","v":"N"},"test 7"]
[null,null,"Tester:",null,null,null,null,null,null,null,null,null,null,null,null,"Tester:",null,null,null,null,null,null,null,null,null,null,null,null,null,{"$f":"IF(AND($AD$6=\"ok\",NOT(W123=\"\")),\"Y\",\"N\")","v":"N"},"test 8"]
[null,null,"Location L/R of Centerline:",null,null,null,null,null,null,null,null,null,null,null,null,"Location L/R of Centerline:",null,null,null,null,null,null,null,null,null,null,null,null,null,{"$f":"IF(AND($AD$6=\"ok\",NOT(J157=\"\")),\"Y\",\"N\")","v":"N"},"test 9"]
[null,null,null,null,null,null,null,null,null,null,null,null,null,null,null,null,null,null,null,null,null,null,null,null,null,null,null,null,null,{"$f":"IF(AND($AD$6=\"ok\",NOT(W157=\"\")),\"Y\",\"N\")","v":"N"},"test 10"]
[null,null,null,null,"Thickness ",null,null,null,null,null,null,null,null,null,null,null,null,"Thickness ",null,null,null,null,null,null,null,null,null,null,null,"Rounding"]
[null,null,"Layer Thickness Measurement:",null,null,null,null,null,null,null,null,"in",null,null,null,"Layer Thickness Measurement:",null,null,null,null,null,null,null,null,"in",null,null,null,{"$f":"IF(AND(NOT(J21=\"\"),OR(ISBLANK(J19),ISBLANK(J20),ISBLANK(E13),ISBLANK(H13))),1,0)","v":0},"thickness",{"$f":"IF(J19=\"\",\"\",ROUND(J19,1))","v":""},{"$f":"IF(W19=\"\",\"\",ROUND(W19,1))","v":""}]
[null,null,null,null,"Thickness Specified:",null,null,null,null,null,null,"in",null,null,null,null,null,"Thickness Specified:",null,null,null,null,null,null,"in",null,null,null,{"$f":"IF(AND(NOT(W21=\"\"),OR(ISBLANK(W19),ISBLANK(W20),ISBLANK(R13),ISBLANK(U13))),1,0)","v":0},null,{"$f":"IF(J20=\"\",\"\",ROUND(J20,1))","v":""},{"$f":"IF(W20=\"\",\"\",ROUND(W20,1))","v":""}]
[null,null,null,null,null,null,null,null,"Average Penetration Index",{"$f":"IF(L24=\"\",\"\",AVERAGE(L24:M43))","v":""},null,null,null,null,null,null,null,null,null,null,null,"Average Penetration Index",{"$f":"IF(Y24=\"\",\"\",AVERAGE(Y24:Z43))","v":""},null,null,null,null,null,null,"penetration index",{"$f":"IF(J21=\"\",\"\",ROUND(J21,2))","v":""},{"$f":"IF(W21=\"\",\"\",ROUND(W21,2))","v":""}]
[null,null,"Beginning",null,null,"Ending",null,null,"Number of",null,null,"Penetration",null,null,null,"Beginning",null,null,"Ending",null,null,"Number of",null,null,"Penetration"]
[null,null,"Reading (in)",null,null,"Reading (in)",null,null,"Blows",null,null,"Index",null,null,null,"Reading (in)",null,null,"Reading (in)",null,null,"Blows",null,null,"Index",null,null,null,null,"beginning","ending","index","beginning","ending","index"]
[null,1,null,null,null,null,null,null,null,null,null,{"$f":"IF(AND(NOT(C24=\"\"),NOT(F24=\"\"),NOT(I24=\"\")),(F24-C24)/I24,\"\")","v":""},null,null,1,null,null,null,null,null,null,null,null,null,{"$f":"IF(AND(NOT(P24=\"\"),NOT(S24=\"\"),NOT(V24=\"\")),(S24-P24)/V24,\"\")","v":""},null,null,null,null,{"$f":"IF(C24=\"\",\"\",ROUND(C24,2))","v":""},{"$f":"IF(F24=\"\",\"\",ROUND(F24,2))","v":""},{"$f":"IF(L24=\"\",\"\",ROUND(L24,2))","v":""},{"$f":"IF(P24=\"\",\"\",ROUND(P24,2))","v":""},{"$f":"IF(S24=\"\",\"\",ROUND(S24,2))","v":""},{"$f":"IF(Y24=\"\",\"\",ROUND(Y24,2))","v":""}]
[null,2,null,null,null,null,null,null,null,null,null,{"$f":"IF(AND(NOT(C25=\"\"),NOT(F25=\"\"),NOT(I25=\"\")),(F25-C25)/I25,\"\")","v":""},null,null,2,null,null,null,null,null,null,null,null,null,{"$f":"IF(AND(NOT(P25=\"\"),NOT(S25=\"\"),NOT(V25=\"\")),(S25-P25)/V25,\"\")","v":""},null,null,null,null,{"$f":"IF(C25=\"\",\"\",ROUND(C25,2))","v":""},{"$f":"IF(F25=\"\",\"\",ROUND(F25,2))","v":""},{"$f":"IF(L25=\"\",\"\",ROUND(L25,2))","v":""},{"$f":"IF(P25=\"\",\"\",ROUND(P25,2))","v":""},{"$f":"IF(S25=\"\",\"\",ROUND(S25,2))","v":""},{"$f":"IF(Y25=\"\",\"\",ROUND(Y25,2))","v":""}]
[null,3,null,null,null,null,null,null,null,null,null,"",null,null,3,null,null,null,null,null,null,null,null,null,"",null,null,null,null,"","","","","",""]
[null,4,null,null,null,null,null,null,null,null,null,"",null,null,4,null,null,null,null,null,null,null,null,null,"",null,null,null,null,"","","","","",""]
[null,5,null,null,null,null,null,null,null,null,null,"",null,null,5,null,null,null,null,null,null,null,null,null,"",null,null,null,null,"","","","","",""]
[null,6,null,null,null,null,null,null,null,null,null,{"$f":"IF(AND(NOT(C29=\"\"),NOT(F29=\"\"),NOT(I29=\"\")),(F29-C29)/I29,\"\")","v":""},null,null,6,null,null,null,null,null,null,null,null,null,"",null,null,null,null,"","","","","",""]
[null,7,null,null,null,null,null,null,null,null,null,"",null,null,7,null,null,null,null,null,null,null,null,null,"",null,null,null,null,"","","","","",""]
[null,8,null,null,null,null,null,null,null,null,null,"",null,null,8,null,null,null,null,null,null,null,null,null,"",null,null,null,null,"","","","","",""]
[null,9,null,null,null,null,null,null,null,null,null,"",null,null,9,null,null,null,null,null,null,null,null,null,"",null,null,null,null,"","","","","",""]
[null,10,null,null,null,null,null,null,null,null,null,"",null,null,10,null,null,null,null,null,null,null,null,null,"",null,null,null,null,"","","","","",""]
[null,11,null,null,null,null,null,null,null,null,null,"",null,null,11,null,null,null,null,null,null,null,null,null,"",null,null,null,null,"","","","","",""]
[null,12,null,null,null,null,null,null,null,null,null,"",null,null,12,null,null,null,null,null,null,null,null,null,"",null,null,null,null,"","","","","",""]
[null,13,null,null,null,null,null,null,null,null,null,"",null,null,13,null,null,null,null,null,null,null,null,null,"",null,null,null,null,"","","","","",""]
[null,14,null,null,null,null,null,null,null,null,null,"",null,null,14,null,null,null,null,null,null,null,null,null,"",null,null,null,null,"","","","","",""]
[null,15,null,null,null,null,null,null,null,null,null,"",null,null,15,null,null,null,null,null,null,null,null,null,"",null,null,null,null,"","","","","",""]
[null,16,null,null,null,null,null,null,null,null,null,"",null,null,16,null,null,null,null,null,null,null,null,null,"",null,null,null,null,"","","","","",""]
[null,17,null,null,null,null,null,null,null,null,null,"",null,null,17,null,null,null,null,null,null,null,null,null,"",null,null,null,null,"","","","","",""]
[null,18,null,null,null,null,null,null,null,null,null,"",null,null,18,null,null,null,null,null,null,null,null,null,"",null,null,null,null,"","","","","",""]
[null,19,null,null,null,null,null,null,null,null,null,"",null,null,19,null,null,null,null,null,null,null,null,null,"",null,null,null,null,"","","","","",""]
[null,20,null,null,null,null,null,null,null,null,null,"",null,null,20,null,null,null,null,null,null,null,null,null,"",null,null,null,null,"","","","","",""]
[]
[null,"Activity 3:",null,null,null,null,null,null,null,null,null,null,null,null,"Activity 4:"]
[]
[null,null,"Station:",null,null,null,"+",null,null,null,null,null,null,null,null,"Station:",null,null,null,"+"]
[]
[null,null,"Tester:",null,null,null,null,null,null,null,null,null,null,null,null,"Tester:"]
[null,null,"Location L/R of Centerline:",null,null,null,null,null,null,null,null,null,null,null,null,"Location L/R of Centerline:"]
[]
[null,null,null,null,"Thickness ",null,null,null,null,null,null,null,null,null,null,null,null,"Thickness ",null,null,null,null,null,null,null,null,null,null,null,"Rounding"]
[null,null,"Layer Thickness Measurement:",null,null,null,null,null,null,null,null,"in",null,null,null,"Layer Thickness Measurement:",null,null,null,null,null,null,null,null,"in",null,null,null,{"$f":"IF(AND(NOT(J55=\"\"),OR(ISBLANK(J53),ISBLANK(J54),ISBLANK(E47),ISBLANK(H47))),1,0)","v":0},"thickness",{"$f":"IF(J53=\"\",\"\",ROUND(J53,1))","v":""},{"$f":"IF(W53=\"\",\"\",ROUND(W53,1))","v":""}]
[null,null,null,null,"Thickness Specified:",null,null,null,null,null,null,"in",null,null,null,null,null,"Thickness Specified:",null,null,null,null,null,null,"in",null,null,null,{"$f":"IF(AND(NOT(W55=\"\"),OR(ISBLANK(W53),ISBLANK(W54),ISBLANK(R47),ISBLANK(U47))),1,0)","v":0},null,{"$f":"IF(J54=\"\",\"\",ROUND(J54,1))","v":""},{"$f":"IF(W54=\"\",\"\",ROUND(W54,1))","v":""}]
[null,null,null,null,null,null,null,null,"Average Penetration Index",{"$f":"IF(L58=\"\",\"\",AVERAGE(L58:M77))","v":""},null,null,null,null,null,null,null,null,null,null,null,"Average Penetration Index",{"$f":"IF(Y58=\"\",\"\",AVERAGE(Y58:Z77))","v":""},null,null,null,null,null,null,"penetration index",{"$f":"IF(J55=\"\",\"\",ROUND(J55,2))","v":""},{"$f":"IF(W55=\"\",\"\",ROUND(W55,2))","v":""}]
[null,null,"Beginning",null,null,"Ending",null,null,"Number of",null,null,"Penetration",null,null,null,"Beginning",null,null,"Ending",null,null,"Number of",null,null,"Penetration"]
[null,null,"Reading (in)",null,null,"Reading (in)",null,null,"Blows",null,null,"Index",null,null,null,"Reading (in)",null,null,"Reading (in)",null,null,"Blows",null,null,"Index",null,null,null,null,"beginning","ending","index","beginning","ending","index"]
[null,1,null,null,null,null,null,null,null,null,null,{"$f":"IF(AND(NOT(C58=\"\"),NOT(F58=\"\"),NOT(I58=\"\")),(F58-C58)/I58,\"\")","v":""},null,null,1,null,null,null,null,null,null,null,null,null,{"$f":"IF(AND(NOT(P58=\"\"),NOT(S58=\"\"),NOT(V58=\"\")),(S58-P58)/V58,\"\")","v":""},null,null,null,null,{"$f":"IF(C58=\"\",\"\",ROUND(C58,2))","v":""},{"$f":"IF(F58=\"\",\"\",ROUND(F58,2))","v":""},{"$f":"IF(L58=\"\",\"\",ROUND(L58,2))","v":""},{"$f":"IF(P58=\"\",\"\",ROUND(P58,2))","v":""},{"$f":"IF(S58=\"\",\"\",ROUND(S58,2))","v":""},{"$f":"IF(Y58=\"\",\"\",ROUND(Y58,2))","v":""}]
[null,2,null,null,null,null,null,null,null,null,null,{"$f":"IF(AND(NOT(C59=\"\"),NOT(F59=\"\"),NOT(I59=\"\")),(F59-C59)/I59,\"\")","v":""},null,null,2,null,null,null,null,null,null,null,null,null,{"$f":"IF(AND(NOT(P59=\"\"),NOT(S59=\"\"),NOT(V59=\"\")),(S59-P59)/V59,\"\")","v":""},null,null,null,null,{"$f":"IF(C59=\"\",\"\",ROUND(C59,2))","v":""},{"$f":"IF(F59=\"\",\"\",ROUND(F59,2))","v":""},{"$f":"IF(L59=\"\",\"\",ROUND(L59,2))","v":""},{"$f":"IF(P59=\"\",\"\",ROUND(P59,2))","v":""},{"$f":"IF(S59=\"\",\"\",ROUND(S59,2))","v":""},{"$f":"IF(Y59=\"\",\"\",ROUND(Y59,2))","v":""}]
[null,3,null,null,null,null,null,null,null,null,null,"",null,null,3,null,null,null,null,null,null,null,null,null,"",null,null,null,null,"","","","","",""]
[null,4,null,null,null,null,null,null,null,null,null,"",null,null,4,null,null,null,null,null,null,null,null,null,"",null,null,null,null,"","","","","",""]
[null,5,null,null,null,null,null,null,null,null,null,"",null,null,5,null,null,null,null,null,null,null,null,null,"",null,null,null,null,"","","","","",""]
[null,6,null,null,null,null,null,null,null,null,null,"",null,null,6,null,null,null,null,null,null,null,null,null,"",null,null,null,null,"","","","","",""]
[null,7,null,null,null,null,null,null,null,null,null,"",null,null,7,null,null,null,null,null,null,null,null,null,"",null,null,null,null,"","","","","",""]
[null,8,null,null,null,null,null,null,null,null,null,"",null,null,8,null,null,null,null,null,null,null,null,null,"",null,null,null,null,"","","","","",""]
[null,9,null,null,null,null,null,null,null,null,null,"",null,null,9,null,null,null,null,null,null,null,null,null,"",null,null,null,null,"","","","","",""]
[null,10,null,null,null,null,null,null,null,null,null,"",null,null,10,null,null,null,null,null,null,null,null,null,"",null,null,null,null,"","","","","",""]
[null,11,null,null,null,null,null,null,null,null,null,"",null,null,11,null,null,null,null,null,null,null,null,null,"",null,null,null,null,"","","","","",""]
[null,12,null,null,null,null,null,null,null,null,null,"",null,null,12,null,null,null,null,null,null,null,null,null,"",null,null,null,null,"","","","","",""]
[null,13,null,null,null,null,null,null,null,null,null,"",null,null,13,null,null,null,null,null,null,null,null,null,"",null,null,null,null,"","","","","",""]
[null,14,null,null,null,null,null,null,null,null,null,"",null,null,14,null,null,null,null,null,null,null,null,null,"",null,null,null,null,"","","","","",""]
[null,15,null,null,null,null,null,null,null,null,null,"",null,null,15,null,null,null,null,null,null,null,null,null,"",null,null,null,null,"","","","","",""]
[null,16,null,null,null,null,null,null,null,null,null,"",null,null,16,null,null,null,null,null,null,null,null,null,"",null,null,null,null,"","","","","",""]
[null,17,null,null,null,null,null,null,null,null,null,"",null,null,17,null,null,null,null,null,null,null,null,null,"",null,null,null,null,"","","","","",""]
[null,18,null,null,null,null,null,null,null,null,null,"",null,null,18,null,null,null,null,null,null,null,null,null,"",null,null,null,null,"","","","","",""]
[null,19,null,null,null,null,null,null,null,null,null,"",null,null,19,null,null,null,null,null,null,null,null,null,"",null,null,null,null,"","","","","",""]
[null,20,null,null,null,null,null,null,null,null,null,"",null,null,20,null,null,null,null,null,null,null,null,null,"",null,null,null,null,"","","","","",""]
[]
[null,"Activity 5:",null,null,null,null,null,null,null,null,null,null,null,null,"Activity 6:"]
[]
[null,null,"Station:",null,null,null,"+",null,null,null,null,null,null,null,null,"Station:",null,null,null,"+"]
[]
[null,null,"Tester:",null,null,null,null,null,null,null,null,null,null,null,null,"Tester:"]
[null,null,"Location L/R of Centerline:",null,null,null,null,null,null,null,null,null,null,null,null,"Location L/R of Centerline:"]
[]
[null,null,null,null,"Thickness ",null,null,null,null,null,null,null,null,null,null,null,null,"Thickness ",null,null,null,null,null,null,null,null,null,null,null,"Rounding"]
[null,null,"Layer Thickness Measurement:",null,null,null,null,null,null,null,null,"in",null,null,null,"Layer Thickness Measurement:",null,null,null,null,null,null,null,null,"in",null,null,null,{"$f":"IF(AND(NOT(J89=\"\"),OR(ISBLANK(J87),ISBLANK(J88),ISBLANK(E81),ISBLANK(H81))),1,0)","v":0},"thickness",{"$f":"IF(J87=\"\",\"\",ROUND(J87,1))","v":""},{"$f":"IF(W87=\"\",\"\",ROUND(W87,1))","v":""}]
[null,null,null,null,"Thickness Specified:",null,null,null,null,null,null,"in",null,null,null,null,null,"Thickness Specified:",null,null,null,null,null,null,"in",null,null,null,{"$f":"IF(AND(NOT(W89=\"\"),OR(ISBLANK(W87),ISBLANK(W88),ISBLANK(R81),ISBLANK(U81))),1,0)","v":0},null,{"$f":"IF(J88=\"\",\"\",ROUND(J88,1))","v":""},{"$f":"IF(W88=\"\",\"\",ROUND(W88,1))","v":""}]
[null,null,null,null,null,null,null,null,"Average Penetration Index",{"$f":"IF(L92=\"\",\"\",AVERAGE(L92:M111))","v":""},null,null,null,null,null,null,null,null,null,null,null,"Average Penetration Index",{"$f":"IF(Y92=\"\",\"\",AVERAGE(Y92:Z111))","v":""},null,null,null,null,null,null,"penetration index",{"$f":"IF(J89=\"\",\"\",ROUND(J89,2))","v":""},{"$f":"IF(W89=\"\",\"\",ROUND(W89,2))","v":""}]
[null,null,"Beginning",null,null,"Ending",null,null,"Number of",null,null,"Penetration",null,null,null,"Beginning",null,null,"Ending",null,null,"Number of",null,null,"Penetration"]
[null,null,"Reading (in)",null,null,"Reading (in)",null,null,"Blows",null,null,"Index",null,null,null,"Reading (in)",null,null,"Reading (in)",null,null,"Blows",null,null,"Index",null,null,null,null,"beginning","ending","index","beginning","ending","index"]
[null,1,null,null,null,null,null,null,null,null,null,{"$f":"IF(AND(NOT(C92=\"\"),NOT(F92=\"\"),NOT(I92=\"\")),(F92-C92)/I92,\"\")","v":""},null,null,1,null,null,null,null,null,null,null,null,null,{"$f":"IF(AND(NOT(P92=\"\"),NOT(S92=\"\"),NOT(V92=\"\")),(S92-P92)/V92,\"\")","v":""},null,null,null,null,{"$f":"IF(C92=\"\",\"\",ROUND(C92,2))","v":""},{"$f":"IF(F92=\"\",\"\",ROUND(F92,2))","v":""},{"$f":"IF(L92=\"\",\"\",ROUND(L92,2))","v":""},{"$f":"IF(P92=\"\",\"\",ROUND(P92,2))","v":""},{"$f":"IF(S92=\"\",\"\",ROUND(S92,2))","v":""},{"$f":"IF(Y92=\"\",\"\",ROUND(Y92,2))","v":""}]
[null,2,null,null,null,null,null,null,null,null,null,{"$f":"IF(AND(NOT(C93=\"\"),NOT(F93=\"\"),NOT(I93=\"\")),(F93-C93)/I93,\"\")","v":""},null,null,2,null,null,null,null,null,null,null,null,null,{"$f":"IF(AND(NOT(P93=\"\"),NOT(S93=\"\"),NOT(V93=\"\")),(S93-P93)/V93,\"\")","v":""},null,null,null,null,{"$f":"IF(C93=\"\",\"\",ROUND(C93,2))","v":""},{"$f":"IF(F93=\"\",\"\",ROUND(F93,2))","v":""},{"$f":"IF(L93=\"\",\"\",ROUND(L93,2))","v":""},{"$f":"IF(P93=\"\",\"\",ROUND(P93,2))","v":""},{"$f":"IF(S93=\"\",\"\",ROUND(S93,2))","v":""},{"$f":"IF(Y93=\"\",\"\",ROUND(Y93,2))","v":""}]
[null,3,null,null,null,null,null,null,null,null,null,"",null,null,3,null,null,null,null,null,null,null,null,null,"",null,null,null,null,"","","","","",""]
[null,4,null,null,null,null,null,null,null,null,null,"",null,null,4,null,null,null,null,null,null,null,null,null,"",null,null,null,null,"","","","","",""]
[null,5,null,null,null,null,null,null,null,null,null,"",null,null,5,null,null,null,null,null,null,null,null,null,"",null,null,null,null,"","","","","",""]
[null,6,null,null,null,null,null,null,null,null,null,"",null,null,6,null,null,null,null,null,null,null,null,null,"",null,null,null,null,"","","","","",""]
[null,7,null,null,null,null,null,null,null,null,null,"",null,null,7,null,null,null,null,null,null,null,null,null,"",null,null,null,null,"","","","","",""]
[null,8,null,null,null,null,null,null,null,null,null,"",null,null,8,null,null,null,null,null,null,null,null,null,"",null,null,null,null,"","","","","",""]
[null,9,null,null,null,null,null,null,null,null,null,"",null,null,9,null,null,null,null,null,null,null,null,null,"",null,null,null,null,"","","","","",""]
[null,10,null,null,null,null,null,null,null,null,null,"",null,null,10,null,null,null,null,null,null,null,null,null,"",null,null,null,null,"","","","","",""]
[null,11,null,null,null,null,null,null,null,null,null,"",null,null,11,null,null,null,null,null,null,null,null,null,"",null,null,null,null,"","","","","",""]
[null,12,null,null,null,null,null,null,null,null,null,"",null,null,12,null,null,null,null,null,null,null,null,null,"",null,null,null,null,"","","","","",""]
[null,13,null,null,null,null,null,null,null,null,null,"",null,null,13,null,null,null,null,null,null,null,null,null,"",null,null,null,null,"","","","","",""]
[null,14,null,null,null,null,null,null,null,null,null,"",null,null,14,null,null,null,null,null,null,null,null,null,"",null,null,null,null,"","","","","",""]
[null,15,null,null,null,null,null,null,null,null,null,"",null,null,15,null,null,null,null,null,null,null,null,null,"",null,null,null,null,"","","","","",""]
[null,16,null,null,null,null,null,null,null,null,null,"",null,null,16,null,null,null,null,null,null,null,null,null,"",null,null,null,null,"","","","","",""]
[null,17,null,null,null,null,null,null,null,null,null,"",null,null,17,null,null,null,null,null,null,null,null,null,"",null,null,null,null,"","","","","",""]
[null,18,null,null,null,null,null,null,null,null,null,"",null,null,18,null,null,null,null,null,null,null,null,null,"",null,null,null,null,"","","","","",""]
[null,19,null,null,null,null,null,null,null,null,null,"",null,null,19,null,null,null,null,null,null,null,null,null,"",null,null,null,null,"","","","","",""]
[null,20,null,null,null,null,null,null,null,null,null,"",null,null,20,null,null,null,null,null,null,null,null,null,"",null,null,null,null,"","","","","",""]
[]
[null,"Activity 7:",null,null,null,null,null,null,null,null,null,null,null,null,"Activity 8:"]
[]
[null,null,"Station:",null,null,null,"+",null,null,null,null,null,null,null,null,"Station:",null,null,null,"+"]
[]
[null,null,"Tester:",null,null,null,null,null,null,null,null,null,null,null,null,"Tester:"]
[null,null,"Location L/R of Centerline:",null,null,null,null,null,null,null,null,null,null,null,null,"Location L/R of Centerline:"]
[]
[null,null,null,null,"Thickness ",null,null,null,null,null,null,null,null,null,null,null,null,"Thickness ",null,null,null,null,null,null,null,null,null,null,null,"Rounding"]
[null,null,"Layer Thickness Measurement:",null,null,null,null,null,null,null,null,"in",null,null,null,"Layer Thickness Measurement:",null,null,null,null,null,null,null,null,"in",null,null,null,{"$f":"IF(AND(NOT(J123=\"\"),OR(ISBLANK(J121),ISBLANK(J122),ISBLANK(E115),ISBLANK(H115))),1,0)","v":0},"thickness",{"$f":"IF(J121=\"\",\"\",ROUND(J121,1))","v":""},{"$f":"IF(W121=\"\",\"\",ROUND(W121,1))","v":""}]
[null,null,null,null,"Thickness Specified:",null,null,null,null,null,null,"in",null,null,null,null,null,"Thickness Specified:",null,null,null,null,null,null,"in",null,null,null,{"$f":"IF(AND(NOT(W123=\"\"),OR(ISBLANK(W121),ISBLANK(W122),ISBLANK(R115),ISBLANK(U115))),1,0)","v":0},null,{"$f":"IF(J122=\"\",\"\",ROUND(J122,1))","v":""},{"$f":"IF(W122=\"\",\"\",ROUND(W122,1))","v":""}]
[null,null,null,null,null,null,null,null,"Average Penetration Index",{"$f":"IF(L126=\"\",\"\",AVERAGE(L126:M145))","v":""},null,null,null,null,null,null,null,null,null,null,null,"Average Penetration Index",{"$f":"IF(Y126=\"\",\"\",AVERAGE(Y126:Z145))","v":""},null,null,null,null,null,null,"penetration index",{"$f":"IF(J123=\"\",\"\",ROUND(J123,2))","v":""},{"$f":"IF(W123=\"\",\"\",ROUND(W123,2))","v":""}]
[null,null,"Beginning",null,null,"Ending",null,null,"Number of",null,null,"Penetration",null,null,null,"Beginning",null,null,"Ending",null,null,"Number of",null,null,"Penetration"]
[null,null,"Reading (in)",null,null,"Reading (in)",null,null,"Blows",null,null,"Index",null,null,null,"Reading (in)",null,null,"Reading (in)",null,null,"Blows",null,null,"Index",null,null,null,null,"beginning","ending","index","beginning","ending","index"]
[null,1,null,null,null,null,null,null,null,null,null,{"$f":"IF(AND(NOT(C126=\"\"),NOT(F126=\"\"),NOT(I126=\"\")),(F126-C126)/I126,\"\")","v":""},null,null,1,null,null,null,null,null,null,null,null,null,{"$f":"IF(AND(NOT(P126=\"\"),NOT(S126=\"\"),NOT(V126=\"\")),(S126-P126)/V126,\"\")","v":""},null,null,null,null,{"$f":"IF(C126=\"\",\"\",ROUND(C126,2))","v":""},{"$f":"IF(F126=\"\",\"\",ROUND(F126,2))","v":""},{"$f":"IF(L126=\"\",\"\",ROUND(L126,2))","v":""},{"$f":"IF(P126=\"\",\"\",ROUND(P126,2))","v":""},{"$f":"IF(S126=\"\",\"\",ROUND(S126,2))","v":""},{"$f":"IF(Y126=\"\",\"\",ROUND(Y126,2))","v":""}]
[null,2,null,null,null,null,null,null,null,null,null,{"$f":"IF(AND(NOT(C127=\"\"),NOT(F127=\"\"),NOT(I127=\"\")),(F127-C127)/I127,\"\")","v":""},null,null,2,null,null,null,null,null,null,null,null,null,{"$f":"IF(AND(NOT(P127=\"\"),NOT(S127=\"\"),NOT(V127=\"\")),(S127-P127)/V127,\"\")","v":""},null,null,null,null,{"$f":"IF(C127=\"\",\"\",ROUND(C127,2))","v":""},{"$f":"IF(F127=\"\",\"\",ROUND(F127,2))","v":""},{"$f":"IF(L127=\"\",\"\",ROUND(L127,2))","v":""},{"$f":"IF(P127=\"\",\"\",ROUND(P127,2))","v":""},{"$f":"IF(S127=\"\",\"\",ROUND(S127,2))","v":""},{"$f":"IF(Y127=\"\",\"\",ROUND(Y127,2))","v":""}]
[null,3,null,null,null,null,null,null,null,null,null,"",null,null,3,null,null,null,null,null,null,null,null,null,"",null,null,null,null,"","","","","",""]
[null,4,null,null,null,null,null,null,null,null,null,"",null,null,4,null,null,null,null,null,null,null,null,null,"",null,null,null,null,"","","","","",""]
[null,5,null,null,null,null,null,null,null,null,null,"",null,null,5,null,null,null,null,null,null,null,null,null,"",null,null,null,null,"","","","","",""]
[null,6,null,null,null,null,null,null,null,null,null,"",null,null,6,null,null,null,null,null,null,null,null,null,"",null,null,null,null,"","","","","",""]
[null,7,null,null,null,null,null,null,null,null,null,"",null,null,7,null,null,null,null,null,null,null,null,null,"",null,null,null,null,"","","","","",""]
[null,8,null,null,null,null,null,null,null,null,null,"",null,null,8,null,null,null,null,null,null,null,null,null,"",null,null,null,null,"","","","","",""]
[null,9,null,null,null,null,null,null,null,null,null,"",null,null,9,null,null,null,null,null,null,null,null,null,"",null,null,null,null,"","","","","",""]
[null,10,null,null,null,null,null,null,null,null,null,"",null,null,10,null,null,null,null,null,null,null,null,null,"",null,null,null,null,"","","","","",""]
[null,11,null,null,null,null,null,null,null,null,null,"",null,null,11,null,null,null,null,null,null,null,null,null,"",null,null,null,null,"","","","","",""]
[null,12,null,null,null,null,null,null,null,null,null,"",null,null,12,null,null,null,null,null,null,null,null,null,"",null,null,null,null,"","","","","",""]
[null,13,null,null,null,null,null,null,null,null,null,"",null,null,13,null,null,null,null,null,null,null,null,null,"",null,null,null,null,"","","","","",""]
[null,14,null,null,null,null,null,null,null,null,null,"",null,null,14,null,null,null,null,null,null,null,null,null,"",null,null,null,null,"","","","","",""]
[null,15,null,null,null,null,null,null,null,null,null,"",null,null,15,null,null,null,null,null,null,null,null,null,"",null,null,null,null,"","","","","",""]
[null,16,null,null,null,null,null,null,null,null,null,"",null,null,16,null,null,null,null,null,null,null,null,null,"",null,null,null,null,"","","","","",""]
[null,17,null,null,null,null,null,null,null,null,null,"",null,null,17,null,null,null,null,null,null,null,null,null,"",null,null,null,null,"","","","","",""]
[null,18,null,null,null,null,null,null,null,null,null,"",null,null,18,null,null,null,null,null,null,null,null,null,"",null,null,null,null,"","","","","",""]
[null,19,null,null,null,null,null,null,null,null,null,"",null,null,19,null,null,null,null,null,null,null,null,null,"",null,null,null,null,"","","","","",""]
[null,20,null,null,null,null,null,null,null,null,null,"",null,null,20,null,null,null,null,null,null,null,null,null,"",null,null,null,null,"","","","","",""]
[]
[null,"Activity 9:",null,null,null,null,null,null,null,null,null,null,null,null,"Activity 10:"]
[]
[null,null,"Station:",null,null,null,"+",null,null,null,null,null,null,null,null,"Station:",null,null,null,"+"]
[]
[null,null,"Tester:",null,null,null,null,null,null,null,null,null,null,null,null,"Tester:"]
[null,null,"Location L/R of Centerline:",null,null,null,null,null,null,null,null,null,null,null,null,"Location L/R of Centerline:"]
[]
[null,null,null,null,"Thickness ",null,null,null,null,null,null,null,null,null,null,null,null,"Thickness ",null,null,null,null,null,null,null,null,null,null,null,"Rounding"]
[null,null,"Layer Thickness Measurement:",null,null,null,null,null,null,null,null,"in",null,null,null,"Layer Thickness Measurement:",null,null,null,null,null,null,null,null,"in",null,null,null,{"$f":"IF(AND(NOT(J157=\"\"),OR(ISBLANK(J155),ISBLANK(J156),ISBLANK(E149),ISBLANK(H149))),1,0)","v":0},"thickness",{"$f":"IF(J155=\"\",\"\",ROUND(J155,1))","v":""},{"$f":"IF(W155=\"\",\"\",ROUND(W155,1))","v":""}]
[null,null,null,null,"Thickness Specified:",null,null,null,null,null,null,"in",null,null,null,null,null,"Thickness Specified:",null,null,null,null,null,null,"in",null,null,null,{"$f":"IF(AND(NOT(W157=\"\"),OR(ISBLANK(W155),ISBLANK(W156),ISBLANK(R149),ISBLANK(U149))),1,0)","v":0},null,{"$f":"IF(J156=\"\",\"\",ROUND(J156,1))","v":""},{"$f":"IF(W156=\"\",\"\",ROUND(W156,1))","v":""}]
[null,null,null,null,null,null,null,null,"Average Penetration Index",{"$f":"IF(L160=\"\",\"\",AVERAGE(L160:M179))","v":""},null,null,null,null,null,null,null,null,null,null,null,"Average Penetration Index",{"$f":"IF(Y160=\"\",\"\",AVERAGE(Y160:Z179))","v":""},null,null,null,null,null,null,"penetration index",{"$f":"IF(J157=\"\",\"\",ROUND(J157,2))","v":""},{"$f":"IF(W157=\"\",\"\",ROUND(W157,2))","v":""}]
[null,null,"Beginning",null,null,"Ending",null,null,"Number of",null,null,"Penetration",null,null,null,"Beginning",null,null,"Ending",null,null,"Number of",null,null,"Penetration"]
[null,null,"Reading (in)",null,null,"Reading (in)",null,null,"Blows",null,null,"Index",null,null,null,"Reading (in)",null,null,"Reading (in)",null,null,"Blows",null,null,"Index",null,null,null,null,"beginning","ending","index","beginning","ending","index"]
[null,1,null,null,null,null,null,null,null,null,null,{"$f":"IF(AND(NOT(C160=\"\"),NOT(F160=\"\"),NOT(I160=\"\")),(F160-C160)/I160,\"\")","v":""},null,null,1,null,null,null,null,null,null,null,null,null,{"$f":"IF(AND(NOT(P160=\"\"),NOT(S160=\"\"),NOT(V160=\"\")),(S160-P160)/V160,\"\")","v":""},null,null,null,null,{"$f":"IF(C160=\"\",\"\",ROUND(C160,2))","v":""},{"$f":"IF(F160=\"\",\"\",ROUND(F160,2))","v":""},{"$f":"IF(L160=\"\",\"\",ROUND(L160,2))","v":""},{"$f":"IF(P160=\"\",\"\",ROUND(P160,2))","v":""},{"$f":"IF(S160=\"\",\"\",ROUND(S160,2))","v":""},{"$f":"IF(Y160=\"\",\"\",ROUND(Y160,2))","v":""}]
[null,2,null,null,null,null,null,null,null,null,null,{"$f":"IF(AND(NOT(C161=\"\"),NOT(F161=\"\"),NOT(I161=\"\")),(F161-C161)/I161,\"\")","v":""},null,null,2,null,null,null,null,null,null,null,null,null,{"$f":"IF(AND(NOT(P161=\"\"),NOT(S161=\"\"),NOT(V161=\"\")),(S161-P161)/V161,\"\")","v":""},null,null,null,null,{"$f":"IF(C161=\"\",\"\",ROUND(C161,2))","v":""},{"$f":"IF(F161=\"\",\"\",ROUND(F161,2))","v":""},{"$f":"IF(L161=\"\",\"\",ROUND(L161,2))","v":""},{"$f":"IF(P161=\"\",\"\",ROUND(P161,2))","v":""},{"$f":"IF(S161=\"\",\"\",ROUND(S161,2))","v":""},{"$f":"IF(Y161=\"\",\"\",ROUND(Y161,2))","v":""}]
[null,3,null,null,null,null,null,null,null,null,null,"",null,null,3,null,null,null,null,null,null,null,null,null,"",null,null,null,null,"","","","","",""]
[null,4,null,null,null,null,null,null,null,null,null,"",null,null,4,null,null,null,null,null,null,null,null,null,"",null,null,null,null,"","","","","",""]
[null,5,null,null,null,null,null,null,null,null,null,"",null,null,5,null,null,null,null,null,null,null,null,null,"",null,null,null,null,"","","","","",""]
[null,6,null,null,null,null,null,null,null,null,null,"",null,null,6,null,null,null,null,null,null,null,null,null,"",null,null,null,null,"","","","","",""]
[null,7,null,null,null,null,null,null,null,null,null,"",null,null,7,null,null,null,null,null,null,null,null,null,"",null,null,null,null,"","","","","",""]
[null,8,null,null,null,null,null,null,null,null,null,"",null,null,8,null,null,null,null,null,null,null,null,null,"",null,null,null,null,"","","","","",""]
[null,9,null,null,null,null,null,null,null,null,null,"",null,null,9,null,null,null,null,null,null,null,null,null,"",null,null,null,null,"","","","","",""]
[null,10,null,null,null,null,null,null,null,null,null,"",null,null,10,null,null,null,null,null,null,null,null,null,"",null,null,null,null,"","","","","",""]
[null,11,null,null,null,null,null,null,null,null,null,"",null,null,11,null,null,null,null,null,null,null,null,null,"",null,null,null,null,"","","","","",""]
[null,12,null,null,null,null,null,null,null,null,null,"",null,null,12,null,null,null,null,null,null,null,null,null,"",null,null,null,null,"","","","","",""]
[null,13,null,null,null,null,null,null,null,null,null,"",null,null,13,null,null,null,null,null,null,null,null,null,"",null,null,null,null,"","","","","",""]
[null,14,null,null,null,null,null,null,null,null,null,"",null,null,14,null,null,null,null,null,null,null,null,null,"",null,null,null,null,"","","","","",""]
[null,15,null,null,null,null,null,null,null,null,null,"",null,null,15,null,null,null,null,null,null,null,null,null,"",null,null,null,null,"","","","","",""]
[null,16,null,null,null,null,null,null,null,null,null,"",null,null,16,null,null,null,null,null,null,null,null,null,"",null,null,null,null,"","","","","",""]
[null,17,null,null,null,null,null,null,null,null,null,"",null,null,17,null,null,null,null,null,null,null,null,null,"",null,null,null,null,"","","","","",""]
[null,18,null,null,null,null,null,null,null,null,null,"",null,null,18,null,null,null,null,null,null,null,null,null,"",null,null,null,null,"","","","","",""]
[null,19,null,null,null,null,null,null,null,null,null,"",null,null,19,null,null,null,null,null,null,null,null,null,"",null,null,null,null,"","","","","",""]
[null,20,null,null,null,null,null,null,null,null,null,"",null,null,20,null,null,null,null,null,null,null,null,null,"",null,null,null,null,"","","","","",""]
[]
[null,null,null,null,null,null,null,null,null,null,null,null,null,null,null,null,null,null,null,null,null,null,null,null,null,null,null,null,"Final error check total:"]
[null,null,null,null,null,null,null,null,null,null,null,null,null,null,null,null,null,null,null,null,null,null,null,null,null,null,null,null,{"$f":"SUM(AC14:AC180)","v":0}]

{"sheet":"Test 6","index":9,"n_rows":12,"n_cols":27,"rows_kept":12,"cut":false,"hidden":false,"merged":[[0,4,1,24],[2,22,3,24],[5,19,6,21],[5,22,6,24],[5,16,6,18],[2,4,3,6],[2,7,3,9],[2,10,3,12],[2,13,3,15],[2,16,3,18],[2,19,3,21],[5,1,6,3],[5,4,6,6],[5,7,6,9],[5,10,6,12],[5,13,6,15]]}
[null,null,null,null,{"$f":"Main!E1","v":"AWP Contractor Reporting E2O - Earthwork Contractor QC"}]
[null,null,null,null,null,null,null,null,null,null,null,null,null,null,null,null,null,null,null,null,null,null,null,null,null,"v",{"$f":"Main!AA2","v":"5.00"}]
[null,null,null,null," ",null,null,{"$f":"Main!H3","v":"Main"},null,null,{"$f":"Main!K3","v":"Quantity"},null,null,null,null,null,{"$f":"Main!Q3","v":"Send/Sync"},null,null,{"$f":"Main!T3","v":"Reports"},null,null,{"$f":"Main!W3","v":"Help"}]
[]
[]
[null,{"$f":"Main!B6","v":"General"},null,null,{"$f":"Main!E6","v":"Free Form"},null,null,{"$f":"IF(Main!H6=\"\",\"\",Main!H6)","v":"Subgrade"},null,null,{"$f":"IF(Main!K6=\"\",\"\",Main!K6)","v":"Rock Base"},null,null,{"$f":"IF(Main!N6=\"\",\"\",Main!N6)","v":"Agg Bases"},null,null,{"$f":"IF(Main!Q6=\"\",\"\",Main!Q6)","v":"T90/T99"},null,null,{"$f":"IF(Main!T6=\"\",\"\",Main!T6)","v":"DCP"},null,null,{"$f":"IF(Main!W6=\"\",\"\",Main!W6)","v":""}]
[]
[]
[]
[]
[]
[null,null,null,null,null,"NA"]

{"sheet":"Functional","index":10,"n_rows":290,"n_cols":9,"rows_kept":290,"cut":false,"hidden":false,"merged":[[13,0,13,3]]}
[]
[]
[null,null,null,null,null,"Valid Other Tab","Valid Sky Types","Wind"]
[null,null,null,null,null,null,"Clear","Calm"]
[null,null,null,null,null,null,"Hazy","Slight"]
[null,null,null,null,null,null,"Partly Cloudy","Medium"]
[null,null,null,null,null,null,"Mostly Cloudy","Strong"]
[null,null,null,null,null,null,"Cloudy"]
[]
[]
[]
[]
[]
["PWL Determination Tables"]
[null,"QC/QA Paving Thickness","QC/QA Paving Compressive Strength"]
["N=",{"$f":"COUNT(#REF!)","v":0},{"$f":"COUNT(#REF!)","v":0},{"$f":"COUNT(#REF!)","v":0},{"$f":"COUNT(#REF!)","v":0}]
["QU"]
["QI",{"$f":"#REF!","v":{"$error":"#REF!"}},{"$f":"#REF!","v":{"$error":"#REF!"}},{"$f":"#REF!","v":{"$error":"#REF!"}},{"$f":"#REF!","v":{"$error":"#REF!"}}]
["PWLu=",{"$f":"IF(B17>2.65,100,IF(B17<=-2.65,0,IF(B17<=0,(100-VLOOKUP(ABS(B17),$A$12:$I$277,((B16)-1))),VLOOKUP(B17,$A$12:$I$277,(B16-1)))))","v":{"$error":"#VALUE!"}},{"$error":"#VALUE!"},{"$error":"#VALUE!"},{"$error":"#VALUE!"},{"$error":"#VALUE!"},{"$error":"#VALUE!"},{"$error":"#VALUE!"},0.2]
["PWLl",{"$f":"IF(B18>2.65,100,IF(B18<=-2.65,0,IF(B18<=0,(100-VLOOKUP(ABS(B18),$A$24:$I$290,((B16)-1))),VLOOKUP(B18,$A$24:$I$290,(B16-1)))))","v":{"$error":"#REF!"}},{"$f":"IF(C18>2.65,100,IF(C18<=-2.65,0,IF(C18<=0,(100-VLOOKUP(ABS(C18),$A$25:$I$290,((C16)-1))),VLOOKUP(C18,$A$25:$I$290,(C16-1)))))","v":{"$error":"#REF!"}},{"$f":"IF(D18>2.65,100,IF(D18<=-2.65,0,IF(D18<=0,(100-VLOOKUP(ABS(D18),$A$12:$I$277,((D16)-1))),VLOOKUP(D18,$A$12:$I$277,(D16-1)))))","v":{"$error":"#REF!"}},{"$f":"IF(E18>2.65,100,IF(E18<=-2.65,0,IF(E18<=0,(100-VLOOKUP(ABS(E18),$A$12:$I$277,((E16)-1))),VLOOKUP(E18,$A$12:$I$277,(E16-1)))))","v":{"$error":"#REF!"}},{"$f":"IF(F18>2.65,100,IF(F18<=-2.65,0,IF(F18<=0,(100-VLOOKUP(ABS(F18),$A$12:$I$277,((F16)-1))),VLOOKUP(F18,$A$12:$I$277,(F16-1)))))","v":{"$error":"#VALUE!"}},{"$f":"IF(G18>2.65,100,IF(G18<=-2.65,0,IF(G18<=0,(100-VLOOKUP(ABS(G18),$A$12:$I$277,((G16)-1))),VLOOKUP(G18,$A$12:$I$277,(G16-1)))))","v":{"$error":"#VALUE!"}},{"$f":"IF(H18>2.65,100,IF(H18<=-2.65,0,IF(H18<=0,(100-VLOOKUP(ABS(H18),$A$12:$I$277,(A(H16)-1))),VLOOKUP(H18,$A$12:$I$277,(H16-1)))))","v":{"$error":"#NAME?"}},0.4]
["QUALITY",null,null,null,null,null,null,null,0.6]
["INDEX",null,null,null,null,null,null,null,0.8]
["(QU OR QL)"]
["Q",3,4,5,6,7,8,9,10]
[0,50,50,50,50,50,50,50,50]
[0.01,{"$f":"$I19*(B$30-B$25)+B$25","v":50.276000000000003},50.334000000000003,50.356000000000002,50.368000000000002,50.374000000000002,50.378,50.381999999999998,50.384]
[0.02,{"$f":"$I20*(B$30-B$25)+B$25","v":50.552},50.667999999999999,{"$f":"$I20*(D$30-D$25)+D$25","v":50.712000000000003},50.736000000000004,50.747999999999998,50.756,50.763999999999996,50.768000000000001]
[0.03,50.828000000000003,51.002000000000002,51.067999999999998,51.103999999999999,51.122,51.134,51.146000000000001,51.152000000000001]
[0.04,51.103999999999999,51.335999999999999,51.423999999999999,51.472000000000001,51.495999999999995,51.512,51.527999999999999,51.536000000000001]
[0.05,51.38,51.67,51.78,51.84,51.87,51.89,51.91,51.92]
[0.06,{"$f":"$I19*(B$35-B$30)+B$30","v":51.655999999999999},{"$f":"$I19*(C$35-C$30)+C$30","v":52.002000000000002},52.136000000000003,52.206000000000003,52.244,52.268000000000001,52.291999999999994,52.304000000000002]
[7.0000000000000007E-2,{"$f":"$I20*(B$35-B$30)+B$30","v":51.932000000000002},52.334000000000003,52.492000000000004,52.572000000000003,52.618000000000002,52.646000000000001,52.673999999999999,52.688000000000002]
[0.08,52.207999999999998,52.665999999999997,52.847999999999999,52.938000000000002,52.991999999999997,53.024000000000001,53.055999999999997,53.072000000000003]
[0.09,52.484000000000002,52.997999999999998,53.204000000000001,53.304000000000002,53.366,53.402000000000001,53.438000000000002,53.456000000000003]
[0.1,52.76,53.33,53.56,53.67,53.74,53.78,53.82,53.84]
[0.11,{"$f":"$I19*(B$40-B$35)+B$35","v":53.037999999999997},{"$f":"$I19*(C$40-C$35)+C$35","v":53.664000000000001},53.914000000000001,54.036000000000001,54.112000000000002,54.158000000000001,54.198,54.222000000000001]
[0.12,{"$f":"$I20*(B$40-B$35)+B$35","v":53.315999999999995},53.997999999999998,54.268000000000001,54.402000000000001,54.484000000000002,54.536000000000001,54.576000000000001,54.603999999999999]
[0.13,53.594000000000001,54.332000000000001,54.622,54.768000000000001,54.856000000000002,54.914000000000001,54.954000000000001,54.986000000000004]
[0.14000000000000001,53.872,54.665999999999997,54.975999999999999,55.134,55.228000000000002,55.292000000000002,55.332000000000001,55.368000000000002]
[0.15,54.15,55,55.33,55.5,55.6,55.67,55.71,55.75]
[0.16,{"$f":"$I19*(B$45-B$40)+B$40","v":54.427999999999997},{"$f":"$I19*(C$45-C$40)+C$40","v":55.334000000000003},55.683999999999997,55.863999999999997,55.972000000000001,56.044000000000004,56.088000000000001,56.13]
[0.17,{"$f":"$I20*(B$45-B$40)+B$40","v":54.705999999999996},55.667999999999999,56.037999999999997,56.228000000000002,56.344000000000001,56.417999999999999,56.466000000000001,56.51]
[0.18,54.984000000000002,56.002000000000002,56.392000000000003,56.591999999999999,56.716000000000001,56.792000000000002,56.844000000000001,56.89]
[0.19,55.262,56.335999999999999,56.746000000000002,56.956000000000003,57.088000000000001,57.165999999999997,57.222000000000001,57.269999999999996]
[0.2,55.54,56.67,57.1,57.32,57.46,57.54,57.6,57.65]
[0.21,{"$f":"$I19*(B$50-B$45)+B$45","v":55.822000000000003},{"$f":"$I19*(C$50-C$45)+C$45","v":57.002000000000002},57.454000000000001,57.683999999999997,57.828000000000003,57.914000000000001,57.975999999999999,58.025999999999996]
[0.22,{"$f":"$I20*(B$50-B$45)+B$45","v":56.103999999999999},57.334000000000003,57.808,58.048000000000002,58.195999999999998,58.287999999999997,58.351999999999997,58.402000000000001]
[0.23,56.386000000000003,57.665999999999997,58.161999999999999,58.411999999999999,58.564,58.661999999999999,58.728000000000002,58.777999999999999]
[0.24,56.667999999999999,57.997999999999998,58.515999999999998,58.776000000000003,58.931999999999995,59.035999999999994,59.103999999999999,59.154000000000003]
[0.25,56.95,58.33,58.87,59.14,59.3,59.41,59.48,59.53]
[0.26,{"$f":"$I19*(B$55-B$50)+B$50","v":57.234000000000002},{"$f":"$I19*(C$55-C$50)+C$50","v":58.664000000000001},59.222000000000001,59.5,59.665999999999997,59.777999999999999,59.851999999999997,59.904000000000003]
[0.27,{"$f":"$I20*(B$55-B$50)+B$50","v":57.518000000000001},58.997999999999998,59.573999999999998,59.86,60.031999999999996,60.146000000000001,60.223999999999997,60.277999999999999]
[0.28000000000000003,57.802,59.332000000000001,59.926000000000002,60.22,60.398000000000003,60.513999999999996,60.596000000000004,60.652000000000001]
[0.28999999999999998,58.085999999999999,59.665999999999997,60.277999999999999,60.58,60.764000000000003,60.881999999999998,60.968000000000004,61.025999999999996]
[0.3,58.37,60,60.63,60.94,61.13,61.25,61.34,61.4]
[0.31,{"$f":"$I19*(B$60-B$55)+B$55","v":58.655999999999999},{"$f":"$I19*(C$60-C$55)+C$55","v":60.334000000000003},60.980000000000004,61.297999999999995,61.492000000000004,61.616,61.708000000000006,61.769999999999996]
[0.32,{"$f":"$I20*(B$60-B$55)+B$55","v":58.942},60.667999999999999,61.330000000000005,61.655999999999999,61.853999999999999,61.981999999999999,62.076000000000001,62.14]
[0.33,59.227999999999994,61.002000000000002,61.68,62.013999999999996,62.216000000000001,62.347999999999999,62.444000000000003,62.51]
[0.34,59.513999999999996,61.335999999999999,62.03,62.372,62.577999999999996,62.713999999999999,62.811999999999998,62.88]
[0.35,59.8,61.67,62.38,62.73,62.94,63.08,63.18,63.25]
[0.36,{"$f":"$I19*(B$65-B$60)+B$60","v":60.091999999999999},{"$f":"$I19*(C$65-C$60)+C$60","v":62.002000000000002},62.728000000000002,63.085999999999999,63.3,63.442,63.543999999999997,63.613999999999997]
[0.37,{"$f":"$I20*(B$65-B$60)+B$60","v":60.384},62.334000000000003,63.076000000000001,63.442,63.66,63.804000000000002,63.908000000000001,63.977999999999994]
[0.38,60.675999999999995,62.665999999999997,63.424000000000007,63.798000000000002,64.02,64.165999999999997,64.272000000000006,64.341999999999999]
[0.39,60.967999999999996,62.997999999999998,63.772000000000006,64.153999999999996,64.38,64.528000000000006,64.635999999999996,64.705999999999989]
[0.4,61.26,63.33,64.12,64.510000000000005,64.739999999999995,64.89,65,65.069999999999993]
[0.41,{"$f":"$I19*(B$70-B$65)+B$65","v":61.555999999999997},{"$f":"$I19*(C$70-C$65)+C$65","v":63.664000000000001},64.463999999999999,64.862000000000009,65.093999999999994,65.245999999999995,65.358000000000004,65.429999999999993]
[0.42,{"$f":"$I20*(B$70-B$65)+B$65","v":61.851999999999997},63.997999999999998,64.808000000000007,65.213999999999999,65.447999999999993,65.602000000000004,65.716000000000008,65.789999999999992]
[0.43,62.148000000000003,64.331999999999994,65.152000000000001,65.566000000000003,65.802000000000007,65.957999999999998,66.073999999999998,66.150000000000006]
[0.44,62.444000000000003,64.665999999999997,65.496000000000009,65.917999999999992,66.156000000000006,66.314000000000007,66.432000000000002,66.510000000000005]
[0.45,62.74,65,65.84,66.27,66.510000000000005,66.67,66.790000000000006,66.87]
[0.46,{"$f":"$I19*(B$75-B$70)+B$70","v":63.042000000000002},{"$f":"$I19*(C$75-C$70)+C$70","v":65.334000000000003},66.183999999999997,66.616,66.86,67.022000000000006,67.14200000000001,67.222000000000008]
[0.47,{"$f":"$I20*(B$75-B$70)+B$70","v":63.344000000000001},65.668000000000006,66.528000000000006,66.962000000000003,67.210000000000008,67.374000000000009,67.494,67.573999999999998]
[0.48,63.646000000000001,66.001999999999995,66.872,67.307999999999993,67.56,67.725999999999999,67.846000000000004,67.926000000000002]
[0.49,63.948,66.335999999999999,67.216000000000008,67.653999999999996,67.910000000000011,68.078000000000003,68.197999999999993,68.277999999999992]
[0.5,64.25,66.67,67.56,68,68.260000000000005,68.430000000000007,68.55,68.63]
[0.51,{"$f":"$I19*(B$80-B$75)+B$75","v":64.56},{"$f":"$I19*(C$80-C$75)+C$75","v":67.001999999999995},67.900000000000006,68.343999999999994,68.606000000000009,68.77600000000001,68.896000000000001,68.975999999999999]
[0.52,{"$f":"$I20*(B$80-B$75)+B$75","v":64.87},67.334000000000003,68.240000000000009,68.688000000000002,68.951999999999998,69.122,69.242000000000004,69.322000000000003]
[0.53,65.179999999999993,67.665999999999997,68.58,69.031999999999996,69.298000000000002,69.468000000000004,69.587999999999994,69.667999999999992]
[0.54,65.489999999999995,67.998000000000005,68.92,69.376000000000005,69.643999999999991,69.813999999999993,69.933999999999997,70.013999999999996]
[0.55000000000000004,65.8,68.33,69.260000000000005,69.72,69.989999999999995,70.16,70.28,70.36]
[0.56000000000000005,{"$f":"$I19*(B$85-B$80)+B$80","v":66.117999999999995},{"$f":"$I19*(C$85-C$80)+C$80","v":68.664000000000001},69.597999999999999,70.057999999999993,70.328000000000003,70.49799999999999,70.617999999999995,{"$f":"$I19*(I$72-I$67)+I$67","v":66.146799999999999}]
[0.56999999999999995,{"$f":"$I20*(B$85-B$80)+B$80","v":66.435999999999993},68.998000000000005,69.936000000000007,70.396000000000001,70.665999999999997,70.835999999999999,70.956000000000003,{"$f":"$I20*(I$72-I$67)+I$67","v":66.503599999999992}]
[0.57999999999999996,66.754000000000005,69.331999999999994,70.274000000000001,70.733999999999995,71.004000000000005,71.173999999999992,71.293999999999997,{"$f":"$I21*(I$72-I$67)+I$67","v":66.860399999999998}]
[0.59,67.072000000000003,69.665999999999997,70.612000000000009,71.072000000000003,71.341999999999999,71.512,71.632000000000005,{"$f":"$I22*(I$72-I$67)+I$67","v":67.217199999999991}]
[0.6,67.39,70,70.95,71.41,71.680000000000007,71.849999999999994,71.97,72.06]
[0.61,{"$f":"$I19*(B$90-B$85)+B$85","v":67.718000000000004},{"$f":"$I19*(C$90-C$85)+C$85","v":70.334000000000003},71.281999999999996,71.744,72.012,72.11,72.301999999999992,72.391999999999996]
[0.62,{"$f":"$I20*(B$90-B$85)+B$85","v":68.046000000000006},70.668000000000006,71.614000000000004,72.078000000000003,72.344000000000008,72.37,72.634,72.724000000000004]
[0.63,68.373999999999995,71.001999999999995,71.945999999999998,72.411999999999992,72.676000000000002,72.63,72.965999999999994,73.055999999999997]
[0.64,68.701999999999998,71.335999999999999,72.278000000000006,72.745999999999995,73.00800000000001,72.89,73.298000000000002,73.388000000000005]
[0.65,69.03,71.67,72.61,73.08,73.34,73.150000000000006,73.63,73.72]
[0.66,{"$f":"$I19*(B$95-B$90)+B$90","v":69.37},{"$f":"$I19*(C$95-C$90)+C$90","v":72.001999999999995},72.94,73.405999999999992,73.665999999999997,73.550000000000011,73.953999999999994,74.042000000000002]
[0.67,{"$f":"$I20*(B$95-B$90)+B$90","v":69.710000000000008},72.334000000000003,73.27,73.731999999999999,73.992000000000004,73.95,74.277999999999992,74.364000000000004]
[0.68,70.05,72.665999999999997,73.600000000000009,74.057999999999993,74.317999999999998,74.350000000000009,74.602000000000004,74.685999999999993]
[0.69,70.39,72.998000000000005,73.930000000000007,74.384,74.644000000000005,74.75,74.926000000000002,75.007999999999996]
[0.7,70.73,73.33,74.260000000000005,74.709999999999994,74.97,75.150000000000006,75.25,75.33]
[0.71,{"$f":"$I19*(B$100-B$95)+B$95","v":71.084000000000003},{"$f":"$I19*(C$100-C$95)+C$95","v":73.664000000000001},74.585999999999999,75.031999999999996,75.287999999999997,75.463999999999999,75.566000000000003,75.644000000000005]
[0.72,{"$f":"$I20*(B$100-B$95)+B$95","v":71.438000000000002},73.998000000000005,74.912000000000006,75.353999999999999,75.605999999999995,75.778000000000006,75.882000000000005,75.957999999999998]
[0.73,71.792000000000002,74.331999999999994,75.238,75.675999999999988,75.924000000000007,76.091999999999999,76.197999999999993,76.272000000000006]
[0.74,72.146000000000001,74.665999999999997,75.564000000000007,75.99799999999999,76.242000000000004,76.406000000000006,76.513999999999996,76.585999999999999]
[0.75,72.5,75,75.89,76.319999999999993,76.56,76.72,76.83,76.900000000000006]
[0.76,{"$f":"$I19*(B$105-B$100)+B$100","v":72.872},{"$f":"$I19*(C$105-C$100)+C$100","v":75.334000000000003},76.209999999999994,76.634,76.872,77.028000000000006,77.135999999999996,77.206000000000003]
[0.77,{"$f":"$I20*(B$105-B$100)+B$100","v":73.244},75.668000000000006,76.53,76.947999999999993,77.183999999999997,77.335999999999999,77.441999999999993,77.512]
[0.78,73.616,76.001999999999995,76.849999999999994,77.262,77.496000000000009,77.644000000000005,77.748000000000005,77.818000000000012]
[0.79,73.988,76.335999999999999,77.17,77.575999999999993,77.808000000000007,77.951999999999998,78.054000000000002,78.124000000000009]
[0.8,74.36,76.67,77.489999999999995,77.89,78.12,78.260000000000005,78.36,78.430000000000007]
[0.81,{"$f":"$I19*(B$110-B$105)+B$105","v":74.754000000000005},{"$f":"$I19*(C$110-C$105)+C$105","v":77.001999999999995},77.805999999999997,78.198000000000008,78.421999999999997,78.56,78.656000000000006,78.724000000000004]
[0.82,{"$f":"$I20*(B$110-B$105)+B$105","v":75.147999999999996},77.334000000000003,78.122,78.506,78.724000000000004,78.86,78.951999999999998,79.018000000000001]
[0.83,75.542000000000002,77.665999999999997,78.437999999999988,78.814000000000007,79.025999999999996,79.160000000000011,79.248000000000005,79.312000000000012]
[0.84,75.935999999999993,77.998000000000005,78.753999999999991,79.122,79.328000000000003,79.460000000000008,79.543999999999997,79.606000000000009]
[0.85,76.33,78.33,79.069999999999993,79.430000000000007,79.63,79.760000000000005,79.84,79.900000000000006]
[0.86,{"$f":"$I19*(B$115-B$110)+B$110","v":76.754000000000005},{"$f":"$I19*(C$115-C$110)+C$110","v":78.664000000000001},79.38,79.73,79.923999999999992,80.05,80.128,80.186000000000007]
[0.87,{"$f":"$I20*(B$115-B$110)+B$110","v":77.177999999999997},78.998000000000005,79.69,80.03,80.217999999999989,80.34,80.415999999999997,80.472000000000008]
[0.88,77.602000000000004,79.331999999999994,80,80.330000000000013,80.512,80.63,80.704000000000008,80.757999999999996]
[0.89,78.025999999999996,79.665999999999997,80.31,80.63000000000001,80.805999999999997,80.92,80.992000000000004,81.043999999999997]
[0.9,78.45,80,80.62,80.930000000000007,81.099999999999994,81.209999999999994,81.28,81.33]
[0.91,{"$f":"$I19*(B$120-B$115)+B$115","v":78.91},{"$f":"$I19*(C$120-C$115)+C$115","v":80.334000000000003},80.924000000000007,81.222000000000008,81.384,81.489999999999995,81.558000000000007,81.605999999999995]
[0.92,{"$f":"$I20*(B$120-B$115)+B$115","v":79.37},80.668000000000006,81.228000000000009,81.51400000000001,81.667999999999992,81.77,81.835999999999999,81.881999999999991]
[0.93,79.83,81.001999999999995,81.531999999999996,81.805999999999997,81.951999999999998,82.05,82.114000000000004,82.158000000000001]
[0.94,80.290000000000006,81.335999999999999,81.835999999999999,82.097999999999999,82.23599999999999,82.33,82.391999999999996,82.433999999999997]
[0.95,80.75,81.67,82.14,82.39,82.52,82.61,82.67,82.71]
[0.96,{"$f":"$I19*(B$125-B$120)+B$120","v":81.266000000000005},{"$f":"$I19*(C$125-C$120)+C$120","v":82.001999999999995},82.44,82.671999999999997,82.795999999999992,82.88,82.936000000000007,82.97399999999999]
[0.97,{"$f":"$I20*(B$125-B$120)+B$120","v":81.781999999999996},82.334000000000003,82.74,82.953999999999994,83.072000000000003,83.149999999999991,83.201999999999998,83.238]
[0.98,82.298000000000002,82.665999999999997,83.04,83.236000000000004,83.347999999999999,83.42,83.468000000000004,83.501999999999995]
[0.99,82.813999999999993,82.998000000000005,83.34,83.518000000000001,83.624000000000009,83.69,83.733999999999995,83.766000000000005]
[1,83.33,83.33,83.64,83.8,83.9,83.96,84,84.03]
[1.01,{"$f":"$I19*(B$130-B$125)+B$125","v":83.932000000000002},{"$f":"$I19*(C$130-C$125)+C$125","v":83.664000000000001},83.93,84.075999999999993,84.166000000000011,84.22,84.256,84.281999999999996]
[1.02,{"$f":"$I20*(B$130-B$125)+B$125","v":84.534000000000006},83.998000000000005,84.22,84.352000000000004,84.432000000000002,84.48,84.512,84.534000000000006]
[1.03,85.135999999999996,84.331999999999994,84.51,84.628,84.698000000000008,84.74,84.768000000000001,84.786000000000001]
[1.04,85.738,84.665999999999997,84.8,84.904000000000011,84.963999999999999,85,85.024000000000001,85.038000000000011]
[1.05,86.34,85,85.09,85.18,85.23,85.26,85.28,85.29]
[1.06,{"$f":"$I19*(B$135-B$130)+B$130","v":87.103999999999999},{"$f":"$I19*(C$135-C$130)+C$130","v":85.334000000000003},85.376000000000005,85.444000000000003,85.486000000000004,85.51,85.525999999999996,85.532000000000011]
[1.07,{"$f":"$I20*(B$135-B$130)+B$130","v":87.867999999999995},85.668000000000006,85.662000000000006,85.707999999999998,85.742000000000004,85.76,85.772000000000006,85.774000000000001]
[1.08,88.632000000000005,86.001999999999995,85.947999999999993,85.972000000000008,85.998000000000005,86.01,86.018000000000001,86.016000000000005]
[1.0900000000000001,89.396000000000001,86.335999999999999,86.233999999999995,86.236000000000004,86.254000000000005,86.26,86.26400000000001,86.257999999999996]
[1.1000000000000001,90.16,86.67,86.52,86.5,86.51,86.51,86.51,86.5]
[1.1100000000000001,{"$f":"$I19*(B$140-B$135)+B$135","v":91.554000000000002},{"$f":"$I19*(C$140-C$135)+C$135","v":87.001999999999995},86.795999999999992,86.756,86.754000000000005,86.748000000000005,86.744,86.731999999999999]
[1.1200000000000001,{"$f":"$I20*(B$140-B$135)+B$135","v":92.947999999999993},87.334000000000003,87.072000000000003,87.012,86.998000000000005,86.986000000000004,86.978000000000009,86.963999999999999]
[1.1299999999999999,94.341999999999999,87.665999999999997,87.347999999999999,87.268000000000001,87.242000000000004,87.224000000000004,87.212000000000003,87.195999999999998]
[1.1399999999999999,95.73599999999999,87.998000000000005,87.624000000000009,87.524000000000001,87.486000000000004,87.462000000000003,87.446000000000012,87.427999999999997]
[1.1499999999999999,97.13,88.33,87.9,87.78,87.73,87.7,87.68,87.66]
[1.1599999999999999,100,{"$f":"$I19*(C$145-C$140)+C$140","v":88.664000000000001},{"$f":"$I19*(D$145-D$140)+D$140","v":88.168000000000006},88.025999999999996,87.963999999999999,87.926000000000002,87.902000000000001,87.88]
[1.17,100,{"$f":"$I20*(C$145-C$140)+C$140","v":88.998000000000005},88.436000000000007,88.272000000000006,88.198000000000008,88.152000000000001,88.124000000000009,88.1]
[1.18,100,89.331999999999994,88.703999999999994,88.518000000000001,88.432000000000002,88.378,88.346000000000004,88.320000000000007]
[1.19,100,89.665999999999997,88.971999999999994,88.76400000000001,88.666000000000011,88.603999999999999,88.568000000000012,88.54]
[1.2,100,90,89.24,89.01,88.9,88.83,88.79,88.76]
[1.21,100,{"$f":"$I19*(C$150-C$145)+C$145","v":90.334000000000003},{"$f":"$I19*(D$150-D$145)+D$145","v":89.5},89.246000000000009,89.124000000000009,89.045999999999992,89.00200000000001,88.966000000000008]
[1.22,100,{"$f":"$I20*(C$150-C$145)+C$145","v":90.668000000000006},89.76,89.481999999999999,89.347999999999999,89.262,89.213999999999999,89.172000000000011]
[1.23,100,91.001999999999995,90.02,89.718000000000004,89.572000000000003,89.477999999999994,89.426000000000002,89.378]
[1.24,100,91.335999999999999,90.28,89.953999999999994,89.795999999999992,89.694000000000003,89.637999999999991,89.584000000000003]
[1.25,100,91.67,90.54,90.19,90.02,89.91,89.85,89.79]
[1.26,100,{"$f":"$I19*(C$155-C$150)+C$150","v":92.001999999999995},{"$f":"$I19*(D$155-D$150)+D$150","v":90.79},90.414000000000001,90.22999999999999,90.116,90.048000000000002,89.988]
[1.27,100,{"$f":"$I20*(C$155-C$150)+C$150","v":92.334000000000003},91.04,90.638000000000005,90.44,90.322000000000003,90.245999999999995,90.186000000000007]
[1.28,100,92.665999999999997,91.29,90.861999999999995,90.649999999999991,90.527999999999992,90.444000000000003,90.384]
[1.29,100,92.998000000000005,91.54,91.085999999999999,90.86,90.733999999999995,90.641999999999996,90.582000000000008]
[1.3,100,93.33,91.79,91.31,91.07,90.94,90.84,90.78]
[1.31,100,{"$f":"$I19*(C$160-C$155)+C$155","v":93.664000000000001},{"$f":"$I19*(D$160-D$155)+D$155","v":92.028000000000006},91.522000000000006,91.271999999999991,91.132000000000005,91.028000000000006,90.963999999999999]
[1.32,100,{"$f":"$I20*(C$160-C$155)+C$155","v":93.998000000000005},92.266000000000005,91.734000000000009,91.47399999999999,91.323999999999998,91.216000000000008,91.147999999999996]
[1.33,100,94.331999999999994,92.504000000000005,91.945999999999998,91.676000000000002,91.516000000000005,91.403999999999996,91.332000000000008]
[1.34,100,94.665999999999997,92.742000000000004,92.158000000000001,91.878,91.707999999999998,91.591999999999999,91.516000000000005]
[1.35,100,95,92.98,92.37,92.08,91.9,91.78,91.7]
[1.36,100,{"$f":"$I19*(C$165-C$160)+C$160","v":95.334000000000003},{"$f":"$I19*(D$165-D$160)+D$160","v":93.207999999999998},92.570000000000007,92.268000000000001,92.082000000000008,91.957999999999998,91.872]
[1.37,100,{"$f":"$I20*(C$165-C$160)+C$160","v":95.668000000000006},93.436000000000007,92.77000000000001,92.456000000000003,92.26400000000001,92.135999999999996,92.043999999999997]
[1.38,100,96.001999999999995,93.664000000000001,92.97,92.643999999999991,92.445999999999998,92.314000000000007,92.216000000000008]
[1.39,100,96.335999999999999,93.89200000000001,93.17,92.831999999999994,92.628,92.492000000000004,92.388000000000005]
[1.4,100,96.67,94.12,93.37,93.02,92.81,92.67,92.56]
[1.41,100,{"$f":"$I19*(C$170-C$165)+C$165","v":97.001999999999995},{"$f":"$I19*(D$170-D$165)+D$165","v":94.334000000000003},93.56,93.195999999999998,92.978000000000009,92.834000000000003,92.722000000000008]
[1.42,100,{"$f":"$I20*(C$170-C$165)+C$165","v":97.334000000000003},94.548000000000002,93.75,93.372,93.146000000000001,92.998000000000005,92.884]
[1.43,100,97.665999999999997,94.762,93.94,93.548000000000002,93.314000000000007,93.161999999999992,93.046000000000006]
[1.44,100,97.998000000000005,94.975999999999999,94.13,93.724000000000004,93.481999999999999,93.325999999999993,93.207999999999998]
[1.45,100,98.33,95.19,94.32,93.9,93.65,93.49,93.37]
[1.46,100,{"$f":"$I19*(C$175-C$170)+C$170","v":98.664000000000001},{"$f":"$I19*(D$175-D$170)+D$170","v":95.391999999999996},94.494,94.064000000000007,93.808000000000007,93.643999999999991,93.522000000000006]
[1.47,100,{"$f":"$I20*(C$175-C$170)+C$170","v":98.998000000000005},95.593999999999994,94.667999999999992,94.228000000000009,93.966000000000008,93.798000000000002,93.674000000000007]
[1.48,100,99.331999999999994,95.796000000000006,94.841999999999999,94.391999999999996,94.123999999999995,93.951999999999998,93.825999999999993]
[1.49,100,99.665999999999997,95.998000000000005,95.015999999999991,94.555999999999997,94.281999999999996,94.106000000000009,93.977999999999994]
[1.5,100,100,96.2,95.19,94.72,94.44,94.26,94.13]
[1.51,100,100,{"$f":"$I19*(D$180-D$175)+D$175","v":96.385999999999996},95.352000000000004,94.872,94.585999999999999,94.402000000000001,94.268000000000001]
[1.52,100,100,{"$f":"$I20*(D$180-D$175)+D$175","v":96.572000000000003},95.513999999999996,95.024000000000001,94.731999999999999,94.543999999999997,94.405999999999992]
[1.53,100,100,96.757999999999996,95.676000000000002,95.176000000000002,94.878,94.686000000000007,94.543999999999997]
[1.54,100,100,96.944000000000003,95.837999999999994,95.328000000000003,95.024000000000001,94.828000000000003,94.681999999999988]
[1.55,100,100,97.13,96,95.48,95.17,94.97,94.82]
[1.56,100,100,{"$f":"$I19*(D$185-D$180)+D$180","v":97.298000000000002},96.15,95.618000000000009,95.304000000000002,95.1,94.947999999999993]
[1.57,100,100,{"$f":"$I20*(D$185-D$180)+D$180","v":97.465999999999994},96.3,95.756,95.438000000000002,95.23,95.075999999999993]
[1.58,100,100,97.634,96.45,95.894000000000005,95.572000000000003,95.36,95.203999999999994]
[1.59,100,100,97.801999999999992,96.6,96.031999999999996,95.706000000000003,95.490000000000009,95.331999999999994]
[1.6,100,100,97.97,96.75,96.17,95.84,95.62,95.46]
[1.61,100,100,{"$f":"$I19*(D$190-D$185)+D$185","v":98.12},96.884,96.298000000000002,95.962000000000003,95.740000000000009,95.577999999999989]
[1.62,100,100,{"$f":"$I20*(D$190-D$185)+D$185","v":98.27},97.018000000000001,96.426000000000002,96.084000000000003,95.86,95.695999999999998]
[1.63,100,100,98.42,97.152000000000001,96.554000000000002,96.206000000000003,95.98,95.813999999999993]
[1.64,100,100,98.57,97.286000000000001,96.682000000000002,96.328000000000003,96.1,95.932000000000002]
[1.65,100,100,98.72,97.42,96.81,96.45,96.22,96.05]
[1.66,100,100,{"$f":"$I19*(D$195-D$190)+D$190","v":98.843999999999994},97.54,96.924000000000007,96.561999999999998,96.328000000000003,96.158000000000001]
[1.67,100,100,{"$f":"$I20*(D$195-D$190)+D$190","v":98.968000000000004},97.66,97.037999999999997,96.674000000000007,96.436000000000007,96.266000000000005]
[1.68,100,100,99.091999999999999,97.78,97.152000000000001,96.786000000000001,96.543999999999997,96.373999999999995]
[1.69,100,100,99.216000000000008,97.899999999999991,97.265999999999991,96.89800000000001,96.652000000000001,96.481999999999999]
[1.7,100,100,99.34,98.02,97.38,97.01,96.76,96.59]
[1.71,100,100,{"$f":"$I19*(D$200-D$195)+D$195","v":99.433999999999997},98.125999999999991,97.481999999999999,97.11,96.858000000000004,96.686000000000007]
[1.72,100,100,{"$f":"$I20*(D$200-D$195)+D$195","v":99.528000000000006},98.231999999999999,97.584000000000003,97.210000000000008,96.956000000000003,96.781999999999996]
[1.73,100,100,99.622,98.337999999999994,97.685999999999993,97.31,97.054000000000002,96.878]
[1.74,100,100,99.716000000000008,98.444000000000003,97.787999999999997,97.410000000000011,97.152000000000001,96.97399999999999]
[1.75,100,100,99.81,98.55,97.89,97.51,97.25,97.07]
[1.76,100,100,{"$f":"0.25*(D$204-D$200)+D$200","v":99.857500000000002},{"$f":"$I19*(E$205-E$200)+E$200","v":98.637999999999991},97.981999999999999,97.600000000000009,97.34,97.158000000000001]
[1.77,100,100,{"$f":"0.5*(D$204-D$200)+D$200","v":99.905000000000001},98.725999999999999,98.073999999999998,97.69,97.43,97.245999999999995]
[1.78,100,100,{"$f":"0.75*(D$204-D$200)+D$200","v":99.952500000000001},98.813999999999993,98.165999999999997,97.78,97.52,97.334000000000003]
[1.79,100,100,100,98.902000000000001,98.257999999999996,97.86999999999999,97.61,97.421999999999997]
[1.8,100,100,100,98.99,98.35,97.96,97.7,97.51]
[1.81,100,100,100,{"$f":"$I19*(E$210-E$205)+E$205","v":99.063999999999993},98.427999999999997,98.037999999999997,97.778000000000006,97.59]
[1.82,100,100,100,99.137999999999991,98.506,98.116,97.856000000000009,97.67]
[1.83,100,100,100,99.212000000000003,98.583999999999989,98.193999999999988,97.933999999999997,97.75]
[1.84,100,100,100,99.286000000000001,98.661999999999992,98.271999999999991,98.012,97.83]
[1.85,100,100,100,99.36,98.74,98.35,98.09,97.91]
[1.86,100,100,100,{"$f":"$I19*(E$215-E$210)+E$210","v":99.418000000000006},{"$f":"$I19*(F$215-F$210)+F$210","v":98.805999999999997},{"$f":"$I19*(G$215-G$210)+G$210","v":98.417999999999992},{"$f":"$I19*(H$215-H$210)+H$210","v":98.16},{"$f":"$I19*(I$215-I$210)+I$210","v":97.977999999999994}]
[1.87,100,100,100,{"$f":"$I20*(E$215-E$210)+E$210","v":99.475999999999999},98.872,98.48599999999999,98.23,98.045999999999992]
[1.88,100,100,100,99.534000000000006,98.937999999999988,98.554000000000002,98.3,98.114000000000004]
[1.89,100,100,100,99.591999999999999,99.003999999999991,98.622,98.37,98.182000000000002]
[1.9,100,100,100,99.65,99.07,98.69,98.44,98.25]
[1.91,100,100,100,{"$f":"$I19*(E$220-E$215)+E$215","v":99.69},{"$f":"$I19*(F$220-F$215)+F$215","v":99.125999999999991},{"$f":"$I19*(G$220-G$215)+G$215","v":98.75},{"$f":"$I19*(H$220-H$215)+H$215","v":98.5},{"$f":"$I19*(I$220-I$215)+I$215","v":98.311999999999998}]
[1.92,100,100,100,{"$f":"$I20*(E$220-E$215)+E$215","v":99.73},99.181999999999988,98.81,98.56,98.373999999999995]
[1.93,100,100,100,99.77,99.238,98.86999999999999,98.61999999999999,98.436000000000007]
[1.94,100,100,100,99.81,99.293999999999997,98.929999999999993,98.679999999999993,98.498000000000005]
[1.95,100,100,100,99.85,99.35,98.99,98.74,98.56]
[1.96,100,100,100,{"$f":"$I19*(E$225-E$220)+E$220","v":99.873999999999995},{"$f":"$I19*(F$225-F$220)+F$220","v":99.393999999999991},{"$f":"$I19*(G$225-G$220)+G$220","v":99.039999999999992},{"$f":"$I19*(H$225-H$220)+H$220","v":98.792000000000002},{"$f":"$I19*(I$225-I$220)+I$220","v":98.614000000000004}]
[1.97,100,100,100,{"$f":"$I20*(E$225-E$220)+E$220","v":99.897999999999996},99.437999999999988,99.089999999999989,98.843999999999994,98.668000000000006]
[1.98,100,100,100,99.921999999999997,99.481999999999999,99.14,98.896000000000001,98.721999999999994]
[1.99,100,100,100,99.945999999999998,99.525999999999996,99.19,98.947999999999993,98.775999999999996]
[2,100,100,100,99.97,99.57,99.24,99,98.83]
[2.0099999999999998,100,100,100,{"$f":"$I19*(E$230-E$225)+E$225","v":99.975999999999999},{"$f":"$I19*(F$230-F$225)+F$225","v":99.603999999999999},{"$f":"$I19*(G$230-G$225)+G$225","v":99.281999999999996},{"$f":"$I19*(H$230-H$225)+H$225","v":99.046000000000006},{"$f":"$I19*(I$230-I$225)+I$225","v":98.876000000000005}]
[2.02,100,100,100,{"$f":"$I20*(E$230-E$225)+E$225","v":99.981999999999999},99.637999999999991,99.323999999999998,99.091999999999999,98.921999999999997]
[2.0299999999999998,100,100,100,99.988,99.671999999999997,99.366,99.138000000000005,98.968000000000004]
[2.04,100,100,100,99.994,99.705999999999989,99.408000000000001,99.183999999999997,99.013999999999996]
[2.0499999999999998,100,100,100,100,99.74,99.45,99.23,99.06]
[2.06,100,100,100,100,{"$f":"$I19*(F$235-F$230)+F$230","v":99.763999999999996},{"$f":"$I19*(G$235-G$230)+G$230","v":99.481999999999999},{"$f":"$I19*(H$235-H$230)+H$230","v":99.266000000000005},{"$f":"$I19*(I$235-I$230)+I$230","v":99.100000000000009}]
[2.0699999999999998,100,100,100,100,{"$f":"$I20*(F$235-F$230)+F$230","v":99.787999999999997},99.513999999999996,99.302000000000007,99.14]
[2.08,100,100,100,100,99.811999999999998,99.546000000000006,99.337999999999994,99.18]
[2.09,100,100,100,100,99.835999999999999,99.578000000000003,99.373999999999995,99.22]
[2.1,100,100,100,100,99.86,99.61,99.41,99.26]
[2.11,100,100,100,100,{"$f":"$I19*(F$240-F$235)+F$235","v":99.876000000000005},{"$f":"$I19*(G$240-G$235)+G$235","v":99.635999999999996},{"$f":"$I19*(H$240-H$235)+H$235","v":99.441999999999993},{"$f":"$I19*(I$240-I$235)+I$235","v":99.292000000000002}]
[2.12,100,100,100,100,{"$f":"$I20*(F$240-F$235)+F$235","v":99.891999999999996},99.661999999999992,99.47399999999999,99.323999999999998]
[2.13,100,100,100,100,99.908000000000001,99.688000000000002,99.506,99.356000000000009]
[2.14,100,100,100,100,99.923999999999992,99.713999999999999,99.537999999999997,99.388000000000005]
[2.15,100,100,100,100,99.94,99.74,99.57,99.42]
[2.16,100,100,100,100,{"$f":"$I19*(F$245-F$240)+F$240","v":99.95},{"$f":"$I19*(G$245-G$240)+G$240","v":99.759999999999991},{"$f":"$I19*(H$245-H$240)+H$240","v":99.593999999999994},{"$f":"$I19*(I$245-I$240)+I$240","v":99.448000000000008}]
[2.17,100,100,100,100,{"$f":"$I20*(F$245-F$240)+F$240","v":99.96},99.78,99.617999999999995,99.475999999999999]
[2.1800000000000002,100,100,100,100,99.97,99.8,99.641999999999996,99.504000000000005]
[2.19,100,100,100,100,99.97999999999999,99.820000000000007,99.665999999999997,99.531999999999996]
[2.2000000000000002,100,100,100,100,99.99,99.84,99.69,99.56]
[2.21,100,100,100,100,{"$f":"$I19*(F$250-F$245)+F$245","v":99.99199999999999},{"$f":"$I19*(G$250-G$245)+G$245","v":99.853999999999999},{"$f":"$I19*(H$250-H$245)+H$245","v":99.71},{"$f":"$I19*(I$250-I$245)+I$245","v":99.584000000000003}]
[2.2200000000000002,100,100,100,100,{"$f":"$I20*(F$250-F$245)+F$245","v":99.994},99.867999999999995,99.73,99.608000000000004]
[2.23,100,100,100,100,99.995999999999995,99.882000000000005,99.75,99.632000000000005]
[2.2400000000000002,100,100,100,100,99.998000000000005,99.896000000000001,99.77000000000001,99.656000000000006]
[2.25,100,100,100,100,100,99.91,99.79,99.68]
[2.2599999999999998,100,100,100,100,100,{"$f":"$I19*(G$255-G$250)+G$250","v":99.92},{"$f":"$I19*(H$255-H$250)+H$250","v":99.804000000000002},{"$f":"$I19*(I$255-I$250)+I$250","v":99.698000000000008}]
[2.27,100,100,100,100,100,{"$f":"$I20*(G$255-G$250)+G$250","v":99.929999999999993},99.817999999999998,99.716000000000008]
[2.2799999999999998,100,100,100,100,100,99.94,99.832000000000008,99.733999999999995]
[2.29,100,100,100,100,100,99.949999999999989,99.846000000000004,99.751999999999995]
[2.2999999999999998,100,100,100,100,100,99.96,99.86,99.77]
[2.31,100,100,100,100,100,{"$f":"$I19*(G$260-G$255)+G$255","v":99.963999999999999},{"$f":"$I19*(H$260-H$255)+H$255","v":99.872},{"$f":"$I19*(I$260-I$255)+I$255","v":99.783999999999992}]
[2.3199999999999998,100,100,100,100,100,{"$f":"$I20*(G$260-G$255)+G$255","v":99.968000000000004},99.884,99.798000000000002]
[2.33,100,100,100,100,100,99.971999999999994,99.896000000000001,99.811999999999998]
[2.34,100,100,100,100,100,99.975999999999999,99.908000000000001,99.826000000000008]
[2.35,100,100,100,100,100,99.98,99.92,99.84]
[2.36,100,100,100,100,100,{"$f":"$I19*(G$265-G$260)+G$260","v":99.984000000000009},99.926000000000002,99.850000000000009]
[2.37,100,100,100,100,100,99.988,99.932000000000002,99.86]
[2.38,100,100,100,100,100,99.992000000000004,99.938000000000002,99.87]
[2.39,100,100,100,100,100,99.995999999999995,99.944000000000003,99.88]
[2.4,100,100,100,100,100,100,99.95,99.89]
[2.41,100,100,100,100,100,100,{"$f":"$I19*(H$270-H$265)+H$265","v":99.956000000000003},{"$f":"$I19*(I$270-I$265)+I$265","v":99.897999999999996}]
[2.42,100,100,100,100,100,100,{"$f":"$I20*(H$270-H$265)+H$265","v":99.962000000000003},99.906000000000006]
[2.4300000000000002,100,100,100,100,100,100,99.968000000000004,99.914000000000001]
[2.44,100,100,100,100,100,100,99.974000000000004,99.922000000000011]
[2.4500000000000002,100,100,100,100,100,100,99.98,99.93]
[2.46,100,100,100,100,100,100,{"$f":"$I19*(H$275-H$270)+H$270","v":99.981999999999999},{"$f":"$I19*(I$275-I$270)+I$270","v":99.936000000000007}]
[2.4700000000000002,100,100,100,100,100,100,{"$f":"$I20*(H$275-H$270)+H$270","v":99.983999999999995},99.942000000000007]
[2.48,100,100,100,100,100,100,99.986000000000004,99.947999999999993]
[2.4900000000000002,100,100,100,100,100,100,99.988,99.953999999999994]
[2.5,100,100,100,100,100,100,99.99,99.96]
[2.5099999999999998,100,100,100,100,100,100,{"$f":"$I19*(H$280-H$275)+H$275","v":99.99199999999999},{"$f":"$I19*(I$280-I$275)+I$275","v":99.963999999999999}]
[2.52,100,100,100,100,100,100,{"$f":"$I20*(H$280-H$275)+H$275","v":99.994},99.968000000000004]
[2.5299999999999998,100,100,100,100,100,100,99.995999999999995,99.971999999999994]
[2.54,100,100,100,100,100,100,99.998000000000005,99.975999999999999]
[2.5499999999999998,100,100,100,100,100,100,100,99.98]
[2.56,100,100,100,100,100,100,100,{"$f":"$I19*(I$285-I$280)+I$280","v":99.981999999999999}]
[2.57,100,100,100,100,100,100,100,{"$f":"$I20*(I$285-I$280)+I$280","v":99.983999999999995}]
[2.58,100,100,100,100,100,100,100,{"$f":"$I21*(I$285-I$280)+I$280","v":99.986000000000004}]
[2.59,100,100,100,100,100,100,100,{"$f":"$I22*(I$285-I$280)+I$280","v":99.988}]
[2.6,100,100,100,100,100,100,100,99.99]
[2.61,100,100,100,100,100,100,100,{"$f":"$I19*(I$290-I$285)+I$285","v":99.99199999999999}]
[2.62,100,100,100,100,100,100,100,{"$f":"$I20*(I$290-I$285)+I$285","v":99.994}]
[2.63,100,100,100,100,100,100,100,{"$f":"$I21*(I$290-I$285)+I$285","v":99.995999999999995}]
[2.64,100,100,100,100,100,100,100,{"$f":"$I22*(I$290-I$285)+I$285","v":99.998000000000005}]
[2.65,100,100,100,100,100,100,100,100]

{"sheet":"ReportS","index":11,"n_rows":11,"n_cols":3,"rows_kept":11,"cut":false,"hidden":false,"merged":[[47,26,47,31],[41,26,41,31],[42,26,42,31],[43,26,43,31],[44,26,44,31],[45,26,45,31],[46,26,46,31],[42,20,43,23],[40,13,40,14],[19,13,19,14],[21,13,21,14],[25,13,25,14],[35,13,35,14],[38,13,38,14],[36,13,36,14],[37,13,37,14],[41,13,41,14],[47,13,47,14],[44,13,44,14],[45,13,45,14],[42,13,42,14],[43,13,43,14],[46,13,46,14],[27,13,27,14],[28,13,28,14],[22,13,22,14],[31,13,31,14],[38,17,39,23],[36,17,37,23],[34,17,35,23],[33,18,33,21],[30,20,30,21],[33,8,34,9],[35,8,36,9],[37,8,38,9],[31,20,31,21],[32,18,32,21],[31,17,31,18],[25,0,26,1],[27,0,28,1],[29,0,30,1],[25,2,26,3],[27,2,28,3],[29,2,30,3],[39,0,40,1],[39,2,40,3],[39,4,40,7],[33,4,34,7],[37,4,38,7],[33,0,34,1],[35,0,36,1],[25,4,26,7],[31,0,32,1],[44,0,45,2],[44,3,45,9],[41,2,42,3],[41,8,42,9],[41,0,42,1],[41,4,42,7],[26,18,26,20],[25,18,25,20],[37,0,38,1],[35,2,36,3],[37,2,38,3],[27,4,28,7],[29,4,30,7],[29,13,29,14],[31,2,32,3],[33,2,34,3],[35,4,36,7],[31,4,32,7],[31,8,32,9],[39,8,40,9],[30,17,30,18],[27,8,28,9],[29,8,30,9],[39,13,39,14],[27,18,27,20],[27,21,27,22],[26,13,26,14],[25,8,26,9],[44,33,45,35],[39,33,41,36],[23,34,23,35],[42,33,43,36],[29,17,29,18],[29,20,29,21],[33,22,33,23],[23,26,23,27],[42,17,43,19],[32,22,32,23],[40,26,40,32],[39,26,39,32],[23,28,24,28],[23,32,23,33],[23,29,24,29],[26,21,26,22],[25,21,25,22],[30,13,30,14],[34,13,34,14],[33,16,34,16],[1,2,2,2],[20,5,21,6],[18,2,19,4],[20,2,21,4],[15,0,15,9],[22,25,22,26],[16,18,17,23],[18,5,19,6],[18,7,19,9],[18,13,18,14],[16,25,17,30],[17,16,18,16],[16,0,17,1],[16,2,17,4],[18,0,19,1],[16,5,17,6],[16,7,17,9],[21,25,21,26],[20,7,21,9],[22,0,24,9],[20,0,21,1],[24,13,24,14],[20,13,20,14],[23,13,23,14],[21,27,21,30],[20,32,21,35],[18,32,19,35],[21,31,24,31],[19,25,19,26],[20,25,20,26],[19,27,19,30],[20,27,20,30],[22,27,22,30],[22,32,22,36]]}
[]
[null,null,"Main"]
[]
[]
[]
[]
[]
[null,null,"TBD"]
[]
[]
[null,"This tab can be used for printable outputs.  If you have any requests please let us know."]

{"sheet":"Send Sync","index":12,"n_rows":735,"n_cols":52,"rows_kept":735,"cut":false,"hidden":false,"merged":[[20,14,20,16],[20,11,20,13],[19,15,19,18],[36,4,36,24],[34,17,34,19],[33,20,33,23],[34,20,34,23],[33,2,33,15],[33,17,33,19],[2,4,3,6],[2,7,3,9],[2,10,3,12],[2,13,3,15],[18,4,18,10],[18,11,18,13],[7,7,7,19],[8,15,8,19],[9,2,10,24],[8,21,8,25],[16,1,16,10],[16,11,16,22],[40,1,40,3],[29,1,30,14],[32,17,32,22],[14,1,14,10],[14,11,14,16],[14,18,14,21],[15,1,15,10],[15,11,15,22],[22,17,23,22],[17,2,17,22],[32,1,32,14],[24,2,24,25],[39,1,39,3],[40,4,40,24],[39,4,39,24],[38,4,38,24],[41,1,41,3],[160,10,160,11],[46,4,46,24],[42,1,42,3],[42,4,42,24],[43,1,43,3],[43,4,43,24],[44,1,44,3],[44,4,44,24],[46,1,46,3],[41,4,41,24],[0,4,1,24],[53,29,54,29],[2,19,3,21],[2,22,3,24],[4,22,5,24],[2,16,3,18],[29,17,29,22],[11,2,12,24],[45,1,45,3],[45,4,45,24],[36,1,36,3],[37,1,37,3],[37,4,37,24],[38,1,38,3],[4,1,5,3],[4,4,5,21]]}
[null,null,null,null,{"$f":"Main!E1","v":"AWP Contractor Reporting E2O - Earthwork Contractor QC"}]
[null,null,null,null,null,null,null,null,null,null,null,null,null,null,null,null,null,null,null,null,null,null,null,null,null,"v",{"$f":"Main!AA2","v":"5.00"},null,"Temp File",null,{"$f":"CONCATENATE(AE8,AE4)","v":"C:\\Users\\varnej1\\AppData\\Local\\Temp\\ERTH.xls"},{"$f":"CONCATENATE(AE8,AF4)","v":"C:\\Users\\varnej1\\AppData\\Local\\Temp\\ERTH.xlsm"}]
[null,null,null,null," ",null,null,{"$f":"Main!H3","v":"Main"},null,null,{"$f":"Main!K3","v":"Quantity"},null,null,null,null,null,{"$f":"Main!Q3","v":"Send/Sync"},null,null,{"$f":"Main!T3","v":"Reports"},null,null,{"$f":"Main!W3","v":"Help"},null,null,null,null,null,"Launched File",null,"V:\\Excel2Oracle\\ContractorReportingAWP\\AWP_Earthwork.xlsm"]
[null,null,null,null,null,null,null,null,null,null,null,null,null,null,null,null,null,null,null,null,null,null,null,null,null,null,null,null,"Mandatory filename",null,{"$f":"CONCATENATE(\"ERTH\",Main!V12,\".xls\")","v":"ERTH.xls"},{"$f":"CONCATENATE(\"ERTH\",Main!V12,\".xlsm\")","v":"ERTH.xlsm"}]
[null,null,null,null,"!  ACTIONS ON THIS TAB REQUIRE AN INTERNET CONNECTION  !",null,null,null,null,null,null,null,null,null,null,null,null,null,null,null,null,null,null,null,null,null,null,null,"future local fullname"]
[null,null,null,null,null,null,null,null,null,null,null,null,null,null,null,null,null,null,null,null,null,null,null,null,null,null,null,null,"User MyDocuments",null,"C:\\Users\\varnej1\\my documents\\"]
[null,null,null,null,null,null,null,null,null,null,null,null,null,null,null,null,null,null,null,null,null,null,null,null,null,null,null,null,"Userid",null,"Jonathan C. Varner","Jonathan C. Varner","Jonathan C. Varner","Jonathan C. Varner","Jonathan C. Varner","Jonathan C. Varner","Jonathan C. Varner","Jonathan C. Varner","Jonathan C. Varner","Jonathan C. Varner","Jonathan C. Varner","Jonathan C. Varner","Jonathan C. Varner","Jonathan C. Varner","Jonathan C. Varner","Jonathan C. Varner","Jonathan C. Varner","Jonathan C. Varner","Jonathan C. Varner","Jonathan C. Varner","Jonathan C. Varner","Jonathan C. Varner"]
["SEND DATA TO MODOT:",null,null,null,null,null,null,{"$f":"IF(AC20>0, \"NOT YET COMPLETE!\", \"\")","v":"NOT YET COMPLETE!"},null,null,null,null,null,null,null,null,null,null,null,null,null,null,null,null,null,null,null,null,"Temp",null,"C:\\Users\\varnej1\\AppData\\Local\\Temp\\"]
[null,"Once completed, this report must be emailed back to MoDOT:      ",null,null,null,null,null,null,null,null,null,null,null,null,null,"awpcre2o@modot.mo.gov",null,null,null,null,"or","Outlook Client Upload",null,null,null,null,null,null,"OS",null,"Windows (32-bit) NT 6.01"]
[null,null,"* If you have an MS Outlook client installed, the button will automate the send…  otherwise please use the email address and ensure the sample ID is included in the file name.",null,null,null,null,null,null,null,null,null,null,null,null,null,null,null,null,null,null,null,null,null,null,null,null,null,"Excel Defualt File Path",null,"j:\\meyerm3\\"]
[null,null,null,null,null,null,null,null,null,null,null,null,null,null,null,null,null,null,null,null,null,null,null,null,null,null,null,null,"User Indicated File",null,"C:\\Users\\meyerm3\\Desktop\\AS1 14QMIDK234.xls"]
[null,null,"* If an error is found during processing, the email will contain a basic indication of the issue.  You are responsible for persuing the solution… work with your RE office to help.",null,null,null,null,null,null,null,null,null,null,null,null,null,null,null,null,null,null,null,null,null,null,null,null,null,"From Interent Y/N",null,"N","Use Email for Send? Y/N",null,null,"N"]
[null,null,null,null,null,null,null,null,null,null,null,null,null,null,null,null,null,null,null,null,null,null,null,null,null,null,null,null,"Temp shell file",null,{"$f":"CONCATENATE(AE8,\"MoDOTFTP.txt\")","v":"C:\\Users\\varnej1\\AppData\\Local\\Temp\\MoDOTFTP.txt"}]
[null,null,null,null,null,null,null,"Contact information for notifications related to this record.",null,null,null,null,null,null,null,null,null,null,null,null,null,null,null,null,null,null,null,null,{"$f":"IF(ISBLANK(L15),1,0)","v":1},"inspector ",null,{"$f":"IF(AND(ISERROR('Contract and Quantities'!$AK$11),NOT(ISBLANK('Contract and Quantities'!$J$33)),'Contract and Quantities'!$AD$37>0,ISBLANK($L$21)),1,0)","v":0},"Invalid District on Quantities tab, need to select District on Send/Sync tab"]
[null," MoDOT Inspector",null,null,null,null,null,null,null,null,null,null,null,null,null,null,null,null,{"$f":"IF(ISERROR(C55),\"\",C55)","v":""},null,null,null,null,null,null,null,null,null,{"$f":"IF(ISBLANK(L16), 1,0)","v":1},"contractor email"]
[null,"Your (Contractor) E-Mail Address.",null,null,null,null,null,null,null,null,null,null,null,null,null,null,null,null,null,null,null,null,null,null,null,null,null,null,{"$f":"IF((IFERROR(SEARCH(\"@\",L16),0))>0, 0,1)","v":1},"Email contains an @"]
[null,"Optional Second E-Mail Address.",null,null,null,null,null,null,null,null,null,null,null,null,null,null,null,null,null,null,null,null,null,null,null,null,null,null,{"$f":"IF(ISBLANK(L17),0,IF((IFERROR(SEARCH(\"@\",L17),0))>0,0,1))","v":0},"Optional Email contains an @"]
[null,null,null,null,null,null,null,null,null,null,null,null,null,null,null,null,null,null,null,null,null,null,null,null,null,null,null,null,{"$f":"IF(L19=\"\", 1,0)","v":1},"security word entered"]
[null,null,null,null,"Contractor Security Word",null,null,null,null,null,null,null,null,null,null,null,null,null,null,null,null,null,null,null,null,null,null,null,{"$f":"IF(LEN(L19)=4,0,1)","v":1},"four characters"]
[null,null,null,null,null,null,null,null,null,null,null,null,null,null,null,null,null,null,null,null,null,null,null,null,null,null,null,null,{"$f":"SUM('Contract and Quantities'!AC146,'Test 1'!AC50,Main!AC33,AF14)","v":10},"Total from other used tabs!  If greater than zero it is not ok to send"]
[null,null,null,null,null,null,null,null,null,null,"Select District for non-standard Contract ID",null,null,null,{"$f":"'Contract and Quantities'!AK11","v":{"$error":"#VALUE!"}},null,null,"<-Quantity tab has error instead of district",null,null,null,null,null,null,null,null,null,null,{"$f":"IF(SUM(AC14:AC20)=0,\"YES\",\"NO\")","v":"NO"},"Ok to send"]
[]
[null,"I need to update an existing report I have previously submitted:       ",null,null,null,null,null,null,null,null,null,null,null,null,null,null,null,{"$f":"AE26","v":"Click Here To Allow Updating"},null,null,null,null,null,null,null,null,null,null,"NO","Updating allowed"]
[null,null,null,null,null,null,null,null,null,null,null,null,null,null,null,null,null,null,null,null,null,null,null,null,null,null,null,null,null,"option 1","Click Here To Allow Updating"]
[null,null,"* Note this can overwrite existing reports.  Make absoultely sure this is what you intend to do before proceeding.",null,null,null,null,null,null,null,null,null,null,null,null,null,null,null,null,null,null,null,null,null,null,null,null,null,null,"option 2","Updating Enabled"]
[null,null,null,null,null,null,null,null,null,null,null,null,null,null,null,null,null,null,null,null,null,null,null,null,null,null,null,null,null,"displayed","Click Here To Allow Updating"]
[]
["RETRIEVE DATA FROM MODOT:"]
[]
[null,"Update the picklists on this sheet to retrieve new choices that MoDOT has added to its database:",null,null,null,null,null,null,null,null,null,null,null,null,null,null,null,"Update Picklists",null,null,null,null,null,null,null,null,null,null,"Date of last news update.  This is used to limit the number of news updates to once per day.  "]
[null,null,null,null,null,null,null,null,null,null,null,null,null,null,null,null,null,null,null,null,null,null,null,null,null,null,null,null,"2025-01-24"]
[null,null,null,null,null,null,null,null,null,null,null,null,null,null,null,null,null,null,null,null,null,null,null,null,null,null,null,null,"Todays Date for comparison"]
[null,"Check to see if this worksheet is the latest version and for news.",null,null,null,null,null,null,null,null,null,null,null,null,null,null,null,"Version and News Check",null,null,null,null,null,null,null,null,null,null,"2025-01-24"]
[null,null,"Note:  this is automatically done for you once a day.",null,null,null,null,null,null,null,null,null,null,null,null,null,null,"This Sheet :",null,null,{"$f":"AA2","v":"5.00"},null,null,null,null,null,null,null,"Skip news download:"]
[null,null,null,null,null,null,null,null,null,null,null,null,null,null,null,null,null,"Newest :",null,null,"5.00"]
[null,"Latest News and Updates"]
[null,{"$f":"P70","v":"2024-12-27"},null,null,{"$f":"Q70","v":"MoDOT (Jobsite, roadway or other similar site) now the only supplier choice for Culvert and Earthworks CRE2O (with the exception of rock base 0303CARB) as they report testing on the jobsite"}]
[null,{"$f":"P71","v":"2024-07-22"},null,null,{"$f":"Q71","v":"E2O Server Outage files have been received but will not process until Server back up, MoDOT IS folks working to restore E2O Server"}]
[null,"2024-07-22",null,null,{"$f":"Q72","v":"E2O Server running, E2O available for submitting new files.  Processed 160 files that had been submitted but not processed"}]
[null,"2024-07-11",null,null,{"$f":"Q73","v":"AWP CRE2O sheets updated to be automatically authorized in AWP and allow MoDOT Consultants to use CRE2O sheets for reporting their QA and or QCQA results for MoDOT"}]
[null,"2024-06-25",null,null,{"$f":"Q74","v":"AWP QA Asphalt Superlots 4.11 released to delete coding references to SiteManager"}]
[null,"2024-03-18",null,null,{"$f":"Q75","v":"Excel-2-Oracle sheets will not be processing March 20 @ 6 pm to March 21 @ 7:30 am. Contact REDEV@modot.mo.gov for questions."}]
[null,"2024-01-05",null,null,"AWP Aggregates 2.20 released to fix issue where gradation test wouldn't go into AWP when reporting RAP as base material"]
[null,"2024-01-05",null,null,"AWP Earthwork 4.31 released \"MoDOT Jobsite\" should be used as supplier for compacted base"]
[null,"2023-04-06",null,null,"AWP Earthworks sheets updated to include option to select 6\" proctor method for T99 results"]
[null,"2023-03-03",null,null,"QA and QC Earthwork released to allow \"too rocky to test\" as a reportable option for proctor density results"]
[null,"2023-02-10",null,null,"All CRE2O sheets updated, updating picklists function wasn't working for some users"]
[null,null,null,null,null,null,null,null,null,null,null,null,null,null,null,null,null,null,null,null,null,null,null,null,null,null,null,null,null,null,"6 indicates yes"]
[null,null,null,null,null,null,null,null,null,null,null,null,null,null,null,null,null,null,null,null,null,null,null,null,null,null,null,null,null,"All"]
[null,null,null,null,null,null,null,null,null,null,null,null,null,null,null,null,null,null,null,null,null,null,null,null,null,null,null,null,null,"PS Mat"]
[null,null,null,null,null,null,null,null,null,null,null,null,null,null,null,null,null,null,null,null,null,null,null,null,null,null,null,null,null,"Branded"]
[null,null,null,null,null,null,null,null,null,null,null,null,null,null,null,null,null,null,null,null,null,null,null,null,null,null,null,null,null,"Aspahlt Mixes"]
[null,null,"User ID from Name",null,null,null,null,null,null,null,null,null,null,null,null,null,null,null,null,null,null,null,null,null,null,null,null,null,null,"Material"]
[null,null,{"$f":"L15","v":0},null,null,null,null,null,null,null,null,null,null,null,null,null,null,null,null,null,null,null,null,null,null,null,null,null,null,"Contractors and Inspectors"]
[null,null,{"$f":"VLOOKUP(C54,C57:D1100,2,FALSE)","v":{"$error":"#N/A"}},{"$f":"VLOOKUP(C54,C57:E1100,3,FALSE)","v":{"$error":"#N/A"}},null,null,null,null,"Descr.MaterialTest (Table)","MaterialTest Id.MaterialTest (Table)","AgencyEntity Nm.AgencyEntity (Table)","AgencyEntity Id.AVControl (Table)","Test Type","RefSampleStatus Id.RefSampleStatus (Table)","RefSampleStatus Nm.RefSampleStatus (Table)","Lab Nm.LAB","Lab Id.LAB","DestinationLab Id.DestinationLab (Table)","Lab Nm.LAB","LabUnit Id.LabUnit (Table)","Lab Id.LAB","Type.RemarkModelMapping (Table)","RemarkModelMapping Id.RemarkModelMapping (Table)","RefTestResultValue Nm.RefTestResultValue (Table)","Descr.RefTestResultValue (Table)","RefTestResultValue Id.RefTestResultValue (Table)","Entity.Nm","Entity.Id"]
[null,null,"Name","PersonInfo Nm.PERSONINFO","PersonInfo Id.PERSONINFO",null,null,null,"AASHTO T90 Aggregate PI (QC)",955,"CM_PI_Field",298,"QC",6,"Pending Authorization","Field",142,5,"NA",147,182,"General",53,"Fail","Fail",1,"DestinationLab",204,null,"Contract Info"]
[null,null,"Abbott, Eric L","abbote1",2515,null,null,null,"AASHTO T99 Soil/Aggregate Compaction QC",1216,"CM_T99_Field",286,"QC",9,"Approved",null,null,null,null,null,null,null,null,"Pass","Pass",2]
[null,null,"Ackert, Timothy C","ackert1",1740,null,null,null,"Base Agg Density & Thickness (QC)",933,"CM_BaseAgg",316,"QC",16,"FAIL - Fail/Rejected"]
[null,null,"Adams, Shaire L","adamss7",2316,null,null,null,"Free Form Test",1183,"CM_FreeForm",74,"QC",20,"FAIU - Failed- Matl used as is w-w/o deduct"]
[null,null,"Alfred, Aden R","alfrea1",9048,null,null,null,"Rock Base Quantity, Gradation & PI (QC)",1178,"CM_BaseRock",315,"QC"]
[null,null,"Allred, Daniel D","allred1",1441,null,null,null,"Subgrade Compaction (QC)",934,"CM_Subgrade_Comp",305,"QC"]
[null,null,"Amburn, Stephen M","amburs1",2567,null,null,null,"Base DCP Compaction Testing QC",1240,"CM_Base_DCP_Header",347,"QC"]
[null,null,"Anderson, Katherine B","anderk",1860,null,null,null,"Base DCP Compaction Testing QC",1240,"CM_Base_DCP",348,"QC"]
[null,null,"Anderson, Lynn M","anderl1",1518,null,null,null,"AASHTO T90 Aggregate PI (QA)",970,"CM_PI_Field",298,"QA"]
[null,null,"Arnold, Adam M","arnola1",9006,null,null,null,"AASHTO T99 Soil/Aggregate Compaction QA",1177,"CM_T99_Field",286,"QA"]
[null,null,"Arnold, Daniel T","arnold1",1808,null,null,null,"Base Agg Density & Thickness (QA)",943,"CM_BaseAgg",316,"QA"]
[null,null,"Arradaza, Briel R","arradb1",7762,null,null,null,"Rock Base Quality, Gradation & PI (QA)",1153,"CM_BaseRock",315,"QA"]
[null,null,"Ashek, Akhand M","asheka1",8974,null,null,null,"Subgrade Compaction (QA)",947,"CM_Subgrade_Comp",305,"QA"]
[null,null,"Ashton, Andrew R","ashtoa1",9443,null,null,null,"Base DCP Compaction Testing QA",1241,"CM_Base_DCP_Header",347,"QA"]
[null,null,"Aubuchon, Jason G","aubucj",1913,null,null,null,"Base DCP Compaction Testing QA",1241,"CM_Base_DCP",348,"QA",null,null,"2024-12-27","MoDOT (Jobsite, roadway or other similar site) now the only supplier choice for Culvert and Earthworks CRE2O (with the exception of rock base 0303CARB) as they report testing on the jobsite"]
[null,null,"Axtell, Eric C","axtele",2143,null,null,null,null,null,"CM_StandardForRemark",19,null,null,null,"2024-07-22","E2O Server Outage files have been received but will not process until Server back up, MoDOT IS folks working to restore E2O Server"]
[null,null,"Baban, Vivianna D","babanv1",582,null,null,null,null,null,null,null,null,null,null,"2024-07-22","E2O Server running, E2O available for submitting new files.  Processed 160 files that had been submitted but not processed"]
[null,null,"Baiamonte, Frank A","baiamf1",7847,null,null,null,null,null,null,null,null,null,null,"2024-07-11","AWP CRE2O sheets updated to be automatically authorized in AWP and allow MoDOT Consultants to use CRE2O sheets for reporting their QA and or QCQA results for MoDOT"]
[null,null,"Baldwin, Brandi J","baldwb3",1589,null,null,null,null,null,null,null,null,null,null,"2024-06-25","AWP QA Asphalt Superlots 4.11 released to delete coding references to SiteManager"]
[null,null,"Baldwin, Chad E","baldwc2",1458,null,null,null,null,null,null,null,null,null,null,"2024-03-18","Excel-2-Oracle sheets will not be processing March 20 @ 6 pm to March 21 @ 7:30 am. Contact REDEV@modot.mo.gov for questions."]
[null,null,"Barker, Christopher J","barkec1",9395,null,null,null,null,null,null,null,null,null,null,"2024-01-05","AWP Aggregates 2.20 released to fix issue where gradation test wouldn't go into AWP when reporting RAP as base material"]
[null,null,"Barnes, Garth R","barneg2",8069,null,null,null,null,null,null,null,null,null,null,"2024-01-05","AWP Earthwork 4.31 released \"MoDOT Jobsite\" should be used as supplier for compacted base"]
[null,null,"Barnfield, Chris W","barnfc1",2062,null,null,null,null,null,null,null,null,null,null,"2023-04-06","AWP Earthworks sheets updated to include option to select 6\" proctor method for T99 results"]
[null,null,"Bartley, Earl L","bartle1",8943,null,null,null,null,null,null,null,null,null,null,"2023-03-03","QA and QC Earthwork released to allow \"too rocky to test\" as a reportable option for proctor density results"]
[null,null,"Bashore, Adam R","bashoa1",2508,null,null,null,null,null,null,null,null,null,null,"2023-02-10","All CRE2O sheets updated, updating picklists function wasn't working for some users"]
[null,null,"Bass, Michael J","bassm1",7839]
[null,null,"Bauer, Chris A","bauerc1",734]
[null,null,"Bauer, David R","bauerd1",1804]
[null,null,"Bax, Carson J","baxc1",1283]
[null,null,"Baxter, Michael E","baxtem1",3223]
[null,null,"Becerra, James P","becerj",3261]
[null,null,"Beck, Connor J","beckc2",2502]
[null,null,"Becker, Christopher R","beckec1",1326]
[null,null,"Beckerle, Benjamin D","beckeb1",680]
[null,null,"Bedard, Loraine B","bedarl2",8815]
[null,null,"Behnam, Maliheh .","behnam1",9444]
[null,null,"Bennett, Kyle R","bennek2",8939]
[null,null,"Bennett, Todd L","Bennet",2197]
[null,null,"Bensing, Peter M","bensinp1",8967]
[null,null,"Berry, Chad F","berryc3",8816]
[null,null,"Bertels, Andrew S","bertea1",558]
[null,null,"Bichsel, Clayton P","bichsc1",9038]
[null,null,"Bier, Adam M","biera1",8645]
[null,null,"Blackburn, Shane A","blacks",2164]
[null,null,"Blalock R9B, Randy G","blalor2",711]
[null,null,"Blann, Katie .","blannk1",9057]
[null,null,"Blomberg, Jason M","blombj",2201]
[null,null,"Bollinger, Seth Z","bollis1",3347]
[null,null,"Bowens, Cordell D","bowenc1",9734]
[null,null,"Bowers, Grant L","bowerg1",9822]
[null,null,"Bowman, Michael A","bowmam2",1787]
[null,null,"Boyd, Adam C","boyda1",8422]
[null,null,"Brake-Lemongelli, Patricia ","brakep1",8613]
[null,null,"Braun, Julie M","braunj2",9743]
[null,null,"Breeding, Scott W","breeds",2172]
[null,null,"Brefo, Stephen 3","brefos1",8268]
[null,null,"Brink, Roger A","brinkr1",1826]
[null,null,"Brobst, Ryan D","brobsr1",2096]
[null,null,"Brooks, Larry R","BROOKL",574]
[null,null,"Brooks, Scott D","brooks3",2738]
[null,null,"Brophy, Matthew J","brophm1",8189]
[null,null,"Brown, David A","brownd7",1442]
[null,null,"Brown, Sarah L","browns9",8398]
[null,null,"Brownell, Lydia B","brownl1",1273]
[null,null,"Brownell, Sidney C","browns1",1572]
[null,null,"Bruss, Eric G","brusse1",1731]
[null,null,"Buck, John S","buckj1",9389]
[null,null,"Burlbaw, Eric S","burlbe",1789]
[null,null,"Burns, Jeremy P","burnsj6",7817]
[null,null,"Burnworth, William (Brad) B","burnww2",8655]
[null,null,"Burroughs, Mark R","burrom1",8302]
[null,null,"Burton, Corey D","burtoc4",2273]
[null,null,"Buschbacher, Kolton M","buschk1",8850]
[null,null,"Butler, Bradley ","butleb4",659]
[null,null,"Caiharr, Joseph D","caihaj1",8196]
[null,null,"Calvert, Garrett J","calveg1",8846]
[null,null,"Camden, Lisa A","camdel1",2063]
[null,null,"Canady, Trent M","canadt2",9154]
[null,null,"Canhasi, Taulant ","canhat1",9857]
[null,null,"Cantoni, Nicholas P","canton1",9594]
[null,null,"Capeder, Jacob D","capedj2",2602]
[null,null,"Carlton, Corbin G","carltc1",2387]
[null,null,"Carnes, Phillip A","carnep1",8425]
[null,null,"Carr, Jim E","carrj",2118]
[null,null,"Carter, Chad A","cartec3",7730]
[null,null,"Castro, Michael J","castrm1",1335]
[null,null,"Chamberlain, Eric ","chambe3",729]
[null,null,"Chambers, Jeffrey T","chambj1",2538]
[null,null,"Chaplin, Rodney G","chaplr2",1678]
[null,null,"Chapman, Gregory R","chapmg1",1920]
[null,null,"Christenson, Michael A","chrism2",7808]
[null,null,"Clark, Dean R","clarkd4",8313]
[null,null,"Clark, Mark W","clarkm3",8767]
[null,null,"Claspille, Cynthia A","claspc1",9044]
[null,null,"Claypool, Tyeson N","claypt2",8116]
[null,null,"Cockrill, Zachary J","cockrz1",9839]
[null,null,"Coffer, Angela C","coffea1",8607]
[null,null,"Coleman, Paul T","colemp1",2536]
[null,null,"Collins, Erin E","collie1",2614]
[null,null,"Collins, Kemmy M","collik1",1970]
[null,null,"Condron, Darren E","condrd1",1314]
[null,null,"Cooley, Charles K","coolec1",6499]
[null,null,"Cooper, Brody M","coopeb1",8926]
[null,null,"Copeland, Gregory R","copelg1",1393]
[null,null,"Cora, Marion S","coram",2059]
[null,null,"Cordia, Kaleigh P","cordik1",9274]
[null,null,"Corey, Justin G","coreyj1",2900]
[null,null,"Corrigan, Jameson D","corrij1",8905]
[null,null,"Couffer, Jimmy J","couffj",1320]
[null,null,"Covington, Karlee A","covink1",2470]
[null,null,"Cox, Austin D","coxa3",9356]
[null,null,"Cracraft, Brandon L","cracrb1",1684]
[null,null,"Crafton, Travis L","craftt1",1996]
[null,null,"Cramer, Christopher D","cramec1",9306]
[null,null,"Crews, Hanna R","crewsh1",9094]
[null,null,"Crudgington, Michael J","crudgm",2020]
[null,null,"Cunningham, Bradley W","cunnib2",1771]
[null,null,"Cunningham, Darian J","cunnid3",2709]
[null,null,"Daffron, Josie M","daffrj1",8487]
[null,null,"Damery, Jennifer L","damerj1",2384]
[null,null,"Daniel, Brandon D","danieb1",2863]
[null,null,"Dansberry, Anthony D","dansba1",7813]
[null,null,"Dao, Quyet T","daoq1",1431]
[null,null,"Daumen, Melisa M","daumem1",9639]
[null,null,"Davenport, Byron W","davenb1",8293]
[null,null,"Davidson, Maggi A","davidm1",8475]
[null,null,"Davis, Brenden .","davisb7",9140]
[null,null,"Davis, Joshua W","davisjf",1286]
[null,null,"DeGroat, William L","degrow1",2265]
[null,null,"DeJesus, William ","dejesw1",591]
[null,null,"Deffendall, Justin D","deffej1",8381]
[null,null,"Denning, Betty J","dennib1",2001]
[null,null,"Dennis, Jeffrey J","dennij1",1506]
[null,null,"Denton, Dane E","dentod1",9425]
[null,null,"Desha, Terrell A","deshat1",1331]
[null,null,"Deuser, Zoey L","deusez1",9454]
[null,null,"Dieterich, Grayson K","dieteg1",8426]
[null,null,"Dietrich, Philip A","dietrp1",2558]
[null,null,"Dimercurio, Nathan M","dimern1",9715]
[null,null,"Dingman, Ryan M","dingmr1",1929]
[null,null,"Dobbert, Michael ","dobbem1",8611]
[null,null,"Doggett, Avery C","doggea1",9866]
[null,null,"Domingo, Sean M","domins1",2432]
[null,null,"Domzalski, Richard A","domzar",1216]
[null,null,"Dotson, Kirk A","dotsok2",2725]
[null,null,"Dragoo, Drew D","dragod2",9025]
[null,null,"Drowns, Matthew L","drownm1",8456]
[null,null,"Dukes, Melvin L","dukesm1",709]
[null,null,"Dunlap, Eric W","dunlae1",8395]
[null,null,"Dunn, Jason A","dunnj1",2699]
[null,null,"Durant, Toby L","durant1",9099]
[null,null,"Dye, Brian P","dyeb1",2612]
[null,null,"Dykmann, Erica N","dykmae2",8821]
[null,null,"Edelhuber, Brian J","edelhb1",7750]
[null,null,"Edgar, Emily A","edgare1",7771]
[null,null,"Ellinghouse, Andrew J","ellina1",9276]
[null,null,"Elliott, Nick L","ellion1",8051]
[null,null,"Ellis, Christopher M","ellisc2",2742]
[null,null,"Ellis, Todd M","ellist2",1711]
[null,null,"Elmore, Craig A","elmorc1",2395]
[null,null,"Engemann, Chad D","engemc1",1827]
[null,null,"Escobar Londono, Sara M","escobs1",9457]
[null,null,"Esterline, Jacob R","esterj1",9007]
[null,null,"Estopare, Nolan M","estopn1",9452]
[null,null,"Estopare, Roger T","estopr1",1898]
[null,null,"Evans, Austin I","evansa2",8813]
[null,null,"Fager, Glenn A","fagerg1",8096]
[null,null,"Farmer, Kyler M","farmek1",9083]
[null,null,"Farrar, Cynthia M","farrac1",9242]
[null,null,"Fenech, Jane D","fenecj1",8678]
[null,null,"Fergison, Gunner L","fergig1",9257]
[null,null,"Ferguson, Drew B","fergud2",9342]
[null,null,"Ferguson, Jason A","ferguj1",2017]
[null,null,"Fernandez, Michael J","fernam1",2587]
[null,null,"Fields, Adam C","fielda4",8328]
[null,null,"Fisher, Luke E","fishel1",9660]
[null,null,"Fisher, Tiara D","fishet4",9853]
[null,null,"Fleak, Taylor M","fleakt1",8641]
[null,null,"Fleer, Bryan J","fleerb1",1837]
[null,null,"Flora, Janique M","floraj1",1432]
[null,null,"Flynn, Steven R","flynns1",2412]
[null,null,"Ford, Clinton D","fordc",8550]
[null,null,"Forshee, Desley L","forshd1",650]
[null,null,"Forsyth, Harrison A","forsyh1",8834]
[null,null,"Foster, Leonard D","fostel",1180]
[null,null,"Fox, Dan M","foxd",1569]
[null,null,"Frandson, Taylor C","frandt1",2646]
[null,null,"Franke, Dean D","frankd",8032]
[null,null,"Fransis, Bahaa S","francb2",6727]
[null,null,"Frazier, Brian K","frazib1",8950]
[null,null,"Freiburger, Jonathan H","freibj1",8532]
[null,null,"French, Danielle R","frencd2",7717]
[null,null,"Frierdich, Josef F","frierj1",640]
[null,null,"Frizzell, Mike W","frizzm",1617]
[null,null,"Fry, Dean D","fryd",2582]
[null,null,"Fuller, Kevin P","fullerk2",8085]
[null,null,"Fuson, Mary M","fusonm1",8407]
[null,null,"Gabel, Jeffrey S","gabelj3",1294]
[null,null,"Gaffery, Tarah A","gaffet1",8917]
[null,null,"Galvez, Jonathan ","galvej1",7094]
[null,null,"Gander, Jeffrey L","gandej",1544]
[null,null,"Garcia, Herberto F","garcih1",589]
[null,null,"Gard, Brian R","gardb1",1568]
[null,null,"Gardner, Alexander J","gardna4",9617]
[null,null,"Garlock, Kataryna C","garlok1",1323]
[null,null,"Gast, Luke J","gastl1",9133]
[null,null,"Geldmacher, Kevin M","geldmk1",1910]
[null,null,"Georger, Eric L","george2",8483]
[null,null,"Gibbons, Nicholas J","gibbon1",2415]
[null,null,"Giffin, Philip E","giffip1",1512]
[null,null,"Giles, Kyle B","gilesk1",8798]
[null,null,"Gillespie, James R","gillej",1557]
[null,null,"Girgin, Aydogan L","girgia",1638]
[null,null,"Glass, Derek J","glassd1",8134]
[null,null,"Glock, Christian J","glockc1",7835]
[null,null,"Godsy, Misty ","godsym1",2689]
[null,null,"Goff, Lucille F","goffl1",2165]
[null,null,"Golab, Sarah A","golabs1",5713]
[null,null,"Gonzalez, Felix ","gonzaf1",981]
[null,null,"Gonzalez, Margaret A","gonzalez",9663]
[null,null,"Goss, Garry L","gossg2",8603]
[null,null,"Graessle, Jacob ","graesj1",646]
[null,null,"Graham, Christopher A","grahac1",496]
[null,null,"Grant, Valerie B","grantv1",9861]
[null,null,"Gray, William T","grayw1",8396]
[null,null,"Greer, Lori ","greerl2",569]
[null,null,"Grellner, Christopher J","grellc1",8662]
[null,null,"Grimes, Cheryl M","grimec",1728]
[null,null,"Gripka, Donald (Brad) B","gripkd",1932]
[null,null,"Gummersheimer, Robert (Bob) C","gummer1",1810]
[null,null,"Gwin, Collin D","gwinc1",8944]
[null,null,"Hagan, Juddson P","haganj1",9805]
[null,null,"Haggard, Joseph H","haggaj1",1581]
[null,null,"Hake, James C","hakej1",655]
[null,null,"Haller, Jennifer N","hallej1",2690]
[null,null,"Halley, Tyler R","hallet1",8114]
[null,null,"Hamilton, Kendric R","hamilk2",8814]
[null,null,"Hammoud, Anass A","hammoa2",9658]
[null,null,"Harangozo, Keith M","harank1",1896]
[null,null,"Hargrave, Robert J","hargrr",2452]
[null,null,"Harizal, Michael C","harizm1",8651]
[null,null,"Harper, Logan C","harpel1",8292]
[null,null,"Harper, Robert G","harper4",9521]
[null,null,"Harris, Mark D","harrimc",9680]
[null,null,"Hartman, Heath E","hartmh",1433]
[null,null,"Harvel, Bruce A","harveb",1477]
[null,null,"Haskew, James K","haskej1",688]
[null,null,"Hathaway, Kurtis K","hathak1",1675]
[null,null,"Hayden, Ena M","haydee1",2140]
[null,null,"Hays, Bradley E","haysb1",8646]
[null,null,"Hays, Timothy A","hayst",1439]
[null,null,"Hazlett, Timothy A","hazlet1",2431]
[null,null,"Hedenkamp, Bret A","hedenb1",9847]
[null,null,"Hellebusch, Tim A","hellet",1829]
[null,null,"Helm, Garrett W","helmg3",8865]
[null,null,"Heming, Cody J","heminc1",8848]
[null,null,"Henderson, Stephen A","hendes3",9705]
[null,null,"Hendrix, Melisa D","hendrm1",2147]
[null,null,"Henson, Robert W","hensor",704]
[null,null,"Herbst, Christopher J","herbsc2",9327]
[null,null,"Hersterburg, Jennifer N","herstj1",9465]
[null,null,"Hessenflow, Chad L","hessec2",1657]
[null,null,"Heuszel, Jessica M","heuszj1",7748]
[null,null,"Hibler, Austin D","hiblea1",2259]
[null,null,"Hightower, Cody R","hightc1",1290]
[null,null,"Hill, Colton J","hillc8",8700]
[null,null,"Hill, Tyler R","hillt5",7785]
[null,null,"Hillen, Caleb D","hillec1",9303]
[null,null,"Hills, Donald A","hillsd1",2621]
[null,null,"Hillyard, Ashton G","hillya1",9859]
[null,null,"Hines, Rodney E","hinesr1",8527]
[null,null,"Hollingsworth, Dennis L","hollid",1585]
[null,null,"Hollis, Tristan R","hollit1",8777]
[null,null,"Holt, Brian ","holtb3",8948]
[null,null,"Honse, Zach Q","honsez1",2169]
[null,null,"Hopkins, Matthew S","hopkim1",2714]
[null,null,"Horky, Adam L","horkya1",9615]
[null,null,"Horstman, Andrew J","horsta1",9026]
[null,null,"Horwitz, Tayler D","horwit1",9810]
[null,null,"Howard, Carla J","howarc",1434]
[null,null,"Howell, James N","howelj4",2733]
[null,null,"Hoyt, Dustin R","hoytd1",2483]
[null,null,"Hubbard, Isaiah A","hubbai1",679]
[null,null,"Huckaby, Russel C","huckar",1963]
[null,null,"Hughes, Johnny A","hughej1",2048]
[null,null,"Hunt, Brian L","huntb1",8414]
[null,null,"Huskey, Mitchell R","huskem",2137]
[null,null,"Ihsan, Adel ","ihsana1",8707]
[null,null,"Iles, Brian K","ilesb1",1666]
[null,null,"Ingram, Logan B","ingral1",8830]
[null,null,"Inman, Shannon W","inmans",2032]
[null,null,"Jackson, Connor .","jacksc4",9191]
[null,null,"Jackson, Cory M","jacksc3",8778]
[null,null,"James, Cassandra A","jamesc4",7812]
[null,null,"James, Christopher M","jamesc2",2673]
[null,null,"Janssens, Albert L","janssa",1690]
[null,null,"Jansson, Matthew (Niall) N","janssm",2631]
[null,null,"Jasper, James L","jaspej1",5020]
[null,null,"Jefferson, Jamie M","jeffej1",7754]
[null,null,"Jernigan, Jerrod B","jernij1",2066]
[null,null,"Jessen, Matthew J","jessem1",9296]
[null,null,"Jimenez, Jayden M","jimenj1",8309]
[null,null,"Joens, Jeff S","joensj",2208]
[null,null,"Johnson, Anson D","johnsa7",9438]
[null,null,"Johnson, Colten M","johnsc9",8913]
[null,null,"Johnson, Jacob M","johnsjn",8851]
[null,null,"Johnson, Jermyn ","johnsj5",2144]
[null,null,"Johnson, Sara M","johnss8",2638]
[null,null,"Johnson, William L","johnsw5",9467]
[null,null,"Johnson, William W","johnsw1",2019]
[null,null,"Jonas, Jesse A","jonasj2",9195]
[null,null,"Jones, Aaron J","jonesa2",2028]
[null,null,"Jones, Brandon L","jonesb6",7720]
[null,null,"Jones, Levi ","jonesl7",1304]
[null,null,"Karallas, Isabella S","karali2",587]
[null,null,"Karlin, Christopher J","karlic1",2481]
[null,null,"Kaufman, Adam L","kaufma1",9264]
[null,null,"Keen, Lincoln W","keenl",1437]
[null,null,"Kelso, Shawn M","kelsos1",1333]
[null,null,"Kemper, Toby J","kempet1",1785]
[null,null,"Kempker, Landre J","kempkl2",8314]
[null,null,"Kennell, Christopher ","kennec2",8506]
[null,null,"Kenney, Matthew D","kennem3",8453]
[null,null,"Kern, Morgan C","kernm1",9723]
[null,null,"Killion, Brendan D","killib1",9673]
[null,null,"King, Collin P","kingc6",9490]
[null,null,"King, Nathan G","kingn1",1500]
[null,null,"Kirchhoff, Peyton W","kirchp1",9754]
[null,null,"Kloeppinger, Jacob T","kloepj1",707]
[null,null,"Kneib, Ryan M","kneibr1",2441]
[null,null,"Knight, Nikki R","knighn1",1801]
[null,null,"Knobloch, Ronald ","knoblr1",8786]
[null,null,"Knott, Austin P","knotta1",7845]
[null,null,"Koch, Kevin J","kochk",1831]
[null,null,"Koenig, Benjamin R","koenib2",9183]
[null,null,"Koestner, Gidget J","koestg1",1051]
[null,null,"Konersmann, Glenn D","konerg1",2640]
[null,null,"Koppitz, Matthew J","koppim1",2599]
[null,null,"Kosmicki, Thaddeus 2","kosmit1",9750]
[null,null,"Kratky, Jack C","kratkj1",1899]
[null,null,"Kraus, Jennifer L","krausj1",1269]
[null,null,"Kraus, Michael A","krausm2",9046]
[null,null,"Kroner, Jeffery W","kronej1",1531]
[null,null,"Kuelker, David C","kuelkd2",9843]
[null,null,"Kurtz, Michael T","kurtzm1",9414]
[null,null,"LaFave, Aaron J","lafava1",1948]
[null,null,"Laffoon, Sam J","laffos1",1281]
[null,null,"Lamare, Cameryn S","lamarc1",9458]
[null,null,"Lamb, Mark A","lambm2",9682]
[null,null,"Lamberson, Julie R","lambej2",2184]
[null,null,"Landers, Christopher L","landec1",9846]
[null,null,"Lane, Karen R","lanek1",1308]
[null,null,"Lange, Brian D","langeb1",2590]
[null,null,"Lara, Rojelio A","larar1",9408]
[null,null,"Lavacot, Matthew F","lavacm1",8548]
[null,null,"Law, Abigail 1","lawa1",9684]
[null,null,"Law, Jacob C","lawj1",8076]
[null,null,"Layman, Rodney C","laymar",1655]
[null,null,"Lee, Zachary R","leez1",2743]
[null,null,"Leeker, Joshua M","LEEKEJ1",2642]
[null,null,"Leftridge, Kevin M","leftrk1",714]
[null,null,"Lego, Courtney J","legoc2",9413]
[null,null,"Lemon, Stephanie A","lemons1",2123]
[null,null,"Lepper, Derek F","lepped1",1629]
[null,null,"Lewis, Jerry L","lewisj4",2091]
[null,null,"Lewis, John C","lewisj1",2635]
[null,null,"Liebhart, David J","liebhd",1539]
[null,null,"Limbach, Jason W","limbaj1",9811]
[null,null,"Lincoln, Martin D","lincom",1592]
[null,null,"Link, Dylan C","linkd1",2579]
[null,null,"Litzau, Michael J","litzam",1788]
[null,null,"Locke, Tabitha S","locket1",2522]
[null,null,"Lohsandt, Jim R","lohsaj",1663]
[null,null,"Londre, Tristan G","londrt1",8630]
[null,null,"Long, Sheldon J","longs3",9768]
[null,null,"Loseille, Michael R","loseim3",8082]
[null,null,"Love, Brock E","loveb1",9721]
[null,null,"Lowe, Robert C","lower2",9463]
[null,null,"Lund, Trey B","lundt1",727]
[null,null,"Mack, Kelvin R","mackk",2126]
[null,null,"Maddox, Hubert R","maddoh",1746]
[null,null,"Maddox, Julie R","maddoj1",8937]
[null,null,"Maddox, Krystan E","maddok2",9708]
[null,null,"Mallon, Serenity E","mallos1",8859]
[null,null,"Malon, Donna J","malond2",8239]
[null,null,"Malone, Shana R","malons2",3386]
[null,null,"Mann, Roger L","mannr1",1305]
[null,null,"Markham, Steve T","markhs",1640]
[null,null,"Marriott, Michael W","marrim2",2264]
[null,null,"Marsden, Magdalena K","marsdm1",2548]
[null,null,"Marshall, Kate M","marshk2",2568]
[null,null,"Marshall, Robert S","marshr",2198]
[null,null,"Martens, Rochelle A","marter1",1543]
[null,null,"Marti, Kevin K","martik3",8699]
[null,null,"Martin, Anthony D","martiaa",9813]
[null,null,"Martinez, Robert P","martir7",7787]
[null,null,"Marzuco, Anthony C","marzua1",2005]
[null,null,"Massey, Corey J","massec1",2613]
[null,null,"Mather, Dustin D","mathed1",9357]
[null,null,"Matthews, Todd W","mattht",1661]
[null,null,"McCLoud, Nathaniel P","mcclon1",8252]
[null,null,"McCanless, John M","mccanj1",5389]
[null,null,"McClain, Britt S","mcclab",1438]
[null,null,"McDaniel, Thomas A","mcdant2",9437]
[null,null,"McGartland, Kevin G","mcgark",1313]
[null,null,"McKinney, Anesha 1","mckina1",9455]
[null,null,"McKinney, Brent M","mckinb1",9616]
[null,null,"McKinney, Randy L","mckinr1",2142]
[null,null,"McPeters, Westly P","mcpetw1",2342]
[null,null,"McRae, Adam S","mcraea1",1933]
[null,null,"Mcginnis, Dave M","mcgind1",8036]
[null,null,"Mendel, Seth A","mendes2",9812]
[null,null,"Meneely, Tammy K","meneet",1556]
[null,null,"Merriman, Mellissa M","merrim1",7729]
[null,null,"Merz, Margaret J","merzm1",9453]
[null,null,"Meyers, Jacob Q","meyerj8",2644]
[null,null,"Middendorf, Anthony G","middea1",8041]
[null,null,"Middleton, Donald S","middld1",7742]
[null,null,"Middleton, Nicholas T","middln",1540]
[null,null,"Milbradt, Taylor Z","milbrz1",8592]
[null,null,"Miller, James M","milleje",7815]
[null,null,"Miller, John P","millejd",7734]
[null,null,"Mitchell, Adam D","mitcha3",2740]
[null,null,"Molinaro, Joseph J","molinj1",1819]
[null,null,"Mooney, Travis E","moonet1",8393]
[null,null,"Morgan, Terry M","morgat",2626]
[null,null,"Moses, Joseph M","mosesj2",8434]
[null,null,"Mosley, Jaylon T","moslej2",9173]
[null,null,"Moss, Charles 1","mossc1",9773]
[null,null,"Mottaz, Brian F","mottab1",1736]
[null,null,"Needham, McKeegan C","needhm1",8199]
[null,null,"Nelson, Kent W","nelsok2",1070]
[null,null,"Netzer, Erik A","netzee1",9311]
[null,null,"Nevins, Brian ","nevinb1",794]
[null,null,"Ngugi, Simon K","ngugis1",2484]
[null,null,"Niemeyer, Jeffrey G","niemej1",2488]
[null,null,"Noack, Duncan E","noackd1",9576]
[null,null,"Noeth, Schuyler ","noeths1",436]
[null,null,"Norton, Nathan R","norton1",666]
[null,null,"O'Connell, Caleb J","oconnc1",9854]
[null,null,"Oaks, Brandon M","oaksb1",8035]
[null,null,"Obi, Jeremiah O","obij1",1262]
[null,null,"Odle, Bradley (Brad) D","odleb1",8060]
[null,null,"Oesch, Daniel J","oeschd1",1715]
[null,null,"Ohlms, John P","ohlmsj",2132]
[null,null,"Okenfuss, Brian G","okenfb1",2090]
[null,null,"Oliver, Matthew D","olivem2",8042]
[null,null,"Olson, Zarah J","olsonz1",9310]
[null,null,"Orell, Tyler J","orellt1",9835]
[null,null,"Orr, Richard W","orrr1",8727]
[null,null,"Overstreet, Travis M","overst1",7736]
[null,null,"Owen, Thomas W","owent1",1575]
[null,null,"Packard, Ian C","packai1",683]
[null,null,"Pansa, Gregg A","pansag1",9018]
[null,null,"Parrish, Christopher N","parric1",8640]
[null,null,"Paugh, Robert W","paughr1",9860]
[null,null,"Penner, Russell A","penner1",2485]
[null,null,"Perez-Ortiz, Jaun G","perezj1",9474]
[null,null,"Perkins, Dawn ","perkid1",874]
[null,null,"Perkins, Melvin (Lee) L","perkim2",8488]
[null,null,"Persinger, Clark D","persic1",617]
[null,null,"Peterson, Christopher I","peterc6",7237]
[null,null,"Peterson, Ronald L","peterr1",1834]
[null,null,"Pfeffer, Mark D","pfeffm1",360]
[null,null,"Pflum, James J","pflumj1",2446]
[null,null,"Phillips, Gary A","phillg1",8394]
[null,null,"Philpot, Donna R","philpd1",361]
[null,null,"Phinney, Alex B","phinna1",8231]
[null,null,"Pierce, Will M","piercw1",9855]
[null,null,"Pierce, Zachary C","piercz1",9852]
[null,null,"Pinkley, Ethan R","pinkle1",2749]
[null,null,"Plott, Kevin R","plottk1",2074]
[null,null,"Plummer, Mickey A","plummm1",8857]
[null,null,"Porter, Treasa A","portet3",2166]
[null,null,"Powell, Michael D","powelm3",1430]
[null,null,"Powers, Matthew E","powerm1",696]
[null,null,"Powers, Thomas M","powert2",2319]
[null,null,"Prentice, Caleb .","prentc1",9209]
[null,null,"Present, Jacob B","presej1",7772]
[null,null,"Preuss, Nicole E","preusn1",3398]
[null,null,"Prock, David L","prockd1",8927]
[null,null,"Procter, David S","proctd1",8704]
[null,null,"Przygoda, Joshua D","przygj2",2707]
[null,null,"Putnam, Blake A","putnab1",8068]
[null,null,"Querry, Bryan D","querrb1",7849]
[null,null,"Rana, Jamie F","ranaj2",8969]
[null,null,"Raybourn, Lisa G","raybol1",1680]
[null,null,"Read, Calen T","readc2",9365]
[null,null,"Redhage, Christine M","redhac",1907]
[null,null,"Reed, Collin L","reedc3",9468]
[null,null,"Reed, Nathan B","reedn",1999]
[null,null,"Reed, Virgil T","reedv1",1790]
[null,null,"Reedy, Steven R","reedys",1637]
[null,null,"Reilly, Sean J","reills1",621]
[null,null,"Rennick, Craig E","rennic",2628]
[null,null,"Richbourg, Todd M","richbt1",9292]
[null,null,"Richmond, Nicholas D","richmn1",9193]
[null,null,"Ricks, Christian 3","ricksc3",9475]
[null,null,"Rieder, Aaron M","riedea1",2731]
[null,null,"Riley, Reid N","rileyr1",1658]
[null,null,"Roberts, Geoffrey L","roberg5",728]
[null,null,"Robertson, Thomas A","robert4",9388]
[null,null,"Rodenbaugh, Macy J","rodenm",1385]
[null,null,"Roeger, Daniel J","roeged1",2503]
[null,null,"Roegge, Diane R","roeggd",2183]
[null,null,"Rogers, Travis ","rogert3",9539]
[null,null,"Roland, Megan .","rolanm1",9076]
[null,null,"Roland, Suzanne D","rolans1",9364]
[null,null,"Rose, Melissa D","rosem1",2637]
[null,null,"Rosenthal, Brian M","rosenb1",378]
[null,null,"Rothermich, Larry D","rothel",2021]
[null,null,"Russell, Amy N","russea1",1300]
[null,null,"Russell, Lucas D","russel2",8653]
[null,null,"Russow, Hunter R","russoh2",9144]
[null,null,"Sabo, Tierney .","sabot1",9439]
[null,null,"Salyer, Jessica M","salyej1",2404]
[null,null,"Samer, Nicole K","samern1",2741]
[null,null,"Sanders, Bryson C","sandeb3",9325]
[null,null,"Sanders, Bryson R","sandeb2",8236]
[null,null,"Sanders, Travis J","sandet5",9215]
[null,null,"Sandifer, Chase M","sandic1",9451]
[null,null,"Sandifer, Philip E","sandip1",1528]
[null,null,"Sandifer, Steven R","sandis1",2665]
[null,null,"Sawyer, Jason A","sawyej2",7798]
[null,null,"Scarpitta, Michael A","scarpm1",1670]
[null,null,"Schafer, Thomas C","schaft1",7924]
[null,null,"Schaumburg, Andrew D","schaua1",8319]
[null,null,"Scheulen, Ashley ","scheua1",7735]
[null,null,"Schirmer, Joshua M","schirj1",2703]
[null,null,"Schmauch, Lisa C","schmal1",8973]
[null,null,"Schmidt, Donald G","schmid5",4372]
[null,null,"Schmidt, Jacob A","schmij8",7273]
[null,null,"Schreckler, Trent M","schret1",8215]
[null,null,"Schroeder, Jay M","schroj4",9865]
[null,null,"Schulte, Brent T","schulb1",2177]
[null,null,"Schulte, Joe B","schulj",1470]
[null,null,"Schupp, Michael J","schupm",1734]
[null,null,"Schwaller, James M","schwaj2",8250]
[null,null,"Sconce, Jacob G","sconcj1",7765]
[null,null,"Scott, Brenna N","scottb5",8361]
[null,null,"Seabaugh, Debra L","seabad1",2079]
[null,null,"Semar, Ryan ","semarr1",440]
[null,null,"Severs, Dwayne C","severd1",1636]
[null,null,"Shanks, Brandon D","shankb1",2517]
[null,null,"Sheets, Mason M","sheetm1",9782]
[null,null,"Shepherd, Kayla M","shephk1",7824]
[null,null,"Shimbo, Seiji ","shimbs1",2620]
[null,null,"Shrum, Tom W","shrumt1",1565]
[null,null,"Siebeneck, Todd M","siebet",1426]
[null,null,"Simmerman, Garrett J","simmeg2",9641]
[null,null,"Sims, Timothy E","simst",2450]
[null,null,"Skipper, Justin L","skippj1",2648]
[null,null,"Skyrme, Megan A","skyrmm1",8531]
[null,null,"Slavens, Richard J","slaver2",8049]
[null,null,"Smith, Alexander D","smitha9",645]
[null,null,"Smith, Christopher S","smithcm",8975]
[null,null,"Smith, Ebin L","smitheb",9716]
[null,null,"Smith, Eric S","smithea",8649]
[null,null,"Smith, Hakim I"," x840028",5039]
[null,null,"Smith, Joseph L","smithjl",2411]
[null,null,"Smith, Lynn W","smithl5",2047]
[null,null,"Smith, Roy W","smithrl",8658]
[null,null,"Smith, Shaun A","smiths8",8847]
[null,null,"Snelling, Scott L","snells1",1702]
[null,null,"Snow, Cody B","snowc1",2617]
[null,null,"Soar, Charles W","soarc1",9735]
[null,null,"Sorensen, Jonathan W","sorenj1",8574]
[null,null,"Speidel, Timothy P","speidt1",2718]
[null,null,"Spradling, Jacob C","spradj2",1292]
[null,null,"Spratt, Aaron M","sprata1",8067]
[null,null,"Sprigg, John P","sprigj",2624]
[null,null,"Spurling, Tyler W","spurlt2",8034]
[null,null,"St Gemme, Robert W","stgemr1",8084]
[null,null,"States, William P","statew1",7719]
[null,null,"Stegner, Barbara J","stegnb1",1354]
[null,null,"Steinmeyer, Daniel S","steind2",9042]
[null,null,"Steppig, Ryan M","steppr1",2702]
[null,null,"Steward, David R","stewad1",8055]
[null,null,"Stewart, Charlotte M","stewac",1911]
[null,null,"Stewart, Jeff E","stewaj1",1571]
[null,null,"Stewart, Tyler W","stewat2",8668]
[null,null,"Stine, Matthew ","stinem1",8507]
[null,null,"Stinnett, Dustin J","stinnd1",9256]
[null,null,"Stockman, Morgan B","stockm3",9397]
[null,null,"Stokes, Zakary P","stokez1",7803]
[null,null,"Stotts, Tracee D","stottt1",2060]
[null,null,"Straw, Tristan M","strawt1",7768]
[null,null,"Street, Bradley D","streeb3",675]
[null,null,"Strong, Krista L","stronk1",2402]
[null,null,"Strong, Todd G","stront1",9718]
[null,null,"Struemph, Eveyln P","struee1",9080]
[null,null,"Sullinger, William A","sulliw1",2615]
[null,null,"Summers, Charles C","summec1",8115]
[null,null,"Sutton, Cole J","suttoc2",2409]
[null,null,"Swan, Brent E","swanb1",2256]
[null,null,"Swisher, Khristine M","swishk1",8643]
[null,null,"Swofford, Marley C","swoffm3",8484]
[null,null,"Talley, Allison A","tallea1",1266]
[null,null,"Taylor, Colton .","tayloc6",9646]
[null,null,"Taylor, Timothy K","taylot3",570]
[null,null,"Teegardin, Johnny L","teegaj",1316]
[null,null,"Teel, Chris A","teelc",7305]
[null,null,"Terrell, Jason A","terrej1",578]
[null,null,"Terrell, Joseph P","terrej2",8868]
[null,null,"Thate, Ryan J","thater1",9840]
[null,null,"Thoenen, Will A","thoenw1",9607]
[null,null,"Thomas, Douglas R R","thomad",1461]
[null,null,"Thomas, Sheron A","thomas6",9355]
[null,null,"Thomason, Robert C","thomar1",2061]
[null,null,"Thompson, Marshall S","thompm2",8329]
[null,null,"Thurman, Brandon W","thurmb2",8787]
[null,null,"Tillery, Lionel ","tillel1",3403]
[null,null,"Tincknell, Victor Q","tinckv1",2572]
[null,null,"Todd, Brian A","toddb",1254]
[null,null,"Tracy, Steve .","tracys2",9060]
[null,null,"Trainor, Kim M","traink",371]
[null,null,"Trautman, Brett S","trautb",2209]
[null,null,"Turner, Paul W","turnep3",648]
[null,null,"Unland, Joshua M","unlanj1",8875]
[null,null,"Uptegrove, Richard S","uptegr",1643]
[null,null,"Vader, Leonard A","vaderl",2192]
[null,null,"Van Winkle, Hayley J","vanwih2",9645]
[null,null,"Van de Riet, Madeline M","vandem3",9832]
[null,null,"Vance, Franklin T","vancef1",1906]
[null,null,"Vanwey, Steve L","vanwes2",8101]
[null,null,"Varner, Jonathan ","varnej1",571]
[null,null,"Veasman, Shadd N","veasms1",8525]
[null,null,"Veer, Jerry L","veerj1",8124]
[null,null,"Vega, Jesus A","vegaj1",8572]
[null,null,"Vennekotter, Michael G","vennem1",8664]
[null,null,"Vezendan, Vasile ","vezenv1",6596]
[null,null,"Villanueva-Kaeo, Kaupena (KJ) ","villak1",8086]
[null,null,"Vohs, Robert J","vohsr1",620]
[null,null,"Volkman, Melvina B","volkmm1",7811]
[null,null,"Voyles, Brandon S","voyleb1",2622]
[null,null,"Wade, Jennifer A","wadej1",7801]
[null,null,"Wagaman, Tyler C","wagamt1",7257]
[null,null,"Wager, Tycen M","wagert1",7990]
[null,null,"Wagner, Jonathan S","wagnej8",9323]
[null,null,"Wagner, Joseph C","wagnej7",725]
[null,null,"Waite, Patrick M","waitep3",7739]
[null,null,"Walk, Craig M","walkc1",8984]
[null,null,"Walker, Jacob B","walkej4",9614]
[null,null,"Ward, Christopher E","wardc1",1883]
[null,null,"Warren, Michael S","warrem1",2305]
[null,null,"Washausen, Scott J","washas",1811]
[null,null,"Washington, David B","washid1",2634]
[null,null,"Wasson, Scott L","wassos1",9833]
[null,null,"Watson, Matthew .","watsom3",9214]
[null,null,"Weatherby, Connor B","weathc1",642]
[null,null,"Weaver, Daniel D","weaved1",1704]
[null,null,"Weaver, William D","weavew1",606]
[null,null,"Weber, Shawn M","webers1",2669]
[null,null,"Weingart, Lucille M","weingl1",9307]
[null,null,"Weldesenbet, Fidel F","weldef1",690]
[null,null,"Weldon, Kyle .","weldok1",9075]
[null,null,"Westcott, Erica L","westce1",8433]
[null,null,"White, Jason D","whitej",2399]
[null,null,"Wieberg, Leslie A","wiebel2",2170]
[null,null,"Wiles, David K","wilesd",1832]
[null,null,"Wiles, Rodney L","wilesr",2022]
[null,null,"Wilkins, Cody A","wilkic1",1327]
[null,null,"Williams, Collin M","willic7",561]
[null,null,"Williams, Jason M","willij8",2252]
[null,null,"Willis, Bethany M","willibk",8415]
[null,null,"Wilson, Rebecca N","wilsor2",1502]
[null,null,"Winton, Nathan L","winton1",9625]
[null,null,"Wix, James R","wixj1",7722]
[null,null,"Wolk, Tyler J","wolkt1",2540]
[null,null,"Wood, Stephen ","woods6",7715]
[null,null,"Woods, Kirby F","woodsk1",1296]
[null,null,"Woodward, Joel S","woodwj1",716]
[null,null,"Woody, Blake T","woodyb2",7770]
[null,null,"Worthington, Kent D","worthk",1570]
[null,null,"Wright, John P","wrighj7",5391]
[null,null,"Wyrick, Zachary C","wyricz1",9440]
[null,null,"Yost, Jared C","yostj1",2668]
[null,null,"Young, Eric R","younge2",9702]
[null,null,"Zona, Timothy R","zonat1",1505]
[null,null,"Zuroweste, Janet E","zurowj1",7862]

{"sheet":"AWP Oracle","index":13,"n_rows":1194,"n_cols":123,"rows_kept":562,"cut":true,"hidden":false,"merged":[],"bounds":{"rows_first":250,"rows_last":62,"rows_between":250,"halvings":3}}
[{"$f":"'Send Sync'!AC23","v":"NO"},{"$f":"IF('Send Sync'!L16=\"\", \"\", 'Send Sync'!L16)","v":""},{"$f":"IF('Send Sync'!L17=\"\", \"\", 'Send Sync'!L17)","v":""},null,null,null,null,"SampleRecordAssociation","SampleRecordAssociation","SampleRecordAssociation",null,null,null,null,null,"SMPLRECCONTMATSETASSOC","SMPLRECCONTMATSETASSOC","SMPLRECCONTMATSETASSOC",null,null,null,null,null,null,null,null,null,null,null,null,null,null,"SampleRecordTest","lastrow",{"$f":"ROW(AI44)","v":44},null,null,null,null,null,null,null,null,null,null,null,null,null,null,null,null,null,null,null,null,null,null,null,null,null,null,null,null,null,null,null,null,null,null,null,null,null,null,null,null,"AgencyEntityInstance","lastrow",{"$f":"ROW(BZ266)","v":266},null,null,null,null,null,null,null,null,null,null,null,null,null,null,null,"AgencyEntityInsData","lastrow",{"$f":"ROW(CR1194)","v":1194},null,null,null,null,null,null,null,null,null,null,null,"SampleRecordRemark",null,null,null,null,null,null,null,null,null,null,null,null,"RefVendor"]
["SAMPLERECORD","SampleRecord ID","Sample Id",null,null,null,null,null,"SampleRecordAssociation Id","SampleRecordAssociation Id",null,null,null,null,null,null,"SmplRecContMatSetAssoc Id","CntrctPrjitmMatSet Id","SampleRecord Id","WorkLocation","MaterialUnit","RepresentedQuantity","SatisfiedRepresentedQnty","Created Dt","CreatedBy","LastUpdated DT","LastUpdatedBy",null,null,null,null,null,null,"SampleRecordTest Id","SampleRecord Id","MaterialTest Id","Number Value","DestinationLab Id","LabUnit Id","OriginalTest Id","ActualCompletion Dt","ChargeAmount","Descr","Due Dt","EstimatedCompletion Dt","PlannedStart Dt","TestRuns","TestStart Dt","Priority","Status","TestReportable","Retest","TestRequeued","CountsTowardMaa","Default Value","Required","ResultLocked","RetestRequested","TestUpdateable","Created Dt","Created By","LastUpdated Dt","LastUpdated By","BillingCode Id","CancelledOrRetested","ReceivedDate","RefTestResultValue Id","TestInstances","RefSpecSelected","RetestQuantity",null,null,null,null,null,null,"AgencyEntityInstance Id","AgencyEntity Id","BaseModelParent Id","AgencyEntityInstanceParent Id","DataXml","Created Dt","Created By","LastUpdated Dt","LastUpdated By",null,null,null,null,null,null,null,null,null,"AgencyEntityInsData Id","AgencyEntityInstance Id","Key","Value","Created Dt","Created By","LastUpdated Dt","LastUpdated By",null,null,null,null,null,"SampleRecordRemark Id","Model Id","Text","RemarkModelMapping Id","Created Dt","Created By","LastUpdated Dt","LastUpdated By",null,null,null,null,null,"VendorName","Vncde3","Vnflg8"]
[null,"SampleRecord NM",{"$f":"Main!V12","v":""},null,null,null,null,null,"SampleRecord Id","Sample Id",null,null,null,null,null,null,{"$f":"IF(R3=\"\",\"\",\"CntrctPrjitmMatSet Id 1\")","v":""},{"$f":"IF('Contract and Quantities'!AS39=\"\",\"\",'Contract and Quantities'!AS39)","v":""},{"$f":"IF(R3=\"\",\"\",\"Sample Id\")","v":""},null,{"$f":"IF(R3=\"\",\"\",'Contract and Quantities'!AR39)","v":""},{"$f":"IF(R3=\"\",\"\",'Contract and Quantities'!AQ39)","v":""},{"$f":"IF(R3=\"\",\"\",0)","v":""},{"$f":"IF(R3=\"\",\"\",TODAY())","v":""},{"$f":"IF(R3=\"\",\"\",\"WTSYSTEMUSER\")","v":""},{"$f":"IF(R3=\"\",\"\",TODAY())","v":""},{"$f":"IF(R3=\"\",\"\",\"WTSYSTEMUSER\")","v":""},null,null,null,null,null,null,{"$f":"IF('Free Form'!$F$49=\"Y\", \"SampleRecordTest Id 1\", \"\")","v":""},{"$f":"IF(AH3=\"\",\"\",\"Sample Id\")","v":""},{"$f":"IF(AQ3=\"\",\"\",VLOOKUP(AQ3,'Send Sync'!$I$56:$J$145,2,FALSE))","v":""},{"$f":"IF(AH3=\"\",\"\",1)","v":""},{"$f":"IF(AH3=\"\",\"\",'Send Sync'!$R$56)","v":""},{"$f":"IF(AH3=\"\",\"\",'Send Sync'!$T$56)","v":""},null,null,null,{"$f":"IF(AH3=\"\",\"\",\"Free Form Test\")","v":""},null,{"$f":"IF(AH3=\"\",\"\",TODAY())","v":""},{"$f":"IF(AH3=\"\",\"\",TODAY())","v":""},{"$f":"IF(AH3=\"\",\"\",1)","v":""},{"$f":"IF(AH3=\"\",\"\",TODAY())","v":""},null,{"$f":"IF(AH3=\"\",\"\",60)","v":""},{"$f":"IF(AH3=\"\",\"\",1)","v":""},{"$f":"IF(AH3=\"\",\"\",0)","v":""},{"$f":"IF(AH3=\"\",\"\",0)","v":""},{"$f":"IF(AH3=\"\",\"\",1)","v":""},{"$f":"IF(AH3=\"\",\"\",0)","v":""},{"$f":"IF(AH3=\"\",\"\",0)","v":""},{"$f":"IF(AH3=\"\",\"\",0)","v":""},{"$f":"IF(AH3=\"\",\"\",0)","v":""},{"$f":"IF(AH3=\"\",\"\",1)","v":""},{"$f":"IF(AH3=\"\",\"\",TODAY())","v":""},{"$f":"IF(AH3=\"\",\"\",\"WTSYSTEMUSER\")","v":""},{"$f":"IF(AH3=\"\",\"\",TODAY())","v":""},{"$f":"IF(AH3=\"\",\"\",\"WTSYSTEMUSER\")","v":""},null,{"$f":"IF(AH3=\"\",\"\",0)","v":""},null,null,{"$f":"IF(AH3=\"\",\"\",1)","v":""},{"$f":"IF(AH3=\"\",\"\",0)","v":""},null,null,null,null,null,null,null,{"$f":"IF(AH3=\"\",\"\",\"AgencyEntityInstance Id 1\")","v":""},{"$f":"IF(BY3=\"\",\"\",VLOOKUP(\"CM_FreeForm\",'Send Sync'!$K$56:$L$96,2,FALSE))","v":""},{"$f":"IF(BY3=\"\",\"\",\"SampleRecordTest Id 1\")","v":""},null,{"$f":"IF(BY3=\"\",\"\",CONCATENATE(\"<Data><FreeForm>\",CO3,\"</FreeForm></Data>\"))","v":""},{"$f":"IF(BY3=\"\",\"\",TODAY())","v":""},{"$f":"IF(BY3=\"\",\"\",\"WTSYSTEMUSER\")","v":""},{"$f":"IF(BY3=\"\",\"\",TODAY())","v":""},{"$f":"IF(BY3=\"\",\"\",\"WTSYSTEMUSER\")","v":""},null,null,null,null,null,null,null,{"$f":"IF(CT3=\"\",\"\",SUBSTITUTE(SUBSTITUTE(SUBSTITUTE(SUBSTITUTE(SUBSTITUTE(CT3,\"&\",\"&amp;\"),\">\",\"&gt;\"),\"<\",\"&lt;\"),\"'\",\"&#39;\"),\"\"\"\",\"&quot;\"))","v":""},null,{"$f":"IF(BY3=\"\",\"\",\"AgencyEntityInsData Id 1\")","v":""},{"$f":"IF(BY3=\"\",\"\",\"AgencyEntityInstance Id 1\")","v":""},{"$f":"IF(BY3=\"\",\"\",\"FreeForm\")","v":""},{"$f":"IF(BY3=\"\",\"\",'Free Form'!B14)","v":""},{"$f":"IF(BY3=\"\",\"\",TODAY())","v":""},{"$f":"IF(BY3=\"\",\"\",\"WTSYSTEMUSER\")","v":""},{"$f":"IF(BY3=\"\",\"\",TODAY())","v":""},{"$f":"IF(BY3=\"\",\"\",\"WTSYSTEMUSER\")","v":""},null,null,null,null,null,{"$f":"IF(Main!B28=\"\",\"\",\"SampleRecordRemark Id\")","v":""},{"$f":"IF(DD3=\"\",\"\",\"Sample Id\")","v":""},{"$f":"IF(DD3=\"\",\"\",Main!B28)","v":""},{"$f":"IF(DD3=\"\",\"\",53)","v":""},{"$f":"IF(DD3=\"\",\"\",TODAY())","v":""},{"$f":"IF(DD3=\"\",\"\",\"WTSYSTEMUSER\")","v":""},{"$f":"IF(DD3=\"\",\"\",TODAY())","v":""},{"$f":"IF(DD3=\"\",\"\",\"WTSYSTEMUSER\")","v":""},null,null,null,null,null,{"$f":"Main!U10","v":0},{"$f":"'Send Sync'!L19","v":0},"Y"]
[null,"RefAdministrativeOffice ID",null,null,null,null,null,null,"AssociationType","Destination Lab",null,null,null,null,null,null,{"$f":"IF(R4=\"\",\"\",\"CntrctPrjitmMatSet Id 2\")","v":""},{"$f":"IF('Contract and Quantities'!AS40=\"\",\"\",'Contract and Quantities'!AS40)","v":""},{"$f":"IF(R4=\"\",\"\",\"Sample Id\")","v":""},null,{"$f":"IF(R4=\"\",\"\",'Contract and Quantities'!AR40)","v":""},{"$f":"IF(R4=\"\",\"\",'Contract and Quantities'!AQ40)","v":""},{"$f":"IF(R4=\"\",\"\",0)","v":""},{"$f":"IF(R4=\"\",\"\",TODAY())","v":""},{"$f":"IF(R4=\"\",\"\",\"WTSYSTEMUSER\")","v":""},{"$f":"IF(R4=\"\",\"\",TODAY())","v":""},"",null,null,null,null,null,null,{"$f":"IF('Test 1'!AI15=\"Y\",\"SampleRecordTest Id 2\",\"\")","v":""},"",{"$f":"IF(AQ4=\"\",\"\",VLOOKUP(AQ4,'Send Sync'!$I$56:$J$145,2,FALSE))","v":""},{"$f":"IF(AH4=\"\",\"\",1)","v":""},{"$f":"IF(AH4=\"\",\"\",'Send Sync'!$R$56)","v":""},{"$f":"IF(AH4=\"\",\"\",'Send Sync'!$T$56)","v":""},null,null,null,{"$f":"IF(AH4=\"\",\"\",IF($C$43=\"QA\",\"Subgrade Compaction (QA)\",\"Subgrade Compaction (QC)\"))","v":""},null,"","",{"$f":"IF(AH4=\"\",\"\",COUNTIF(AJ4:AJ23,AJ4))","v":""},"",null,"","","","","","","","","","","","","","",null,{"$f":"IF(AH4=\"\",\"\",0)","v":""},null,null,{"$f":"IF(AH4=\"\",\"\",1)","v":""},{"$f":"IF(AH4=\"\",\"\",0)","v":""},null,null,null,null,null,null,1,{"$f":"IF(AH4=\"\",\"\",\"AgencyEntityInstance Id 2\")","v":""},{"$f":"IF(BY4=\"\",\"\",VLOOKUP(\"CM_Subgrade_Comp\",'Send Sync'!$K$56:$L$96,2,FALSE))","v":""},{"$f":"IF(BY4=\"\",\"\",\"SampleRecordTest Id 2\")","v":""},"",{"$f":"IF(BY4=\"\",\"\",CONCATENATE(\"<Data><cm_subgrade_comp_01_qty_cy_a>\",CO4,\"</cm_subgrade_comp_01_qty_cy_a><cm_subgrade_comp_02_qty_cy_b>\",CO5,\"</cm_subgrade_comp_02_qty_cy_b><cm_subgrade_comp_03_qty_cy_rocky>\",CO6,\"</cm_subgrade_comp_03_qty_cy_rocky><cm_subgrade_comp_04_qty_sta_a>\",CO7,\"</cm_subgrade_comp_04_qty_sta_a><cm_subgrade_comp_05_qty_sta_b>\",CO8,\"</cm_subgrade_comp_05_qty_sta_b><cm_subgrade_comp_06_qty_sta_rocky>\",CO9,\"</cm_subgrade_comp_06_qty_sta_rocky><cm_subgrade_comp_07_comp_a>\",CO10,\"</cm_subgrade_comp_07_comp_a><cm_subgrade_comp_08_comp_b>\",CO11,\"</cm_subgrade_comp_08_comp_b><cm_subgrade_comp_09_density_a>\",CO12,\"</cm_subgrade_comp_09_density_a><cm_subgrade_comp_10_density_b>\",CO13,\"</cm_subgrade_comp_10_density_b></Data>\"))","v":""},{"$f":"IF(BY4=\"\",\"\",TODAY())","v":""},{"$f":"IF(BY4=\"\",\"\",\"WTSYSTEMUSER\")","v":""},"","",null,null,null,null,null,null,null,{"$f":"IF(CT4=\"\",\"\",SUBSTITUTE(SUBSTITUTE(SUBSTITUTE(SUBSTITUTE(SUBSTITUTE(CT4,\"&\",\"&amp;\"),\">\",\"&gt;\"),\"<\",\"&lt;\"),\"'\",\"&#39;\"),\"\"\"\",\"&quot;\"))","v":""},1,{"$f":"IF(BY4=\"\",\"\",\"AgencyEntityInsData Id 2\")","v":""},{"$f":"IF(BY4=\"\",\"\",\"AgencyEntityInstance Id 2\")","v":""},{"$f":"IF(BY4=\"\",\"\",\"cm_subgrade_comp_01_qty_cy_a\")","v":""},{"$f":"IF(BY4=\"\",\"\",'Test 1'!AE15)","v":""},{"$f":"IF(BY4=\"\",\"\",TODAY())","v":""},{"$f":"IF(BY4=\"\",\"\",\"WTSYSTEMUSER\")","v":""},{"$f":"IF(BY4=\"\",\"\",TODAY())","v":""},{"$f":"IF(BY4=\"\",\"\",\"WTSYSTEMUSER\")","v":""}]
[null,"AuthorizedBy ID",2,null,null,null,null,null,"Entity Id",{"$f":"'Send Sync'!AB56","v":204},null,null,null,null,null,null,{"$f":"IF(R5=\"\",\"\",\"CntrctPrjitmMatSet Id 3\")","v":""},{"$f":"IF('Contract and Quantities'!AS41=\"\",\"\",'Contract and Quantities'!AS41)","v":""},"",null,{"$f":"IF(R5=\"\",\"\",'Contract and Quantities'!AR41)","v":""},{"$f":"IF(R5=\"\",\"\",'Contract and Quantities'!AQ41)","v":""},"","","","","",null,null,null,null,null,null,{"$f":"IF('Test 1'!AI25=\"Y\",\"SampleRecordTest Id 3\",\"\")","v":""},"",{"$f":"IF(AQ5=\"\",\"\",VLOOKUP(AQ5,'Send Sync'!$I$56:$J$145,2,FALSE))","v":""},{"$f":"IF(AH5=\"\",\"\",2)","v":""},{"$f":"IF(AH5=\"\",\"\",'Send Sync'!$R$56)","v":""},{"$f":"IF(AH5=\"\",\"\",'Send Sync'!$T$56)","v":""},null,null,null,"",null,"","",{"$f":"IF(AH5=\"\",\"\",COUNTIF(AJ4:AJ23,AJ5))","v":""},"",null,"","","","","","","","","","","","","","",null,"",null,null,"","",null,null,null,null,null,null,null,{"$f":"IF(AH4=\"\",\"\",IF('Test 1'!J11=\"\",\"\",\"AgencyEntityInstance Id 3\"))","v":""},{"$f":"IF(BY5=\"\",\"\",VLOOKUP(\"CM_StandardForRemark\",'Send Sync'!$K$56:$L$96,2,FALSE))","v":""},{"$f":"IF(BY5=\"\",\"\",\"SampleRecordTest Id 2\")","v":""},"",{"$f":"IF(BY5=\"\",\"\",CONCATENATE(\"<Data><CM_Standard_For_Remarks>\",CO14,\"</CM_Standard_For_Remarks></Data>\"))","v":""},{"$f":"IF(BY5=\"\",\"\",TODAY())","v":""},{"$f":"IF(BY5=\"\",\"\",\"WTSYSTEMUSER\")","v":""},{"$f":"IF(BY5=\"\",\"\",TODAY())","v":""},{"$f":"IF(BY5=\"\",\"\",\"WTSYSTEMUSER\")","v":""},null,null,null,null,null,null,null,"",null,{"$f":"IF(BY4=\"\",\"\",\"AgencyEntityInsData Id 3\")","v":""},{"$f":"IF(BY4=\"\",\"\",\"AgencyEntityInstance Id 2\")","v":""},{"$f":"IF(BY4=\"\",\"\",\"cm_subgrade_comp_02_qty_cy_b\")","v":""},{"$f":"IF(BY4=\"\",\"\",'Test 1'!AE16)","v":""},{"$f":"IF(BY4=\"\",\"\",TODAY())","v":""},{"$f":"IF(BY4=\"\",\"\",\"WTSYSTEMUSER\")","v":""},{"$f":"IF(BY4=\"\",\"\",TODAY())","v":""},{"$f":"IF(BY4=\"\",\"\",\"WTSYSTEMUSER\")","v":""}]
[null,"DsrInspector ID",null,null,null,null,null,null,"PersonInfo Id",null,null,null,null,null,null,null,{"$f":"IF(R6=\"\",\"\",\"CntrctPrjitmMatSet Id 4\")","v":""},{"$f":"IF('Contract and Quantities'!AS42=\"\",\"\",'Contract and Quantities'!AS42)","v":""},"",null,{"$f":"IF(R6=\"\",\"\",'Contract and Quantities'!AR42)","v":""},{"$f":"IF(R6=\"\",\"\",'Contract and Quantities'!AQ42)","v":""},"","","","","",null,null,null,null,null,null,{"$f":"IF('Test 1'!AI35=\"Y\",\"SampleRecordTest Id 4\",\"\")","v":""},"",{"$f":"IF(AQ6=\"\",\"\",VLOOKUP(AQ6,'Send Sync'!$I$56:$J$145,2,FALSE))","v":""},{"$f":"IF(AH6=\"\",\"\",3)","v":""},{"$f":"IF(AH6=\"\",\"\",'Send Sync'!$R$56)","v":""},{"$f":"IF(AH6=\"\",\"\",'Send Sync'!$T$56)","v":""},null,null,null,"",null,"","",{"$f":"IF(AH6=\"\",\"\",COUNTIF(AJ4:AJ23,AJ6))","v":""},"",null,"","","","","","","","","","","","","","",null,"",null,null,"","",null,null,null,null,null,null,2,{"$f":"IF(AH5=\"\",\"\",\"AgencyEntityInstance Id 4\")","v":""},{"$f":"IF(BY6=\"\",\"\",VLOOKUP(\"CM_Subgrade_Comp\",'Send Sync'!$K$56:$L$96,2,FALSE))","v":""},{"$f":"IF(BY6=\"\",\"\",\"SampleRecordTest Id 3\")","v":""},"",{"$f":"IF(BY6=\"\",\"\",CONCATENATE(\"<Data><cm_subgrade_comp_01_qty_cy_a>\",CO15,\"</cm_subgrade_comp_01_qty_cy_a><cm_subgrade_comp_02_qty_cy_b>\",CO16,\"</cm_subgrade_comp_02_qty_cy_b><cm_subgrade_comp_03_qty_cy_rocky>\",CO17,\"</cm_subgrade_comp_03_qty_cy_rocky><cm_subgrade_comp_04_qty_sta_a>\",CO18,\"</cm_subgrade_comp_04_qty_sta_a><cm_subgrade_comp_05_qty_sta_b>\",CO19,\"</cm_subgrade_comp_05_qty_sta_b><cm_subgrade_comp_06_qty_sta_rocky>\",CO20,\"</cm_subgrade_comp_06_qty_sta_rocky><cm_subgrade_comp_07_comp_a>\",CO21,\"</cm_subgrade_comp_07_comp_a><cm_subgrade_comp_08_comp_b>\",CO22,\"</cm_subgrade_comp_08_comp_b><cm_subgrade_comp_09_density_a>\",CO23,\"</cm_subgrade_comp_09_density_a><cm_subgrade_comp_10_density_b>\",CO24,\"</cm_subgrade_comp_10_density_b></Data>\"))","v":""},{"$f":"IF(BY6=\"\",\"\",TODAY())","v":""},{"$f":"IF(BY6=\"\",\"\",\"WTSYSTEMUSER\")","v":""},{"$f":"IF(BY6=\"\",\"\",TODAY())","v":""},{"$f":"IF(BY6=\"\",\"\",\"WTSYSTEMUSER\")","v":""},null,null,null,null,null,null,null,"",null,{"$f":"IF(BY4=\"\",\"\",\"AgencyEntityInsData Id 4\")","v":""},{"$f":"IF(BY4=\"\",\"\",\"AgencyEntityInstance Id 2\")","v":""},{"$f":"IF(BY4=\"\",\"\",\"cm_subgrade_comp_03_qty_cy_rocky\")","v":""},{"$f":"IF(BY4=\"\",\"\",'Test 1'!AE17)","v":""},{"$f":"IF(BY4=\"\",\"\",TODAY())","v":""},{"$f":"IF(BY4=\"\",\"\",\"WTSYSTEMUSER\")","v":""},{"$f":"IF(BY4=\"\",\"\",TODAY())","v":""},{"$f":"IF(BY4=\"\",\"\",\"WTSYSTEMUSER\")","v":""}]
[null,"DwrInspector ID",null,null,null,null,null,null,"DestinationLab Id",{"$f":"'Send Sync'!R56","v":5},null,null,null,null,null,null,{"$f":"IF(R7=\"\",\"\",\"CntrctPrjitmMatSet Id 5\")","v":""},{"$f":"IF('Contract and Quantities'!AS43=\"\",\"\",'Contract and Quantities'!AS43)","v":""},"",null,{"$f":"IF(R7=\"\",\"\",'Contract and Quantities'!AR43)","v":""},{"$f":"IF(R7=\"\",\"\",'Contract and Quantities'!AQ43)","v":""},"","","","","",null,null,null,null,null,null,{"$f":"IF('Test 1'!AI45=\"Y\",\"SampleRecordTest Id 5\",\"\")","v":""},"",{"$f":"IF(AQ7=\"\",\"\",VLOOKUP(AQ7,'Send Sync'!$I$56:$J$145,2,FALSE))","v":""},{"$f":"IF(AH7=\"\",\"\",4)","v":""},{"$f":"IF(AH7=\"\",\"\",'Send Sync'!$R$56)","v":""},{"$f":"IF(AH7=\"\",\"\",'Send Sync'!$T$56)","v":""},null,null,null,"",null,"","",{"$f":"IF(AH7=\"\",\"\",COUNTIF(AJ4:AJ23,AJ7))","v":""},"",null,"","","","","","","","","","","","","","",null,"",null,null,"","",null,null,null,null,null,null,null,{"$f":"IF(AH5=\"\",\"\",IF('Test 1'!J21=\"\",\"\",\"AgencyEntityInstance Id 5\"))","v":""},{"$f":"IF(BY7=\"\",\"\",VLOOKUP(\"CM_StandardForRemark\",'Send Sync'!$K$56:$L$96,2,FALSE))","v":""},{"$f":"IF(BY7=\"\",\"\",\"SampleRecordTest Id 3\")","v":""},"",{"$f":"IF(BY7=\"\",\"\",CONCATENATE(\"<Data><CM_Standard_For_Remarks>\",CO25,\"</CM_Standard_For_Remarks></Data>\"))","v":""},"","","","",null,null,null,null,null,null,null,"",null,{"$f":"IF(BY4=\"\",\"\",\"AgencyEntityInsData Id 5\")","v":""},{"$f":"IF(BY4=\"\",\"\",\"AgencyEntityInstance Id 2\")","v":""},{"$f":"IF(BY4=\"\",\"\",\"cm_subgrade_comp_04_qty_sta_a\")","v":""},{"$f":"IF(BY4=\"\",\"\",'Test 1'!AF15)","v":""},{"$f":"IF(BY4=\"\",\"\",TODAY())","v":""},{"$f":"IF(BY4=\"\",\"\",\"WTSYSTEMUSER\")","v":""},{"$f":"IF(BY4=\"\",\"\",TODAY())","v":""},{"$f":"IF(BY4=\"\",\"\",\"WTSYSTEMUSER\")","v":""}]
[null,"Facility ID",null,null,null,null,null,null,"RefVendor Id",null,null,null,null,null,null,null,{"$f":"IF(R8=\"\",\"\",\"CntrctPrjitmMatSet Id 6\")","v":""},{"$f":"IF('Contract and Quantities'!AS44=\"\",\"\",'Contract and Quantities'!AS44)","v":""},"",null,{"$f":"IF(R8=\"\",\"\",'Contract and Quantities'!AR44)","v":""},{"$f":"IF(R8=\"\",\"\",'Contract and Quantities'!AQ44)","v":""},"","","","","",null,null,null,null,null,null,{"$f":"IF('Test 1'!AI55=\"Y\",\"SampleRecordTest Id 6\",\"\")","v":""},"",{"$f":"IF(AQ8=\"\",\"\",VLOOKUP(AQ8,'Send Sync'!$I$56:$J$145,2,FALSE))","v":""},{"$f":"IF(AH8=\"\",\"\",5)","v":""},{"$f":"IF(AH8=\"\",\"\",'Send Sync'!$R$56)","v":""},{"$f":"IF(AH8=\"\",\"\",'Send Sync'!$T$56)","v":""},null,null,null,"",null,"","",{"$f":"IF(AH8=\"\",\"\",COUNTIF(AJ4:AJ23,AJ8))","v":""},"",null,"","","","","","","","","","","","","","",null,"",null,null,"","",null,null,null,null,null,null,3,{"$f":"IF(AH6=\"\",\"\",\"AgencyEntityInstance Id 6\")","v":""},{"$f":"IF(BY8=\"\",\"\",VLOOKUP(\"CM_Subgrade_Comp\",'Send Sync'!$K$56:$L$96,2,FALSE))","v":""},{"$f":"IF(BY8=\"\",\"\",\"SampleRecordTest Id 4\")","v":""},"",{"$f":"IF(BY8=\"\",\"\",CONCATENATE(\"<Data><cm_subgrade_comp_01_qty_cy_a>\",CO26,\"</cm_subgrade_comp_01_qty_cy_a><cm_subgrade_comp_02_qty_cy_b>\",CO27,\"</cm_subgrade_comp_02_qty_cy_b><cm_subgrade_comp_03_qty_cy_rocky>\",CO28,\"</cm_subgrade_comp_03_qty_cy_rocky><cm_subgrade_comp_04_qty_sta_a>\",CO29,\"</cm_subgrade_comp_04_qty_sta_a><cm_subgrade_comp_05_qty_sta_b>\",CO30,\"</cm_subgrade_comp_05_qty_sta_b><cm_subgrade_comp_06_qty_sta_rocky>\",CO31,\"</cm_subgrade_comp_06_qty_sta_rocky><cm_subgrade_comp_07_comp_a>\",CO32,\"</cm_subgrade_comp_07_comp_a><cm_subgrade_comp_08_comp_b>\",CO33,\"</cm_subgrade_comp_08_comp_b><cm_subgrade_comp_09_density_a>\",CO34,\"</cm_subgrade_comp_09_density_a><cm_subgrade_comp_10_density_b>\",CO35,\"</cm_subgrade_comp_10_density_b></Data>\"))","v":""},"","","","",null,null,null,null,null,null,null,"",null,{"$f":"IF(BY4=\"\",\"\",\"AgencyEntityInsData Id 6\")","v":""},{"$f":"IF(BY4=\"\",\"\",\"AgencyEntityInstance Id 2\")","v":""},{"$f":"IF(BY4=\"\",\"\",\"cm_subgrade_comp_05_qty_sta_b\")","v":""},{"$f":"IF(BY4=\"\",\"\",'Test 1'!AF16)","v":""},{"$f":"IF(BY4=\"\",\"\",TODAY())","v":""},{"$f":"IF(BY4=\"\",\"\",\"WTSYSTEMUSER\")","v":""},{"$f":"IF(BY4=\"\",\"\",TODAY())","v":""},{"$f":"IF(BY4=\"\",\"\",\"WTSYSTEMUSER\")","v":""}]
[null,"LinkTo ID",null,null,null,null,null,null,"Role Id",null,null,null,null,null,null,null,{"$f":"IF(R9=\"\",\"\",\"CntrctPrjitmMatSet Id 7\")","v":""},{"$f":"IF('Contract and Quantities'!AS45=\"\",\"\",'Contract and Quantities'!AS45)","v":""},"",null,{"$f":"IF(R9=\"\",\"\",'Contract and Quantities'!AR45)","v":""},{"$f":"IF(R9=\"\",\"\",'Contract and Quantities'!AQ45)","v":""},"","","","","",null,null,null,null,null,null,{"$f":"IF('Test 1'!AI65=\"Y\",\"SampleRecordTest Id 7\",\"\")","v":""},"",{"$f":"IF(AQ9=\"\",\"\",VLOOKUP(AQ9,'Send Sync'!$I$56:$J$145,2,FALSE))","v":""},{"$f":"IF(AH9=\"\",\"\",6)","v":""},{"$f":"IF(AH9=\"\",\"\",'Send Sync'!$R$56)","v":""},{"$f":"IF(AH9=\"\",\"\",'Send Sync'!$T$56)","v":""},null,null,null,"",null,"","",{"$f":"IF(AH9=\"\",\"\",COUNTIF(AJ4:AJ23,AJ9))","v":""},"",null,"","","","","","","","","","","","","","",null,"",null,null,"","",null,null,null,null,null,null,null,{"$f":"IF(AH6=\"\",\"\",IF('Test 1'!J31=\"\",\"\",\"AgencyEntityInstance Id 7\"))","v":""},{"$f":"IF(BY9=\"\",\"\",VLOOKUP(\"CM_StandardForRemark\",'Send Sync'!$K$56:$L$96,2,FALSE))","v":""},{"$f":"IF(BY9=\"\",\"\",\"SampleRecordTest Id 4\")","v":""},"",{"$f":"IF(BY9=\"\",\"\",CONCATENATE(\"<Data><CM_Standard_For_Remarks>\",CO36,\"</CM_Standard_For_Remarks></Data>\"))","v":""},"","","","",null,null,null,null,null,null,null,"",null,{"$f":"IF(BY4=\"\",\"\",\"AgencyEntityInsData Id 7\")","v":""},{"$f":"IF(BY4=\"\",\"\",\"AgencyEntityInstance Id 2\")","v":""},{"$f":"IF(BY4=\"\",\"\",\"cm_subgrade_comp_06_qty_sta_rocky\")","v":""},{"$f":"IF(BY4=\"\",\"\",'Test 1'!AF17)","v":""},{"$f":"IF(BY4=\"\",\"\",TODAY())","v":""},{"$f":"IF(BY4=\"\",\"\",\"WTSYSTEMUSER\")","v":""},{"$f":"IF(BY4=\"\",\"\",TODAY())","v":""},{"$f":"IF(BY4=\"\",\"\",\"WTSYSTEMUSER\")","v":""}]
[null,"LsaurLastModifiedBy ID",null,null,null,null,null,null,"AssociatedValue",{"$f":"'Send Sync'!R56","v":5},null,null,null,null,null,null,{"$f":"IF(R10=\"\",\"\",\"CntrctPrjitmMatSet Id 8\")","v":""},{"$f":"IF('Contract and Quantities'!AS46=\"\",\"\",'Contract and Quantities'!AS46)","v":""},"",null,{"$f":"IF(R10=\"\",\"\",'Contract and Quantities'!AR46)","v":""},{"$f":"IF(R10=\"\",\"\",'Contract and Quantities'!AQ46)","v":""},"","","","","",null,null,null,null,null,null,{"$f":"IF('Test 1'!AI75=\"Y\",\"SampleRecordTest Id 8\",\"\")","v":""},"",{"$f":"IF(AQ10=\"\",\"\",VLOOKUP(AQ10,'Send Sync'!$I$56:$J$145,2,FALSE))","v":""},{"$f":"IF(AH10=\"\",\"\",7)","v":""},{"$f":"IF(AH10=\"\",\"\",'Send Sync'!$R$56)","v":""},{"$f":"IF(AH10=\"\",\"\",'Send Sync'!$T$56)","v":""},null,null,null,"",null,"","",{"$f":"IF(AH10=\"\",\"\",COUNTIF(AJ3:AJ23,AJ10))","v":""},"",null,"","","","","","","","","","","","","","",null,{"$f":"IF($AH10=\"\",\"\",0)","v":""},null,null,"","",null,null,null,null,null,null,4,{"$f":"IF(AH7=\"\",\"\",\"AgencyEntityInstance Id 8\")","v":""},{"$f":"IF(BY10=\"\",\"\",VLOOKUP(\"CM_Subgrade_Comp\",'Send Sync'!$K$56:$L$96,2,FALSE))","v":""},{"$f":"IF(BY10=\"\",\"\",\"SampleRecordTest Id 5\")","v":""},"",{"$f":"IF(BY10=\"\",\"\",CONCATENATE(\"<Data><cm_subgrade_comp_01_qty_cy_a>\",CO37,\"</cm_subgrade_comp_01_qty_cy_a><cm_subgrade_comp_02_qty_cy_b>\",CO38,\"</cm_subgrade_comp_02_qty_cy_b><cm_subgrade_comp_03_qty_cy_rocky>\",CO39,\"</cm_subgrade_comp_03_qty_cy_rocky><cm_subgrade_comp_04_qty_sta_a>\",CO40,\"</cm_subgrade_comp_04_qty_sta_a><cm_subgrade_comp_05_qty_sta_b>\",CO41,\"</cm_subgrade_comp_05_qty_sta_b><cm_subgrade_comp_06_qty_sta_rocky>\",CO42,\"</cm_subgrade_comp_06_qty_sta_rocky><cm_subgrade_comp_07_comp_a>\",CO43,\"</cm_subgrade_comp_07_comp_a><cm_subgrade_comp_08_comp_b>\",CO44,\"</cm_subgrade_comp_08_comp_b><cm_subgrade_comp_09_density_a>\",CO45,\"</cm_subgrade_comp_09_density_a><cm_subgrade_comp_10_density_b>\",CO46,\"</cm_subgrade_comp_10_density_b></Data>\"))","v":""},"","","","",null,null,null,null,null,null,null,"",null,{"$f":"IF(BY4=\"\",\"\",\"AgencyEntityInsData Id 8\")","v":""},{"$f":"IF(BY4=\"\",\"\",\"AgencyEntityInstance Id 2\")","v":""},{"$f":"IF(BY4=\"\",\"\",\"cm_subgrade_comp_07_comp_a\")","v":""},{"$f":"IF(BY4=\"\",\"\",'Test 1'!AG15)","v":""},{"$f":"IF(BY4=\"\",\"\",TODAY())","v":""},{"$f":"IF(BY4=\"\",\"\",\"WTSYSTEMUSER\")","v":""},{"$f":"IF(BY4=\"\",\"\",TODAY())","v":""},{"$f":"IF(BY4=\"\",\"\",\"WTSYSTEMUSER\")","v":""}]
[null,"Material ID",{"$f":"Main!J41","v":4505},null,null,null,null,null,"Created Dt",{"$f":"TODAY()","v":"2025-01-24"},null,null,null,null,null,null,{"$f":"IF(R11=\"\",\"\",\"CntrctPrjitmMatSet Id 9\")","v":""},{"$f":"IF('Contract and Quantities'!AS47=\"\",\"\",'Contract and Quantities'!AS47)","v":""},"",null,{"$f":"IF(R11=\"\",\"\",'Contract and Quantities'!AR47)","v":""},{"$f":"IF(R11=\"\",\"\",'Contract and Quantities'!AQ47)","v":""},"","","","","",null,null,null,null,null,null,{"$f":"IF('Test 1'!AI85=\"Y\",\"SampleRecordTest Id 9\",\"\")","v":""},"",{"$f":"IF(AQ11=\"\",\"\",VLOOKUP(AQ11,'Send Sync'!$I$56:$J$145,2,FALSE))","v":""},{"$f":"IF(AH11=\"\",\"\",8)","v":""},{"$f":"IF(AH11=\"\",\"\",'Send Sync'!$R$56)","v":""},{"$f":"IF(AH11=\"\",\"\",'Send Sync'!$T$56)","v":""},null,null,null,"",null,"","",{"$f":"IF(AH11=\"\",\"\",COUNTIF(AJ4:AJ23,AJ11))","v":""},"",null,"","","","","","","","","","","","","","",null,"",null,null,"","",null,null,null,null,null,null,null,{"$f":"IF(AH7=\"\",\"\",IF('Test 1'!J41=\"\",\"\",\"AgencyEntityInstance Id 9\"))","v":""},{"$f":"IF(BY11=\"\",\"\",VLOOKUP(\"CM_StandardForRemark\",'Send Sync'!$K$56:$L$96,2,FALSE))","v":""},{"$f":"IF(BY11=\"\",\"\",\"SampleRecordTest Id 5\")","v":""},"",{"$f":"IF(BY11=\"\",\"\",CONCATENATE(\"<Data><CM_Standard_For_Remarks>\",CO47,\"</CM_Standard_For_Remarks></Data>\"))","v":""},"","","","",null,null,null,null,null,null,null,"",null,{"$f":"IF(BY4=\"\",\"\",\"AgencyEntityInsData Id 9\")","v":""},{"$f":"IF(BY4=\"\",\"\",\"AgencyEntityInstance Id 2\")","v":""},{"$f":"IF(BY4=\"\",\"\",\"cm_subgrade_comp_08_comp_b\")","v":""},{"$f":"IF(BY4=\"\",\"\",'Test 1'!AG16)","v":""},{"$f":"IF(BY4=\"\",\"\",TODAY())","v":""},{"$f":"IF(BY4=\"\",\"\",\"WTSYSTEMUSER\")","v":""},{"$f":"IF(BY4=\"\",\"\",TODAY())","v":""},{"$f":"IF(BY4=\"\",\"\",\"WTSYSTEMUSER\")","v":""}]
[null,"RevisedBy ID",null,null,null,null,null,null,"Created By","WTSYSTEMUSER",null,null,null,null,null,null,{"$f":"IF(R12=\"\",\"\",\"CntrctPrjitmMatSet Id 10\")","v":""},{"$f":"IF('Contract and Quantities'!AS48=\"\",\"\",'Contract and Quantities'!AS48)","v":""},"",null,{"$f":"IF(R12=\"\",\"\",'Contract and Quantities'!AR48)","v":""},{"$f":"IF(R12=\"\",\"\",'Contract and Quantities'!AQ48)","v":""},"","","","","",null,null,null,null,null,null,{"$f":"IF('Test 1'!AI95=\"Y\",\"SampleRecordTest Id 10\",\"\")","v":""},"",{"$f":"IF(AQ12=\"\",\"\",VLOOKUP(AQ12,'Send Sync'!$I$56:$J$145,2,FALSE))","v":""},{"$f":"IF(AH12=\"\",\"\",9)","v":""},{"$f":"IF(AH12=\"\",\"\",'Send Sync'!$R$56)","v":""},{"$f":"IF(AH12=\"\",\"\",'Send Sync'!$T$56)","v":""},null,null,null,"",null,"","",{"$f":"IF(AH12=\"\",\"\",COUNTIF(AJ4:AJ23,AJ12))","v":""},"",null,"","","","","","","","","","","","","","",null,"",null,null,"","",null,null,null,null,null,null,5,{"$f":"IF(AH8=\"\",\"\",\"AgencyEntityInstance Id 10\")","v":""},{"$f":"IF(BY12=\"\",\"\",VLOOKUP(\"CM_Subgrade_Comp\",'Send Sync'!$K$56:$L$96,2,FALSE))","v":""},{"$f":"IF(BY12=\"\",\"\",\"SampleRecordTest Id 6\")","v":""},"",{"$f":"IF(BY12=\"\",\"\",CONCATENATE(\"<Data><cm_subgrade_comp_01_qty_cy_a>\",CO48,\"</cm_subgrade_comp_01_qty_cy_a><cm_subgrade_comp_02_qty_cy_b>\",CO49,\"</cm_subgrade_comp_02_qty_cy_b><cm_subgrade_comp_03_qty_cy_rocky>\",CO50,\"</cm_subgrade_comp_03_qty_cy_rocky><cm_subgrade_comp_04_qty_sta_a>\",CO51,\"</cm_subgrade_comp_04_qty_sta_a><cm_subgrade_comp_05_qty_sta_b>\",CO52,\"</cm_subgrade_comp_05_qty_sta_b><cm_subgrade_comp_06_qty_sta_rocky>\",CO53,\"</cm_subgrade_comp_06_qty_sta_rocky><cm_subgrade_comp_07_comp_a>\",CO54,\"</cm_subgrade_comp_07_comp_a><cm_subgrade_comp_08_comp_b>\",CO55,\"</cm_subgrade_comp_08_comp_b><cm_subgrade_comp_09_density_a>\",CO56,\"</cm_subgrade_comp_09_density_a><cm_subgrade_comp_10_density_b>\",CO57,\"</cm_subgrade_comp_10_density_b></Data>\"))","v":""},"","","","",null,null,null,null,null,null,null,"",null,{"$f":"IF(BY4=\"\",\"\",\"AgencyEntityInsData Id 10\")","v":""},{"$f":"IF(BY4=\"\",\"\",\"AgencyEntityInstance Id 2\")","v":""},{"$f":"IF(BY4=\"\",\"\",\"cm_subgrade_comp_09_density_a\")","v":""},{"$f":"IF(BY4=\"\",\"\",'Test 1'!AH15)","v":""},{"$f":"IF(BY4=\"\",\"\",TODAY())","v":""},{"$f":"IF(BY4=\"\",\"\",\"WTSYSTEMUSER\")","v":""},{"$f":"IF(BY4=\"\",\"\",TODAY())","v":""},{"$f":"IF(BY4=\"\",\"\",\"WTSYSTEMUSER\")","v":""}]
[null,"RevisingSample ID",null,null,null,null,null,null,"LastUpdated Dt",{"$f":"TODAY()","v":"2025-01-24"},null,null,null,null,null,null,{"$f":"IF(R13=\"\",\"\",\"CntrctPrjitmMatSet Id 11\")","v":""},{"$f":"IF('Contract and Quantities'!AS49=\"\",\"\",'Contract and Quantities'!AS49)","v":""},"",null,{"$f":"IF(R13=\"\",\"\",'Contract and Quantities'!AR49)","v":""},{"$f":"IF(R13=\"\",\"\",'Contract and Quantities'!AQ49)","v":""},"","","","","",null,null,null,null,null,null,{"$f":"IF('Test 1'!AI105=\"Y\",\"SampleRecordTest Id 11\",\"\")","v":""},"",{"$f":"IF(AQ13=\"\",\"\",VLOOKUP(AQ13,'Send Sync'!$I$56:$J$145,2,FALSE))","v":""},{"$f":"IF(AH13=\"\",\"\",10)","v":""},{"$f":"IF(AH13=\"\",\"\",'Send Sync'!$R$56)","v":""},{"$f":"IF(AH13=\"\",\"\",'Send Sync'!$T$56)","v":""},null,null,null,"",null,"","",{"$f":"IF(AH13=\"\",\"\",COUNTIF(AJ4:AJ23,AJ13))","v":""},"",null,"","","","","","","","","","","","","","",null,"",null,null,"","",null,null,null,null,null,null,null,{"$f":"IF(AH8=\"\",\"\",IF('Test 1'!J51=\"\",\"\",\"AgencyEntityInstance Id 11\"))","v":""},{"$f":"IF(BY13=\"\",\"\",VLOOKUP(\"CM_StandardForRemark\",'Send Sync'!$K$56:$L$96,2,FALSE))","v":""},{"$f":"IF(BY13=\"\",\"\",\"SampleRecordTest Id 6\")","v":""},"",{"$f":"IF(BY13=\"\",\"\",CONCATENATE(\"<Data><CM_Standard_For_Remarks>\",CO58,\"</CM_Standard_For_Remarks></Data>\"))","v":""},"","","","",null,null,null,null,null,null,null,"",null,{"$f":"IF(BY4=\"\",\"\",\"AgencyEntityInsData Id 11\")","v":""},{"$f":"IF(BY4=\"\",\"\",\"AgencyEntityInstance Id 2\")","v":""},{"$f":"IF(BY4=\"\",\"\",\"cm_subgrade_comp_10_density_b\")","v":""},{"$f":"IF(BY4=\"\",\"\",'Test 1'!AH16)","v":""},{"$f":"IF(BY4=\"\",\"\",TODAY())","v":""},{"$f":"IF(BY4=\"\",\"\",\"WTSYSTEMUSER\")","v":""},{"$f":"IF(BY4=\"\",\"\",TODAY())","v":""},{"$f":"IF(BY4=\"\",\"\",\"WTSYSTEMUSER\")","v":""}]
[null,"Sampler ID",{"$f":"'Send Sync'!D55","v":{"$error":"#N/A"}},null,null,null,null,null,"LastUpdated By","WTSYSTEMUSER",null,null,null,null,null,null,{"$f":"IF(R14=\"\",\"\",\"CntrctPrjitmMatSet Id 12\")","v":""},{"$f":"IF('Contract and Quantities'!AS50=\"\",\"\",'Contract and Quantities'!AS50)","v":""},"",null,{"$f":"IF(R14=\"\",\"\",'Contract and Quantities'!AR50)","v":""},{"$f":"IF(R14=\"\",\"\",'Contract and Quantities'!AQ50)","v":""},"","","","","",null,null,null,null,null,null,{"$f":"IF('Test 1'!AI115=\"Y\",\"SampleRecordTest Id 12\",\"\")","v":""},"",{"$f":"IF(AQ14=\"\",\"\",VLOOKUP(AQ14,'Send Sync'!$I$56:$J$145,2,FALSE))","v":""},{"$f":"IF(AH14=\"\",\"\",11)","v":""},{"$f":"IF(AH14=\"\",\"\",'Send Sync'!$R$56)","v":""},{"$f":"IF(AH14=\"\",\"\",'Send Sync'!$T$56)","v":""},null,null,null,"",null,"","",{"$f":"IF(AH14=\"\",\"\",COUNTIF(AJ4:AJ23,AJ14))","v":""},"",null,"","","","","","","","","","","","","","",null,"",null,null,"","",null,null,null,null,null,null,6,{"$f":"IF(AH9=\"\",\"\",\"AgencyEntityInstance Id 12\")","v":""},{"$f":"IF(BY14=\"\",\"\",VLOOKUP(\"CM_Subgrade_Comp\",'Send Sync'!$K$56:$L$96,2,FALSE))","v":""},{"$f":"IF(BY14=\"\",\"\",\"SampleRecordTest Id 7\")","v":""},"",{"$f":"IF(BY14=\"\",\"\",CONCATENATE(\"<Data><cm_subgrade_comp_01_qty_cy_a>\",CO59,\"</cm_subgrade_comp_01_qty_cy_a><cm_subgrade_comp_02_qty_cy_b>\",CO60,\"</cm_subgrade_comp_02_qty_cy_b><cm_subgrade_comp_03_qty_cy_rocky>\",CO61,\"</cm_subgrade_comp_03_qty_cy_rocky><cm_subgrade_comp_04_qty_sta_a>\",CO62,\"</cm_subgrade_comp_04_qty_sta_a><cm_subgrade_comp_05_qty_sta_b>\",CO63,\"</cm_subgrade_comp_05_qty_sta_b><cm_subgrade_comp_06_qty_sta_rocky>\",CO64,\"</cm_subgrade_comp_06_qty_sta_rocky><cm_subgrade_comp_07_comp_a>\",CO65,\"</cm_subgrade_comp_07_comp_a><cm_subgrade_comp_08_comp_b>\",CO66,\"</cm_subgrade_comp_08_comp_b><cm_subgrade_comp_09_density_a>\",CO67,\"</cm_subgrade_comp_09_density_a><cm_subgrade_comp_10_density_b>\",CO68,\"</cm_subgrade_comp_10_density_b></Data>\"))","v":""},"","","","",null,null,null,null,null,null,null,"",null,{"$f":"IF(BY5=\"\",\"\",\"AgencyEntityInsData Id 12\")","v":""},{"$f":"IF(BY5=\"\",\"\",\"AgencyEntityInstance Id 3\")","v":""},{"$f":"IF(BY5=\"\",\"\",\"CM_Standard_For_Remarks\")","v":""},{"$f":"IF(BY5=\"\",\"\",IF('Test 1'!J11=\"\",\"\",'Test 1'!J11))","v":""},{"$f":"IF(BY5=\"\",\"\",TODAY())","v":""},{"$f":"IF(BY5=\"\",\"\",\"WTSYSTEMUSER\")","v":""},{"$f":"IF(BY5=\"\",\"\",TODAY())","v":""},{"$f":"IF(BY5=\"\",\"\",\"WTSYSTEMUSER\")","v":""}]
[null,"Smfmi ID",null,null,null,null,null,null,"ReceivedDate",{"$f":"TODAY()","v":"2025-01-24"},null,null,null,null,null,null,{"$f":"IF(R15=\"\",\"\",\"CntrctPrjitmMatSet Id 13\")","v":""},{"$f":"IF('Contract and Quantities'!AS51=\"\",\"\",'Contract and Quantities'!AS51)","v":""},"",null,{"$f":"IF(R15=\"\",\"\",'Contract and Quantities'!AR51)","v":""},{"$f":"IF(R15=\"\",\"\",'Contract and Quantities'!AQ51)","v":""},"","","","","",null,null,null,null,null,null,{"$f":"IF('Test 1'!AI125=\"Y\",\"SampleRecordTest Id 13\",\"\")","v":""},"",{"$f":"IF(AQ15=\"\",\"\",VLOOKUP(AQ15,'Send Sync'!$I$56:$J$145,2,FALSE))","v":""},{"$f":"IF(AH15=\"\",\"\",12)","v":""},{"$f":"IF(AH15=\"\",\"\",'Send Sync'!$R$56)","v":""},{"$f":"IF(AH15=\"\",\"\",'Send Sync'!$T$56)","v":""},null,null,null,"",null,"","",{"$f":"IF(AH15=\"\",\"\",COUNTIF(AJ4:AJ23,AJ15))","v":""},"",null,"","","","","","","","","","","","","","",null,"",null,null,"","",null,null,null,null,null,null,null,{"$f":"IF(AH9=\"\",\"\",IF('Test 1'!J61=\"\",\"\",\"AgencyEntityInstance Id 13\"))","v":""},{"$f":"IF(BY15=\"\",\"\",VLOOKUP(\"CM_StandardForRemark\",'Send Sync'!$K$56:$L$96,2,FALSE))","v":""},{"$f":"IF(BY15=\"\",\"\",\"SampleRecordTest Id 7\")","v":""},"",{"$f":"IF(BY15=\"\",\"\",CONCATENATE(\"<Data><CM_Standard_For_Remarks>\",CO69,\"</CM_Standard_For_Remarks></Data>\"))","v":""},"","","","",null,null,null,null,null,null,null,"",2,{"$f":"IF(BY6=\"\",\"\",\"AgencyEntityInsData Id 13\")","v":""},{"$f":"IF(BY6=\"\",\"\",\"AgencyEntityInstance Id 4\")","v":""},{"$f":"IF(BY6=\"\",\"\",\"cm_subgrade_comp_01_qty_cy_a\")","v":""},{"$f":"IF(BY6=\"\",\"\",'Test 1'!AE25)","v":""},{"$f":"IF(BY6=\"\",\"\",TODAY())","v":""},{"$f":"IF(BY6=\"\",\"\",\"WTSYSTEMUSER\")","v":""},{"$f":"IF(BY6=\"\",\"\",TODAY())","v":""},{"$f":"IF(BY6=\"\",\"\",\"WTSYSTEMUSER\")","v":""}]
[null,"Source ID",{"$f":"Main!J43","v":1306},null,null,null,null,null,null,null,null,null,null,null,null,null,{"$f":"IF(R16=\"\",\"\",\"CntrctPrjitmMatSet Id 14\")","v":""},{"$f":"IF('Contract and Quantities'!AS52=\"\",\"\",'Contract and Quantities'!AS52)","v":""},"",null,{"$f":"IF(R16=\"\",\"\",'Contract and Quantities'!AR52)","v":""},{"$f":"IF(R16=\"\",\"\",'Contract and Quantities'!AQ52)","v":""},"","","","","",null,null,null,null,null,null,{"$f":"IF('Test 1'!AI135=\"Y\",\"SampleRecordTest Id 14\",\"\")","v":""},"",{"$f":"IF(AQ16=\"\",\"\",VLOOKUP(AQ16,'Send Sync'!$I$56:$J$145,2,FALSE))","v":""},{"$f":"IF(AH16=\"\",\"\",13)","v":""},{"$f":"IF(AH16=\"\",\"\",'Send Sync'!$R$56)","v":""},{"$f":"IF(AH16=\"\",\"\",'Send Sync'!$T$56)","v":""},null,null,null,"",null,"","",{"$f":"IF(AH16=\"\",\"\",COUNTIF(AJ4:AJ23,AJ16))","v":""},"",null,"","","","","","","","","","","","","","",null,"",null,null,"","",null,null,null,null,null,null,7,{"$f":"IF(AH10=\"\",\"\",\"AgencyEntityInstance Id 14\")","v":""},{"$f":"IF(BY16=\"\",\"\",VLOOKUP(\"CM_Subgrade_Comp\",'Send Sync'!$K$56:$L$96,2,FALSE))","v":""},{"$f":"IF(BY16=\"\",\"\",\"SampleRecordTest Id 8\")","v":""},"",{"$f":"IF(BY16=\"\",\"\",CONCATENATE(\"<Data><cm_subgrade_comp_01_qty_cy_a>\",CO70,\"</cm_subgrade_comp_01_qty_cy_a><cm_subgrade_comp_02_qty_cy_b>\",CO71,\"</cm_subgrade_comp_02_qty_cy_b><cm_subgrade_comp_03_qty_cy_rocky>\",CO72,\"</cm_subgrade_comp_03_qty_cy_rocky><cm_subgrade_comp_04_qty_sta_a>\",CO73,\"</cm_subgrade_comp_04_qty_sta_a><cm_subgrade_comp_05_qty_sta_b>\",CO74,\"</cm_subgrade_comp_05_qty_sta_b><cm_subgrade_comp_06_qty_sta_rocky>\",CO75,\"</cm_subgrade_comp_06_qty_sta_rocky><cm_subgrade_comp_07_comp_a>\",CO76,\"</cm_subgrade_comp_07_comp_a><cm_subgrade_comp_08_comp_b>\",CO77,\"</cm_subgrade_comp_08_comp_b><cm_subgrade_comp_09_density_a>\",CO78,\"</cm_subgrade_comp_09_density_a><cm_subgrade_comp_10_density_b>\",CO79,\"</cm_subgrade_comp_10_density_b></Data>\"))","v":""},"","","","",null,null,null,null,null,null,null,"",null,{"$f":"IF(BY6=\"\",\"\",\"AgencyEntityInsData Id 14\")","v":""},{"$f":"IF(BY6=\"\",\"\",\"AgencyEntityInstance Id 4\")","v":""},{"$f":"IF(BY6=\"\",\"\",\"cm_subgrade_comp_02_qty_cy_b\")","v":""},{"$f":"IF(BY6=\"\",\"\",'Test 1'!AE26)","v":""},{"$f":"IF(BY6=\"\",\"\",TODAY())","v":""},{"$f":"IF(BY6=\"\",\"\",\"WTSYSTEMUSER\")","v":""},{"$f":"IF(BY6=\"\",\"\",TODAY())","v":""},{"$f":"IF(BY6=\"\",\"\",\"WTSYSTEMUSER\")","v":""}]
[null,"WitnessedBy ID",null,null,null,null,null,null,null,null,null,null,null,null,null,null,{"$f":"IF(R17=\"\",\"\",\"CntrctPrjitmMatSet Id 14\")","v":""},{"$f":"IF('Contract and Quantities'!AS53=\"\",\"\",'Contract and Quantities'!AS53)","v":""},{"$f":"IF(R17=\"\",\"\",\"Sample Id\")","v":""},null,{"$f":"IF(R17=\"\",\"\",'Contract and Quantities'!AR53)","v":""},{"$f":"IF(R17=\"\",\"\",'Contract and Quantities'!AQ53)","v":""},{"$f":"IF(R17=\"\",\"\",0)","v":""},{"$f":"IF(R17=\"\",\"\",TODAY())","v":""},{"$f":"IF(R17=\"\",\"\",\"WTSYSTEMUSER\")","v":""},{"$f":"IF(R17=\"\",\"\",TODAY())","v":""},{"$f":"IF(R17=\"\",\"\",\"WTSYSTEMUSER\")","v":""},null,null,null,null,null,null,{"$f":"IF('Test 1'!AI145=\"Y\",\"SampleRecordTest Id 15\",\"\")","v":""},"",{"$f":"IF(AQ17=\"\",\"\",VLOOKUP(AQ17,'Send Sync'!$I$56:$J$145,2,FALSE))","v":""},{"$f":"IF(AH17=\"\",\"\",14)","v":""},{"$f":"IF(AH17=\"\",\"\",'Send Sync'!$R$56)","v":""},{"$f":"IF(AH17=\"\",\"\",'Send Sync'!$T$56)","v":""},null,null,null,"",null,"","",{"$f":"IF(AH17=\"\",\"\",COUNTIF(AJ4:AJ23,AJ17))","v":""},"",null,"","","","","","","","","","","","","","",null,"",null,null,"","",null,null,null,null,null,null,null,{"$f":"IF(AH10=\"\",\"\",IF('Test 1'!J71=\"\",\"\",\"AgencyEntityInstance Id 15\"))","v":""},{"$f":"IF(BY17=\"\",\"\",VLOOKUP(\"CM_StandardForRemark\",'Send Sync'!$K$56:$L$96,2,FALSE))","v":""},{"$f":"IF(BY17=\"\",\"\",\"SampleRecordTest Id 8\")","v":""},"",{"$f":"IF(BY17=\"\",\"\",CONCATENATE(\"<Data><CM_Standard_For_Remarks>\",CO80,\"</CM_Standard_For_Remarks></Data>\"))","v":""},"","","","",null,null,null,null,null,null,null,"",null,{"$f":"IF(BY6=\"\",\"\",\"AgencyEntityInsData Id 15\")","v":""},{"$f":"IF(BY6=\"\",\"\",\"AgencyEntityInstance Id 4\")","v":""},{"$f":"IF(BY6=\"\",\"\",\"cm_subgrade_comp_03_qty_cy_rocky\")","v":""},{"$f":"IF(BY6=\"\",\"\",'Test 1'!AE27)","v":""},{"$f":"IF(BY6=\"\",\"\",TODAY())","v":""},{"$f":"IF(BY6=\"\",\"\",\"WTSYSTEMUSER\")","v":""},{"$f":"IF(BY6=\"\",\"\",TODAY())","v":""},{"$f":"IF(BY6=\"\",\"\",\"WTSYSTEMUSER\")","v":""}]
[null,"AcceptanceMethod",{"$f":"Main!R40","v":"SATE"},null,null,null,null,null,null,null,null,null,null,null,null,null,"",{"$f":"IF('Contract and Quantities'!AS54=\"\",\"\",'Contract and Quantities'!AS54)","v":""},"",null,{"$f":"IF(R18=\"\",\"\",'Contract and Quantities'!AR54)","v":""},{"$f":"IF(R18=\"\",\"\",'Contract and Quantities'!AQ54)","v":""},"","","","","",null,null,null,null,null,null,{"$f":"IF('Test 1'!AI155=\"Y\",\"SampleRecordTest Id 16\",\"\")","v":""},"",{"$f":"IF(AQ18=\"\",\"\",VLOOKUP(AQ18,'Send Sync'!$I$56:$J$145,2,FALSE))","v":""},{"$f":"IF(AH18=\"\",\"\",15)","v":""},{"$f":"IF(AH18=\"\",\"\",'Send Sync'!$R$56)","v":""},{"$f":"IF(AH18=\"\",\"\",'Send Sync'!$T$56)","v":""},null,null,null,"",null,"","",{"$f":"IF(AH18=\"\",\"\",COUNTIF(AJ4:AJ23,AJ18))","v":""},"",null,"","","","","","","","","","","","","","",null,"",null,null,"","",null,null,null,null,null,null,8,{"$f":"IF(AH11=\"\",\"\",\"AgencyEntityInstance Id 16\")","v":""},{"$f":"IF(BY18=\"\",\"\",VLOOKUP(\"CM_Subgrade_Comp\",'Send Sync'!$K$56:$L$96,2,FALSE))","v":""},{"$f":"IF(BY18=\"\",\"\",\"SampleRecordTest Id 9\")","v":""},"",{"$f":"IF(BY18=\"\",\"\",CONCATENATE(\"<Data><cm_subgrade_comp_01_qty_cy_a>\",CO81,\"</cm_subgrade_comp_01_qty_cy_a><cm_subgrade_comp_02_qty_cy_b>\",CO82,\"</cm_subgrade_comp_02_qty_cy_b><cm_subgrade_comp_03_qty_cy_rocky>\",CO83,\"</cm_subgrade_comp_03_qty_cy_rocky><cm_subgrade_comp_04_qty_sta_a>\",CO84,\"</cm_subgrade_comp_04_qty_sta_a><cm_subgrade_comp_05_qty_sta_b>\",CO85,\"</cm_subgrade_comp_05_qty_sta_b><cm_subgrade_comp_06_qty_sta_rocky>\",CO86,\"</cm_subgrade_comp_06_qty_sta_rocky><cm_subgrade_comp_07_comp_a>\",CO87,\"</cm_subgrade_comp_07_comp_a><cm_subgrade_comp_08_comp_b>\",CO88,\"</cm_subgrade_comp_08_comp_b><cm_subgrade_comp_09_density_a>\",CO89,\"</cm_subgrade_comp_09_density_a><cm_subgrade_comp_10_density_b>\",CO90,\"</cm_subgrade_comp_10_density_b></Data>\"))","v":""},"","","","",null,null,null,null,null,null,null,"",null,{"$f":"IF(BY6=\"\",\"\",\"AgencyEntityInsData Id 16\")","v":""},{"$f":"IF(BY6=\"\",\"\",\"AgencyEntityInstance Id 4\")","v":""},{"$f":"IF(BY6=\"\",\"\",\"cm_subgrade_comp_04_qty_sta_a\")","v":""},{"$f":"IF(BY6=\"\",\"\",'Test 1'!AF25)","v":""},{"$f":"IF(BY6=\"\",\"\",TODAY())","v":""},{"$f":"IF(BY6=\"\",\"\",\"WTSYSTEMUSER\")","v":""},{"$f":"IF(BY6=\"\",\"\",TODAY())","v":""},{"$f":"IF(BY6=\"\",\"\",\"WTSYSTEMUSER\")","v":""}]
[null,"Authorized Dt",{"$f":"TODAY()","v":"2025-01-24"},null,null,null,null,null,null,null,null,null,null,null,null,null,"",{"$f":"IF('Contract and Quantities'!AS55=\"\",\"\",'Contract and Quantities'!AS55)","v":""},"",null,{"$f":"IF(R19=\"\",\"\",'Contract and Quantities'!AR55)","v":""},{"$f":"IF(R19=\"\",\"\",'Contract and Quantities'!AQ55)","v":""},"","","","","",null,null,null,null,null,null,{"$f":"IF('Test 1'!AI165=\"Y\",\"SampleRecordTest Id 17\",\"\")","v":""},"",{"$f":"IF(AQ19=\"\",\"\",VLOOKUP(AQ19,'Send Sync'!$I$56:$J$145,2,FALSE))","v":""},{"$f":"IF(AH19=\"\",\"\",16)","v":""},{"$f":"IF(AH19=\"\",\"\",'Send Sync'!$R$56)","v":""},{"$f":"IF(AH19=\"\",\"\",'Send Sync'!$T$56)","v":""},null,null,null,"",null,"","",{"$f":"IF(AH19=\"\",\"\",COUNTIF(AJ4:AJ23,AJ19))","v":""},"",null,"","","","","","","","","","","","","","",null,"",null,null,"","",null,null,null,null,null,null,null,{"$f":"IF(AH11=\"\",\"\",IF('Test 1'!J81=\"\",\"\",\"AgencyEntityInstance Id 17\"))","v":""},{"$f":"IF(BY19=\"\",\"\",VLOOKUP(\"CM_StandardForRemark\",'Send Sync'!$K$56:$L$96,2,FALSE))","v":""},{"$f":"IF(BY19=\"\",\"\",\"SampleRecordTest Id 9\")","v":""},"",{"$f":"IF(BY19=\"\",\"\",CONCATENATE(\"<Data><CM_Standard_For_Remarks>\",CO91,\"</CM_Standard_For_Remarks></Data>\"))","v":""},"","","","",null,null,null,null,null,null,null,"",null,{"$f":"IF(BY6=\"\",\"\",\"AgencyEntityInsData Id 17\")","v":""},{"$f":"IF(BY6=\"\",\"\",\"AgencyEntityInstance Id 4\")","v":""},{"$f":"IF(BY6=\"\",\"\",\"cm_subgrade_comp_05_qty_sta_b\")","v":""},{"$f":"IF(BY6=\"\",\"\",'Test 1'!AF26)","v":""},{"$f":"IF(BY6=\"\",\"\",TODAY())","v":""},{"$f":"IF(BY6=\"\",\"\",\"WTSYSTEMUSER\")","v":""},{"$f":"IF(BY6=\"\",\"\",TODAY())","v":""},{"$f":"IF(BY6=\"\",\"\",\"WTSYSTEMUSER\")","v":""}]
[null,"BuyUsaRequirements",null,null,null,null,null,null,null,null,null,null,null,null,null,null,"",{"$f":"IF('Contract and Quantities'!AS56=\"\",\"\",'Contract and Quantities'!AS56)","v":""},"",null,{"$f":"IF(R20=\"\",\"\",'Contract and Quantities'!AR56)","v":""},{"$f":"IF(R20=\"\",\"\",'Contract and Quantities'!AQ56)","v":""},"","","","","",null,null,null,null,null,null,{"$f":"IF('Test 1'!AI175=\"Y\",\"SampleRecordTest Id 18\",\"\")","v":""},{"$f":"IF(AH20=\"\",\"\",\"Sample Id\")","v":""},{"$f":"IF(AQ20=\"\",\"\",VLOOKUP(AQ20,'Send Sync'!$I$56:$J$145,2,FALSE))","v":""},{"$f":"IF(AH20=\"\",\"\",17)","v":""},{"$f":"IF(AH20=\"\",\"\",'Send Sync'!$R$56)","v":""},{"$f":"IF(AH20=\"\",\"\",'Send Sync'!$T$56)","v":""},null,null,null,"",null,"","",{"$f":"IF(AH20=\"\",\"\",COUNTIF(AJ4:AJ23,AJ20))","v":""},"",null,"","","","","","","","","","","","","","",null,{"$f":"IF(AH20=\"\",\"\",0)","v":""},null,null,"","",null,null,null,null,null,null,9,{"$f":"IF(AH12=\"\",\"\",\"AgencyEntityInstance Id 18\")","v":""},{"$f":"IF(BY20=\"\",\"\",VLOOKUP(\"CM_Subgrade_Comp\",'Send Sync'!$K$56:$L$96,2,FALSE))","v":""},{"$f":"IF(BY20=\"\",\"\",\"SampleRecordTest Id 10\")","v":""},"",{"$f":"IF(BY20=\"\",\"\",CONCATENATE(\"<Data><cm_subgrade_comp_01_qty_cy_a>\",CO92,\"</cm_subgrade_comp_01_qty_cy_a><cm_subgrade_comp_02_qty_cy_b>\",CO93,\"</cm_subgrade_comp_02_qty_cy_b><cm_subgrade_comp_03_qty_cy_rocky>\",CO94,\"</cm_subgrade_comp_03_qty_cy_rocky><cm_subgrade_comp_04_qty_sta_a>\",CO95,\"</cm_subgrade_comp_04_qty_sta_a><cm_subgrade_comp_05_qty_sta_b>\",CO96,\"</cm_subgrade_comp_05_qty_sta_b><cm_subgrade_comp_06_qty_sta_rocky>\",CO97,\"</cm_subgrade_comp_06_qty_sta_rocky><cm_subgrade_comp_07_comp_a>\",CO98,\"</cm_subgrade_comp_07_comp_a><cm_subgrade_comp_08_comp_b>\",CO99,\"</cm_subgrade_comp_08_comp_b><cm_subgrade_comp_09_density_a>\",CO100,\"</cm_subgrade_comp_09_density_a><cm_subgrade_comp_10_density_b>\",CO101,\"</cm_subgrade_comp_10_density_b></Data>\"))","v":""},"","","","",null,null,null,null,null,null,null,"",null,{"$f":"IF(BY6=\"\",\"\",\"AgencyEntityInsData Id 18\")","v":""},{"$f":"IF(BY6=\"\",\"\",\"AgencyEntityInstance Id 4\")","v":""},{"$f":"IF(BY6=\"\",\"\",\"cm_subgrade_comp_06_qty_sta_rocky\")","v":""},{"$f":"IF(BY6=\"\",\"\",'Test 1'!AF27)","v":""},{"$f":"IF(BY6=\"\",\"\",TODAY())","v":""},{"$f":"IF(BY6=\"\",\"\",\"WTSYSTEMUSER\")","v":""},{"$f":"IF(BY6=\"\",\"\",TODAY())","v":""},{"$f":"IF(BY6=\"\",\"\",\"WTSYSTEMUSER\")","v":""}]
[null,"ControlNumber",null,null,null,null,null,null,null,null,null,null,null,null,null,null,"",{"$f":"IF('Contract and Quantities'!AS57=\"\",\"\",'Contract and Quantities'!AS57)","v":""},"",null,{"$f":"IF(R21=\"\",\"\",'Contract and Quantities'!AR57)","v":""},{"$f":"IF(R21=\"\",\"\",'Contract and Quantities'!AQ57)","v":""},"","","","","",null,null,null,null,null,null,{"$f":"IF('Test 1'!AI185=\"Y\",\"SampleRecordTest Id 19\",\"\")","v":""},"",{"$f":"IF(AQ21=\"\",\"\",VLOOKUP(AQ21,'Send Sync'!$I$56:$J$145,2,FALSE))","v":""},{"$f":"IF(AH21=\"\",\"\",18)","v":""},{"$f":"IF(AH21=\"\",\"\",'Send Sync'!$R$56)","v":""},{"$f":"IF(AH21=\"\",\"\",'Send Sync'!$T$56)","v":""},null,null,null,"",null,"","",{"$f":"IF(AH21=\"\",\"\",COUNTIF(AJ4:AJ23,AJ21))","v":""},"",null,"","","","","","","","","","","","","","",null,"",null,null,"","",null,null,null,null,null,null,null,{"$f":"IF(AH12=\"\",\"\",IF('Test 1'!J91=\"\",\"\",\"AgencyEntityInstance Id 19\"))","v":""},{"$f":"IF(BY21=\"\",\"\",VLOOKUP(\"CM_StandardForRemark\",'Send Sync'!$K$56:$L$96,2,FALSE))","v":""},{"$f":"IF(BY21=\"\",\"\",\"SampleRecordTest Id 10\")","v":""},"",{"$f":"IF(BY21=\"\",\"\",CONCATENATE(\"<Data><CM_Standard_For_Remarks>\",CO102,\"</CM_Standard_For_Remarks></Data>\"))","v":""},"","","","",null,null,null,null,null,null,null,"",null,{"$f":"IF(BY6=\"\",\"\",\"AgencyEntityInsData Id 19\")","v":""},{"$f":"IF(BY6=\"\",\"\",\"AgencyEntityInstance Id 4\")","v":""},{"$f":"IF(BY6=\"\",\"\",\"cm_subgrade_comp_07_comp_a\")","v":""},{"$f":"IF(BY6=\"\",\"\",'Test 1'!AG25)","v":""},{"$f":"IF(BY6=\"\",\"\",TODAY())","v":""},{"$f":"IF(BY6=\"\",\"\",\"WTSYSTEMUSER\")","v":""},{"$f":"IF(BY6=\"\",\"\",TODAY())","v":""},{"$f":"IF(BY6=\"\",\"\",\"WTSYSTEMUSER\")","v":""}]
[null,"ControlType",null,null,null,null,null,null,null,null,null,null,null,null,null,null,"",{"$f":"IF('Contract and Quantities'!AS58=\"\",\"\",'Contract and Quantities'!AS58)","v":""},"",null,{"$f":"IF(R22=\"\",\"\",'Contract and Quantities'!AR58)","v":""},{"$f":"IF(R22=\"\",\"\",'Contract and Quantities'!AQ58)","v":""},"","","","","",null,null,null,null,null,null,{"$f":"IF('Test 1'!AI195=\"Y\",\"SampleRecordTest Id 20\",\"\")","v":""},"",{"$f":"IF(AQ22=\"\",\"\",VLOOKUP(AQ22,'Send Sync'!$I$56:$J$145,2,FALSE))","v":""},{"$f":"IF(AH22=\"\",\"\",19)","v":""},{"$f":"IF(AH22=\"\",\"\",'Send Sync'!$R$56)","v":""},{"$f":"IF(AH22=\"\",\"\",'Send Sync'!$T$56)","v":""},null,null,null,"",null,"","",{"$f":"IF(AH22=\"\",\"\",COUNTIF(AJ4:AJ23,AJ22))","v":""},"",null,"","","","","","","","","","","","","","",null,"",null,null,"","",null,null,null,null,null,null,10,{"$f":"IF(AH13=\"\",\"\",\"AgencyEntityInstance Id 20\")","v":""},{"$f":"IF(BY22=\"\",\"\",VLOOKUP(\"CM_Subgrade_Comp\",'Send Sync'!$K$56:$L$96,2,FALSE))","v":""},{"$f":"IF(BY22=\"\",\"\",\"SampleRecordTest Id 11\")","v":""},"",{"$f":"IF(BY22=\"\",\"\",CONCATENATE(\"<Data><cm_subgrade_comp_01_qty_cy_a>\",CO103,\"</cm_subgrade_comp_01_qty_cy_a><cm_subgrade_comp_02_qty_cy_b>\",CO104,\"</cm_subgrade_comp_02_qty_cy_b><cm_subgrade_comp_03_qty_cy_rocky>\",CO105,\"</cm_subgrade_comp_03_qty_cy_rocky><cm_subgrade_comp_04_qty_sta_a>\",CO106,\"</cm_subgrade_comp_04_qty_sta_a><cm_subgrade_comp_05_qty_sta_b>\",CO107,\"</cm_subgrade_comp_05_qty_sta_b><cm_subgrade_comp_06_qty_sta_rocky>\",CO108,\"</cm_subgrade_comp_06_qty_sta_rocky><cm_subgrade_comp_07_comp_a>\",CO109,\"</cm_subgrade_comp_07_comp_a><cm_subgrade_comp_08_comp_b>\",CO110,\"</cm_subgrade_comp_08_comp_b><cm_subgrade_comp_09_density_a>\",CO111,\"</cm_subgrade_comp_09_density_a><cm_subgrade_comp_10_density_b>\",CO112,\"</cm_subgrade_comp_10_density_b></Data>\"))","v":""},"","","","",null,null,null,null,null,null,null,"",null,{"$f":"IF(BY6=\"\",\"\",\"AgencyEntityInsData Id 20\")","v":""},{"$f":"IF(BY6=\"\",\"\",\"AgencyEntityInstance Id 4\")","v":""},{"$f":"IF(BY6=\"\",\"\",\"cm_subgrade_comp_08_comp_b\")","v":""},{"$f":"IF(BY6=\"\",\"\",'Test 1'!AG26)","v":""},{"$f":"IF(BY6=\"\",\"\",TODAY())","v":""},{"$f":"IF(BY6=\"\",\"\",\"WTSYSTEMUSER\")","v":""},{"$f":"IF(BY6=\"\",\"\",TODAY())","v":""},{"$f":"IF(BY6=\"\",\"\",\"WTSYSTEMUSER\")","v":""}]
[null,"Distance",null,null,null,null,null,null,null,null,null,null,null,null,null,null,"",{"$f":"IF('Contract and Quantities'!AS59=\"\",\"\",'Contract and Quantities'!AS59)","v":""},"",null,{"$f":"IF(R23=\"\",\"\",'Contract and Quantities'!AR59)","v":""},{"$f":"IF(R23=\"\",\"\",'Contract and Quantities'!AQ59)","v":""},"","","","","",null,null,null,null,null,null,{"$f":"IF('Test 1'!AI205=\"Y\",\"SampleRecordTest Id 21\",\"\")","v":""},"",{"$f":"IF(AQ23=\"\",\"\",VLOOKUP(AQ23,'Send Sync'!$I$56:$J$145,2,FALSE))","v":""},{"$f":"IF(AH23=\"\",\"\",20)","v":""},{"$f":"IF(AH23=\"\",\"\",'Send Sync'!$R$56)","v":""},{"$f":"IF(AH23=\"\",\"\",'Send Sync'!$T$56)","v":""},null,null,null,"",null,"","",{"$f":"IF(AH23=\"\",\"\",COUNTIF(AJ4:AJ23,AJ23))","v":""},"",null,"","","","","","","","","","","","","","",null,"",null,null,"","",null,null,null,null,null,null,null,{"$f":"IF(AH13=\"\",\"\",IF('Test 1'!J101=\"\",\"\",\"AgencyEntityInstance Id 21\"))","v":""},{"$f":"IF(BY23=\"\",\"\",VLOOKUP(\"CM_StandardForRemark\",'Send Sync'!$K$56:$L$96,2,FALSE))","v":""},{"$f":"IF(BY23=\"\",\"\",\"SampleRecordTest Id 11\")","v":""},"",{"$f":"IF(BY23=\"\",\"\",CONCATENATE(\"<Data><CM_Standard_For_Remarks>\",CO113,\"</CM_Standard_For_Remarks></Data>\"))","v":""},"","","","",null,null,null,null,null,null,null,"",null,{"$f":"IF(BY6=\"\",\"\",\"AgencyEntityInsData Id 21\")","v":""},{"$f":"IF(BY6=\"\",\"\",\"AgencyEntityInstance Id 4\")","v":""},{"$f":"IF(BY6=\"\",\"\",\"cm_subgrade_comp_09_density_a\")","v":""},{"$f":"IF(BY6=\"\",\"\",'Test 1'!AH25)","v":""},{"$f":"IF(BY6=\"\",\"\",TODAY())","v":""},{"$f":"IF(BY6=\"\",\"\",\"WTSYSTEMUSER\")","v":""},{"$f":"IF(BY6=\"\",\"\",TODAY())","v":""},{"$f":"IF(BY6=\"\",\"\",\"WTSYSTEMUSER\")","v":""}]
[null,"DistanceFromGrade",null,null,null,null,null,null,null,null,null,null,null,null,null,null,"",{"$f":"IF('Contract and Quantities'!AS60=\"\",\"\",'Contract and Quantities'!AS60)","v":""},"",null,{"$f":"IF(R24=\"\",\"\",'Contract and Quantities'!AR60)","v":""},{"$f":"IF(R24=\"\",\"\",'Contract and Quantities'!AQ60)","v":""},"","","","","",null,null,null,null,null,null,{"$f":"IF('Test 2'!AF14=\"Y\",\"SampleRecordTest Id 22\",\"\")","v":""},"",{"$f":"IF(AQ24=\"\",\"\",VLOOKUP(AQ24,'Send Sync'!$I$56:$J$145,2,FALSE))","v":""},{"$f":"IF(AH24=\"\",\"\",1)","v":""},{"$f":"IF(AH24=\"\",\"\",'Send Sync'!$R$56)","v":""},{"$f":"IF(AH24=\"\",\"\",'Send Sync'!$T$56)","v":""},null,null,null,{"$f":"IF(AH24=\"\",\"\",IF($C$43=\"QA\",\"Rock Base Quality, Gradation & PI (QA)\",\"Rock Base Quantity, Gradation & PI (QC)\"))","v":""},null,"","",{"$f":"IF(AH24=\"\",\"\",COUNTIF(AJ24:AJ25,AJ24))","v":""},"",null,"","","","","","","","","","","","","","",null,"",null,null,"","",null,null,null,null,null,null,11,{"$f":"IF(AH14=\"\",\"\",\"AgencyEntityInstance Id 22\")","v":""},{"$f":"IF(BY24=\"\",\"\",VLOOKUP(\"CM_Subgrade_Comp\",'Send Sync'!$K$56:$L$96,2,FALSE))","v":""},{"$f":"IF(BY24=\"\",\"\",\"SampleRecordTest Id 12\")","v":""},"",{"$f":"IF(BY24=\"\",\"\",CONCATENATE(\"<Data><cm_subgrade_comp_01_qty_cy_a>\",CO114,\"</cm_subgrade_comp_01_qty_cy_a><cm_subgrade_comp_02_qty_cy_b>\",CO115,\"</cm_subgrade_comp_02_qty_cy_b><cm_subgrade_comp_03_qty_cy_rocky>\",CO116,\"</cm_subgrade_comp_03_qty_cy_rocky><cm_subgrade_comp_04_qty_sta_a>\",CO117,\"</cm_subgrade_comp_04_qty_sta_a><cm_subgrade_comp_05_qty_sta_b>\",CO118,\"</cm_subgrade_comp_05_qty_sta_b><cm_subgrade_comp_06_qty_sta_rocky>\",CO119,\"</cm_subgrade_comp_06_qty_sta_rocky><cm_subgrade_comp_07_comp_a>\",CO120,\"</cm_subgrade_comp_07_comp_a><cm_subgrade_comp_08_comp_b>\",CO121,\"</cm_subgrade_comp_08_comp_b><cm_subgrade_comp_09_density_a>\",CO122,\"</cm_subgrade_comp_09_density_a><cm_subgrade_comp_10_density_b>\",CO123,\"</cm_subgrade_comp_10_density_b></Data>\"))","v":""},"","","","",null,null,null,null,null,null,null,"",null,{"$f":"IF(BY6=\"\",\"\",\"AgencyEntityInsData Id 22\")","v":""},{"$f":"IF(BY6=\"\",\"\",\"AgencyEntityInstance Id 4\")","v":""},{"$f":"IF(BY6=\"\",\"\",\"cm_subgrade_comp_10_density_b\")","v":""},{"$f":"IF(BY6=\"\",\"\",'Test 1'!AH26)","v":""},{"$f":"IF(BY6=\"\",\"\",TODAY())","v":""},{"$f":"IF(BY6=\"\",\"\",\"WTSYSTEMUSER\")","v":""},{"$f":"IF(BY6=\"\",\"\",TODAY())","v":""},{"$f":"IF(BY6=\"\",\"\",\"WTSYSTEMUSER\")","v":""}]
[null,"DistanceFromGradeUnits",null,null,null,null,null,null,null,null,null,null,null,null,null,null,"",{"$f":"IF('Contract and Quantities'!AS61=\"\",\"\",'Contract and Quantities'!AS61)","v":""},"",null,{"$f":"IF(R25=\"\",\"\",'Contract and Quantities'!AR61)","v":""},{"$f":"IF(R25=\"\",\"\",'Contract and Quantities'!AQ61)","v":""},"","","","","",null,null,null,null,null,null,{"$f":"IF('Test 2'!AF31=\"Y\",\"SampleRecordTest Id 23\",\"\")","v":""},"",{"$f":"IF(AQ25=\"\",\"\",VLOOKUP(AQ25,'Send Sync'!$I$56:$J$145,2,FALSE))","v":""},{"$f":"IF(AH25=\"\",\"\",2)","v":""},{"$f":"IF(AH25=\"\",\"\",'Send Sync'!$R$56)","v":""},{"$f":"IF(AH25=\"\",\"\",'Send Sync'!$T$56)","v":""},null,null,null,{"$f":"IF(AH25=\"\",\"\",IF($C$43=\"QA\",\"Rock Base Quality, Gradation & PI (QA)\",\"Rock Base Quantity, Gradation & PI (QC)\"))","v":""},null,"","",{"$f":"IF(AH25=\"\",\"\",COUNTIF(AJ24:AJ25,AJ25))","v":""},"",null,"","","","","","","","","","","","","","",null,"",null,null,"","",null,null,null,null,null,null,null,{"$f":"IF(AH14=\"\",\"\",IF('Test 1'!J111=\"\",\"\",\"AgencyEntityInstance Id 23\"))","v":""},{"$f":"IF(BY25=\"\",\"\",VLOOKUP(\"CM_StandardForRemark\",'Send Sync'!$K$56:$L$96,2,FALSE))","v":""},{"$f":"IF(BY25=\"\",\"\",\"SampleRecordTest Id 12\")","v":""},"",{"$f":"IF(BY25=\"\",\"\",CONCATENATE(\"<Data><CM_Standard_For_Remarks>\",CO124,\"</CM_Standard_For_Remarks></Data>\"))","v":""},"","","","",null,null,null,null,null,null,null,"",null,{"$f":"IF(BY7=\"\",\"\",\"AgencyEntityInsData Id 23\")","v":""},{"$f":"IF(BY7=\"\",\"\",\"AgencyEntityInstance Id 5\")","v":""},{"$f":"IF(BY7=\"\",\"\",\"CM_Standard_For_Remarks\")","v":""},{"$f":"IF(BY7=\"\",\"\",IF('Test 1'!J21=\"\",\"\",'Test 1'!J21))","v":""},{"$f":"IF(BY7=\"\",\"\",TODAY())","v":""},{"$f":"IF(BY7=\"\",\"\",\"WTSYSTEMUSER\")","v":""},{"$f":"IF(BY7=\"\",\"\",TODAY())","v":""},{"$f":"IF(BY7=\"\",\"\",\"WTSYSTEMUSER\")","v":""}]
[null,"Elevation",null,null,null,null,null,null,null,null,null,null,null,null,null,null,"",{"$f":"IF('Contract and Quantities'!AS62=\"\",\"\",'Contract and Quantities'!AS62)","v":""},"",null,{"$f":"IF(R26=\"\",\"\",'Contract and Quantities'!AR62)","v":""},{"$f":"IF(R26=\"\",\"\",'Contract and Quantities'!AQ62)","v":""},"","","","","",null,null,null,null,null,null,{"$f":"IF('Test 3'!AH14=\"Y\",\"SampleRecordTest Id 24\",\"\")","v":""},"",{"$f":"IF(AQ26=\"\",\"\",VLOOKUP(AQ26,'Send Sync'!$I$56:$J$145,2,FALSE))","v":""},{"$f":"IF(AH26=\"\",\"\",1)","v":""},{"$f":"IF(AH26=\"\",\"\",'Send Sync'!$R$56)","v":""},{"$f":"IF(AH26=\"\",\"\",'Send Sync'!$T$56)","v":""},null,null,null,{"$f":"IF(AH26=\"\",\"\",IF($C$43=\"QA\",\"Base Agg Density & Thickness (QA)\",\"Base Agg Density & Thickness (QC)\"))","v":""},null,"","",{"$f":"IF(AH26=\"\",\"\",COUNTIF(AJ26:AJ30,AJ26))","v":""},"",null,"","","","","","","","","","","","","","",null,"",null,null,"","",null,null,null,null,null,null,12,{"$f":"IF(AH15=\"\",\"\",\"AgencyEntityInstance Id 24\")","v":""},{"$f":"IF(BY26=\"\",\"\",VLOOKUP(\"CM_Subgrade_Comp\",'Send Sync'!$K$56:$L$96,2,FALSE))","v":""},{"$f":"IF(BY26=\"\",\"\",\"SampleRecordTest Id 13\")","v":""},"",{"$f":"IF(BY26=\"\",\"\",CONCATENATE(\"<Data><cm_subgrade_comp_01_qty_cy_a>\",CO125,\"</cm_subgrade_comp_01_qty_cy_a><cm_subgrade_comp_02_qty_cy_b>\",CO126,\"</cm_subgrade_comp_02_qty_cy_b><cm_subgrade_comp_03_qty_cy_rocky>\",CO127,\"</cm_subgrade_comp_03_qty_cy_rocky><cm_subgrade_comp_04_qty_sta_a>\",CO128,\"</cm_subgrade_comp_04_qty_sta_a><cm_subgrade_comp_05_qty_sta_b>\",CO129,\"</cm_subgrade_comp_05_qty_sta_b><cm_subgrade_comp_06_qty_sta_rocky>\",CO130,\"</cm_subgrade_comp_06_qty_sta_rocky><cm_subgrade_comp_07_comp_a>\",CO131,\"</cm_subgrade_comp_07_comp_a><cm_subgrade_comp_08_comp_b>\",CO132,\"</cm_subgrade_comp_08_comp_b><cm_subgrade_comp_09_density_a>\",CO133,\"</cm_subgrade_comp_09_density_a><cm_subgrade_comp_10_density_b>\",CO134,\"</cm_subgrade_comp_10_density_b></Data>\"))","v":""},"","","","",null,null,null,null,null,null,null,"",3,{"$f":"IF(BY8=\"\",\"\",\"AgencyEntityInsData Id 24\")","v":""},{"$f":"IF(BY8=\"\",\"\",\"AgencyEntityInstance Id 6\")","v":""},{"$f":"IF(BY8=\"\",\"\",\"cm_subgrade_comp_01_qty_cy_a\")","v":""},{"$f":"IF(BY8=\"\",\"\",'Test 1'!AE35)","v":""},{"$f":"IF(BY8=\"\",\"\",TODAY())","v":""},{"$f":"IF(BY8=\"\",\"\",\"WTSYSTEMUSER\")","v":""},{"$f":"IF(BY8=\"\",\"\",TODAY())","v":""},{"$f":"IF(BY8=\"\",\"\",\"WTSYSTEMUSER\")","v":""}]
[null,"GeographicArea",{"$f":"IF(AND(ISERROR('Contract and Quantities'!$AK$11),NOT(ISBLANK('Contract and Quantities'!$J$33)),'Contract and Quantities'!$AD$37>0),'Send Sync'!L21,'Contract and Quantities'!AK11)","v":{"$error":"#VALUE!"}},null,null,null,null,null,null,null,null,null,null,null,null,null,"",{"$f":"IF('Contract and Quantities'!AS63=\"\",\"\",'Contract and Quantities'!AS63)","v":""},"",null,{"$f":"IF(R27=\"\",\"\",'Contract and Quantities'!AR63)","v":""},{"$f":"IF(R27=\"\",\"\",'Contract and Quantities'!AQ63)","v":""},"","","","","",null,null,null,null,null,null,{"$f":"IF('Test 3'!AH23=\"Y\",\"SampleRecordTest Id 25\",\"\")","v":""},"",{"$f":"IF(AQ27=\"\",\"\",VLOOKUP(AQ27,'Send Sync'!$I$56:$J$145,2,FALSE))","v":""},{"$f":"IF(AH27=\"\",\"\",2)","v":""},{"$f":"IF(AH27=\"\",\"\",'Send Sync'!$R$56)","v":""},{"$f":"IF(AH27=\"\",\"\",'Send Sync'!$T$56)","v":""},null,null,null,{"$f":"IF(AH27=\"\",\"\",IF($C$43=\"QA\",\"Base Agg Density & Thickness (QA)\",\"Base Agg Density & Thickness (QC)\"))","v":""},null,"","",{"$f":"IF(AH27=\"\",\"\",COUNTIF(AJ26:AJ30,AJ27))","v":""},"",null,"","","","","","","","","","","","","","",null,"",null,null,"","",null,null,null,null,null,null,null,{"$f":"IF(AH15=\"\",\"\",IF('Test 1'!J121=\"\",\"\",\"AgencyEntityInstance Id 25\"))","v":""},{"$f":"IF(BY27=\"\",\"\",VLOOKUP(\"CM_StandardForRemark\",'Send Sync'!$K$56:$L$96,2,FALSE))","v":""},{"$f":"IF(BY27=\"\",\"\",\"SampleRecordTest Id 13\")","v":""},"",{"$f":"IF(BY27=\"\",\"\",CONCATENATE(\"<Data><CM_Standard_For_Remarks>\",CO135,\"</CM_Standard_For_Remarks></Data>\"))","v":""},"","","","",null,null,null,null,null,null,null,"",null,{"$f":"IF(BY8=\"\",\"\",\"AgencyEntityInsData Id 25\")","v":""},{"$f":"IF(BY8=\"\",\"\",\"AgencyEntityInstance Id 6\")","v":""},{"$f":"IF(BY8=\"\",\"\",\"cm_subgrade_comp_02_qty_cy_b\")","v":""},{"$f":"IF(BY8=\"\",\"\",'Test 1'!AE36)","v":""},{"$f":"IF(BY8=\"\",\"\",TODAY())","v":""},{"$f":"IF(BY8=\"\",\"\",\"WTSYSTEMUSER\")","v":""},{"$f":"IF(BY8=\"\",\"\",TODAY())","v":""},{"$f":"IF(BY8=\"\",\"\",\"WTSYSTEMUSER\")","v":""}]
[null,"IntendedUse",null,null,null,null,null,null,null,null,null,null,null,null,null,null,"",{"$f":"IF('Contract and Quantities'!AS64=\"\",\"\",'Contract and Quantities'!AS64)","v":""},"",null,{"$f":"IF(R28=\"\",\"\",'Contract and Quantities'!AR64)","v":""},{"$f":"IF(R28=\"\",\"\",'Contract and Quantities'!AQ64)","v":""},"","","","","",null,null,null,null,null,null,{"$f":"IF('Test 3'!AH32=\"Y\",\"SampleRecordTest Id 26\",\"\")","v":""},"",{"$f":"IF(AQ28=\"\",\"\",VLOOKUP(AQ28,'Send Sync'!$I$56:$J$145,2,FALSE))","v":""},{"$f":"IF(AH28=\"\",\"\",3)","v":""},{"$f":"IF(AH28=\"\",\"\",'Send Sync'!$R$56)","v":""},{"$f":"IF(AH28=\"\",\"\",'Send Sync'!$T$56)","v":""},null,null,null,{"$f":"IF(AH28=\"\",\"\",IF($C$43=\"QA\",\"Base Agg Density & Thickness (QA)\",\"Base Agg Density & Thickness (QC)\"))","v":""},null,"","",{"$f":"IF(AH28=\"\",\"\",COUNTIF(AJ26:AJ30,AJ28))","v":""},"",null,"","","","","","","","","","","","","","",null,"",null,null,"","",null,null,null,null,null,null,13,{"$f":"IF(AH16=\"\",\"\",\"AgencyEntityInstance Id 26\")","v":""},{"$f":"IF(BY28=\"\",\"\",VLOOKUP(\"CM_Subgrade_Comp\",'Send Sync'!$K$56:$L$96,2,FALSE))","v":""},{"$f":"IF(BY28=\"\",\"\",\"SampleRecordTest Id 14\")","v":""},"",{"$f":"IF(BY28=\"\",\"\",CONCATENATE(\"<Data><cm_subgrade_comp_01_qty_cy_a>\",CO136,\"</cm_subgrade_comp_01_qty_cy_a><cm_subgrade_comp_02_qty_cy_b>\",CO137,\"</cm_subgrade_comp_02_qty_cy_b><cm_subgrade_comp_03_qty_cy_rocky>\",CO138,\"</cm_subgrade_comp_03_qty_cy_rocky><cm_subgrade_comp_04_qty_sta_a>\",CO139,\"</cm_subgrade_comp_04_qty_sta_a><cm_subgrade_comp_05_qty_sta_b>\",CO140,\"</cm_subgrade_comp_05_qty_sta_b><cm_subgrade_comp_06_qty_sta_rocky>\",CO141,\"</cm_subgrade_comp_06_qty_sta_rocky><cm_subgrade_comp_07_comp_a>\",CO142,\"</cm_subgrade_comp_07_comp_a><cm_subgrade_comp_08_comp_b>\",CO143,\"</cm_subgrade_comp_08_comp_b><cm_subgrade_comp_09_density_a>\",CO144,\"</cm_subgrade_comp_09_density_a><cm_subgrade_comp_10_density_b>\",CO145,\"</cm_subgrade_comp_10_density_b></Data>\"))","v":""},"","","","",null,null,null,null,null,null,null,"",null,{"$f":"IF(BY8=\"\",\"\",\"AgencyEntityInsData Id 26\")","v":""},{"$f":"IF(BY8=\"\",\"\",\"AgencyEntityInstance Id 6\")","v":""},{"$f":"IF(BY8=\"\",\"\",\"cm_subgrade_comp_03_qty_cy_rocky\")","v":""},{"$f":"IF(BY8=\"\",\"\",'Test 1'!AE37)","v":""},{"$f":"IF(BY8=\"\",\"\",TODAY())","v":""},{"$f":"IF(BY8=\"\",\"\",\"WTSYSTEMUSER\")","v":""},{"$f":"IF(BY8=\"\",\"\",TODAY())","v":""},{"$f":"IF(BY8=\"\",\"\",\"WTSYSTEMUSER\")","v":""}]
[null,"LabControlNumber",{"$f":"CONCATENATE(\"CN\",C3)","v":"CN"},null,null,null,null,null,null,null,null,null,null,null,null,null,"",{"$f":"IF('Contract and Quantities'!AS65=\"\",\"\",'Contract and Quantities'!AS65)","v":""},"",null,{"$f":"IF(R29=\"\",\"\",'Contract and Quantities'!AR65)","v":""},{"$f":"IF(R29=\"\",\"\",'Contract and Quantities'!AQ65)","v":""},"","","","","",null,null,null,null,null,null,{"$f":"IF('Test 3'!AH41=\"Y\",\"SampleRecordTest Id 27\",\"\")","v":""},"",{"$f":"IF(AQ29=\"\",\"\",VLOOKUP(AQ29,'Send Sync'!$I$56:$J$145,2,FALSE))","v":""},{"$f":"IF(AH29=\"\",\"\",4)","v":""},{"$f":"IF(AH29=\"\",\"\",'Send Sync'!$R$56)","v":""},{"$f":"IF(AH29=\"\",\"\",'Send Sync'!$T$56)","v":""},null,null,null,{"$f":"IF(AH29=\"\",\"\",IF($C$43=\"QA\",\"Base Agg Density & Thickness (QA)\",\"Base Agg Density & Thickness (QC)\"))","v":""},null,"","",{"$f":"IF(AH29=\"\",\"\",COUNTIF(AJ26:AJ30,AJ29))","v":""},"",null,"","","","","","","","","","","","","","",null,"",null,null,"","",null,null,null,null,null,null,null,{"$f":"IF(AH16=\"\",\"\",IF('Test 1'!J131=\"\",\"\",\"AgencyEntityInstance Id 27\"))","v":""},{"$f":"IF(BY29=\"\",\"\",VLOOKUP(\"CM_StandardForRemark\",'Send Sync'!$K$56:$L$96,2,FALSE))","v":""},{"$f":"IF(BY29=\"\",\"\",\"SampleRecordTest Id 14\")","v":""},"",{"$f":"IF(BY29=\"\",\"\",CONCATENATE(\"<Data><CM_Standard_For_Remarks>\",CO146,\"</CM_Standard_For_Remarks></Data>\"))","v":""},"","","","",null,null,null,null,null,null,null,"",null,{"$f":"IF(BY8=\"\",\"\",\"AgencyEntityInsData Id 27\")","v":""},{"$f":"IF(BY8=\"\",\"\",\"AgencyEntityInstance Id 6\")","v":""},{"$f":"IF(BY8=\"\",\"\",\"cm_subgrade_comp_04_qty_sta_a\")","v":""},{"$f":"IF(BY8=\"\",\"\",'Test 1'!AF35)","v":""},{"$f":"IF(BY8=\"\",\"\",TODAY())","v":""},{"$f":"IF(BY8=\"\",\"\",\"WTSYSTEMUSER\")","v":""},{"$f":"IF(BY8=\"\",\"\",TODAY())","v":""},{"$f":"IF(BY8=\"\",\"\",\"WTSYSTEMUSER\")","v":""}]
[null,"LabReferenceNumber",null,null,null,null,null,null,null,null,null,null,null,null,null,null,"",{"$f":"IF('Contract and Quantities'!AS66=\"\",\"\",'Contract and Quantities'!AS66)","v":""},"",null,{"$f":"IF(R30=\"\",\"\",'Contract and Quantities'!AR66)","v":""},{"$f":"IF(R30=\"\",\"\",'Contract and Quantities'!AQ66)","v":""},"","","","","",null,null,null,null,null,null,{"$f":"IF('Test 3'!AH50=\"Y\",\"SampleRecordTest Id 28\",\"\")","v":""},"",{"$f":"IF(AQ30=\"\",\"\",VLOOKUP(AQ30,'Send Sync'!$I$56:$J$145,2,FALSE))","v":""},{"$f":"IF(AH30=\"\",\"\",5)","v":""},{"$f":"IF(AH30=\"\",\"\",'Send Sync'!$R$56)","v":""},{"$f":"IF(AH30=\"\",\"\",'Send Sync'!$T$56)","v":""},null,null,null,{"$f":"IF(AH30=\"\",\"\",IF($C$43=\"QA\",\"Base Agg Density & Thickness (QA)\",\"Base Agg Density & Thickness (QC)\"))","v":""},null,"","",{"$f":"IF(AH30=\"\",\"\",COUNTIF(AJ26:AJ30,AJ30))","v":""},"",null,"","","","","","","","","","","","","","",null,"",null,null,"","",null,null,null,null,null,null,14,{"$f":"IF(AH17=\"\",\"\",\"AgencyEntityInstance Id 28\")","v":""},{"$f":"IF(BY30=\"\",\"\",VLOOKUP(\"CM_Subgrade_Comp\",'Send Sync'!$K$56:$L$96,2,FALSE))","v":""},{"$f":"IF(BY30=\"\",\"\",\"SampleRecordTest Id 15\")","v":""},"",{"$f":"IF(BY30=\"\",\"\",CONCATENATE(\"<Data><cm_subgrade_comp_01_qty_cy_a>\",CO147,\"</cm_subgrade_comp_01_qty_cy_a><cm_subgrade_comp_02_qty_cy_b>\",CO148,\"</cm_subgrade_comp_02_qty_cy_b><cm_subgrade_comp_03_qty_cy_rocky>\",CO149,\"</cm_subgrade_comp_03_qty_cy_rocky><cm_subgrade_comp_04_qty_sta_a>\",CO150,\"</cm_subgrade_comp_04_qty_sta_a><cm_subgrade_comp_05_qty_sta_b>\",CO151,\"</cm_subgrade_comp_05_qty_sta_b><cm_subgrade_comp_06_qty_sta_rocky>\",CO152,\"</cm_subgrade_comp_06_qty_sta_rocky><cm_subgrade_comp_07_comp_a>\",CO153,\"</cm_subgrade_comp_07_comp_a><cm_subgrade_comp_08_comp_b>\",CO154,\"</cm_subgrade_comp_08_comp_b><cm_subgrade_comp_09_density_a>\",CO155,\"</cm_subgrade_comp_09_density_a><cm_subgrade_comp_10_density_b>\",CO156,\"</cm_subgrade_comp_10_density_b></Data>\"))","v":""},"","","","",null,null,null,null,null,null,null,"",null,{"$f":"IF(BY8=\"\",\"\",\"AgencyEntityInsData Id 28\")","v":""},{"$f":"IF(BY8=\"\",\"\",\"AgencyEntityInstance Id 6\")","v":""},{"$f":"IF(BY8=\"\",\"\",\"cm_subgrade_comp_05_qty_sta_b\")","v":""},{"$f":"IF(BY8=\"\",\"\",'Test 1'!AF36)","v":""},{"$f":"IF(BY8=\"\",\"\",TODAY())","v":""},{"$f":"IF(BY8=\"\",\"\",\"WTSYSTEMUSER\")","v":""},{"$f":"IF(BY8=\"\",\"\",TODAY())","v":""},{"$f":"IF(BY8=\"\",\"\",\"WTSYSTEMUSER\")","v":""}]
[null,"Latitude",null,null,null,null,null,null,null,null,null,null,null,null,null,null,"",{"$f":"IF('Contract and Quantities'!AS67=\"\",\"\",'Contract and Quantities'!AS67)","v":""},"",null,{"$f":"IF(R31=\"\",\"\",'Contract and Quantities'!AR67)","v":""},{"$f":"IF(R31=\"\",\"\",'Contract and Quantities'!AQ67)","v":""},"","","","","",null,null,null,null,null,null,{"$f":"IF('Test 4'!AH12=\"Y\",\"SampleRecordTest Id 29\",\"\")","v":""},"",{"$f":"IF(AQ31=\"\",\"\",VLOOKUP(AQ31,'Send Sync'!$I$56:$J$145,2,FALSE))","v":""},{"$f":"IF(AH31=\"\",\"\",1)","v":""},{"$f":"IF(AH31=\"\",\"\",'Send Sync'!$R$56)","v":""},{"$f":"IF(AH31=\"\",\"\",'Send Sync'!$T$56)","v":""},null,null,null,{"$f":"IF(AH31=\"\",\"\",IF($C$43=\"QA\",\"AASHTO T90 Aggregate PI (QA)\",\"AASHTO T90 Aggregate PI (QC)\"))","v":""},null,"","",{"$f":"IF(AH31=\"\",\"\",COUNTIF(AJ31:AJ32,AJ31))","v":""},"",null,"","","","","","","","","","","","","","",null,"",null,null,"","",null,null,null,null,null,null,null,{"$f":"IF(AH17=\"\",\"\",IF('Test 1'!J141=\"\",\"\",\"AgencyEntityInstance Id 29\"))","v":""},{"$f":"IF(BY31=\"\",\"\",VLOOKUP(\"CM_StandardForRemark\",'Send Sync'!$K$56:$L$96,2,FALSE))","v":""},{"$f":"IF(BY31=\"\",\"\",\"SampleRecordTest Id 15\")","v":""},"",{"$f":"IF(BY31=\"\",\"\",CONCATENATE(\"<Data><CM_Standard_For_Remarks>\",CO157,\"</CM_Standard_For_Remarks></Data>\"))","v":""},"","","","",null,null,null,null,null,null,null,"",null,{"$f":"IF(BY8=\"\",\"\",\"AgencyEntityInsData Id 29\")","v":""},{"$f":"IF(BY8=\"\",\"\",\"AgencyEntityInstance Id 6\")","v":""},{"$f":"IF(BY8=\"\",\"\",\"cm_subgrade_comp_06_qty_sta_rocky\")","v":""},{"$f":"IF(BY8=\"\",\"\",'Test 1'!AF37)","v":""},{"$f":"IF(BY8=\"\",\"\",TODAY())","v":""},{"$f":"IF(BY8=\"\",\"\",\"WTSYSTEMUSER\")","v":""},{"$f":"IF(BY8=\"\",\"\",TODAY())","v":""},{"$f":"IF(BY8=\"\",\"\",\"WTSYSTEMUSER\")","v":""}]
[null,"Longitude",null,null,null,null,null,null,null,null,null,null,null,null,null,null,"",{"$f":"IF('Contract and Quantities'!AS68=\"\",\"\",'Contract and Quantities'!AS68)","v":""},"",null,{"$f":"IF(R32=\"\",\"\",'Contract and Quantities'!AR68)","v":""},{"$f":"IF(R32=\"\",\"\",'Contract and Quantities'!AQ68)","v":""},"","","","","",null,null,null,null,null,null,{"$f":"IF('Test 4'!AI12=\"Y\",\"SampleRecordTest Id 30\",\"\")","v":""},"",{"$f":"IF(AQ32=\"\",\"\",VLOOKUP(AQ32,'Send Sync'!$I$56:$J$145,2,FALSE))","v":""},{"$f":"IF(AH32=\"\",\"\",2)","v":""},{"$f":"IF(AH32=\"\",\"\",'Send Sync'!$R$56)","v":""},{"$f":"IF(AH32=\"\",\"\",'Send Sync'!$T$56)","v":""},null,null,null,{"$f":"IF(AH32=\"\",\"\",IF($C$43=\"QA\",\"AASHTO T90 Aggregate PI (QA)\",\"AASHTO T90 Aggregate PI (QC)\"))","v":""},null,"","",{"$f":"IF(AH32=\"\",\"\",COUNTIF(AJ31:AJ32,AJ32))","v":""},"",null,"","","","","","","","","","","","","","",null,"",null,null,"","",null,null,null,null,null,null,15,{"$f":"IF(AH18=\"\",\"\",\"AgencyEntityInstance Id 30\")","v":""},{"$f":"IF(BY32=\"\",\"\",VLOOKUP(\"CM_Subgrade_Comp\",'Send Sync'!$K$56:$L$96,2,FALSE))","v":""},{"$f":"IF(BY32=\"\",\"\",\"SampleRecordTest Id 16\")","v":""},"",{"$f":"IF(BY32=\"\",\"\",CONCATENATE(\"<Data><cm_subgrade_comp_01_qty_cy_a>\",CO158,\"</cm_subgrade_comp_01_qty_cy_a><cm_subgrade_comp_02_qty_cy_b>\",CO159,\"</cm_subgrade_comp_02_qty_cy_b><cm_subgrade_comp_03_qty_cy_rocky>\",CO160,\"</cm_subgrade_comp_03_qty_cy_rocky><cm_subgrade_comp_04_qty_sta_a>\",CO161,\"</cm_subgrade_comp_04_qty_sta_a><cm_subgrade_comp_05_qty_sta_b>\",CO162,\"</cm_subgrade_comp_05_qty_sta_b><cm_subgrade_comp_06_qty_sta_rocky>\",CO163,\"</cm_subgrade_comp_06_qty_sta_rocky><cm_subgrade_comp_07_comp_a>\",CO164,\"</cm_subgrade_comp_07_comp_a><cm_subgrade_comp_08_comp_b>\",CO165,\"</cm_subgrade_comp_08_comp_b><cm_subgrade_comp_09_density_a>\",CO166,\"</cm_subgrade_comp_09_density_a><cm_subgrade_comp_10_density_b>\",CO167,\"</cm_subgrade_comp_10_density_b></Data>\"))","v":""},"","","","",null,null,null,null,null,null,null,"",null,{"$f":"IF(BY8=\"\",\"\",\"AgencyEntityInsData Id 30\")","v":""},{"$f":"IF(BY8=\"\",\"\",\"AgencyEntityInstance Id 6\")","v":""},{"$f":"IF(BY8=\"\",\"\",\"cm_subgrade_comp_07_comp_a\")","v":""},{"$f":"IF(BY8=\"\",\"\",'Test 1'!AG35)","v":""},{"$f":"IF(BY8=\"\",\"\",TODAY())","v":""},{"$f":"IF(BY8=\"\",\"\",\"WTSYSTEMUSER\")","v":""},{"$f":"IF(BY8=\"\",\"\",TODAY())","v":""},{"$f":"IF(BY8=\"\",\"\",\"WTSYSTEMUSER\")","v":""}]
[null,"LsaurLastModified Dt",null,null,null,null,null,null,null,null,null,null,null,null,null,null,"",{"$f":"IF('Contract and Quantities'!AS69=\"\",\"\",'Contract and Quantities'!AS69)","v":""},"",null,{"$f":"IF(R33=\"\",\"\",'Contract and Quantities'!AR69)","v":""},{"$f":"IF(R33=\"\",\"\",'Contract and Quantities'!AQ69)","v":""},"","","","","",null,null,null,null,null,null,{"$f":"IF('Test 4'!AH20=\"Y\",\"SampleRecordTest Id 31\",\"\")","v":""},"",{"$f":"IF(AQ33=\"\",\"\",VLOOKUP(AQ33,'Send Sync'!$I$56:$J$145,2,FALSE))","v":""},{"$f":"IF(AH33=\"\",\"\",1)","v":""},{"$f":"IF(AH33=\"\",\"\",'Send Sync'!$R$56)","v":""},{"$f":"IF(AH33=\"\",\"\",'Send Sync'!$T$56)","v":""},null,null,null,{"$f":"IF(AH33=\"\",\"\",IF($C$43=\"QA\",\"AASHTO T99 Soil/Aggregate Compaction QA\",\"AASHTO T99 Soil/Aggregate Compaction QC\"))","v":""},null,"","",{"$f":"IF(AH33=\"\",\"\",COUNTIF(AJ33:AJ34,AJ33))","v":""},"",null,"","","","","","","","","","","","","","",null,"",null,null,"","",null,null,null,null,null,null,null,{"$f":"IF(AH18=\"\",\"\",IF('Test 1'!J151=\"\",\"\",\"AgencyEntityInstance Id 31\"))","v":""},{"$f":"IF(BY33=\"\",\"\",VLOOKUP(\"CM_StandardForRemark\",'Send Sync'!$K$56:$L$96,2,FALSE))","v":""},{"$f":"IF(BY33=\"\",\"\",\"SampleRecordTest Id 16\")","v":""},"",{"$f":"IF(BY33=\"\",\"\",CONCATENATE(\"<Data><CM_Standard_For_Remarks>\",CO168,\"</CM_Standard_For_Remarks></Data>\"))","v":""},"","","","",null,null,null,null,null,null,null,"",null,{"$f":"IF(BY8=\"\",\"\",\"AgencyEntityInsData Id 31\")","v":""},{"$f":"IF(BY8=\"\",\"\",\"AgencyEntityInstance Id 6\")","v":""},{"$f":"IF(BY8=\"\",\"\",\"cm_subgrade_comp_08_comp_b\")","v":""},{"$f":"IF(BY8=\"\",\"\",'Test 1'!AG36)","v":""},{"$f":"IF(BY8=\"\",\"\",TODAY())","v":""},{"$f":"IF(BY8=\"\",\"\",\"WTSYSTEMUSER\")","v":""},{"$f":"IF(BY8=\"\",\"\",TODAY())","v":""},{"$f":"IF(BY8=\"\",\"\",\"WTSYSTEMUSER\")","v":""}]
[null,"OffSet",null,null,null,null,null,null,null,null,null,null,null,null,null,null,"",{"$f":"IF('Contract and Quantities'!AS70=\"\",\"\",'Contract and Quantities'!AS70)","v":""},"",null,{"$f":"IF(R34=\"\",\"\",'Contract and Quantities'!AR70)","v":""},{"$f":"IF(R34=\"\",\"\",'Contract and Quantities'!AQ70)","v":""},"","","","","",null,null,null,null,null,null,{"$f":"IF('Test 4'!AI20=\"Y\",\"SampleRecordTest Id 32\",\"\")","v":""},"",{"$f":"IF(AQ34=\"\",\"\",VLOOKUP(AQ34,'Send Sync'!$I$56:$J$145,2,FALSE))","v":""},{"$f":"IF(AH34=\"\",\"\",2)","v":""},{"$f":"IF(AH34=\"\",\"\",'Send Sync'!$R$56)","v":""},{"$f":"IF(AH34=\"\",\"\",'Send Sync'!$T$56)","v":""},null,null,null,{"$f":"IF(AH34=\"\",\"\",IF($C$43=\"QA\",\"AASHTO T99 Soil/Aggregate Compaction QA\",\"AASHTO T99 Soil/Aggregate Compaction QC\"))","v":""},null,"","",{"$f":"IF(AH34=\"\",\"\",COUNTIF(AJ33:AJ34,AJ34))","v":""},"",null,"","","","","","","","","","","","","","",null,"",null,null,"","",null,null,null,null,null,null,16,{"$f":"IF(AH19=\"\",\"\",\"AgencyEntityInstance Id 32\")","v":""},{"$f":"IF(BY34=\"\",\"\",VLOOKUP(\"CM_Subgrade_Comp\",'Send Sync'!$K$56:$L$96,2,FALSE))","v":""},{"$f":"IF(BY34=\"\",\"\",\"SampleRecordTest Id 17\")","v":""},null,{"$f":"IF(BY34=\"\",\"\",CONCATENATE(\"<Data><cm_subgrade_comp_01_qty_cy_a>\",CO169,\"</cm_subgrade_comp_01_qty_cy_a><cm_subgrade_comp_02_qty_cy_b>\",CO170,\"</cm_subgrade_comp_02_qty_cy_b><cm_subgrade_comp_03_qty_cy_rocky>\",CO171,\"</cm_subgrade_comp_03_qty_cy_rocky><cm_subgrade_comp_04_qty_sta_a>\",CO172,\"</cm_subgrade_comp_04_qty_sta_a><cm_subgrade_comp_05_qty_sta_b>\",CO173,\"</cm_subgrade_comp_05_qty_sta_b><cm_subgrade_comp_06_qty_sta_rocky>\",CO174,\"</cm_subgrade_comp_06_qty_sta_rocky><cm_subgrade_comp_07_comp_a>\",CO175,\"</cm_subgrade_comp_07_comp_a><cm_subgrade_comp_08_comp_b>\",CO176,\"</cm_subgrade_comp_08_comp_b><cm_subgrade_comp_09_density_a>\",CO177,\"</cm_subgrade_comp_09_density_a><cm_subgrade_comp_10_density_b>\",CO178,\"</cm_subgrade_comp_10_density_b></Data>\"))","v":""},"","",{"$f":"IF(BY34=\"\",\"\",TODAY())","v":""},{"$f":"IF(BY34=\"\",\"\",\"WTSYSTEMUSER\")","v":""},null,null,null,null,null,null,null,"",null,{"$f":"IF(BY8=\"\",\"\",\"AgencyEntityInsData Id 32\")","v":""},{"$f":"IF(BY8=\"\",\"\",\"AgencyEntityInstance Id 6\")","v":""},{"$f":"IF(BY8=\"\",\"\",\"cm_subgrade_comp_09_density_a\")","v":""},{"$f":"IF(BY8=\"\",\"\",'Test 1'!AH35)","v":""},{"$f":"IF(BY8=\"\",\"\",TODAY())","v":""},{"$f":"IF(BY8=\"\",\"\",\"WTSYSTEMUSER\")","v":""},{"$f":"IF(BY8=\"\",\"\",TODAY())","v":""},{"$f":"IF(BY8=\"\",\"\",\"WTSYSTEMUSER\")","v":""}]
[null,"Reference",null,null,null,null,null,null,null,null,null,null,null,null,null,null,"",{"$f":"IF('Contract and Quantities'!AS71=\"\",\"\",'Contract and Quantities'!AS71)","v":""},"",null,{"$f":"IF(R35=\"\",\"\",'Contract and Quantities'!AR71)","v":""},{"$f":"IF(R35=\"\",\"\",'Contract and Quantities'!AQ71)","v":""},"","","","","",null,null,null,null,null,1,{"$f":"IF('Test 5'!AD8=\"Y\",\"SampleRecordTest Id 33\",\"\")","v":""},"",{"$f":"IF(AQ35=\"\",\"\",VLOOKUP(AQ35,'Send Sync'!$I$56:$J$145,2,FALSE))","v":""},{"$f":"IF(AH35=\"\",\"\",1)","v":""},{"$f":"IF(AH35=\"\",\"\",'Send Sync'!$R$56)","v":""},{"$f":"IF(AH35=\"\",\"\",'Send Sync'!$T$56)","v":""},null,null,null,{"$f":"IF(AH35=\"\",\"\",IF($C$43=\"QA\",\"Base DCP Compaction Testing QA\",\"Base DCP Compaction Testing QC\"))","v":""},null,"","",{"$f":"IF(AH35=\"\",\"\",COUNTIF($AJ$35:$AJ$44,AJ35))","v":""},"",null,"",{"$f":"IF(AH35=\"\",\"\",1)","v":""},{"$f":"IF(AH35=\"\",\"\",0)","v":""},{"$f":"IF(AH35=\"\",\"\",0)","v":""},{"$f":"IF(AH35=\"\",\"\",1)","v":""},{"$f":"IF(AH35=\"\",\"\",0)","v":""},{"$f":"IF(AH35=\"\",\"\",0)","v":""},{"$f":"IF(AH35=\"\",\"\",0)","v":""},{"$f":"IF(AH35=\"\",\"\",0)","v":""},{"$f":"IF(AH35=\"\",\"\",1)","v":""},{"$f":"IF(AH35=\"\",\"\",TODAY())","v":""},{"$f":"IF(AH35=\"\",\"\",\"WTSYSTEMUSER\")","v":""},{"$f":"IF(AH35=\"\",\"\",TODAY())","v":""},{"$f":"IF(AH35=\"\",\"\",\"WTSYSTEMUSER\")","v":""},null,{"$f":"IF(AH35=\"\",\"\",0)","v":""},null,null,"","",null,null,null,null,null,null,null,{"$f":"IF(AH19=\"\",\"\",IF('Test 1'!J161=\"\",\"\",\"AgencyEntityInstance Id 33\"))","v":""},{"$f":"IF(BY35=\"\",\"\",VLOOKUP(\"CM_StandardForRemark\",'Send Sync'!$K$56:$L$96,2,FALSE))","v":""},{"$f":"IF(BY35=\"\",\"\",\"SampleRecordTest Id 17\")","v":""},null,{"$f":"IF(BY35=\"\",\"\",CONCATENATE(\"<Data><CM_Standard_For_Remarks>\",CO179,\"</CM_Standard_For_Remarks></Data>\"))","v":""},"","",{"$f":"IF(BY35=\"\",\"\",TODAY())","v":""},{"$f":"IF(BY35=\"\",\"\",\"WTSYSTEMUSER\")","v":""},null,null,null,null,null,null,null,"",null,{"$f":"IF(BY8=\"\",\"\",\"AgencyEntityInsData Id 33\")","v":""},{"$f":"IF(BY8=\"\",\"\",\"AgencyEntityInstance Id 6\")","v":""},{"$f":"IF(BY8=\"\",\"\",\"cm_subgrade_comp_10_density_b\")","v":""},{"$f":"IF(BY8=\"\",\"\",'Test 1'!AH36)","v":""},{"$f":"IF(BY8=\"\",\"\",TODAY())","v":""},{"$f":"IF(BY8=\"\",\"\",\"WTSYSTEMUSER\")","v":""},{"$f":"IF(BY8=\"\",\"\",TODAY())","v":""},{"$f":"IF(BY8=\"\",\"\",\"WTSYSTEMUSER\")","v":""}]
[null,"RepresentedQuantity",{"$f":"'Contract and Quantities'!R13","v":0},null,null,null,null,null,null,null,null,null,null,null,null,null,"",{"$f":"IF('Contract and Quantities'!AS72=\"\",\"\",'Contract and Quantities'!AS72)","v":""},"",null,{"$f":"IF(R36=\"\",\"\",'Contract and Quantities'!AR72)","v":""},{"$f":"IF(R36=\"\",\"\",'Contract and Quantities'!AQ72)","v":""},"","","","","",null,null,null,null,null,2,{"$f":"IF('Test 5'!AD9=\"Y\",\"SampleRecordTest Id 34\",\"\")","v":""},"",{"$f":"IF(AQ36=\"\",\"\",VLOOKUP(AQ36,'Send Sync'!$I$56:$J$145,2,FALSE))","v":""},{"$f":"IF(AH36=\"\",\"\",2)","v":""},{"$f":"IF(AH36=\"\",\"\",'Send Sync'!$R$56)","v":""},{"$f":"IF(AH36=\"\",\"\",'Send Sync'!$T$56)","v":""},null,null,null,{"$f":"IF(AH36=\"\",\"\",IF($C$43=\"QA\",\"Base DCP Compaction Testing QA\",\"Base DCP Compaction Testing QC\"))","v":""},null,"","",{"$f":"IF(AH36=\"\",\"\",COUNTIF($AJ$35:$AJ$44,AJ36))","v":""},"",null,"","","","","","","","","","","","","","",null,"",null,null,"","",null,null,null,null,null,null,17,{"$f":"IF(AH20=\"\",\"\",\"AgencyEntityInstance Id 34\")","v":""},{"$f":"IF(BY36=\"\",\"\",VLOOKUP(\"CM_Subgrade_Comp\",'Send Sync'!$K$56:$L$96,2,FALSE))","v":""},{"$f":"IF(BY36=\"\",\"\",\"SampleRecordTest Id 18\")","v":""},null,{"$f":"IF(BY36=\"\",\"\",CONCATENATE(\"<Data><cm_subgrade_comp_01_qty_cy_a>\",CO180,\"</cm_subgrade_comp_01_qty_cy_a><cm_subgrade_comp_02_qty_cy_b>\",CO181,\"</cm_subgrade_comp_02_qty_cy_b><cm_subgrade_comp_03_qty_cy_rocky>\",CO182,\"</cm_subgrade_comp_03_qty_cy_rocky><cm_subgrade_comp_04_qty_sta_a>\",CO183,\"</cm_subgrade_comp_04_qty_sta_a><cm_subgrade_comp_05_qty_sta_b>\",CO184,\"</cm_subgrade_comp_05_qty_sta_b><cm_subgrade_comp_06_qty_sta_rocky>\",CO185,\"</cm_subgrade_comp_06_qty_sta_rocky><cm_subgrade_comp_07_comp_a>\",CO186,\"</cm_subgrade_comp_07_comp_a><cm_subgrade_comp_08_comp_b>\",CO187,\"</cm_subgrade_comp_08_comp_b><cm_subgrade_comp_09_density_a>\",CO188,\"</cm_subgrade_comp_09_density_a><cm_subgrade_comp_10_density_b>\",CO189,\"</cm_subgrade_comp_10_density_b></Data>\"))","v":""},"","",{"$f":"IF(BY36=\"\",\"\",TODAY())","v":""},{"$f":"IF(BY36=\"\",\"\",\"WTSYSTEMUSER\")","v":""},null,null,null,null,null,null,null,"",null,{"$f":"IF(BY9=\"\",\"\",\"AgencyEntityInsData Id 34\")","v":""},{"$f":"IF(BY9=\"\",\"\",\"AgencyEntityInstance Id 7\")","v":""},{"$f":"IF(BY9=\"\",\"\",\"CM_Standard_For_Remarks\")","v":""},{"$f":"IF(BY9=\"\",\"\",IF('Test 1'!J31=\"\",\"\",'Test 1'!J31))","v":""},{"$f":"IF(BY9=\"\",\"\",TODAY())","v":""},{"$f":"IF(BY9=\"\",\"\",\"WTSYSTEMUSER\")","v":""},{"$f":"IF(BY9=\"\",\"\",TODAY())","v":""},{"$f":"IF(BY9=\"\",\"\",\"WTSYSTEMUSER\")","v":""}]
[null,"RepresentedQuantityUnits",{"$f":"Main!D44","v":"E056"},null,null,null,null,null,null,null,null,null,null,null,null,null,"",{"$f":"IF('Contract and Quantities'!AS73=\"\",\"\",'Contract and Quantities'!AS73)","v":""},"",null,{"$f":"IF(R37=\"\",\"\",'Contract and Quantities'!AR73)","v":""},{"$f":"IF(R37=\"\",\"\",'Contract and Quantities'!AQ73)","v":""},"","","","","",null,null,null,null,null,3,{"$f":"IF('Test 5'!AD10=\"Y\",\"SampleRecordTest Id 35\",\"\")","v":""},"",{"$f":"IF(AQ37=\"\",\"\",VLOOKUP(AQ37,'Send Sync'!$I$56:$J$145,2,FALSE))","v":""},{"$f":"IF(AH37=\"\",\"\",3)","v":""},{"$f":"IF(AH37=\"\",\"\",'Send Sync'!$R$56)","v":""},{"$f":"IF(AH37=\"\",\"\",'Send Sync'!$T$56)","v":""},null,null,null,"",null,"","","","",null,"","","","","","","","","","","","","","",null,"",null,null,"","",null,null,null,null,null,null,null,{"$f":"IF(AH20=\"\",\"\",IF('Test 1'!J171=\"\",\"\",\"AgencyEntityInstance Id 35\"))","v":""},{"$f":"IF(BY37=\"\",\"\",VLOOKUP(\"CM_StandardForRemark\",'Send Sync'!$K$56:$L$96,2,FALSE))","v":""},{"$f":"IF(BY37=\"\",\"\",\"SampleRecordTest Id 18\")","v":""},null,{"$f":"IF(BY37=\"\",\"\",CONCATENATE(\"<Data><CM_Standard_For_Remarks>\",CO190,\"</CM_Standard_For_Remarks></Data>\"))","v":""},"","","","",null,null,null,null,null,null,null,"",4,{"$f":"IF(BY10=\"\",\"\",\"AgencyEntityInsData Id 35\")","v":""},{"$f":"IF(BY10=\"\",\"\",\"AgencyEntityInstance Id 8\")","v":""},{"$f":"IF(BY10=\"\",\"\",\"cm_subgrade_comp_01_qty_cy_a\")","v":""},{"$f":"IF(BY10=\"\",\"\",'Test 1'!AE45)","v":""},{"$f":"IF(BY10=\"\",\"\",TODAY())","v":""},{"$f":"IF(BY10=\"\",\"\",\"WTSYSTEMUSER\")","v":""},{"$f":"IF(BY10=\"\",\"\",TODAY())","v":""},{"$f":"IF(BY10=\"\",\"\",\"WTSYSTEMUSER\")","v":""}]
[null,"RequestedBy",null,null,null,null,null,null,null,null,null,null,null,null,null,null,"",{"$f":"IF('Contract and Quantities'!AS74=\"\",\"\",'Contract and Quantities'!AS74)","v":""},"",null,{"$f":"IF(R38=\"\",\"\",'Contract and Quantities'!AR74)","v":""},{"$f":"IF(R38=\"\",\"\",'Contract and Quantities'!AQ74)","v":""},"","","","","",null,null,null,null,null,4,{"$f":"IF('Test 5'!AD11=\"Y\",\"SampleRecordTest Id 36\",\"\")","v":""},"",{"$f":"IF(AQ38=\"\",\"\",VLOOKUP(AQ38,'Send Sync'!$I$56:$J$145,2,FALSE))","v":""},{"$f":"IF(AH38=\"\",\"\",4)","v":""},{"$f":"IF(AH38=\"\",\"\",'Send Sync'!$R$56)","v":""},{"$f":"IF(AH38=\"\",\"\",'Send Sync'!$T$56)","v":""},null,null,null,"",null,"","","","",null,"","","","","","","","","","","","","","",null,"",null,null,"","",null,null,null,null,null,null,18,{"$f":"IF(AH21=\"\",\"\",\"AgencyEntityInstance Id 36\")","v":""},{"$f":"IF(BY38=\"\",\"\",VLOOKUP(\"CM_Subgrade_Comp\",'Send Sync'!$K$56:$L$96,2,FALSE))","v":""},{"$f":"IF(BY38=\"\",\"\",\"SampleRecordTest Id 19\")","v":""},null,{"$f":"IF(BY38=\"\",\"\",CONCATENATE(\"<Data><cm_subgrade_comp_01_qty_cy_a>\",CO191,\"</cm_subgrade_comp_01_qty_cy_a><cm_subgrade_comp_02_qty_cy_b>\",CO192,\"</cm_subgrade_comp_02_qty_cy_b><cm_subgrade_comp_03_qty_cy_rocky>\",CO193,\"</cm_subgrade_comp_03_qty_cy_rocky><cm_subgrade_comp_04_qty_sta_a>\",CO194,\"</cm_subgrade_comp_04_qty_sta_a><cm_subgrade_comp_05_qty_sta_b>\",CO195,\"</cm_subgrade_comp_05_qty_sta_b><cm_subgrade_comp_06_qty_sta_rocky>\",CO196,\"</cm_subgrade_comp_06_qty_sta_rocky><cm_subgrade_comp_07_comp_a>\",CO197,\"</cm_subgrade_comp_07_comp_a><cm_subgrade_comp_08_comp_b>\",CO198,\"</cm_subgrade_comp_08_comp_b><cm_subgrade_comp_09_density_a>\",CO199,\"</cm_subgrade_comp_09_density_a><cm_subgrade_comp_10_density_b>\",CO200,\"</cm_subgrade_comp_10_density_b></Data>\"))","v":""},{"$f":"IF(BY38=\"\",\"\",TODAY())","v":""},{"$f":"IF(BY38=\"\",\"\",\"WTSYSTEMUSER\")","v":""},"","",null,null,null,null,null,null,null,"",null,{"$f":"IF(BY10=\"\",\"\",\"AgencyEntityInsData Id 36\")","v":""},{"$f":"IF(BY10=\"\",\"\",\"AgencyEntityInstance Id 8\")","v":""},{"$f":"IF(BY10=\"\",\"\",\"cm_subgrade_comp_02_qty_cy_b\")","v":""},{"$f":"IF(BY10=\"\",\"\",'Test 1'!AE46)","v":""},{"$f":"IF(BY10=\"\",\"\",TODAY())","v":""},{"$f":"IF(BY10=\"\",\"\",\"WTSYSTEMUSER\")","v":""},{"$f":"IF(BY10=\"\",\"\",TODAY())","v":""},{"$f":"IF(BY10=\"\",\"\",\"WTSYSTEMUSER\")","v":""}]
[null,"Sample Dt",{"$f":"DATE(Main!I9,Main!I10,Main!I11)","v":"2024-11-30"},null,null,null,null,null,null,null,null,null,null,null,null,null,"",{"$f":"IF('Contract and Quantities'!AS75=\"\",\"\",'Contract and Quantities'!AS75)","v":""},"",null,{"$f":"IF(R39=\"\",\"\",'Contract and Quantities'!AR75)","v":""},{"$f":"IF(R39=\"\",\"\",'Contract and Quantities'!AQ75)","v":""},"","","","","",null,null,null,null,null,5,{"$f":"IF('Test 5'!AD12=\"Y\",\"SampleRecordTest Id 37\",\"\")","v":""},"",{"$f":"IF(AQ39=\"\",\"\",VLOOKUP(AQ39,'Send Sync'!$I$56:$J$145,2,FALSE))","v":""},{"$f":"IF(AH39=\"\",\"\",5)","v":""},{"$f":"IF(AH39=\"\",\"\",'Send Sync'!$R$56)","v":""},{"$f":"IF(AH39=\"\",\"\",'Send Sync'!$T$56)","v":""},null,null,null,"",null,"","","","",null,"","","","","","","","","","","","","","",null,"",null,null,"","",null,null,null,null,null,null,null,{"$f":"IF(AH21=\"\",\"\",IF('Test 1'!J181=\"\",\"\",\"AgencyEntityInstance Id 37\"))","v":""},{"$f":"IF(BY39=\"\",\"\",VLOOKUP(\"CM_StandardForRemark\",'Send Sync'!$K$56:$L$96,2,FALSE))","v":""},{"$f":"IF(BY39=\"\",\"\",\"SampleRecordTest Id 19\")","v":""},null,{"$f":"IF(BY39=\"\",\"\",CONCATENATE(\"<Data><CM_Standard_For_Remarks>\",CO201,\"</CM_Standard_For_Remarks></Data>\"))","v":""},"","","","",null,null,null,null,null,null,null,"",null,{"$f":"IF(BY10=\"\",\"\",\"AgencyEntityInsData Id 37\")","v":""},{"$f":"IF(BY10=\"\",\"\",\"AgencyEntityInstance Id 8\")","v":""},{"$f":"IF(BY10=\"\",\"\",\"cm_subgrade_comp_03_qty_cy_rocky\")","v":""},{"$f":"IF(BY10=\"\",\"\",'Test 1'!AE47)","v":""},{"$f":"IF(BY10=\"\",\"\",TODAY())","v":""},{"$f":"IF(BY10=\"\",\"\",\"WTSYSTEMUSER\")","v":""},{"$f":"IF(BY10=\"\",\"\",TODAY())","v":""},{"$f":"IF(BY10=\"\",\"\",\"WTSYSTEMUSER\")","v":""}]
[null,"SampledFrom",null,null,null,null,null,null,null,null,null,null,null,null,null,null,"",{"$f":"IF('Contract and Quantities'!AS76=\"\",\"\",'Contract and Quantities'!AS76)","v":""},"",null,{"$f":"IF(R40=\"\",\"\",'Contract and Quantities'!AR76)","v":""},{"$f":"IF(R40=\"\",\"\",'Contract and Quantities'!AQ76)","v":""},"","","","","",null,null,null,null,null,6,{"$f":"IF('Test 5'!AD13=\"Y\",\"SampleRecordTest Id 38\",\"\")","v":""},"",{"$f":"IF(AQ40=\"\",\"\",VLOOKUP(AQ40,'Send Sync'!$I$56:$J$145,2,FALSE))","v":""},{"$f":"IF(AH40=\"\",\"\",6)","v":""},{"$f":"IF(AH40=\"\",\"\",'Send Sync'!$R$56)","v":""},{"$f":"IF(AH40=\"\",\"\",'Send Sync'!$T$56)","v":""},null,null,null,"",null,"","","","",null,"","","","","","","","","","","","","","",null,"",null,null,"","",null,null,null,null,null,null,19,{"$f":"IF(AH22=\"\",\"\",\"AgencyEntityInstance Id 38\")","v":""},{"$f":"IF(BY40=\"\",\"\",VLOOKUP(\"CM_Subgrade_Comp\",'Send Sync'!$K$56:$L$96,2,FALSE))","v":""},{"$f":"IF(BY40=\"\",\"\",\"SampleRecordTest Id 20\")","v":""},null,{"$f":"IF(BY40=\"\",\"\",CONCATENATE(\"<Data><cm_subgrade_comp_01_qty_cy_a>\",CO202,\"</cm_subgrade_comp_01_qty_cy_a><cm_subgrade_comp_02_qty_cy_b>\",CO203,\"</cm_subgrade_comp_02_qty_cy_b><cm_subgrade_comp_03_qty_cy_rocky>\",CO204,\"</cm_subgrade_comp_03_qty_cy_rocky><cm_subgrade_comp_04_qty_sta_a>\",CO205,\"</cm_subgrade_comp_04_qty_sta_a><cm_subgrade_comp_05_qty_sta_b>\",CO206,\"</cm_subgrade_comp_05_qty_sta_b><cm_subgrade_comp_06_qty_sta_rocky>\",CO207,\"</cm_subgrade_comp_06_qty_sta_rocky><cm_subgrade_comp_07_comp_a>\",CO208,\"</cm_subgrade_comp_07_comp_a><cm_subgrade_comp_08_comp_b>\",CO209,\"</cm_subgrade_comp_08_comp_b><cm_subgrade_comp_09_density_a>\",CO210,\"</cm_subgrade_comp_09_density_a><cm_subgrade_comp_10_density_b>\",CO211,\"</cm_subgrade_comp_10_density_b></Data>\"))","v":""},"","","","",null,null,null,null,null,null,null,"",null,{"$f":"IF(BY10=\"\",\"\",\"AgencyEntityInsData Id 38\")","v":""},{"$f":"IF(BY10=\"\",\"\",\"AgencyEntityInstance Id 8\")","v":""},{"$f":"IF(BY10=\"\",\"\",\"cm_subgrade_comp_04_qty_sta_a\")","v":""},{"$f":"IF(BY10=\"\",\"\",'Test 1'!AF45)","v":""},{"$f":"IF(BY10=\"\",\"\",TODAY())","v":""},{"$f":"IF(BY10=\"\",\"\",\"WTSYSTEMUSER\")","v":""},{"$f":"IF(BY10=\"\",\"\",TODAY())","v":""},{"$f":"IF(BY10=\"\",\"\",\"WTSYSTEMUSER\")","v":""}]
[null,"SampleOrigin",{"$f":"IF(Main!O30=\"\",\"\",Main!O30)","v":""},null,null,null,null,null,null,null,null,null,null,null,null,null,"",{"$f":"IF('Contract and Quantities'!AS77=\"\",\"\",'Contract and Quantities'!AS77)","v":""},"",null,{"$f":"IF(R41=\"\",\"\",'Contract and Quantities'!AR77)","v":""},{"$f":"IF(R41=\"\",\"\",'Contract and Quantities'!AQ77)","v":""},"","","","","",null,null,null,null,null,7,{"$f":"IF('Test 5'!AD14=\"Y\",\"SampleRecordTest Id 39\",\"\")","v":""},"",{"$f":"IF(AQ41=\"\",\"\",VLOOKUP(AQ41,'Send Sync'!$I$56:$J$145,2,FALSE))","v":""},{"$f":"IF(AH41=\"\",\"\",7)","v":""},{"$f":"IF(AH41=\"\",\"\",'Send Sync'!$R$56)","v":""},{"$f":"IF(AH41=\"\",\"\",'Send Sync'!$T$56)","v":""},null,null,null,"",null,"","","","",null,"","","","","","","","","","","","","","",null,"",null,null,"","",null,null,null,null,null,null,null,{"$f":"IF(AH22=\"\",\"\",IF('Test 1'!J191=\"\",\"\",\"AgencyEntityInstance Id 39\"))","v":""},{"$f":"IF(BY41=\"\",\"\",VLOOKUP(\"CM_StandardForRemark\",'Send Sync'!$K$56:$L$96,2,FALSE))","v":""},{"$f":"IF(BY41=\"\",\"\",\"SampleRecordTest Id 20\")","v":""},null,{"$f":"IF(BY41=\"\",\"\",CONCATENATE(\"<Data><CM_Standard_For_Remarks>\",CO212,\"</CM_Standard_For_Remarks></Data>\"))","v":""},"","","","",null,null,null,null,null,null,null,"",null,{"$f":"IF(BY10=\"\",\"\",\"AgencyEntityInsData Id 39\")","v":""},{"$f":"IF(BY10=\"\",\"\",\"AgencyEntityInstance Id 8\")","v":""},{"$f":"IF(BY10=\"\",\"\",\"cm_subgrade_comp_05_qty_sta_b\")","v":""},{"$f":"IF(BY10=\"\",\"\",'Test 1'!AF46)","v":""},{"$f":"IF(BY10=\"\",\"\",TODAY())","v":""},{"$f":"IF(BY10=\"\",\"\",\"WTSYSTEMUSER\")","v":""},{"$f":"IF(BY10=\"\",\"\",TODAY())","v":""},{"$f":"IF(BY10=\"\",\"\",\"WTSYSTEMUSER\")","v":""}]
[null,"SampleSizeUnits",null,null,null,null,null,null,null,null,null,null,null,null,null,null,"",{"$f":"IF('Contract and Quantities'!AS78=\"\",\"\",'Contract and Quantities'!AS78)","v":""},"",null,{"$f":"IF(R42=\"\",\"\",'Contract and Quantities'!AR78)","v":""},{"$f":"IF(R42=\"\",\"\",'Contract and Quantities'!AQ78)","v":""},"","","","","",null,null,null,null,null,8,{"$f":"IF('Test 5'!AD15=\"Y\",\"SampleRecordTest Id 40\",\"\")","v":""},"",{"$f":"IF(AQ42=\"\",\"\",VLOOKUP(AQ42,'Send Sync'!$I$56:$J$145,2,FALSE))","v":""},{"$f":"IF(AH42=\"\",\"\",8)","v":""},{"$f":"IF(AH42=\"\",\"\",'Send Sync'!$R$56)","v":""},{"$f":"IF(AH42=\"\",\"\",'Send Sync'!$T$56)","v":""},null,null,null,"",null,"","","","",null,"","","","","","","","","","","","","","",null,"",null,null,"","",null,null,null,null,null,null,20,{"$f":"IF(AH23=\"\",\"\",\"AgencyEntityInstance Id 40\")","v":""},{"$f":"IF(BY42=\"\",\"\",VLOOKUP(\"CM_Subgrade_Comp\",'Send Sync'!$K$56:$L$96,2,FALSE))","v":""},{"$f":"IF(BY42=\"\",\"\",\"SampleRecordTest Id 21\")","v":""},null,{"$f":"IF(BY42=\"\",\"\",CONCATENATE(\"<Data><cm_subgrade_comp_01_qty_cy_a>\",CO213,\"</cm_subgrade_comp_01_qty_cy_a><cm_subgrade_comp_02_qty_cy_b>\",CO214,\"</cm_subgrade_comp_02_qty_cy_b><cm_subgrade_comp_03_qty_cy_rocky>\",CO215,\"</cm_subgrade_comp_03_qty_cy_rocky><cm_subgrade_comp_04_qty_sta_a>\",CO216,\"</cm_subgrade_comp_04_qty_sta_a><cm_subgrade_comp_05_qty_sta_b>\",CO217,\"</cm_subgrade_comp_05_qty_sta_b><cm_subgrade_comp_06_qty_sta_rocky>\",CO218,\"</cm_subgrade_comp_06_qty_sta_rocky><cm_subgrade_comp_07_comp_a>\",CO219,\"</cm_subgrade_comp_07_comp_a><cm_subgrade_comp_08_comp_b>\",CO220,\"</cm_subgrade_comp_08_comp_b><cm_subgrade_comp_09_density_a>\",CO221,\"</cm_subgrade_comp_09_density_a><cm_subgrade_comp_10_density_b>\",CO222,\"</cm_subgrade_comp_10_density_b></Data>\"))","v":""},"","","","",null,null,null,null,null,null,null,"",null,{"$f":"IF(BY10=\"\",\"\",\"AgencyEntityInsData Id 40\")","v":""},{"$f":"IF(BY10=\"\",\"\",\"AgencyEntityInstance Id 8\")","v":""},{"$f":"IF(BY10=\"\",\"\",\"cm_subgrade_comp_06_qty_sta_rocky\")","v":""},{"$f":"IF(BY10=\"\",\"\",'Test 1'!AF47)","v":""},{"$f":"IF(BY10=\"\",\"\",TODAY())","v":""},{"$f":"IF(BY10=\"\",\"\",\"WTSYSTEMUSER\")","v":""},{"$f":"IF(BY10=\"\",\"\",TODAY())","v":""},{"$f":"IF(BY10=\"\",\"\",\"WTSYSTEMUSER\")","v":""}]
[null,"SampleType",{"$f":"Main!U40","v":"QCC"},null,null,null,null,null,null,null,null,null,null,null,null,null,"",{"$f":"IF('Contract and Quantities'!AS79=\"\",\"\",'Contract and Quantities'!AS79)","v":""},"",null,{"$f":"IF(R43=\"\",\"\",'Contract and Quantities'!AR79)","v":""},{"$f":"IF(R43=\"\",\"\",'Contract and Quantities'!AQ79)","v":""},"","","","","",null,null,null,null,null,9,{"$f":"IF('Test 5'!AD16=\"Y\",\"SampleRecordTest Id 41\",\"\")","v":""},"",{"$f":"IF(AQ43=\"\",\"\",VLOOKUP(AQ43,'Send Sync'!$I$56:$J$145,2,FALSE))","v":""},{"$f":"IF(AH43=\"\",\"\",9)","v":""},{"$f":"IF(AH43=\"\",\"\",'Send Sync'!$R$56)","v":""},{"$f":"IF(AH43=\"\",\"\",'Send Sync'!$T$56)","v":""},null,null,null,"",null,"","","","",null,"","","","","","","","","","","","","","",null,"",null,null,"","",null,null,null,null,null,null,null,{"$f":"IF(AH23=\"\",\"\",IF('Test 1'!J201=\"\",\"\",\"AgencyEntityInstance Id 41\"))","v":""},{"$f":"IF(BY43=\"\",\"\",VLOOKUP(\"CM_StandardForRemark\",'Send Sync'!$K$56:$L$96,2,FALSE))","v":""},{"$f":"IF(BY43=\"\",\"\",\"SampleRecordTest Id 21\")","v":""},null,{"$f":"IF(BY43=\"\",\"\",CONCATENATE(\"<Data><CM_Standard_For_Remarks>\",CO223,\"</CM_Standard_For_Remarks></Data>\"))","v":""},"","","","",null,null,null,null,null,null,null,"",null,{"$f":"IF(BY10=\"\",\"\",\"AgencyEntityInsData Id 41\")","v":""},{"$f":"IF(BY10=\"\",\"\",\"AgencyEntityInstance Id 8\")","v":""},{"$f":"IF(BY10=\"\",\"\",\"cm_subgrade_comp_07_comp_a\")","v":""},{"$f":"IF(BY10=\"\",\"\",'Test 1'!AG45)","v":""},{"$f":"IF(BY10=\"\",\"\",TODAY())","v":""},{"$f":"IF(BY10=\"\",\"\",\"WTSYSTEMUSER\")","v":""},{"$f":"IF(BY10=\"\",\"\",TODAY())","v":""},{"$f":"IF(BY10=\"\",\"\",\"WTSYSTEMUSER\")","v":""}]
[null,"SealNumber",null,null,null,null,null,null,null,null,null,null,null,null,null,null,"",{"$f":"IF('Contract and Quantities'!AS80=\"\",\"\",'Contract and Quantities'!AS80)","v":""},"",null,{"$f":"IF(R44=\"\",\"\",'Contract and Quantities'!AR80)","v":""},{"$f":"IF(R44=\"\",\"\",'Contract and Quantities'!AQ80)","v":""},"","","","","",null,null,null,null,null,10,{"$f":"IF('Test 5'!AD17=\"Y\",\"SampleRecordTest Id 42\",\"\")","v":""},"",{"$f":"IF(AQ44=\"\",\"\",VLOOKUP(AQ44,'Send Sync'!$I$56:$J$145,2,FALSE))","v":""},{"$f":"IF(AH44=\"\",\"\",10)","v":""},{"$f":"IF(AH44=\"\",\"\",'Send Sync'!$R$56)","v":""},{"$f":"IF(AH44=\"\",\"\",'Send Sync'!$T$56)","v":""},null,null,null,"",null,"","","","",null,"","","","","","","","","","","","","","",null,"",null,null,"","",null,null,null,null,null,null,1,{"$f":"IF(AH24=\"\",\"\",\"AgencyEntityInstance Id 42\")","v":""},{"$f":"IF(BY44=\"\",\"\",VLOOKUP(\"CM_BaseRock\",'Send Sync'!$K$56:$L$96,2,FALSE))","v":""},{"$f":"IF(BY44=\"\",\"\",\"SampleRecordTest Id 22\")","v":""},null,{"$f":"IF(BY44=\"\",\"\",CONCATENATE(\"<Data><cm_rock_base_01_qty_b_rock>\",CO224,\"</cm_rock_base_01_qty_b_rock><cm_rock_base_02_qty_b_rap>\",CO225,\"</cm_rock_base_02_qty_b_rap><cm_rock_base_03_qty_t_rca>\",CO226,\"</cm_rock_base_03_qty_t_rca><cm_rock_base_04_qty_t_rock>\",CO227,\"</cm_rock_base_04_qty_t_rock><cm_rock_base_05_qty_t_rap>\",CO228,\"</cm_rock_base_05_qty_t_rap><cm_rock_base_06_qty_t_rca>\",CO229,\"</cm_rock_base_06_qty_t_rca><cm_rock_base_07_retained_2_in>\",CO230,\"</cm_rock_base_07_retained_2_in><cm_rock_base_08_retained_no_4>\",CO231,\"</cm_rock_base_08_retained_no_4><cm_rock_base_09_pi>\",CO232,\"</cm_rock_base_09_pi></Data>\"))","v":""},"","","","",null,null,null,null,null,null,null,"",null,{"$f":"IF(BY10=\"\",\"\",\"AgencyEntityInsData Id 42\")","v":""},{"$f":"IF(BY10=\"\",\"\",\"AgencyEntityInstance Id 8\")","v":""},{"$f":"IF(BY10=\"\",\"\",\"cm_subgrade_comp_08_comp_b\")","v":""},{"$f":"IF(BY10=\"\",\"\",'Test 1'!AG46)","v":""},{"$f":"IF(BY10=\"\",\"\",TODAY())","v":""},{"$f":"IF(BY10=\"\",\"\",\"WTSYSTEMUSER\")","v":""},{"$f":"IF(BY10=\"\",\"\",TODAY())","v":""},{"$f":"IF(BY10=\"\",\"\",\"WTSYSTEMUSER\")","v":""}]
[null,"Station",null,null,null,null,null,null,null,null,null,null,null,null,null,null,"",{"$f":"IF('Contract and Quantities'!AS81=\"\",\"\",'Contract and Quantities'!AS81)","v":""},"",null,{"$f":"IF(R45=\"\",\"\",'Contract and Quantities'!AR81)","v":""},{"$f":"IF(R45=\"\",\"\",'Contract and Quantities'!AQ81)","v":""},"","","","","",null,null,null,null,null,null,null,null,null,null,null,null,null,null,null,null,null,null,null,null,null,null,null,null,null,null,null,null,null,null,null,null,null,null,null,null,null,null,null,null,null,null,null,null,null,null,null,null,null,{"$f":"IF(AH24=\"\",\"\",IF('Test 2'!J11=\"\",\"\",\"AgencyEntityInstance Id 43\"))","v":""},{"$f":"IF(BY45=\"\",\"\",VLOOKUP(\"CM_StandardForRemark\",'Send Sync'!$K$56:$L$96,2,FALSE))","v":""},{"$f":"IF(BY45=\"\",\"\",\"SampleRecordTest Id 22\")","v":""},null,{"$f":"IF(BY45=\"\",\"\",CONCATENATE(\"<Data><CM_Standard_For_Remarks>\",CO233,\"</CM_Standard_For_Remarks></Data>\"))","v":""},"","","","",null,null,null,null,null,null,null,"",null,{"$f":"IF(BY10=\"\",\"\",\"AgencyEntityInsData Id 43\")","v":""},{"$f":"IF(BY10=\"\",\"\",\"AgencyEntityInstance Id 8\")","v":""},{"$f":"IF(BY10=\"\",\"\",\"cm_subgrade_comp_09_density_a\")","v":""},{"$f":"IF(BY10=\"\",\"\",'Test 1'!AH45)","v":""},{"$f":"IF(BY10=\"\",\"\",TODAY())","v":""},{"$f":"IF(BY10=\"\",\"\",\"WTSYSTEMUSER\")","v":""},{"$f":"IF(BY10=\"\",\"\",TODAY())","v":""},{"$f":"IF(BY10=\"\",\"\",\"WTSYSTEMUSER\")","v":""}]
[null,"SationPlus",null,null,null,null,null,null,null,null,null,null,null,null,null,null,"",{"$f":"IF('Contract and Quantities'!AS82=\"\",\"\",'Contract and Quantities'!AS82)","v":""},"",null,{"$f":"IF(R46=\"\",\"\",'Contract and Quantities'!AR82)","v":""},{"$f":"IF(R46=\"\",\"\",'Contract and Quantities'!AQ82)","v":""},"","","","","",null,null,null,null,null,null,null,null,null,null,null,null,null,null,null,null,null,null,null,null,null,null,null,null,null,null,null,null,null,null,null,null,null,null,null,null,null,null,null,null,null,null,null,null,null,null,null,null,2,{"$f":"IF(AH25=\"\",\"\",\"AgencyEntityInstance Id 44\")","v":""},{"$f":"IF(BY46=\"\",\"\",VLOOKUP(\"CM_BaseRock\",'Send Sync'!$K$56:$L$96,2,FALSE))","v":""},{"$f":"IF(BY46=\"\",\"\",\"SampleRecordTest Id 23\")","v":""},null,{"$f":"IF(BY46=\"\",\"\",CONCATENATE(\"<Data><cm_rock_base_01_qty_b_rock>\",CO234,\"</cm_rock_base_01_qty_b_rock><cm_rock_base_02_qty_b_rap>\",CO235,\"</cm_rock_base_02_qty_b_rap><cm_rock_base_03_qty_t_rca>\",CO236,\"</cm_rock_base_03_qty_t_rca><cm_rock_base_04_qty_t_rock>\",CO237,\"</cm_rock_base_04_qty_t_rock><cm_rock_base_05_qty_t_rap>\",CO238,\"</cm_rock_base_05_qty_t_rap><cm_rock_base_06_qty_t_rca>\",CO239,\"</cm_rock_base_06_qty_t_rca><cm_rock_base_07_retained_2_in>\",CO240,\"</cm_rock_base_07_retained_2_in><cm_rock_base_08_retained_no_4>\",CO241,\"</cm_rock_base_08_retained_no_4><cm_rock_base_09_pi>\",CO242,\"</cm_rock_base_09_pi></Data>\"))","v":""},"","","","",null,null,null,null,null,null,null,"",null,{"$f":"IF(BY10=\"\",\"\",\"AgencyEntityInsData Id 44\")","v":""},{"$f":"IF(BY10=\"\",\"\",\"AgencyEntityInstance Id 8\")","v":""},{"$f":"IF(BY10=\"\",\"\",\"cm_subgrade_comp_10_density_b\")","v":""},{"$f":"IF(BY10=\"\",\"\",'Test 1'!AH46)","v":""},{"$f":"IF(BY10=\"\",\"\",TODAY())","v":""},{"$f":"IF(BY10=\"\",\"\",\"WTSYSTEMUSER\")","v":""},{"$f":"IF(BY10=\"\",\"\",TODAY())","v":""},{"$f":"IF(BY10=\"\",\"\",\"WTSYSTEMUSER\")","v":""}]
[null,"BuyAmerican",0,null,null,null,null,null,null,null,null,null,null,null,null,null,"",{"$f":"IF('Contract and Quantities'!AS83=\"\",\"\",'Contract and Quantities'!AS83)","v":""},"",null,{"$f":"IF(R47=\"\",\"\",'Contract and Quantities'!AR83)","v":""},{"$f":"IF(R47=\"\",\"\",'Contract and Quantities'!AQ83)","v":""},"","","","","",null,null,null,null,null,null,null,null,null,null,null,null,null,null,null,null,null,null,null,null,null,null,null,null,null,null,null,null,null,null,null,null,null,null,null,null,null,null,null,null,null,null,null,null,null,null,null,null,null,{"$f":"IF(AH25=\"\",\"\",IF('Test 2'!J28=\"\",\"\",\"AgencyEntityInstance Id 45\"))","v":""},{"$f":"IF(BY47=\"\",\"\",VLOOKUP(\"CM_StandardForRemark\",'Send Sync'!$K$56:$L$96,2,FALSE))","v":""},{"$f":"IF(BY47=\"\",\"\",\"SampleRecordTest Id 23\")","v":""},null,{"$f":"IF(BY47=\"\",\"\",CONCATENATE(\"<Data><CM_Standard_For_Remarks>\",CO243,\"</CM_Standard_For_Remarks></Data>\"))","v":""},"","","","",null,null,null,null,null,null,null,"",null,{"$f":"IF(BY11=\"\",\"\",\"AgencyEntityInsData Id 45\")","v":""},{"$f":"IF(BY11=\"\",\"\",\"AgencyEntityInstance Id 9\")","v":""},{"$f":"IF(BY11=\"\",\"\",\"CM_Standard_For_Remarks\")","v":""},{"$f":"IF(BY11=\"\",\"\",IF('Test 1'!J41=\"\",\"\",'Test 1'!J41))","v":""},{"$f":"IF(BY11=\"\",\"\",TODAY())","v":""},{"$f":"IF(BY11=\"\",\"\",\"WTSYSTEMUSER\")","v":""},{"$f":"IF(BY11=\"\",\"\",TODAY())","v":""},{"$f":"IF(BY11=\"\",\"\",\"WTSYSTEMUSER\")","v":""}]
[null,"SpltSample",0,null,null,null,null,null,null,null,null,null,null,null,null,null,"",{"$f":"IF('Contract and Quantities'!AS84=\"\",\"\",'Contract and Quantities'!AS84)","v":""},"",null,{"$f":"IF(R48=\"\",\"\",'Contract and Quantities'!AR84)","v":""},{"$f":"IF(R48=\"\",\"\",'Contract and Quantities'!AQ84)","v":""},"","","","","",null,null,null,null,null,null,null,null,null,null,null,null,null,null,null,null,null,null,null,null,null,null,null,null,null,null,null,null,null,null,null,null,null,null,null,null,null,null,null,null,null,null,null,null,null,null,null,null,null,{"$f":"IF(AH26=\"\",\"\",\"AgencyEntityInstance Id 46\")","v":""},{"$f":"IF(BY48=\"\",\"\",VLOOKUP(\"CM_BaseAgg\",'Send Sync'!$K$56:$L$96,2,FALSE))","v":""},{"$f":"IF(BY48=\"\",\"\",\"SampleRecordTest Id 24\")","v":""},null,{"$f":"IF(BY48=\"\",\"\",CONCATENATE(\"<Data><cm_aggbase_01_opt_density>\",CO244,\"</cm_aggbase_01_opt_density><cm_aggbase_02_opt_moisture>\",CO245,\"</cm_aggbase_02_opt_moisture><cm_aggbase_03_test_depth>\",CO246,\"</cm_aggbase_03_test_depth><cm_aggbase_04_test_moisture>\",CO247,\"</cm_aggbase_04_test_moisture><cm_aggbase_05_test_density_dry>\",CO248,\"</cm_aggbase_05_test_density_dry><cm_aggbase_06_test_density_wet>\",CO249,\"</cm_aggbase_06_test_density_wet><cm_aggbase_07_comp_percent>\",CO250,\"</cm_aggbase_07_comp_percent><cm_aggbase_08_thickness_measured>\",CO251,\"</cm_aggbase_08_thickness_measured><cm_aggbase_09_thickness_specified>\",CO252,\"</cm_aggbase_09_thickness_specified><cm_aggbase_10_sta_1>\",CO253,\"</cm_aggbase_10_sta_1><cm_aggbase_11_sta_2>\",CO254,\"</cm_aggbase_11_sta_2><cm_aggbase_12_location>\",CO255,\"</cm_aggbase_12_location><cm_aggbase_13_tester>\",CO256,\"</cm_aggbase_13_tester></Data>\"))","v":""},"","","","",null,null,null,null,null,null,null,"",5,{"$f":"IF(BY12=\"\",\"\",\"AgencyEntityInsData Id 46\")","v":""},{"$f":"IF(BY12=\"\",\"\",\"AgencyEntityInstance Id 10\")","v":""},{"$f":"IF(BY12=\"\",\"\",\"cm_subgrade_comp_01_qty_cy_a\")","v":""},{"$f":"IF(BY12=\"\",\"\",'Test 1'!AE55)","v":""},{"$f":"IF(BY12=\"\",\"\",TODAY())","v":""},{"$f":"IF(BY12=\"\",\"\",\"WTSYSTEMUSER\")","v":""},{"$f":"IF(BY12=\"\",\"\",TODAY())","v":""},{"$f":"IF(BY12=\"\",\"\",\"WTSYSTEMUSER\")","v":""}]
[null,"Created Dt",{"$f":"TODAY()","v":"2025-01-24"},null,null,null,null,null,null,null,null,null,null,null,null,null,"",{"$f":"IF('Contract and Quantities'!AS85=\"\",\"\",'Contract and Quantities'!AS85)","v":""},"",null,{"$f":"IF(R49=\"\",\"\",'Contract and Quantities'!AR85)","v":""},{"$f":"IF(R49=\"\",\"\",'Contract and Quantities'!AQ85)","v":""},"","","","","",null,null,null,null,null,null,null,null,null,null,null,null,null,null,null,null,null,null,null,null,null,null,null,null,null,null,null,null,null,null,null,null,null,null,null,null,null,null,null,null,null,null,null,null,null,null,null,null,null,{"$f":"IF(AH27=\"\",\"\",\"AgencyEntityInstance Id 47\")","v":""},{"$f":"IF(BY49=\"\",\"\",VLOOKUP(\"CM_BaseAgg\",'Send Sync'!$K$56:$L$96,2,FALSE))","v":""},{"$f":"IF(BY49=\"\",\"\",\"SampleRecordTest Id 25\")","v":""},null,{"$f":"IF(BY49=\"\",\"\",CONCATENATE(\"<Data><cm_aggbase_01_opt_density>\",CO257,\"</cm_aggbase_01_opt_density><cm_aggbase_02_opt_moisture>\",CO258,\"</cm_aggbase_02_opt_moisture><cm_aggbase_03_test_depth>\",CO259,\"</cm_aggbase_03_test_depth><cm_aggbase_04_test_moisture>\",CO260,\"</cm_aggbase_04_test_moisture><cm_aggbase_05_test_density_dry>\",CO261,\"</cm_aggbase_05_test_density_dry><cm_aggbase_06_test_density_wet>\",CO262,\"</cm_aggbase_06_test_density_wet><cm_aggbase_07_comp_percent>\",CO263,\"</cm_aggbase_07_comp_percent><cm_aggbase_08_thickness_measured>\",CO264,\"</cm_aggbase_08_thickness_measured><cm_aggbase_09_thickness_specified>\",CO265,\"</cm_aggbase_09_thickness_specified><cm_aggbase_10_sta_1>\",CO266,\"</cm_aggbase_10_sta_1><cm_aggbase_11_sta_2>\",CO267,\"</cm_aggbase_11_sta_2><cm_aggbase_12_location>\",CO268,\"</cm_aggbase_12_location><cm_aggbase_13_tester>\",CO269,\"</cm_aggbase_13_tester></Data>\"))","v":""},"","","","",null,null,null,null,null,null,null,"",null,{"$f":"IF(BY12=\"\",\"\",\"AgencyEntityInsData Id 47\")","v":""},{"$f":"IF(BY12=\"\",\"\",\"AgencyEntityInstance Id 10\")","v":""},{"$f":"IF(BY12=\"\",\"\",\"cm_subgrade_comp_02_qty_cy_b\")","v":""},{"$f":"IF(BY12=\"\",\"\",'Test 1'!AE56)","v":""},{"$f":"IF(BY12=\"\",\"\",TODAY())","v":""},{"$f":"IF(BY12=\"\",\"\",\"WTSYSTEMUSER\")","v":""},{"$f":"IF(BY12=\"\",\"\",TODAY())","v":""},{"$f":"IF(BY12=\"\",\"\",\"WTSYSTEMUSER\")","v":""}]
[null,"CreatedBy","WTSYSTEMUSER",null,null,null,null,null,null,null,null,null,null,null,null,null,"",{"$f":"IF('Contract and Quantities'!AS86=\"\",\"\",'Contract and Quantities'!AS86)","v":""},"",null,{"$f":"IF(R50=\"\",\"\",'Contract and Quantities'!AR86)","v":""},{"$f":"IF(R50=\"\",\"\",'Contract and Quantities'!AQ86)","v":""},"","","","","",null,null,null,null,null,null,null,null,null,null,null,null,null,null,null,null,null,null,null,null,null,null,null,null,null,null,null,null,null,null,null,null,null,null,null,null,null,null,null,null,null,null,null,null,null,null,null,null,null,{"$f":"IF(AH28=\"\",\"\",\"AgencyEntityInstance Id 48\")","v":""},{"$f":"IF(BY50=\"\",\"\",VLOOKUP(\"CM_BaseAgg\",'Send Sync'!$K$56:$L$96,2,FALSE))","v":""},{"$f":"IF(BY50=\"\",\"\",\"SampleRecordTest Id 26\")","v":""},null,{"$f":"IF(BY50=\"\",\"\",CONCATENATE(\"<Data><cm_aggbase_01_opt_density>\",CO270,\"</cm_aggbase_01_opt_density><cm_aggbase_02_opt_moisture>\",CO271,\"</cm_aggbase_02_opt_moisture><cm_aggbase_03_test_depth>\",CO272,\"</cm_aggbase_03_test_depth><cm_aggbase_04_test_moisture>\",CO273,\"</cm_aggbase_04_test_moisture><cm_aggbase_05_test_density_dry>\",CO274,\"</cm_aggbase_05_test_density_dry><cm_aggbase_06_test_density_wet>\",CO275,\"</cm_aggbase_06_test_density_wet><cm_aggbase_07_comp_percent>\",CO276,\"</cm_aggbase_07_comp_percent><cm_aggbase_08_thickness_measured>\",CO277,\"</cm_aggbase_08_thickness_measured><cm_aggbase_09_thickness_specified>\",CO278,\"</cm_aggbase_09_thickness_specified><cm_aggbase_10_sta_1>\",CO279,\"</cm_aggbase_10_sta_1><cm_aggbase_11_sta_2>\",CO280,\"</cm_aggbase_11_sta_2><cm_aggbase_12_location>\",CO281,\"</cm_aggbase_12_location><cm_aggbase_13_tester>\",CO282,\"</cm_aggbase_13_tester></Data>\"))","v":""},"","","","",null,null,null,null,null,null,null,"",null,{"$f":"IF(BY12=\"\",\"\",\"AgencyEntityInsData Id 48\")","v":""},{"$f":"IF(BY12=\"\",\"\",\"AgencyEntityInstance Id 10\")","v":""},{"$f":"IF(BY12=\"\",\"\",\"cm_subgrade_comp_03_qty_cy_rocky\")","v":""},{"$f":"IF(BY12=\"\",\"\",'Test 1'!AE57)","v":""},{"$f":"IF(BY12=\"\",\"\",TODAY())","v":""},{"$f":"IF(BY12=\"\",\"\",\"WTSYSTEMUSER\")","v":""},{"$f":"IF(BY12=\"\",\"\",TODAY())","v":""},{"$f":"IF(BY12=\"\",\"\",\"WTSYSTEMUSER\")","v":""}]
[null,"LastUpdated Dt",{"$f":"TODAY()","v":"2025-01-24"},null,null,null,null,null,null,null,null,null,null,null,null,null,"",{"$f":"IF('Contract and Quantities'!AS87=\"\",\"\",'Contract and Quantities'!AS87)","v":""},"",null,{"$f":"IF(R51=\"\",\"\",'Contract and Quantities'!AR87)","v":""},{"$f":"IF(R51=\"\",\"\",'Contract and Quantities'!AQ87)","v":""},"","","","","",null,null,null,null,null,null,null,null,null,null,null,null,null,null,null,null,null,null,null,null,null,null,null,null,null,null,null,null,null,null,null,null,null,null,null,null,null,null,null,null,null,null,null,null,null,null,null,null,null,{"$f":"IF(AH29=\"\",\"\",\"AgencyEntityInstance Id 49\")","v":""},{"$f":"IF(BY51=\"\",\"\",VLOOKUP(\"CM_BaseAgg\",'Send Sync'!$K$56:$L$96,2,FALSE))","v":""},{"$f":"IF(BY51=\"\",\"\",\"SampleRecordTest Id 27\")","v":""},null,{"$f":"IF(BY51=\"\",\"\",CONCATENATE(\"<Data><cm_aggbase_01_opt_density>\",CO283,\"</cm_aggbase_01_opt_density><cm_aggbase_02_opt_moisture>\",CO284,\"</cm_aggbase_02_opt_moisture><cm_aggbase_03_test_depth>\",CO285,\"</cm_aggbase_03_test_depth><cm_aggbase_04_test_moisture>\",CO286,\"</cm_aggbase_04_test_moisture><cm_aggbase_05_test_density_dry>\",CO287,\"</cm_aggbase_05_test_density_dry><cm_aggbase_06_test_density_wet>\",CO288,\"</cm_aggbase_06_test_density_wet><cm_aggbase_07_comp_percent>\",CO289,\"</cm_aggbase_07_comp_percent><cm_aggbase_08_thickness_measured>\",CO290,\"</cm_aggbase_08_thickness_measured><cm_aggbase_09_thickness_specified>\",CO291,\"</cm_aggbase_09_thickness_specified><cm_aggbase_10_sta_1>\",CO292,\"</cm_aggbase_10_sta_1><cm_aggbase_11_sta_2>\",CO293,\"</cm_aggbase_11_sta_2><cm_aggbase_12_location>\",CO294,\"</cm_aggbase_12_location><cm_aggbase_13_tester>\",CO295,\"</cm_aggbase_13_tester></Data>\"))","v":""},"","","","",null,null,null,null,null,null,null,"",null,{"$f":"IF(BY12=\"\",\"\",\"AgencyEntityInsData Id 49\")","v":""},{"$f":"IF(BY12=\"\",\"\",\"AgencyEntityInstance Id 10\")","v":""},{"$f":"IF(BY12=\"\",\"\",\"cm_subgrade_comp_04_qty_sta_a\")","v":""},{"$f":"IF(BY12=\"\",\"\",'Test 1'!AF55)","v":""},{"$f":"IF(BY12=\"\",\"\",TODAY())","v":""},{"$f":"IF(BY12=\"\",\"\",\"WTSYSTEMUSER\")","v":""},{"$f":"IF(BY12=\"\",\"\",TODAY())","v":""},{"$f":"IF(BY12=\"\",\"\",\"WTSYSTEMUSER\")","v":""}]
[null,"LastUpdatedBy","WTSYSTEMUSER",null,null,null,null,null,null,null,null,null,null,null,null,null,{"$f":"IF(R52=\"\",\"\",\"CntrctPrjitmMatSet Id 14\")","v":""},{"$f":"IF('Contract and Quantities'!AS88=\"\",\"\",'Contract and Quantities'!AS88)","v":""},"",null,{"$f":"IF(R52=\"\",\"\",'Contract and Quantities'!AR88)","v":""},{"$f":"IF(R52=\"\",\"\",'Contract and Quantities'!AQ88)","v":""},"","","","","",null,null,null,null,null,null,null,null,null,null,null,null,null,null,null,null,null,null,null,null,null,null,null,null,null,null,null,null,null,null,null,null,null,null,null,null,null,null,null,null,null,null,null,null,null,null,null,null,null,{"$f":"IF(AH30=\"\",\"\",\"AgencyEntityInstance Id 50\")","v":""},{"$f":"IF(BY52=\"\",\"\",VLOOKUP(\"CM_BaseAgg\",'Send Sync'!$K$56:$L$96,2,FALSE))","v":""},{"$f":"IF(BY52=\"\",\"\",\"SampleRecordTest Id 28\")","v":""},null,{"$f":"IF(BY52=\"\",\"\",CONCATENATE(\"<Data><cm_aggbase_01_opt_density>\",CO296,\"</cm_aggbase_01_opt_density><cm_aggbase_02_opt_moisture>\",CO297,\"</cm_aggbase_02_opt_moisture><cm_aggbase_03_test_depth>\",CO298,\"</cm_aggbase_03_test_depth><cm_aggbase_04_test_moisture>\",CO299,\"</cm_aggbase_04_test_moisture><cm_aggbase_05_test_density_dry>\",CO300,\"</cm_aggbase_05_test_density_dry><cm_aggbase_06_test_density_wet>\",CO301,\"</cm_aggbase_06_test_density_wet><cm_aggbase_07_comp_percent>\",CO302,\"</cm_aggbase_07_comp_percent><cm_aggbase_08_thickness_measured>\",CO303,\"</cm_aggbase_08_thickness_measured><cm_aggbase_09_thickness_specified>\",CO304,\"</cm_aggbase_09_thickness_specified><cm_aggbase_10_sta_1>\",CO305,\"</cm_aggbase_10_sta_1><cm_aggbase_11_sta_2>\",CO306,\"</cm_aggbase_11_sta_2><cm_aggbase_12_location>\",CO307,\"</cm_aggbase_12_location><cm_aggbase_13_tester>\",CO308,\"</cm_aggbase_13_tester></Data>\"))","v":""},"","","","",null,null,null,null,null,null,null,"",null,{"$f":"IF(BY12=\"\",\"\",\"AgencyEntityInsData Id 50\")","v":""},{"$f":"IF(BY12=\"\",\"\",\"AgencyEntityInstance Id 10\")","v":""},{"$f":"IF(BY12=\"\",\"\",\"cm_subgrade_comp_05_qty_sta_b\")","v":""},{"$f":"IF(BY12=\"\",\"\",'Test 1'!AF56)","v":""},{"$f":"IF(BY12=\"\",\"\",TODAY())","v":""},{"$f":"IF(BY12=\"\",\"\",\"WTSYSTEMUSER\")","v":""},{"$f":"IF(BY12=\"\",\"\",TODAY())","v":""},{"$f":"IF(BY12=\"\",\"\",\"WTSYSTEMUSER\")","v":""}]
[null,"DailySourceReport ID",null,null,null,null,null,null,null,null,null,null,null,null,null,null,null,null,null,null,null,null,null,null,null,null,null,null,null,null,null,null,null,null,null,null,null,null,null,null,null,null,null,null,null,null,null,null,null,null,null,null,null,null,null,null,null,null,null,null,null,null,null,null,null,null,null,null,null,null,null,null,null,null,null,null,{"$f":"IF(AH31=\"\",\"\",\"AgencyEntityInstance Id 51\")","v":""},{"$f":"IF(BY53=\"\",\"\",VLOOKUP(\"CM_PI_Field\",'Send Sync'!$K$56:$L$96,2,FALSE))","v":""},{"$f":"IF(BY53=\"\",\"\",\"SampleRecordTest Id 29\")","v":""},null,{"$f":"IF(BY53=\"\",\"\",CONCATENATE(\"<Data><CM_PlasticityIndex_Base_TestResults>\",CO309,\"</CM_PlasticityIndex_Base_TestResults></Data>\"))","v":""},"","","","",null,null,null,null,null,null,null,"",null,{"$f":"IF(BY12=\"\",\"\",\"AgencyEntityInsData Id 51\")","v":""},{"$f":"IF(BY12=\"\",\"\",\"AgencyEntityInstance Id 10\")","v":""},{"$f":"IF(BY12=\"\",\"\",\"cm_subgrade_comp_06_qty_sta_rocky\")","v":""},{"$f":"IF(BY12=\"\",\"\",'Test 1'!AF57)","v":""},{"$f":"IF(BY12=\"\",\"\",TODAY())","v":""},{"$f":"IF(BY12=\"\",\"\",\"WTSYSTEMUSER\")","v":""},{"$f":"IF(BY12=\"\",\"\",TODAY())","v":""},{"$f":"IF(BY12=\"\",\"\",\"WTSYSTEMUSER\")","v":""}]
[null,"Log Dt",null,null,null,null,null,null,null,null,null,null,null,null,null,null,null,null,null,null,null,null,null,null,null,null,null,null,null,null,null,null,null,null,null,null,null,null,null,null,null,null,null,null,null,null,null,null,null,null,null,null,null,null,null,null,null,null,null,null,null,null,null,null,null,null,null,null,null,null,null,null,null,null,null,null,{"$f":"IF(AH32=\"\",\"\",\"AgencyEntityInstance Id 52\")","v":""},{"$f":"IF(BY54=\"\",\"\",VLOOKUP(\"CM_PI_Field\",'Send Sync'!$K$56:$L$96,2,FALSE))","v":""},{"$f":"IF(BY54=\"\",\"\",\"SampleRecordTest Id 30\")","v":""},null,{"$f":"IF(BY54=\"\",\"\",CONCATENATE(\"<Data><CM_PlasticityIndex_Base_TestResults>\",CO310,\"</CM_PlasticityIndex_Base_TestResults></Data>\"))","v":""},"","","","",null,null,null,null,null,null,null,"",null,{"$f":"IF(BY12=\"\",\"\",\"AgencyEntityInsData Id 52\")","v":""},{"$f":"IF(BY12=\"\",\"\",\"AgencyEntityInstance Id 10\")","v":""},{"$f":"IF(BY12=\"\",\"\",\"cm_subgrade_comp_07_comp_a\")","v":""},{"$f":"IF(BY12=\"\",\"\",'Test 1'!AG55)","v":""},{"$f":"IF(BY12=\"\",\"\",TODAY())","v":""},{"$f":"IF(BY12=\"\",\"\",\"WTSYSTEMUSER\")","v":""},{"$f":"IF(BY12=\"\",\"\",TODAY())","v":""},{"$f":"IF(BY12=\"\",\"\",\"WTSYSTEMUSER\")","v":""}]
[null,"MixDesign ID",null,null,null,null,null,null,null,null,null,null,null,null,null,null,null,null,null,null,null,null,null,null,null,null,null,null,null,null,null,null,null,null,null,null,null,null,null,null,null,null,null,null,null,null,null,null,null,null,null,null,null,null,null,null,null,null,null,null,null,null,null,null,null,null,null,null,null,null,null,null,null,null,null,null,{"$f":"IF(AH33=\"\",\"\",\"AgencyEntityInstance Id 53\")","v":""},{"$f":"IF(BY55=\"\",\"\",VLOOKUP(\"CM_T99_Field\",'Send Sync'!$K$56:$L$96,2,FALSE))","v":""},{"$f":"IF(BY55=\"\",\"\",\"SampleRecordTest Id 31\")","v":""},null,{"$f":"IF(BY55=\"\",\"\",CONCATENATE(\"<Data><cm_t99_field_01_method>\",CO311,\"</cm_t99_field_01_method><cm_t99_field_02_correction>\",CO312,\"</cm_t99_field_02_correction><cm_t99_field_03_oversize>\",CO313,\"</cm_t99_field_03_oversize><cm_t99_field_04_3_qtr>\",CO314,\"</cm_t99_field_04_3_qtr><cm_t99_field_05_no_4>\",CO315,\"</cm_t99_field_05_no_4><cm_t99_field_06_dry_density>\",CO316,\"</cm_t99_field_06_dry_density><cm_t99_field_07_opt_moisture>\",CO317,\"</cm_t99_field_07_opt_moisture></Data>\"))","v":""},"","","","",null,null,null,null,null,null,null,"",null,{"$f":"IF(BY12=\"\",\"\",\"AgencyEntityInsData Id 53\")","v":""},{"$f":"IF(BY12=\"\",\"\",\"AgencyEntityInstance Id 10\")","v":""},{"$f":"IF(BY12=\"\",\"\",\"cm_subgrade_comp_08_comp_b\")","v":""},{"$f":"IF(BY12=\"\",\"\",'Test 1'!AG56)","v":""},{"$f":"IF(BY12=\"\",\"\",TODAY())","v":""},{"$f":"IF(BY12=\"\",\"\",\"WTSYSTEMUSER\")","v":""},{"$f":"IF(BY12=\"\",\"\",TODAY())","v":""},{"$f":"IF(BY12=\"\",\"\",\"WTSYSTEMUSER\")","v":""}]
[null,"MixDesignType ID",null,null,null,null,null,null,null,null,null,null,null,null,null,null,null,null,null,null,null,null,null,null,null,null,null,null,null,null,null,null,null,null,null,null,null,null,null,null,null,null,null,null,null,null,null,null,null,null,null,null,null,null,null,null,null,null,null,null,null,null,null,null,null,null,null,null,null,null,null,null,null,null,null,null,{"$f":"IF(AH34=\"\",\"\",\"AgencyEntityInstance Id 54\")","v":""},{"$f":"IF(BY56=\"\",\"\",VLOOKUP(\"CM_T99_Field\",'Send Sync'!$K$56:$L$96,2,FALSE))","v":""},{"$f":"IF(BY56=\"\",\"\",\"SampleRecordTest Id 32\")","v":""},null,{"$f":"IF(BY56=\"\",\"\",CONCATENATE(\"<Data><cm_t99_field_01_method>\",CO318,\"</cm_t99_field_01_method><cm_t99_field_02_correction>\",CO319,\"</cm_t99_field_02_correction><cm_t99_field_03_oversize>\",CO320,\"</cm_t99_field_03_oversize><cm_t99_field_04_3_qtr>\",CO321,\"</cm_t99_field_04_3_qtr><cm_t99_field_05_no_4>\",CO322,\"</cm_t99_field_05_no_4><cm_t99_field_06_dry_density>\",CO323,\"</cm_t99_field_06_dry_density><cm_t99_field_07_opt_moisture>\",CO324,\"</cm_t99_field_07_opt_moisture></Data>\"))","v":""},"","","","",null,null,null,null,null,null,null,"",null,{"$f":"IF(BY12=\"\",\"\",\"AgencyEntityInsData Id 54\")","v":""},{"$f":"IF(BY12=\"\",\"\",\"AgencyEntityInstance Id 10\")","v":""},{"$f":"IF(BY12=\"\",\"\",\"cm_subgrade_comp_09_density_a\")","v":""},{"$f":"IF(BY12=\"\",\"\",'Test 1'!AH55)","v":""},{"$f":"IF(BY12=\"\",\"\",TODAY())","v":""},{"$f":"IF(BY12=\"\",\"\",\"WTSYSTEMUSER\")","v":""},{"$f":"IF(BY12=\"\",\"\",TODAY())","v":""},{"$f":"IF(BY12=\"\",\"\",\"WTSYSTEMUSER\")","v":""}]
[null,"AssociatedContracts",{"$f":"IF(AND(NOT('Contract and Quantities'!J33=\"\"),NOT('Contract and Quantities'!O33=\"\"),NOT('Contract and Quantities'!T33=\"\")),CONCATENATE('Contract and Quantities'!J33,\",\",'Contract and Quantities'!O33,\",\",'Contract and Quantities'!T33),IF(AND(NOT('Contract and Quantities'!J33=\"\"),NOT('Contract and Quantities'!O33=\"\")),CONCATENATE('Contract and Quantities'!J33,\",\",'Contract and Quantities'!O33),'Contract and Quantities'!J33))","v":0},null,null,null,null,null,null,null,null,null,null,null,null,null,null,null,null,null,null,null,null,null,null,null,null,null,null,null,null,null,null,null,null,null,null,null,null,null,null,null,null,null,null,null,null,null,null,null,null,null,null,null,null,null,null,null,null,null,null,null,null,null,null,null,null,null,null,null,null,null,null,null,null,1,{"$f":"IF(AH35=\"\",\"\",\"AgencyEntityInstance Id 55\")","v":""},{"$f":"IF(BY57=\"\",\"\",VLOOKUP(\"CM_Base_DCP_Header\",'Send Sync'!$K$56:$L$96,2,FALSE))","v":""},{"$f":"IF(BY57=\"\",\"\",\"SampleRecordTest Id 33\")","v":""},null,{"$f":"IF(BY57=\"\",\"\",CONCATENATE(\"<Data><cm_base_dcp_header_01_avg>\",CO325,\"</cm_base_dcp_header_01_avg><cm_base_dcp_header_02_thi_spec>\",CO326,\"</cm_base_dcp_header_02_thi_spec><cm_base_dcp_header_03_thi_meas>\",CO327,\"</cm_base_dcp_header_03_thi_meas><cm_base_dcp_header_04_sta_1>\",CO328,\"</cm_base_dcp_header_04_sta_1><cm_base_dcp_header_05_sta_2>\",CO329,\"</cm_base_dcp_header_05_sta_2><cm_base_dcp_header_06_location>\",CO330,\"</cm_base_dcp_header_06_location><cm_base_dcp_header_07_tester>\",CO331,\"</cm_base_dcp_header_07_tester></Data>\"))","v":""},{"$f":"IF(BY57=\"\",\"\",TODAY())","v":""},{"$f":"IF(BY57=\"\",\"\",\"WTSYSTEMUSER\")","v":""},{"$f":"IF(BY57=\"\",\"\",TODAY())","v":""},{"$f":"IF(BY57=\"\",\"\",\"WTSYSTEMUSER\")","v":""},null,null,null,null,null,null,null,"",null,{"$f":"IF(BY12=\"\",\"\",\"AgencyEntityInsData Id 55\")","v":""},{"$f":"IF(BY12=\"\",\"\",\"AgencyEntityInstance Id 10\")","v":""},{"$f":"IF(BY12=\"\",\"\",\"cm_subgrade_comp_10_density_b\")","v":""},{"$f":"IF(BY12=\"\",\"\",'Test 1'!AH56)","v":""},{"$f":"IF(BY12=\"\",\"\",TODAY())","v":""},{"$f":"IF(BY12=\"\",\"\",\"WTSYSTEMUSER\")","v":""},{"$f":"IF(BY12=\"\",\"\",TODAY())","v":""},{"$f":"IF(BY12=\"\",\"\",\"WTSYSTEMUSER\")","v":""}]
[null,"DailyWorkReport ID",null,null,null,null,null,null,null,null,null,null,null,null,null,null,null,null,null,null,null,null,null,null,null,null,null,null,null,null,null,null,null,null,null,null,null,null,null,null,null,null,null,null,null,null,null,null,null,null,null,null,null,null,null,null,null,null,null,null,null,null,null,null,null,null,null,null,null,null,null,null,null,null,null,null,{"$f":"IF(AH35=\"\",\"\",IF('Test 5'!AF24=\"\",\"\",\"AgencyEntityInstance Id 56\"))","v":""},{"$f":"IF(BY58=\"\",\"\",VLOOKUP(\"CM_Base_DCP\",'Send Sync'!$K$56:$L$96,2,FALSE))","v":""},null,{"$f":"IF(BY58=\"\",\"\",BY57)","v":""},{"$f":"IF(BY58=\"\",\"\",CONCATENATE(\"<Data><cm_base_dcp_01_begin>\",CO332,\"</cm_base_dcp_01_begin><cm_base_dcp_02_end>\",CO333,\"</cm_base_dcp_02_end><cm_base_dcp_03_blows>\",CO334,\"</cm_base_dcp_03_blows><cm_base_dcp_04_index>\",CO335,\"</cm_base_dcp_04_index></Data>\"))","v":""},"","","","",null,null,null,null,null,null,null,"",null,{"$f":"IF(BY13=\"\",\"\",\"AgencyEntityInsData Id 56\")","v":""},{"$f":"IF(BY13=\"\",\"\",\"AgencyEntityInstance Id 11\")","v":""},{"$f":"IF(BY13=\"\",\"\",\"CM_Standard_For_Remarks\")","v":""},{"$f":"IF(BY13=\"\",\"\",IF('Test 1'!J51=\"\",\"\",'Test 1'!J51))","v":""},{"$f":"IF(BY13=\"\",\"\",TODAY())","v":""},{"$f":"IF(BY13=\"\",\"\",\"WTSYSTEMUSER\")","v":""},{"$f":"IF(BY13=\"\",\"\",TODAY())","v":""},{"$f":"IF(BY13=\"\",\"\",\"WTSYSTEMUSER\")","v":""}]
[null,"RefSampleStatus ID",{"$f":"'Contract and Quantities'!I156","v":9},null,null,null,null,null,null,null,null,null,null,null,null,null,null,null,null,null,null,null,null,null,null,null,null,null,null,null,null,null,null,null,null,null,null,null,null,null,null,null,null,null,null,null,null,null,null,null,null,null,null,null,null,null,null,null,null,null,null,null,null,null,null,null,null,null,null,null,null,null,null,null,null,null,{"$f":"IF(AH35=\"\",\"\",IF('Test 5'!AF25=\"\",\"\",\"AgencyEntityInstance Id 57\"))","v":""},{"$f":"IF(BY59=\"\",\"\",VLOOKUP(\"CM_Base_DCP\",'Send Sync'!$K$56:$L$96,2,FALSE))","v":""},null,{"$f":"IF(BY59=\"\",\"\",BY57)","v":""},{"$f":"IF(BY59=\"\",\"\",CONCATENATE(\"<Data><cm_base_dcp_01_begin>\",CO336,\"</cm_base_dcp_01_begin><cm_base_dcp_02_end>\",CO337,\"</cm_base_dcp_02_end><cm_base_dcp_03_blows>\",CO338,\"</cm_base_dcp_03_blows><cm_base_dcp_04_index>\",CO339,\"</cm_base_dcp_04_index></Data>\"))","v":""},"","","","",null,null,null,null,null,null,null,"",6,{"$f":"IF(BY14=\"\",\"\",\"AgencyEntityInsData Id 57\")","v":""},{"$f":"IF(BY14=\"\",\"\",\"AgencyEntityInstance Id 12\")","v":""},{"$f":"IF(BY14=\"\",\"\",\"cm_subgrade_comp_01_qty_cy_a\")","v":""},{"$f":"IF(BY14=\"\",\"\",'Test 1'!AE65)","v":""},{"$f":"IF(BY14=\"\",\"\",TODAY())","v":""},{"$f":"IF(BY14=\"\",\"\",\"WTSYSTEMUSER\")","v":""},{"$f":"IF(BY14=\"\",\"\",TODAY())","v":""},{"$f":"IF(BY14=\"\",\"\",\"WTSYSTEMUSER\")","v":""}]
[null,"StatusLastModified Dt",{"$f":"TODAY()","v":"2025-01-24"},null,null,null,null,null,null,null,null,null,null,null,null,null,null,null,null,null,null,null,null,null,null,null,null,null,null,null,null,null,null,null,null,null,null,null,null,null,null,null,null,null,null,null,null,null,null,null,null,null,null,null,null,null,null,null,null,null,null,null,null,null,null,null,null,null,null,null,null,null,null,null,null,null,{"$f":"IF(AH35=\"\",\"\",IF('Test 5'!AF26=\"\",\"\",\"AgencyEntityInstance Id 58\"))","v":""},{"$f":"IF(BY60=\"\",\"\",VLOOKUP(\"CM_Base_DCP\",'Send Sync'!$K$56:$L$96,2,FALSE))","v":""},null,{"$f":"IF(BY60=\"\",\"\",BY57)","v":""},{"$f":"IF(BY60=\"\",\"\",CONCATENATE(\"<Data><cm_base_dcp_01_begin>\",CO340,\"</cm_base_dcp_01_begin><cm_base_dcp_02_end>\",CO341,\"</cm_base_dcp_02_end><cm_base_dcp_03_blows>\",CO342,\"</cm_base_dcp_03_blows><cm_base_dcp_04_index>\",CO343,\"</cm_base_dcp_04_index></Data>\"))","v":""},"","","","",null,null,null,null,null,null,null,"",null,{"$f":"IF(BY14=\"\",\"\",\"AgencyEntityInsData Id 58\")","v":""},{"$f":"IF(BY14=\"\",\"\",\"AgencyEntityInstance Id 12\")","v":""},{"$f":"IF(BY14=\"\",\"\",\"cm_subgrade_comp_02_qty_cy_b\")","v":""},{"$f":"IF(BY14=\"\",\"\",'Test 1'!AE66)","v":""},{"$f":"IF(BY14=\"\",\"\",TODAY())","v":""},{"$f":"IF(BY14=\"\",\"\",\"WTSYSTEMUSER\")","v":""},{"$f":"IF(BY14=\"\",\"\",TODAY())","v":""},{"$f":"IF(BY14=\"\",\"\",\"WTSYSTEMUSER\")","v":""}]
[null,"SampleSize",null,null,null,null,null,null,null,null,null,null,null,null,null,null,null,null,null,null,null,null,null,null,null,null,null,null,null,null,null,null,null,null,null,null,null,null,null,null,null,null,null,null,null,null,null,null,null,null,null,null,null,null,null,null,null,null,null,null,null,null,null,null,null,null,null,null,null,null,null,null,null,null,null,null,{"$f":"IF(AH35=\"\",\"\",IF('Test 5'!AF27=\"\",\"\",\"AgencyEntityInstance Id 59\"))","v":""},{"$f":"IF(BY61=\"\",\"\",VLOOKUP(\"CM_Base_DCP\",'Send Sync'!$K$56:$L$96,2,FALSE))","v":""},null,{"$f":"IF(BY61=\"\",\"\",BY57)","v":""},{"$f":"IF(BY61=\"\",\"\",CONCATENATE(\"<Data><cm_base_dcp_01_begin>\",CO344,\"</cm_base_dcp_01_begin><cm_base_dcp_02_end>\",CO345,\"</cm_base_dcp_02_end><cm_base_dcp_03_blows>\",CO346,\"</cm_base_dcp_03_blows><cm_base_dcp_04_index>\",CO347,\"</cm_base_dcp_04_index></Data>\"))","v":""},"","","","",null,null,null,null,null,null,null,"",null,{"$f":"IF(BY14=\"\",\"\",\"AgencyEntityInsData Id 59\")","v":""},{"$f":"IF(BY14=\"\",\"\",\"AgencyEntityInstance Id 12\")","v":""},{"$f":"IF(BY14=\"\",\"\",\"cm_subgrade_comp_03_qty_cy_rocky\")","v":""},{"$f":"IF(BY14=\"\",\"\",'Test 1'!AE67)","v":""},{"$f":"IF(BY14=\"\",\"\",TODAY())","v":""},{"$f":"IF(BY14=\"\",\"\",\"WTSYSTEMUSER\")","v":""},{"$f":"IF(BY14=\"\",\"\",TODAY())","v":""},{"$f":"IF(BY14=\"\",\"\",\"WTSYSTEMUSER\")","v":""}]
[null,"SampleRecordGroup ID","Sample Id",null,null,null,null,null,null,null,null,null,null,null,null,null,null,null,null,null,null,null,null,null,null,null,null,null,null,null,null,null,null,null,null,null,null,null,null,null,null,null,null,null,null,null,null,null,null,null,null,null,null,null,null,null,null,null,null,null,null,null,null,null,null,null,null,null,null,null,null,null,null,null,null,null,{"$f":"IF(AH35=\"\",\"\",IF('Test 5'!AF28=\"\",\"\",\"AgencyEntityInstance Id 60\"))","v":""},{"$f":"IF(BY62=\"\",\"\",VLOOKUP(\"CM_Base_DCP\",'Send Sync'!$K$56:$L$96,2,FALSE))","v":""},null,{"$f":"IF(BY62=\"\",\"\",BY57)","v":""},{"$f":"IF(BY62=\"\",\"\",CONCATENATE(\"<Data><cm_base_dcp_01_begin>\",CO348,\"</cm_base_dcp_01_begin><cm_base_dcp_02_end>\",CO349,\"</cm_base_dcp_02_end><cm_base_dcp_03_blows>\",CO350,\"</cm_base_dcp_03_blows><cm_base_dcp_04_index>\",CO351,\"</cm_base_dcp_04_index></Data>\"))","v":""},"","","","",null,null,null,null,null,null,null,"",null,{"$f":"IF(BY14=\"\",\"\",\"AgencyEntityInsData Id 60\")","v":""},{"$f":"IF(BY14=\"\",\"\",\"AgencyEntityInstance Id 12\")","v":""},{"$f":"IF(BY14=\"\",\"\",\"cm_subgrade_comp_04_qty_sta_a\")","v":""},{"$f":"IF(BY14=\"\",\"\",'Test 1'!AF65)","v":""},{"$f":"IF(BY14=\"\",\"\",TODAY())","v":""},{"$f":"IF(BY14=\"\",\"\",\"WTSYSTEMUSER\")","v":""},{"$f":"IF(BY14=\"\",\"\",TODAY())","v":""},{"$f":"IF(BY14=\"\",\"\",\"WTSYSTEMUSER\")","v":""}]
[null,"AdminOffModified Dt",null,null,null,null,null,null,null,null,null,null,null,null,null,null,null,null,null,null,null,null,null,null,null,null,null,null,null,null,null,null,null,null,null,null,null,null,null,null,null,null,null,null,null,null,null,null,null,null,null,null,null,null,null,null,null,null,null,null,null,null,null,null,null,null,null,null,null,null,null,null,null,null,null,null,{"$f":"IF(AH35=\"\",\"\",IF('Test 5'!AF29=\"\",\"\",\"AgencyEntityInstance Id 61\"))","v":""},{"$f":"IF(BY63=\"\",\"\",VLOOKUP(\"CM_Base_DCP\",'Send Sync'!$K$56:$L$96,2,FALSE))","v":""},null,{"$f":"IF(BY63=\"\",\"\",BY57)","v":""},{"$f":"IF(BY63=\"\",\"\",CONCATENATE(\"<Data><cm_base_dcp_01_begin>\",CO352,\"</cm_base_dcp_01_begin><cm_base_dcp_02_end>\",CO353,\"</cm_base_dcp_02_end><cm_base_dcp_03_blows>\",CO354,\"</cm_base_dcp_03_blows><cm_base_dcp_04_index>\",CO355,\"</cm_base_dcp_04_index></Data>\"))","v":""},"","","","",null,null,null,null,null,null,null,"",null,{"$f":"IF(BY14=\"\",\"\",\"AgencyEntityInsData Id 61\")","v":""},{"$f":"IF(BY14=\"\",\"\",\"AgencyEntityInstance Id 12\")","v":""},{"$f":"IF(BY14=\"\",\"\",\"cm_subgrade_comp_05_qty_sta_b\")","v":""},{"$f":"IF(BY14=\"\",\"\",'Test 1'!AF66)","v":""},{"$f":"IF(BY14=\"\",\"\",TODAY())","v":""},{"$f":"IF(BY14=\"\",\"\",\"WTSYSTEMUSER\")","v":""},{"$f":"IF(BY14=\"\",\"\",TODAY())","v":""},{"$f":"IF(BY14=\"\",\"\",\"WTSYSTEMUSER\")","v":""}]
[null,"AdimOffModifiedBy ID",null,null,null,null,null,null,null,null,null,null,null,null,null,null,null,null,null,null,null,null,null,null,null,null,null,null,null,null,null,null,null,null,null,null,null,null,null,null,null,null,null,null,null,null,null,null,null,null,null,null,null,null,null,null,null,null,null,null,null,null,null,null,null,null,null,null,null,null,null,null,null,null,null,null,{"$f":"IF(AH35=\"\",\"\",IF('Test 5'!AF30=\"\",\"\",\"AgencyEntityInstance Id 62\"))","v":""},{"$f":"IF(BY64=\"\",\"\",VLOOKUP(\"CM_Base_DCP\",'Send Sync'!$K$56:$L$96,2,FALSE))","v":""},null,{"$f":"IF(BY64=\"\",\"\",BY57)","v":""},{"$f":"IF(BY64=\"\",\"\",CONCATENATE(\"<Data><cm_base_dcp_01_begin>\",CO356,\"</cm_base_dcp_01_begin><cm_base_dcp_02_end>\",CO357,\"</cm_base_dcp_02_end><cm_base_dcp_03_blows>\",CO358,\"</cm_base_dcp_03_blows><cm_base_dcp_04_index>\",CO359,\"</cm_base_dcp_04_index></Data>\"))","v":""},"","","","",null,null,null,null,null,null,null,"",null,{"$f":"IF(BY14=\"\",\"\",\"AgencyEntityInsData Id 62\")","v":""},{"$f":"IF(BY14=\"\",\"\",\"AgencyEntityInstance Id 12\")","v":""},{"$f":"IF(BY14=\"\",\"\",\"cm_subgrade_comp_06_qty_sta_rocky\")","v":""},{"$f":"IF(BY14=\"\",\"\",'Test 1'!AF67)","v":""},{"$f":"IF(BY14=\"\",\"\",TODAY())","v":""},{"$f":"IF(BY14=\"\",\"\",\"WTSYSTEMUSER\")","v":""},{"$f":"IF(BY14=\"\",\"\",TODAY())","v":""},{"$f":"IF(BY14=\"\",\"\",\"WTSYSTEMUSER\")","v":""}]
[null,"LinkedFrom",null,null,null,null,null,null,null,null,null,null,null,null,null,null,null,null,null,null,null,null,null,null,null,null,null,null,null,null,null,null,null,null,null,null,null,null,null,null,null,null,null,null,null,null,null,null,null,null,null,null,null,null,null,null,null,null,null,null,null,null,null,null,null,null,null,null,null,null,null,null,null,null,null,null,{"$f":"IF(AH35=\"\",\"\",IF('Test 5'!AF31=\"\",\"\",\"AgencyEntityInstance Id 63\"))","v":""},{"$f":"IF(BY65=\"\",\"\",VLOOKUP(\"CM_Base_DCP\",'Send Sync'!$K$56:$L$96,2,FALSE))","v":""},null,{"$f":"IF(BY65=\"\",\"\",BY57)","v":""},{"$f":"IF(BY65=\"\",\"\",CONCATENATE(\"<Data><cm_base_dcp_01_begin>\",CO360,\"</cm_base_dcp_01_begin><cm_base_dcp_02_end>\",CO361,\"</cm_base_dcp_02_end><cm_base_dcp_03_blows>\",CO362,\"</cm_base_dcp_03_blows><cm_base_dcp_04_index>\",CO363,\"</cm_base_dcp_04_index></Data>\"))","v":""},"","","","",null,null,null,null,null,null,null,"",null,{"$f":"IF(BY14=\"\",\"\",\"AgencyEntityInsData Id 63\")","v":""},{"$f":"IF(BY14=\"\",\"\",\"AgencyEntityInstance Id 12\")","v":""},{"$f":"IF(BY14=\"\",\"\",\"cm_subgrade_comp_07_comp_a\")","v":""},{"$f":"IF(BY14=\"\",\"\",'Test 1'!AG65)","v":""},{"$f":"IF(BY14=\"\",\"\",TODAY())","v":""},{"$f":"IF(BY14=\"\",\"\",\"WTSYSTEMUSER\")","v":""},{"$f":"IF(BY14=\"\",\"\",TODAY())","v":""},{"$f":"IF(BY14=\"\",\"\",\"WTSYSTEMUSER\")","v":""}]
[null,"STARTINGX",null,null,null,null,null,null,null,null,null,null,null,null,null,null,null,null,null,null,null,null,null,null,null,null,null,null,null,null,null,null,null,null,null,null,null,null,null,null,null,null,null,null,null,null,null,null,null,null,null,null,null,null,null,null,null,null,null,null,null,null,null,null,null,null,null,null,null,null,null,null,null,null,null,null,{"$f":"IF(AH35=\"\",\"\",IF('Test 5'!AF32=\"\",\"\",\"AgencyEntityInstance Id 64\"))","v":""},{"$f":"IF(BY66=\"\",\"\",VLOOKUP(\"CM_Base_DCP\",'Send Sync'!$K$56:$L$96,2,FALSE))","v":""},null,{"$f":"IF(BY66=\"\",\"\",BY57)","v":""},{"$f":"IF(BY66=\"\",\"\",CONCATENATE(\"<Data><cm_base_dcp_01_begin>\",CO364,\"</cm_base_dcp_01_begin><cm_base_dcp_02_end>\",CO365,\"</cm_base_dcp_02_end><cm_base_dcp_03_blows>\",CO366,\"</cm_base_dcp_03_blows><cm_base_dcp_04_index>\",CO367,\"</cm_base_dcp_04_index></Data>\"))","v":""},"","","","",null,null,null,null,null,null,null,"",null,{"$f":"IF(BY14=\"\",\"\",\"AgencyEntityInsData Id 64\")","v":""},{"$f":"IF(BY14=\"\",\"\",\"AgencyEntityInstance Id 12\")","v":""},{"$f":"IF(BY14=\"\",\"\",\"cm_subgrade_comp_08_comp_b\")","v":""},{"$f":"IF(BY14=\"\",\"\",'Test 1'!AG66)","v":""},{"$f":"IF(BY14=\"\",\"\",TODAY())","v":""},{"$f":"IF(BY14=\"\",\"\",\"WTSYSTEMUSER\")","v":""},{"$f":"IF(BY14=\"\",\"\",TODAY())","v":""},{"$f":"IF(BY14=\"\",\"\",\"WTSYSTEMUSER\")","v":""}]
[null,"STARTINGY",null,null,null,null,null,null,null,null,null,null,null,null,null,null,null,null,null,null,null,null,null,null,null,null,null,null,null,null,null,null,null,null,null,null,null,null,null,null,null,null,null,null,null,null,null,null,null,null,null,null,null,null,null,null,null,null,null,null,null,null,null,null,null,null,null,null,null,null,null,null,null,null,null,null,{"$f":"IF(AH35=\"\",\"\",IF('Test 5'!AF33=\"\",\"\",\"AgencyEntityInstance Id 65\"))","v":""},{"$f":"IF(BY67=\"\",\"\",VLOOKUP(\"CM_Base_DCP\",'Send Sync'!$K$56:$L$96,2,FALSE))","v":""},null,{"$f":"IF(BY67=\"\",\"\",BY57)","v":""},{"$f":"IF(BY67=\"\",\"\",CONCATENATE(\"<Data><cm_base_dcp_01_begin>\",CO368,\"</cm_base_dcp_01_begin><cm_base_dcp_02_end>\",CO369,\"</cm_base_dcp_02_end><cm_base_dcp_03_blows>\",CO370,\"</cm_base_dcp_03_blows><cm_base_dcp_04_index>\",CO371,\"</cm_base_dcp_04_index></Data>\"))","v":""},"","","","",null,null,null,null,null,null,null,"",null,{"$f":"IF(BY14=\"\",\"\",\"AgencyEntityInsData Id 65\")","v":""},{"$f":"IF(BY14=\"\",\"\",\"AgencyEntityInstance Id 12\")","v":""},{"$f":"IF(BY14=\"\",\"\",\"cm_subgrade_comp_09_density_a\")","v":""},{"$f":"IF(BY14=\"\",\"\",'Test 1'!AH65)","v":""},{"$f":"IF(BY14=\"\",\"\",TODAY())","v":""},{"$f":"IF(BY14=\"\",\"\",\"WTSYSTEMUSER\")","v":""},{"$f":"IF(BY14=\"\",\"\",TODAY())","v":""},{"$f":"IF(BY14=\"\",\"\",\"WTSYSTEMUSER\")","v":""}]
[null,"STARTINGZ",null,null,null,null,null,null,null,null,null,null,null,null,null,null,null,null,null,null,null,null,null,null,null,null,null,null,null,null,null,null,null,null,null,null,null,null,null,null,null,null,null,null,null,null,null,null,null,null,null,null,null,null,null,null,null,null,null,null,null,null,null,null,null,null,null,null,null,null,null,null,null,null,null,null,{"$f":"IF(AH35=\"\",\"\",IF('Test 5'!AF34=\"\",\"\",\"AgencyEntityInstance Id 66\"))","v":""},{"$f":"IF(BY68=\"\",\"\",VLOOKUP(\"CM_Base_DCP\",'Send Sync'!$K$56:$L$96,2,FALSE))","v":""},null,{"$f":"IF(BY68=\"\",\"\",BY57)","v":""},{"$f":"IF(BY68=\"\",\"\",CONCATENATE(\"<Data><cm_base_dcp_01_begin>\",CO372,\"</cm_base_dcp_01_begin><cm_base_dcp_02_end>\",CO373,\"</cm_base_dcp_02_end><cm_base_dcp_03_blows>\",CO374,\"</cm_base_dcp_03_blows><cm_base_dcp_04_index>\",CO375,\"</cm_base_dcp_04_index></Data>\"))","v":""},"","","","",null,null,null,null,null,null,null,{"$f":"IF(CT68=\"\",\"\",SUBSTITUTE(SUBSTITUTE(SUBSTITUTE(SUBSTITUTE(SUBSTITUTE(CT68,\"&\",\"&amp;\"),\">\",\"&gt;\"),\"<\",\"&lt;\"),\"'\",\"&#39;\"),\"\"\"\",\"&quot;\"))","v":""},null,{"$f":"IF(BY14=\"\",\"\",\"AgencyEntityInsData Id 66\")","v":""},{"$f":"IF(BY14=\"\",\"\",\"AgencyEntityInstance Id 12\")","v":""},{"$f":"IF(BY14=\"\",\"\",\"cm_subgrade_comp_10_density_b\")","v":""},{"$f":"IF(BY14=\"\",\"\",'Test 1'!AH66)","v":""},{"$f":"IF(BY14=\"\",\"\",TODAY())","v":""},{"$f":"IF(BY14=\"\",\"\",\"WTSYSTEMUSER\")","v":""},{"$f":"IF(BY14=\"\",\"\",TODAY())","v":""},{"$f":"IF(BY14=\"\",\"\",\"WTSYSTEMUSER\")","v":""}]
[null,"STARTINGLOCMETHOD",null,null,null,null,null,null,null,null,null,null,null,null,null,null,null,null,null,null,null,null,null,null,null,null,null,null,null,null,null,null,null,null,null,null,null,null,null,null,null,null,null,null,null,null,null,null,null,null,null,null,null,null,null,null,null,null,null,null,null,null,null,null,null,null,null,null,null,null,null,null,null,null,null,null,{"$f":"IF(AH35=\"\",\"\",IF('Test 5'!AF35=\"\",\"\",\"AgencyEntityInstance Id 67\"))","v":""},{"$f":"IF(BY69=\"\",\"\",VLOOKUP(\"CM_Base_DCP\",'Send Sync'!$K$56:$L$96,2,FALSE))","v":""},null,{"$f":"IF(BY69=\"\",\"\",BY57)","v":""},{"$f":"IF(BY69=\"\",\"\",CONCATENATE(\"<Data><cm_base_dcp_01_begin>\",CO376,\"</cm_base_dcp_01_begin><cm_base_dcp_02_end>\",CO377,\"</cm_base_dcp_02_end><cm_base_dcp_03_blows>\",CO378,\"</cm_base_dcp_03_blows><cm_base_dcp_04_index>\",CO379,\"</cm_base_dcp_04_index></Data>\"))","v":""},"","","","",null,null,null,null,null,null,null,"",null,{"$f":"IF(BY15=\"\",\"\",\"AgencyEntityInsData Id 67\")","v":""},{"$f":"IF(BY15=\"\",\"\",\"AgencyEntityInstance Id 13\")","v":""},{"$f":"IF(BY15=\"\",\"\",\"CM_Standard_For_Remarks\")","v":""},{"$f":"IF(BY15=\"\",\"\",IF('Test 1'!J61=\"\",\"\",'Test 1'!J61))","v":""},{"$f":"IF(BY15=\"\",\"\",TODAY())","v":""},{"$f":"IF(BY15=\"\",\"\",\"WTSYSTEMUSER\")","v":""},{"$f":"IF(BY15=\"\",\"\",TODAY())","v":""},{"$f":"IF(BY15=\"\",\"\",\"WTSYSTEMUSER\")","v":""}]
[null,"STARTINGLOCQUALITY",null,null,null,null,null,null,null,null,null,null,null,null,null,null,null,null,null,null,null,null,null,null,null,null,null,null,null,null,null,null,null,null,null,null,null,null,null,null,null,null,null,null,null,null,null,null,null,null,null,null,null,null,null,null,null,null,null,null,null,null,null,null,null,null,null,null,null,null,null,null,null,null,null,null,{"$f":"IF(AH35=\"\",\"\",IF('Test 5'!AF36=\"\",\"\",\"AgencyEntityInstance Id 68\"))","v":""},{"$f":"IF(BY70=\"\",\"\",VLOOKUP(\"CM_Base_DCP\",'Send Sync'!$K$56:$L$96,2,FALSE))","v":""},null,{"$f":"IF(BY70=\"\",\"\",BY57)","v":""},{"$f":"IF(BY70=\"\",\"\",CONCATENATE(\"<Data><cm_base_dcp_01_begin>\",CO380,\"</cm_base_dcp_01_begin><cm_base_dcp_02_end>\",CO381,\"</cm_base_dcp_02_end><cm_base_dcp_03_blows>\",CO382,\"</cm_base_dcp_03_blows><cm_base_dcp_04_index>\",CO383,\"</cm_base_dcp_04_index></Data>\"))","v":""},"","","","",null,null,null,null,null,null,null,"",7,{"$f":"IF(BY16=\"\",\"\",\"AgencyEntityInsData Id 68\")","v":""},{"$f":"IF(BY16=\"\",\"\",\"AgencyEntityInstance Id 14\")","v":""},{"$f":"IF(BY16=\"\",\"\",\"cm_subgrade_comp_01_qty_cy_a\")","v":""},{"$f":"IF(BY16=\"\",\"\",'Test 1'!AE75)","v":""},{"$f":"IF(BY16=\"\",\"\",TODAY())","v":""},{"$f":"IF(BY16=\"\",\"\",\"WTSYSTEMUSER\")","v":""},{"$f":"IF(BY16=\"\",\"\",TODAY())","v":""},{"$f":"IF(BY16=\"\",\"\",\"WTSYSTEMUSER\")","v":""}]
[null,"STARTINGLOCQUALUNIT",null,null,null,null,null,null,null,null,null,null,null,null,null,null,null,null,null,null,null,null,null,null,null,null,null,null,null,null,null,null,null,null,null,null,null,null,null,null,null,null,null,null,null,null,null,null,null,null,null,null,null,null,null,null,null,null,null,null,null,null,null,null,null,null,null,null,null,null,null,null,null,null,null,null,{"$f":"IF(AH35=\"\",\"\",IF('Test 5'!AF37=\"\",\"\",\"AgencyEntityInstance Id 69\"))","v":""},{"$f":"IF(BY71=\"\",\"\",VLOOKUP(\"CM_Base_DCP\",'Send Sync'!$K$56:$L$96,2,FALSE))","v":""},null,{"$f":"IF(BY71=\"\",\"\",BY57)","v":""},{"$f":"IF(BY71=\"\",\"\",CONCATENATE(\"<Data><cm_base_dcp_01_begin>\",CO384,\"</cm_base_dcp_01_begin><cm_base_dcp_02_end>\",CO385,\"</cm_base_dcp_02_end><cm_base_dcp_03_blows>\",CO386,\"</cm_base_dcp_03_blows><cm_base_dcp_04_index>\",CO387,\"</cm_base_dcp_04_index></Data>\"))","v":""},"","","","",null,null,null,null,null,null,null,"",null,{"$f":"IF(BY16=\"\",\"\",\"AgencyEntityInsData Id 69\")","v":""},{"$f":"IF(BY16=\"\",\"\",\"AgencyEntityInstance Id 14\")","v":""},{"$f":"IF(BY16=\"\",\"\",\"cm_subgrade_comp_02_qty_cy_b\")","v":""},{"$f":"IF(BY16=\"\",\"\",'Test 1'!AE76)","v":""},{"$f":"IF(BY16=\"\",\"\",TODAY())","v":""},{"$f":"IF(BY16=\"\",\"\",\"WTSYSTEMUSER\")","v":""},{"$f":"IF(BY16=\"\",\"\",TODAY())","v":""},{"$f":"IF(BY16=\"\",\"\",\"WTSYSTEMUSER\")","v":""}]
[null,"STARTINGLOCATIONISSUE",null,null,null,null,null,null,null,null,null,null,null,null,null,null,null,null,null,null,null,null,null,null,null,null,null,null,null,null,null,null,null,null,null,null,null,null,null,null,null,null,null,null,null,null,null,null,null,null,null,null,null,null,null,null,null,null,null,null,null,null,null,null,null,null,null,null,null,null,null,null,null,null,null,null,{"$f":"IF(AH35=\"\",\"\",IF('Test 5'!AF38=\"\",\"\",\"AgencyEntityInstance Id 70\"))","v":""},{"$f":"IF(BY72=\"\",\"\",VLOOKUP(\"CM_Base_DCP\",'Send Sync'!$K$56:$L$96,2,FALSE))","v":""},null,{"$f":"IF(BY72=\"\",\"\",BY57)","v":""},{"$f":"IF(BY72=\"\",\"\",CONCATENATE(\"<Data><cm_base_dcp_01_begin>\",CO388,\"</cm_base_dcp_01_begin><cm_base_dcp_02_end>\",CO389,\"</cm_base_dcp_02_end><cm_base_dcp_03_blows>\",CO390,\"</cm_base_dcp_03_blows><cm_base_dcp_04_index>\",CO391,\"</cm_base_dcp_04_index></Data>\"))","v":""},"","","","",null,null,null,null,null,null,null,"",null,{"$f":"IF(BY16=\"\",\"\",\"AgencyEntityInsData Id 70\")","v":""},{"$f":"IF(BY16=\"\",\"\",\"AgencyEntityInstance Id 14\")","v":""},{"$f":"IF(BY16=\"\",\"\",\"cm_subgrade_comp_03_qty_cy_rocky\")","v":""},{"$f":"IF(BY16=\"\",\"\",'Test 1'!AE77)","v":""},{"$f":"IF(BY16=\"\",\"\",TODAY())","v":""},{"$f":"IF(BY16=\"\",\"\",\"WTSYSTEMUSER\")","v":""},{"$f":"IF(BY16=\"\",\"\",TODAY())","v":""},{"$f":"IF(BY16=\"\",\"\",\"WTSYSTEMUSER\")","v":""}]
[null,"STARTINGLOCCRETDBYPRSINF_ID",null,null,null,null,null,null,null,null,null,null,null,null,null,null,null,null,null,null,null,null,null,null,null,null,null,null,null,null,null,null,null,null,null,null,null,null,null,null,null,null,null,null,null,null,null,null,null,null,null,null,null,null,null,null,null,null,null,null,null,null,null,null,null,null,null,null,null,null,null,null,null,null,null,null,{"$f":"IF(AH35=\"\",\"\",IF('Test 5'!AF39=\"\",\"\",\"AgencyEntityInstance Id 71\"))","v":""},{"$f":"IF(BY73=\"\",\"\",VLOOKUP(\"CM_Base_DCP\",'Send Sync'!$K$56:$L$96,2,FALSE))","v":""},null,{"$f":"IF(BY73=\"\",\"\",BY57)","v":""},{"$f":"IF(BY73=\"\",\"\",CONCATENATE(\"<Data><cm_base_dcp_01_begin>\",CO392,\"</cm_base_dcp_01_begin><cm_base_dcp_02_end>\",CO393,\"</cm_base_dcp_02_end><cm_base_dcp_03_blows>\",CO394,\"</cm_base_dcp_03_blows><cm_base_dcp_04_index>\",CO395,\"</cm_base_dcp_04_index></Data>\"))","v":""},"","","","",null,null,null,null,null,null,null,"",null,{"$f":"IF(BY16=\"\",\"\",\"AgencyEntityInsData Id 71\")","v":""},{"$f":"IF(BY16=\"\",\"\",\"AgencyEntityInstance Id 14\")","v":""},{"$f":"IF(BY16=\"\",\"\",\"cm_subgrade_comp_04_qty_sta_a\")","v":""},{"$f":"IF(BY16=\"\",\"\",'Test 1'!AF75)","v":""},{"$f":"IF(BY16=\"\",\"\",TODAY())","v":""},{"$f":"IF(BY16=\"\",\"\",\"WTSYSTEMUSER\")","v":""},{"$f":"IF(BY16=\"\",\"\",TODAY())","v":""},{"$f":"IF(BY16=\"\",\"\",\"WTSYSTEMUSER\")","v":""}]
[null,"STARTINGLOCCREATED_DT",null,null,null,null,null,null,null,null,null,null,null,null,null,null,null,null,null,null,null,null,null,null,null,null,null,null,null,null,null,null,null,null,null,null,null,null,null,null,null,null,null,null,null,null,null,null,null,null,null,null,null,null,null,null,null,null,null,null,null,null,null,null,null,null,null,null,null,null,null,null,null,null,null,null,{"$f":"IF(AH35=\"\",\"\",IF('Test 5'!AF40=\"\",\"\",\"AgencyEntityInstance Id 72\"))","v":""},{"$f":"IF(BY74=\"\",\"\",VLOOKUP(\"CM_Base_DCP\",'Send Sync'!$K$56:$L$96,2,FALSE))","v":""},null,{"$f":"IF(BY74=\"\",\"\",BY57)","v":""},{"$f":"IF(BY74=\"\",\"\",CONCATENATE(\"<Data><cm_base_dcp_01_begin>\",CO396,\"</cm_base_dcp_01_begin><cm_base_dcp_02_end>\",CO397,\"</cm_base_dcp_02_end><cm_base_dcp_03_blows>\",CO398,\"</cm_base_dcp_03_blows><cm_base_dcp_04_index>\",CO399,\"</cm_base_dcp_04_index></Data>\"))","v":""},"","","","",null,null,null,null,null,null,null,"",null,{"$f":"IF(BY16=\"\",\"\",\"AgencyEntityInsData Id 72\")","v":""},{"$f":"IF(BY16=\"\",\"\",\"AgencyEntityInstance Id 14\")","v":""},{"$f":"IF(BY16=\"\",\"\",\"cm_subgrade_comp_05_qty_sta_b\")","v":""},{"$f":"IF(BY16=\"\",\"\",'Test 1'!AF76)","v":""},{"$f":"IF(BY16=\"\",\"\",TODAY())","v":""},{"$f":"IF(BY16=\"\",\"\",\"WTSYSTEMUSER\")","v":""},{"$f":"IF(BY16=\"\",\"\",TODAY())","v":""},{"$f":"IF(BY16=\"\",\"\",\"WTSYSTEMUSER\")","v":""}]
[null,"STARTINGLOCUPDTDBYPRSINF_ID",null,null,null,null,null,null,null,null,null,null,null,null,null,null,null,null,null,null,null,null,null,null,null,null,null,null,null,null,null,null,null,null,null,null,null,null,null,null,null,null,null,null,null,null,null,null,null,null,null,null,null,null,null,null,null,null,null,null,null,null,null,null,null,null,null,null,null,null,null,null,null,null,null,null,{"$f":"IF(AH35=\"\",\"\",IF('Test 5'!AF41=\"\",\"\",\"AgencyEntityInstance Id 73\"))","v":""},{"$f":"IF(BY75=\"\",\"\",VLOOKUP(\"CM_Base_DCP\",'Send Sync'!$K$56:$L$96,2,FALSE))","v":""},null,{"$f":"IF(BY75=\"\",\"\",BY57)","v":""},{"$f":"IF(BY75=\"\",\"\",CONCATENATE(\"<Data><cm_base_dcp_01_begin>\",CO400,\"</cm_base_dcp_01_begin><cm_base_dcp_02_end>\",CO401,\"</cm_base_dcp_02_end><cm_base_dcp_03_blows>\",CO402,\"</cm_base_dcp_03_blows><cm_base_dcp_04_index>\",CO403,\"</cm_base_dcp_04_index></Data>\"))","v":""},"","","","",null,null,null,null,null,null,null,"",null,{"$f":"IF(BY16=\"\",\"\",\"AgencyEntityInsData Id 73\")","v":""},{"$f":"IF(BY16=\"\",\"\",\"AgencyEntityInstance Id 14\")","v":""},{"$f":"IF(BY16=\"\",\"\",\"cm_subgrade_comp_06_qty_sta_rocky\")","v":""},{"$f":"IF(BY16=\"\",\"\",'Test 1'!AF77)","v":""},{"$f":"IF(BY16=\"\",\"\",TODAY())","v":""},{"$f":"IF(BY16=\"\",\"\",\"WTSYSTEMUSER\")","v":""},{"$f":"IF(BY16=\"\",\"\",TODAY())","v":""},{"$f":"IF(BY16=\"\",\"\",\"WTSYSTEMUSER\")","v":""}]
[null,"STARTINGLOCATIONUPDATED_DT",null,null,null,null,null,null,null,null,null,null,null,null,null,null,null,null,null,null,null,null,null,null,null,null,null,null,null,null,null,null,null,null,null,null,null,null,null,null,null,null,null,null,null,null,null,null,null,null,null,null,null,null,null,null,null,null,null,null,null,null,null,null,null,null,null,null,null,null,null,null,null,null,null,null,{"$f":"IF(AH35=\"\",\"\",IF('Test 5'!AF42=\"\",\"\",\"AgencyEntityInstance Id 74\"))","v":""},{"$f":"IF(BY76=\"\",\"\",VLOOKUP(\"CM_Base_DCP\",'Send Sync'!$K$56:$L$96,2,FALSE))","v":""},null,{"$f":"IF(BY76=\"\",\"\",BY57)","v":""},{"$f":"IF(BY76=\"\",\"\",CONCATENATE(\"<Data><cm_base_dcp_01_begin>\",CO404,\"</cm_base_dcp_01_begin><cm_base_dcp_02_end>\",CO405,\"</cm_base_dcp_02_end><cm_base_dcp_03_blows>\",CO406,\"</cm_base_dcp_03_blows><cm_base_dcp_04_index>\",CO407,\"</cm_base_dcp_04_index></Data>\"))","v":""},"","","","",null,null,null,null,null,null,null,"",null,{"$f":"IF(BY16=\"\",\"\",\"AgencyEntityInsData Id 74\")","v":""},{"$f":"IF(BY16=\"\",\"\",\"AgencyEntityInstance Id 14\")","v":""},{"$f":"IF(BY16=\"\",\"\",\"cm_subgrade_comp_07_comp_a\")","v":""},{"$f":"IF(BY16=\"\",\"\",'Test 1'!AG75)","v":""},{"$f":"IF(BY16=\"\",\"\",TODAY())","v":""},{"$f":"IF(BY16=\"\",\"\",\"WTSYSTEMUSER\")","v":""},{"$f":"IF(BY16=\"\",\"\",TODAY())","v":""},{"$f":"IF(BY16=\"\",\"\",\"WTSYSTEMUSER\")","v":""}]
[null,"STARTINGLOCENDACTIVE_DT",null,null,null,null,null,null,null,null,null,null,null,null,null,null,null,null,null,null,null,null,null,null,null,null,null,null,null,null,null,null,null,null,null,null,null,null,null,null,null,null,null,null,null,null,null,null,null,null,null,null,null,null,null,null,null,null,null,null,null,null,null,null,null,null,null,null,null,null,null,null,null,null,null,null,{"$f":"IF(AH35=\"\",\"\",IF('Test 5'!AF43=\"\",\"\",\"AgencyEntityInstance Id 75\"))","v":""},{"$f":"IF(BY77=\"\",\"\",VLOOKUP(\"CM_Base_DCP\",'Send Sync'!$K$56:$L$96,2,FALSE))","v":""},null,{"$f":"IF(BY77=\"\",\"\",BY57)","v":""},{"$f":"IF(BY77=\"\",\"\",CONCATENATE(\"<Data><cm_base_dcp_01_begin>\",CO408,\"</cm_base_dcp_01_begin><cm_base_dcp_02_end>\",CO409,\"</cm_base_dcp_02_end><cm_base_dcp_03_blows>\",CO410,\"</cm_base_dcp_03_blows><cm_base_dcp_04_index>\",CO411,\"</cm_base_dcp_04_index></Data>\"))","v":""},"","","","",null,null,null,null,null,null,null,"",null,{"$f":"IF(BY16=\"\",\"\",\"AgencyEntityInsData Id 75\")","v":""},{"$f":"IF(BY16=\"\",\"\",\"AgencyEntityInstance Id 14\")","v":""},{"$f":"IF(BY16=\"\",\"\",\"cm_subgrade_comp_08_comp_b\")","v":""},{"$f":"IF(BY16=\"\",\"\",'Test 1'!AG76)","v":""},{"$f":"IF(BY16=\"\",\"\",TODAY())","v":""},{"$f":"IF(BY16=\"\",\"\",\"WTSYSTEMUSER\")","v":""},{"$f":"IF(BY16=\"\",\"\",TODAY())","v":""},{"$f":"IF(BY16=\"\",\"\",\"WTSYSTEMUSER\")","v":""}]
[null,"ENDINGX",null,null,null,null,null,null,null,null,null,null,null,null,null,null,null,null,null,null,null,null,null,null,null,null,null,null,null,null,null,null,null,null,null,null,null,null,null,null,null,null,null,null,null,null,null,null,null,null,null,null,null,null,null,null,null,null,null,null,null,null,null,null,null,null,null,null,null,null,null,null,null,null,null,{"$f":"BX57+1","v":2},{"$f":"IF(AH36=\"\",\"\",\"AgencyEntityInstance Id 76\")","v":""},{"$f":"IF(BY78=\"\",\"\",VLOOKUP(\"CM_Base_DCP_Header\",'Send Sync'!$K$56:$L$96,2,FALSE))","v":""},{"$f":"IF(BY78=\"\",\"\",\"SampleRecordTest Id 34\")","v":""},null,{"$f":"IF(BY78=\"\",\"\",CONCATENATE(\"<Data><cm_base_dcp_header_01_avg>\",CO412,\"</cm_base_dcp_header_01_avg><cm_base_dcp_header_02_thi_spec>\",CO413,\"</cm_base_dcp_header_02_thi_spec><cm_base_dcp_header_03_thi_meas>\",CO414,\"</cm_base_dcp_header_03_thi_meas><cm_base_dcp_header_04_sta_1>\",CO415,\"</cm_base_dcp_header_04_sta_1><cm_base_dcp_header_05_sta_2>\",CO416,\"</cm_base_dcp_header_05_sta_2><cm_base_dcp_header_06_location>\",CO417,\"</cm_base_dcp_header_06_location><cm_base_dcp_header_07_tester>\",CO418,\"</cm_base_dcp_header_07_tester></Data>\"))","v":""},"","","","",null,null,null,null,null,null,null,"",null,{"$f":"IF(BY16=\"\",\"\",\"AgencyEntityInsData Id 76\")","v":""},{"$f":"IF(BY16=\"\",\"\",\"AgencyEntityInstance Id 14\")","v":""},{"$f":"IF(BY16=\"\",\"\",\"cm_subgrade_comp_09_density_a\")","v":""},{"$f":"IF(BY16=\"\",\"\",'Test 1'!AH75)","v":""},{"$f":"IF(BY16=\"\",\"\",TODAY())","v":""},{"$f":"IF(BY16=\"\",\"\",\"WTSYSTEMUSER\")","v":""},{"$f":"IF(BY16=\"\",\"\",TODAY())","v":""},{"$f":"IF(BY16=\"\",\"\",\"WTSYSTEMUSER\")","v":""}]
[null,"ENDINGY",null,null,null,null,null,null,null,null,null,null,null,null,null,null,null,null,null,null,null,null,null,null,null,null,null,null,null,null,null,null,null,null,null,null,null,null,null,null,null,null,null,null,null,null,null,null,null,null,null,null,null,null,null,null,null,null,null,null,null,null,null,null,null,null,null,null,null,null,null,null,null,null,null,null,{"$f":"IF(AH36=\"\",\"\",IF('Test 5'!AI24=\"\",\"\",\"AgencyEntityInstance Id 77\"))","v":""},{"$f":"IF(BY79=\"\",\"\",VLOOKUP(\"CM_Base_DCP\",'Send Sync'!$K$56:$L$96,2,FALSE))","v":""},null,{"$f":"IF(BY79=\"\",\"\",BY78)","v":""},{"$f":"IF(BY79=\"\",\"\",CONCATENATE(\"<Data><cm_base_dcp_01_begin>\",CO419,\"</cm_base_dcp_01_begin><cm_base_dcp_02_end>\",CO420,\"</cm_base_dcp_02_end><cm_base_dcp_03_blows>\",CO421,\"</cm_base_dcp_03_blows><cm_base_dcp_04_index>\",CO422,\"</cm_base_dcp_04_index></Data>\"))","v":""},"","","","",null,null,null,null,null,null,null,"",null,{"$f":"IF(BY16=\"\",\"\",\"AgencyEntityInsData Id 77\")","v":""},{"$f":"IF(BY16=\"\",\"\",\"AgencyEntityInstance Id 14\")","v":""},{"$f":"IF(BY16=\"\",\"\",\"cm_subgrade_comp_10_density_b\")","v":""},{"$f":"IF(BY16=\"\",\"\",'Test 1'!AH76)","v":""},{"$f":"IF(BY16=\"\",\"\",TODAY())","v":""},{"$f":"IF(BY16=\"\",\"\",\"WTSYSTEMUSER\")","v":""},{"$f":"IF(BY16=\"\",\"\",TODAY())","v":""},{"$f":"IF(BY16=\"\",\"\",\"WTSYSTEMUSER\")","v":""}]
[null,"ENDINGZ",null,null,null,null,null,null,null,null,null,null,null,null,null,null,null,null,null,null,null,null,null,null,null,null,null,null,null,null,null,null,null,null,null,null,null,null,null,null,null,null,null,null,null,null,null,null,null,null,null,null,null,null,null,null,null,null,null,null,null,null,null,null,null,null,null,null,null,null,null,null,null,null,null,null,{"$f":"IF(AH36=\"\",\"\",IF('Test 5'!AI25=\"\",\"\",\"AgencyEntityInstance Id 78\"))","v":""},{"$f":"IF(BY80=\"\",\"\",VLOOKUP(\"CM_Base_DCP\",'Send Sync'!$K$56:$L$96,2,FALSE))","v":""},null,{"$f":"IF(BY80=\"\",\"\",BY78)","v":""},{"$f":"IF(BY80=\"\",\"\",CONCATENATE(\"<Data><cm_base_dcp_01_begin>\",CO423,\"</cm_base_dcp_01_begin><cm_base_dcp_02_end>\",CO424,\"</cm_base_dcp_02_end><cm_base_dcp_03_blows>\",CO425,\"</cm_base_dcp_03_blows><cm_base_dcp_04_index>\",CO426,\"</cm_base_dcp_04_index></Data>\"))","v":""},"","","","",null,null,null,null,null,null,null,"",null,{"$f":"IF(BY17=\"\",\"\",\"AgencyEntityInsData Id 78\")","v":""},{"$f":"IF(BY17=\"\",\"\",\"AgencyEntityInstance Id 15\")","v":""},{"$f":"IF(BY17=\"\",\"\",\"CM_Standard_For_Remarks\")","v":""},{"$f":"IF(BY17=\"\",\"\",IF('Test 1'!J71=\"\",\"\",'Test 1'!J71))","v":""},{"$f":"IF(BY17=\"\",\"\",TODAY())","v":""},{"$f":"IF(BY17=\"\",\"\",\"WTSYSTEMUSER\")","v":""},{"$f":"IF(BY17=\"\",\"\",TODAY())","v":""},{"$f":"IF(BY17=\"\",\"\",\"WTSYSTEMUSER\")","v":""}]
[null,"ENDINGLOCMETHOD",null,null,null,null,null,null,null,null,null,null,null,null,null,null,null,null,null,null,null,null,null,null,null,null,null,null,null,null,null,null,null,null,null,null,null,null,null,null,null,null,null,null,null,null,null,null,null,null,null,null,null,null,null,null,null,null,null,null,null,null,null,null,null,null,null,null,null,null,null,null,null,null,null,null,{"$f":"IF(AH36=\"\",\"\",IF('Test 5'!AI26=\"\",\"\",\"AgencyEntityInstance Id 79\"))","v":""},{"$f":"IF(BY81=\"\",\"\",VLOOKUP(\"CM_Base_DCP\",'Send Sync'!$K$56:$L$96,2,FALSE))","v":""},null,{"$f":"IF(BY81=\"\",\"\",BY78)","v":""},{"$f":"IF(BY81=\"\",\"\",CONCATENATE(\"<Data><cm_base_dcp_01_begin>\",CO427,\"</cm_base_dcp_01_begin><cm_base_dcp_02_end>\",CO428,\"</cm_base_dcp_02_end><cm_base_dcp_03_blows>\",CO429,\"</cm_base_dcp_03_blows><cm_base_dcp_04_index>\",CO430,\"</cm_base_dcp_04_index></Data>\"))","v":""},"","","","",null,null,null,null,null,null,null,"",8,{"$f":"IF(BY18=\"\",\"\",\"AgencyEntityInsData Id 79\")","v":""},{"$f":"IF(BY18=\"\",\"\",\"AgencyEntityInstance Id 16\")","v":""},{"$f":"IF(BY18=\"\",\"\",\"cm_subgrade_comp_01_qty_cy_a\")","v":""},{"$f":"IF(BY18=\"\",\"\",'Test 1'!AE85)","v":""},{"$f":"IF(BY18=\"\",\"\",TODAY())","v":""},{"$f":"IF(BY18=\"\",\"\",\"WTSYSTEMUSER\")","v":""},{"$f":"IF(BY18=\"\",\"\",TODAY())","v":""},{"$f":"IF(BY18=\"\",\"\",\"WTSYSTEMUSER\")","v":""}]
[null,"ENDINGLOCQUALITY",null,null,null,null,null,null,null,null,null,null,null,null,null,null,null,null,null,null,null,null,null,null,null,null,null,null,null,null,null,null,null,null,null,null,null,null,null,null,null,null,null,null,null,null,null,null,null,null,null,null,null,null,null,null,null,null,null,null,null,null,null,null,null,null,null,null,null,null,null,null,null,null,null,null,{"$f":"IF(AH36=\"\",\"\",IF('Test 5'!AI27=\"\",\"\",\"AgencyEntityInstance Id 80\"))","v":""},{"$f":"IF(BY82=\"\",\"\",VLOOKUP(\"CM_Base_DCP\",'Send Sync'!$K$56:$L$96,2,FALSE))","v":""},null,{"$f":"IF(BY82=\"\",\"\",BY78)","v":""},{"$f":"IF(BY82=\"\",\"\",CONCATENATE(\"<Data><cm_base_dcp_01_begin>\",CO431,\"</cm_base_dcp_01_begin><cm_base_dcp_02_end>\",CO432,\"</cm_base_dcp_02_end><cm_base_dcp_03_blows>\",CO433,\"</cm_base_dcp_03_blows><cm_base_dcp_04_index>\",CO434,\"</cm_base_dcp_04_index></Data>\"))","v":""},"","","","",null,null,null,null,null,null,null,"",null,{"$f":"IF(BY18=\"\",\"\",\"AgencyEntityInsData Id 80\")","v":""},{"$f":"IF(BY18=\"\",\"\",\"AgencyEntityInstance Id 16\")","v":""},{"$f":"IF(BY18=\"\",\"\",\"cm_subgrade_comp_02_qty_cy_b\")","v":""},{"$f":"IF(BY18=\"\",\"\",'Test 1'!AE86)","v":""},{"$f":"IF(BY18=\"\",\"\",TODAY())","v":""},{"$f":"IF(BY18=\"\",\"\",\"WTSYSTEMUSER\")","v":""},{"$f":"IF(BY18=\"\",\"\",TODAY())","v":""},{"$f":"IF(BY18=\"\",\"\",\"WTSYSTEMUSER\")","v":""}]
[null,"ENDINGLOCQUALUNIT",null,null,null,null,null,null,null,null,null,null,null,null,null,null,null,null,null,null,null,null,null,null,null,null,null,null,null,null,null,null,null,null,null,null,null,null,null,null,null,null,null,null,null,null,null,null,null,null,null,null,null,null,null,null,null,null,null,null,null,null,null,null,null,null,null,null,null,null,null,null,null,null,null,null,{"$f":"IF(AH36=\"\",\"\",IF('Test 5'!AI28=\"\",\"\",\"AgencyEntityInstance Id 81\"))","v":""},{"$f":"IF(BY83=\"\",\"\",VLOOKUP(\"CM_Base_DCP\",'Send Sync'!$K$56:$L$96,2,FALSE))","v":""},null,{"$f":"IF(BY83=\"\",\"\",BY78)","v":""},{"$f":"IF(BY83=\"\",\"\",CONCATENATE(\"<Data><cm_base_dcp_01_begin>\",CO435,\"</cm_base_dcp_01_begin><cm_base_dcp_02_end>\",CO436,\"</cm_base_dcp_02_end><cm_base_dcp_03_blows>\",CO437,\"</cm_base_dcp_03_blows><cm_base_dcp_04_index>\",CO438,\"</cm_base_dcp_04_index></Data>\"))","v":""},"","","","",null,null,null,null,null,null,null,"",null,{"$f":"IF(BY18=\"\",\"\",\"AgencyEntityInsData Id 81\")","v":""},{"$f":"IF(BY18=\"\",\"\",\"AgencyEntityInstance Id 16\")","v":""},{"$f":"IF(BY18=\"\",\"\",\"cm_subgrade_comp_03_qty_cy_rocky\")","v":""},{"$f":"IF(BY18=\"\",\"\",'Test 1'!AE87)","v":""},{"$f":"IF(BY18=\"\",\"\",TODAY())","v":""},{"$f":"IF(BY18=\"\",\"\",\"WTSYSTEMUSER\")","v":""},{"$f":"IF(BY18=\"\",\"\",TODAY())","v":""},{"$f":"IF(BY18=\"\",\"\",\"WTSYSTEMUSER\")","v":""}]
[null,"ENDINGLOCATIONISSUE",null,null,null,null,null,null,null,null,null,null,null,null,null,null,null,null,null,null,null,null,null,null,null,null,null,null,null,null,null,null,null,null,null,null,null,null,null,null,null,null,null,null,null,null,null,null,null,null,null,null,null,null,null,null,null,null,null,null,null,null,null,null,null,null,null,null,null,null,null,null,null,null,null,null,{"$f":"IF(AH36=\"\",\"\",IF('Test 5'!AI29=\"\",\"\",\"AgencyEntityInstance Id 82\"))","v":""},{"$f":"IF(BY84=\"\",\"\",VLOOKUP(\"CM_Base_DCP\",'Send Sync'!$K$56:$L$96,2,FALSE))","v":""},null,{"$f":"IF(BY84=\"\",\"\",BY78)","v":""},{"$f":"IF(BY84=\"\",\"\",CONCATENATE(\"<Data><cm_base_dcp_01_begin>\",CO439,\"</cm_base_dcp_01_begin><cm_base_dcp_02_end>\",CO440,\"</cm_base_dcp_02_end><cm_base_dcp_03_blows>\",CO441,\"</cm_base_dcp_03_blows><cm_base_dcp_04_index>\",CO442,\"</cm_base_dcp_04_index></Data>\"))","v":""},"","","","",null,null,null,null,null,null,null,"",null,{"$f":"IF(BY18=\"\",\"\",\"AgencyEntityInsData Id 82\")","v":""},{"$f":"IF(BY18=\"\",\"\",\"AgencyEntityInstance Id 16\")","v":""},{"$f":"IF(BY18=\"\",\"\",\"cm_subgrade_comp_04_qty_sta_a\")","v":""},{"$f":"IF(BY18=\"\",\"\",'Test 1'!AF85)","v":""},{"$f":"IF(BY18=\"\",\"\",TODAY())","v":""},{"$f":"IF(BY18=\"\",\"\",\"WTSYSTEMUSER\")","v":""},{"$f":"IF(BY18=\"\",\"\",TODAY())","v":""},{"$f":"IF(BY18=\"\",\"\",\"WTSYSTEMUSER\")","v":""}]
[null,"ENDINGLOCCREATEDBYPRSINF_ID",null,null,null,null,null,null,null,null,null,null,null,null,null,null,null,null,null,null,null,null,null,null,null,null,null,null,null,null,null,null,null,null,null,null,null,null,null,null,null,null,null,null,null,null,null,null,null,null,null,null,null,null,null,null,null,null,null,null,null,null,null,null,null,null,null,null,null,null,null,null,null,null,null,null,{"$f":"IF(AH36=\"\",\"\",IF('Test 5'!AI30=\"\",\"\",\"AgencyEntityInstance Id 83\"))","v":""},{"$f":"IF(BY85=\"\",\"\",VLOOKUP(\"CM_Base_DCP\",'Send Sync'!$K$56:$L$96,2,FALSE))","v":""},null,{"$f":"IF(BY85=\"\",\"\",BY78)","v":""},{"$f":"IF(BY85=\"\",\"\",CONCATENATE(\"<Data><cm_base_dcp_01_begin>\",CO443,\"</cm_base_dcp_01_begin><cm_base_dcp_02_end>\",CO444,\"</cm_base_dcp_02_end><cm_base_dcp_03_blows>\",CO445,\"</cm_base_dcp_03_blows><cm_base_dcp_04_index>\",CO446,\"</cm_base_dcp_04_index></Data>\"))","v":""},"","","","",null,null,null,null,null,null,null,"",null,{"$f":"IF(BY18=\"\",\"\",\"AgencyEntityInsData Id 83\")","v":""},{"$f":"IF(BY18=\"\",\"\",\"AgencyEntityInstance Id 16\")","v":""},{"$f":"IF(BY18=\"\",\"\",\"cm_subgrade_comp_05_qty_sta_b\")","v":""},{"$f":"IF(BY18=\"\",\"\",'Test 1'!AF86)","v":""},{"$f":"IF(BY18=\"\",\"\",TODAY())","v":""},{"$f":"IF(BY18=\"\",\"\",\"WTSYSTEMUSER\")","v":""},{"$f":"IF(BY18=\"\",\"\",TODAY())","v":""},{"$f":"IF(BY18=\"\",\"\",\"WTSYSTEMUSER\")","v":""}]
[null,"ENDINGLOCCREATED_DT",null,null,null,null,null,null,null,null,null,null,null,null,null,null,null,null,null,null,null,null,null,null,null,null,null,null,null,null,null,null,null,null,null,null,null,null,null,null,null,null,null,null,null,null,null,null,null,null,null,null,null,null,null,null,null,null,null,null,null,null,null,null,null,null,null,null,null,null,null,null,null,null,null,null,{"$f":"IF(AH36=\"\",\"\",IF('Test 5'!AI31=\"\",\"\",\"AgencyEntityInstance Id 84\"))","v":""},{"$f":"IF(BY86=\"\",\"\",VLOOKUP(\"CM_Base_DCP\",'Send Sync'!$K$56:$L$96,2,FALSE))","v":""},null,{"$f":"IF(BY86=\"\",\"\",BY78)","v":""},{"$f":"IF(BY86=\"\",\"\",CONCATENATE(\"<Data><cm_base_dcp_01_begin>\",CO447,\"</cm_base_dcp_01_begin><cm_base_dcp_02_end>\",CO448,\"</cm_base_dcp_02_end><cm_base_dcp_03_blows>\",CO449,\"</cm_base_dcp_03_blows><cm_base_dcp_04_index>\",CO450,\"</cm_base_dcp_04_index></Data>\"))","v":""},"","","","",null,null,null,null,null,null,null,"",null,{"$f":"IF(BY18=\"\",\"\",\"AgencyEntityInsData Id 84\")","v":""},{"$f":"IF(BY18=\"\",\"\",\"AgencyEntityInstance Id 16\")","v":""},{"$f":"IF(BY18=\"\",\"\",\"cm_subgrade_comp_06_qty_sta_rocky\")","v":""},{"$f":"IF(BY18=\"\",\"\",'Test 1'!AF87)","v":""},{"$f":"IF(BY18=\"\",\"\",TODAY())","v":""},{"$f":"IF(BY18=\"\",\"\",\"WTSYSTEMUSER\")","v":""},{"$f":"IF(BY18=\"\",\"\",TODAY())","v":""},{"$f":"IF(BY18=\"\",\"\",\"WTSYSTEMUSER\")","v":""}]
[null,"ENDINGLOCUPDATEDBYPRSINF_ID",null,null,null,null,null,null,null,null,null,null,null,null,null,null,null,null,null,null,null,null,null,null,null,null,null,null,null,null,null,null,null,null,null,null,null,null,null,null,null,null,null,null,null,null,null,null,null,null,null,null,null,null,null,null,null,null,null,null,null,null,null,null,null,null,null,null,null,null,null,null,null,null,null,null,{"$f":"IF(AH36=\"\",\"\",IF('Test 5'!AI32=\"\",\"\",\"AgencyEntityInstance Id 85\"))","v":""},{"$f":"IF(BY87=\"\",\"\",VLOOKUP(\"CM_Base_DCP\",'Send Sync'!$K$56:$L$96,2,FALSE))","v":""},null,{"$f":"IF(BY87=\"\",\"\",BY78)","v":""},{"$f":"IF(BY87=\"\",\"\",CONCATENATE(\"<Data><cm_base_dcp_01_begin>\",CO451,\"</cm_base_dcp_01_begin><cm_base_dcp_02_end>\",CO452,\"</cm_base_dcp_02_end><cm_base_dcp_03_blows>\",CO453,\"</cm_base_dcp_03_blows><cm_base_dcp_04_index>\",CO454,\"</cm_base_dcp_04_index></Data>\"))","v":""},"","","","",null,null,null,null,null,null,null,"",null,{"$f":"IF(BY18=\"\",\"\",\"AgencyEntityInsData Id 85\")","v":""},{"$f":"IF(BY18=\"\",\"\",\"AgencyEntityInstance Id 16\")","v":""},{"$f":"IF(BY18=\"\",\"\",\"cm_subgrade_comp_07_comp_a\")","v":""},{"$f":"IF(BY18=\"\",\"\",'Test 1'!AG85)","v":""},{"$f":"IF(BY18=\"\",\"\",TODAY())","v":""},{"$f":"IF(BY18=\"\",\"\",\"WTSYSTEMUSER\")","v":""},{"$f":"IF(BY18=\"\",\"\",TODAY())","v":""},{"$f":"IF(BY18=\"\",\"\",\"WTSYSTEMUSER\")","v":""}]
[null,"ENDINGLOCATIONUPDATED_DT",null,null,null,null,null,null,null,null,null,null,null,null,null,null,null,null,null,null,null,null,null,null,null,null,null,null,null,null,null,null,null,null,null,null,null,null,null,null,null,null,null,null,null,null,null,null,null,null,null,null,null,null,null,null,null,null,null,null,null,null,null,null,null,null,null,null,null,null,null,null,null,null,null,null,{"$f":"IF(AH36=\"\",\"\",IF('Test 5'!AI33=\"\",\"\",\"AgencyEntityInstance Id 86\"))","v":""},{"$f":"IF(BY88=\"\",\"\",VLOOKUP(\"CM_Base_DCP\",'Send Sync'!$K$56:$L$96,2,FALSE))","v":""},null,{"$f":"IF(BY88=\"\",\"\",BY78)","v":""},{"$f":"IF(BY88=\"\",\"\",CONCATENATE(\"<Data><cm_base_dcp_01_begin>\",CO455,\"</cm_base_dcp_01_begin><cm_base_dcp_02_end>\",CO456,\"</cm_base_dcp_02_end><cm_base_dcp_03_blows>\",CO457,\"</cm_base_dcp_03_blows><cm_base_dcp_04_index>\",CO458,\"</cm_base_dcp_04_index></Data>\"))","v":""},"","","","",null,null,null,null,null,null,null,"",null,{"$f":"IF(BY18=\"\",\"\",\"AgencyEntityInsData Id 86\")","v":""},{"$f":"IF(BY18=\"\",\"\",\"AgencyEntityInstance Id 16\")","v":""},{"$f":"IF(BY18=\"\",\"\",\"cm_subgrade_comp_08_comp_b\")","v":""},{"$f":"IF(BY18=\"\",\"\",'Test 1'!AG86)","v":""},{"$f":"IF(BY18=\"\",\"\",TODAY())","v":""},{"$f":"IF(BY18=\"\",\"\",\"WTSYSTEMUSER\")","v":""},{"$f":"IF(BY18=\"\",\"\",TODAY())","v":""},{"$f":"IF(BY18=\"\",\"\",\"WTSYSTEMUSER\")","v":""}]
[null,"ENDINGLOCATIONENDACTIVE_DT",null,null,null,null,null,null,null,null,null,null,null,null,null,null,null,null,null,null,null,null,null,null,null,null,null,null,null,null,null,null,null,null,null,null,null,null,null,null,null,null,null,null,null,null,null,null,null,null,null,null,null,null,null,null,null,null,null,null,null,null,null,null,null,null,null,null,null,null,null,null,null,null,null,null,{"$f":"IF(AH36=\"\",\"\",IF('Test 5'!AI34=\"\",\"\",\"AgencyEntityInstance Id 87\"))","v":""},{"$f":"IF(BY89=\"\",\"\",VLOOKUP(\"CM_Base_DCP\",'Send Sync'!$K$56:$L$96,2,FALSE))","v":""},null,{"$f":"IF(BY89=\"\",\"\",BY78)","v":""},{"$f":"IF(BY89=\"\",\"\",CONCATENATE(\"<Data><cm_base_dcp_01_begin>\",CO459,\"</cm_base_dcp_01_begin><cm_base_dcp_02_end>\",CO460,\"</cm_base_dcp_02_end><cm_base_dcp_03_blows>\",CO461,\"</cm_base_dcp_03_blows><cm_base_dcp_04_index>\",CO462,\"</cm_base_dcp_04_index></Data>\"))","v":""},"","","","",null,null,null,null,null,null,null,"",null,{"$f":"IF(BY18=\"\",\"\",\"AgencyEntityInsData Id 87\")","v":""},{"$f":"IF(BY18=\"\",\"\",\"AgencyEntityInstance Id 16\")","v":""},{"$f":"IF(BY18=\"\",\"\",\"cm_subgrade_comp_09_density_a\")","v":""},{"$f":"IF(BY18=\"\",\"\",'Test 1'!AH85)","v":""},{"$f":"IF(BY18=\"\",\"\",TODAY())","v":""},{"$f":"IF(BY18=\"\",\"\",\"WTSYSTEMUSER\")","v":""},{"$f":"IF(BY18=\"\",\"\",TODAY())","v":""},{"$f":"IF(BY18=\"\",\"\",\"WTSYSTEMUSER\")","v":""}]
[null,"COMMENT",null,null,null,null,null,null,null,null,null,null,null,null,null,null,null,null,null,null,null,null,null,null,null,null,null,null,null,null,null,null,null,null,null,null,null,null,null,null,null,null,null,null,null,null,null,null,null,null,null,null,null,null,null,null,null,null,null,null,null,null,null,null,null,null,null,null,null,null,null,null,null,null,null,null,{"$f":"IF(AH36=\"\",\"\",IF('Test 5'!AI35=\"\",\"\",\"AgencyEntityInstance Id 88\"))","v":""},{"$f":"IF(BY90=\"\",\"\",VLOOKUP(\"CM_Base_DCP\",'Send Sync'!$K$56:$L$96,2,FALSE))","v":""},null,{"$f":"IF(BY90=\"\",\"\",BY78)","v":""},{"$f":"IF(BY90=\"\",\"\",CONCATENATE(\"<Data><cm_base_dcp_01_begin>\",CO463,\"</cm_base_dcp_01_begin><cm_base_dcp_02_end>\",CO464,\"</cm_base_dcp_02_end><cm_base_dcp_03_blows>\",CO465,\"</cm_base_dcp_03_blows><cm_base_dcp_04_index>\",CO466,\"</cm_base_dcp_04_index></Data>\"))","v":""},"","","","",null,null,null,null,null,null,null,"",null,{"$f":"IF(BY18=\"\",\"\",\"AgencyEntityInsData Id 88\")","v":""},{"$f":"IF(BY18=\"\",\"\",\"AgencyEntityInstance Id 16\")","v":""},{"$f":"IF(BY18=\"\",\"\",\"cm_subgrade_comp_10_density_b\")","v":""},{"$f":"IF(BY18=\"\",\"\",'Test 1'!AH86)","v":""},{"$f":"IF(BY18=\"\",\"\",TODAY())","v":""},{"$f":"IF(BY18=\"\",\"\",\"WTSYSTEMUSER\")","v":""},{"$f":"IF(BY18=\"\",\"\",TODAY())","v":""},{"$f":"IF(BY18=\"\",\"\",\"WTSYSTEMUSER\")","v":""}]
[null,"ISMOBILE",0,null,null,null,null,null,null,null,null,null,null,null,null,null,null,null,null,null,null,null,null,null,null,null,null,null,null,null,null,null,null,null,null,null,null,null,null,null,null,null,null,null,null,null,null,null,null,null,null,null,null,null,null,null,null,null,null,null,null,null,null,null,null,null,null,null,null,null,null,null,null,null,null,null,{"$f":"IF(AH36=\"\",\"\",IF('Test 5'!AI36=\"\",\"\",\"AgencyEntityInstance Id 89\"))","v":""},{"$f":"IF(BY91=\"\",\"\",VLOOKUP(\"CM_Base_DCP\",'Send Sync'!$K$56:$L$96,2,FALSE))","v":""},null,{"$f":"IF(BY91=\"\",\"\",BY78)","v":""},{"$f":"IF(BY91=\"\",\"\",CONCATENATE(\"<Data><cm_base_dcp_01_begin>\",CO467,\"</cm_base_dcp_01_begin><cm_base_dcp_02_end>\",CO468,\"</cm_base_dcp_02_end><cm_base_dcp_03_blows>\",CO469,\"</cm_base_dcp_03_blows><cm_base_dcp_04_index>\",CO470,\"</cm_base_dcp_04_index></Data>\"))","v":""},"","","","",null,null,null,null,null,null,null,"",null,{"$f":"IF(BY19=\"\",\"\",\"AgencyEntityInsData Id 89\")","v":""},{"$f":"IF(BY19=\"\",\"\",\"AgencyEntityInstance Id 17\")","v":""},{"$f":"IF(BY19=\"\",\"\",\"CM_Standard_For_Remarks\")","v":""},{"$f":"IF(BY19=\"\",\"\",IF('Test 1'!J81=\"\",\"\",'Test 1'!J81))","v":""},{"$f":"IF(BY19=\"\",\"\",TODAY())","v":""},{"$f":"IF(BY19=\"\",\"\",\"WTSYSTEMUSER\")","v":""},{"$f":"IF(BY19=\"\",\"\",TODAY())","v":""},{"$f":"IF(BY19=\"\",\"\",\"WTSYSTEMUSER\")","v":""}]
[null,"SPLITSAMPLECHILD",0,null,null,null,null,null,null,null,null,null,null,null,null,null,null,null,null,null,null,null,null,null,null,null,null,null,null,null,null,null,null,null,null,null,null,null,null,null,null,null,null,null,null,null,null,null,null,null,null,null,null,null,null,null,null,null,null,null,null,null,null,null,null,null,null,null,null,null,null,null,null,null,null,null,{"$f":"IF(AH36=\"\",\"\",IF('Test 5'!AI37=\"\",\"\",\"AgencyEntityInstance Id 90\"))","v":""},{"$f":"IF(BY92=\"\",\"\",VLOOKUP(\"CM_Base_DCP\",'Send Sync'!$K$56:$L$96,2,FALSE))","v":""},null,{"$f":"IF(BY92=\"\",\"\",BY78)","v":""},{"$f":"IF(BY92=\"\",\"\",CONCATENATE(\"<Data><cm_base_dcp_01_begin>\",CO471,\"</cm_base_dcp_01_begin><cm_base_dcp_02_end>\",CO472,\"</cm_base_dcp_02_end><cm_base_dcp_03_blows>\",CO473,\"</cm_base_dcp_03_blows><cm_base_dcp_04_index>\",CO474,\"</cm_base_dcp_04_index></Data>\"))","v":""},"","","","",null,null,null,null,null,null,null,"",9,{"$f":"IF(BY20=\"\",\"\",\"AgencyEntityInsData Id 90\")","v":""},{"$f":"IF(BY20=\"\",\"\",\"AgencyEntityInstance Id 18\")","v":""},{"$f":"IF(BY20=\"\",\"\",\"cm_subgrade_comp_01_qty_cy_a\")","v":""},{"$f":"IF(BY20=\"\",\"\",'Test 1'!AE95)","v":""},{"$f":"IF(BY20=\"\",\"\",TODAY())","v":""},{"$f":"IF(BY20=\"\",\"\",\"WTSYSTEMUSER\")","v":""},{"$f":"IF(BY20=\"\",\"\",TODAY())","v":""},{"$f":"IF(BY20=\"\",\"\",\"WTSYSTEMUSER\")","v":""}]
[null,"BRAND_ID",null,null,null,null,null,null,null,null,null,null,null,null,null,null,null,null,null,null,null,null,null,null,null,null,null,null,null,null,null,null,null,null,null,null,null,null,null,null,null,null,null,null,null,null,null,null,null,null,null,null,null,null,null,null,null,null,null,null,null,null,null,null,null,null,null,null,null,null,null,null,null,null,null,null,{"$f":"IF(AH36=\"\",\"\",IF('Test 5'!AI38=\"\",\"\",\"AgencyEntityInstance Id 91\"))","v":""},{"$f":"IF(BY93=\"\",\"\",VLOOKUP(\"CM_Base_DCP\",'Send Sync'!$K$56:$L$96,2,FALSE))","v":""},null,{"$f":"IF(BY93=\"\",\"\",BY78)","v":""},{"$f":"IF(BY93=\"\",\"\",CONCATENATE(\"<Data><cm_base_dcp_01_begin>\",CO475,\"</cm_base_dcp_01_begin><cm_base_dcp_02_end>\",CO476,\"</cm_base_dcp_02_end><cm_base_dcp_03_blows>\",CO477,\"</cm_base_dcp_03_blows><cm_base_dcp_04_index>\",CO478,\"</cm_base_dcp_04_index></Data>\"))","v":""},"","","","",null,null,null,null,null,null,null,"",null,{"$f":"IF(BY20=\"\",\"\",\"AgencyEntityInsData Id 91\")","v":""},{"$f":"IF(BY20=\"\",\"\",\"AgencyEntityInstance Id 18\")","v":""},{"$f":"IF(BY20=\"\",\"\",\"cm_subgrade_comp_02_qty_cy_b\")","v":""},{"$f":"IF(BY20=\"\",\"\",'Test 1'!AE96)","v":""},{"$f":"IF(BY20=\"\",\"\",TODAY())","v":""},{"$f":"IF(BY20=\"\",\"\",\"WTSYSTEMUSER\")","v":""},{"$f":"IF(BY20=\"\",\"\",TODAY())","v":""},{"$f":"IF(BY20=\"\",\"\",\"WTSYSTEMUSER\")","v":""}]
[null,null,null,null,null,null,null,null,null,null,null,null,null,null,null,null,null,null,null,null,null,null,null,null,null,null,null,null,null,null,null,null,null,null,null,null,null,null,null,null,null,null,null,null,null,null,null,null,null,null,null,null,null,null,null,null,null,null,null,null,null,null,null,null,null,null,null,null,null,null,null,null,null,null,null,null,{"$f":"IF(AH36=\"\",\"\",IF('Test 5'!AI39=\"\",\"\",\"AgencyEntityInstance Id 92\"))","v":""},{"$f":"IF(BY94=\"\",\"\",VLOOKUP(\"CM_Base_DCP\",'Send Sync'!$K$56:$L$96,2,FALSE))","v":""},null,{"$f":"IF(BY94=\"\",\"\",BY78)","v":""},{"$f":"IF(BY94=\"\",\"\",CONCATENATE(\"<Data><cm_base_dcp_01_begin>\",CO479,\"</cm_base_dcp_01_begin><cm_base_dcp_02_end>\",CO480,\"</cm_base_dcp_02_end><cm_base_dcp_03_blows>\",CO481,\"</cm_base_dcp_03_blows><cm_base_dcp_04_index>\",CO482,\"</cm_base_dcp_04_index></Data>\"))","v":""},"","","","",null,null,null,null,null,null,null,"",null,{"$f":"IF(BY20=\"\",\"\",\"AgencyEntityInsData Id 92\")","v":""},{"$f":"IF(BY20=\"\",\"\",\"AgencyEntityInstance Id 18\")","v":""},{"$f":"IF(BY20=\"\",\"\",\"cm_subgrade_comp_03_qty_cy_rocky\")","v":""},{"$f":"IF(BY20=\"\",\"\",'Test 1'!AE97)","v":""},{"$f":"IF(BY20=\"\",\"\",TODAY())","v":""},{"$f":"IF(BY20=\"\",\"\",\"WTSYSTEMUSER\")","v":""},{"$f":"IF(BY20=\"\",\"\",TODAY())","v":""},{"$f":"IF(BY20=\"\",\"\",\"WTSYSTEMUSER\")","v":""}]
[null,null,null,null,null,null,null,null,null,null,null,null,null,null,null,null,null,null,null,null,null,null,null,null,null,null,null,null,null,null,null,null,null,null,null,null,null,null,null,null,null,null,null,null,null,null,null,null,null,null,null,null,null,null,null,null,null,null,null,null,null,null,null,null,null,null,null,null,null,null,null,null,null,null,null,null,{"$f":"IF(AH36=\"\",\"\",IF('Test 5'!AI40=\"\",\"\",\"AgencyEntityInstance Id 93\"))","v":""},{"$f":"IF(BY95=\"\",\"\",VLOOKUP(\"CM_Base_DCP\",'Send Sync'!$K$56:$L$96,2,FALSE))","v":""},null,{"$f":"IF(BY95=\"\",\"\",BY78)","v":""},{"$f":"IF(BY95=\"\",\"\",CONCATENATE(\"<Data><cm_base_dcp_01_begin>\",CO483,\"</cm_base_dcp_01_begin><cm_base_dcp_02_end>\",CO484,\"</cm_base_dcp_02_end><cm_base_dcp_03_blows>\",CO485,\"</cm_base_dcp_03_blows><cm_base_dcp_04_index>\",CO486,\"</cm_base_dcp_04_index></Data>\"))","v":""},"","","","",null,null,null,null,null,null,null,"",null,{"$f":"IF(BY20=\"\",\"\",\"AgencyEntityInsData Id 93\")","v":""},{"$f":"IF(BY20=\"\",\"\",\"AgencyEntityInstance Id 18\")","v":""},{"$f":"IF(BY20=\"\",\"\",\"cm_subgrade_comp_04_qty_sta_a\")","v":""},{"$f":"IF(BY20=\"\",\"\",'Test 1'!AF95)","v":""},{"$f":"IF(BY20=\"\",\"\",TODAY())","v":""},{"$f":"IF(BY20=\"\",\"\",\"WTSYSTEMUSER\")","v":""},{"$f":"IF(BY20=\"\",\"\",TODAY())","v":""},{"$f":"IF(BY20=\"\",\"\",\"WTSYSTEMUSER\")","v":""}]
[null,null,null,null,null,null,null,null,null,null,null,null,null,null,null,null,null,null,null,null,null,null,null,null,null,null,null,null,null,null,null,null,null,null,null,null,null,null,null,null,null,null,null,null,null,null,null,null,null,null,null,null,null,null,null,null,null,null,null,null,null,null,null,null,null,null,null,null,null,null,null,null,null,null,null,null,{"$f":"IF(AH36=\"\",\"\",IF('Test 5'!AI41=\"\",\"\",\"AgencyEntityInstance Id 94\"))","v":""},{"$f":"IF(BY96=\"\",\"\",VLOOKUP(\"CM_Base_DCP\",'Send Sync'!$K$56:$L$96,2,FALSE))","v":""},null,{"$f":"IF(BY96=\"\",\"\",BY78)","v":""},{"$f":"IF(BY96=\"\",\"\",CONCATENATE(\"<Data><cm_base_dcp_01_begin>\",CO487,\"</cm_base_dcp_01_begin><cm_base_dcp_02_end>\",CO488,\"</cm_base_dcp_02_end><cm_base_dcp_03_blows>\",CO489,\"</cm_base_dcp_03_blows><cm_base_dcp_04_index>\",CO490,\"</cm_base_dcp_04_index></Data>\"))","v":""},"","","","",null,null,null,null,null,null,null,"",null,{"$f":"IF(BY20=\"\",\"\",\"AgencyEntityInsData Id 94\")","v":""},{"$f":"IF(BY20=\"\",\"\",\"AgencyEntityInstance Id 18\")","v":""},{"$f":"IF(BY20=\"\",\"\",\"cm_subgrade_comp_05_qty_sta_b\")","v":""},{"$f":"IF(BY20=\"\",\"\",'Test 1'!AF96)","v":""},{"$f":"IF(BY20=\"\",\"\",TODAY())","v":""},{"$f":"IF(BY20=\"\",\"\",\"WTSYSTEMUSER\")","v":""},{"$f":"IF(BY20=\"\",\"\",TODAY())","v":""},{"$f":"IF(BY20=\"\",\"\",\"WTSYSTEMUSER\")","v":""}]
[null,null,null,null,null,null,null,null,null,null,null,null,null,null,null,null,null,null,null,null,null,null,null,null,null,null,null,null,null,null,null,null,null,null,null,null,null,null,null,null,null,null,null,null,null,null,null,null,null,null,null,null,null,null,null,null,null,null,null,null,null,null,null,null,null,null,null,null,null,null,null,null,null,null,null,null,{"$f":"IF(AH36=\"\",\"\",IF('Test 5'!AI42=\"\",\"\",\"AgencyEntityInstance Id 95\"))","v":""},{"$f":"IF(BY97=\"\",\"\",VLOOKUP(\"CM_Base_DCP\",'Send Sync'!$K$56:$L$96,2,FALSE))","v":""},null,{"$f":"IF(BY97=\"\",\"\",BY78)","v":""},{"$f":"IF(BY97=\"\",\"\",CONCATENATE(\"<Data><cm_base_dcp_01_begin>\",CO491,\"</cm_base_dcp_01_begin><cm_base_dcp_02_end>\",CO492,\"</cm_base_dcp_02_end><cm_base_dcp_03_blows>\",CO493,\"</cm_base_dcp_03_blows><cm_base_dcp_04_index>\",CO494,\"</cm_base_dcp_04_index></Data>\"))","v":""},"","","","",null,null,null,null,null,null,null,"",null,{"$f":"IF(BY20=\"\",\"\",\"AgencyEntityInsData Id 95\")","v":""},{"$f":"IF(BY20=\"\",\"\",\"AgencyEntityInstance Id 18\")","v":""},{"$f":"IF(BY20=\"\",\"\",\"cm_subgrade_comp_06_qty_sta_rocky\")","v":""},{"$f":"IF(BY20=\"\",\"\",'Test 1'!AF97)","v":""},{"$f":"IF(BY20=\"\",\"\",TODAY())","v":""},{"$f":"IF(BY20=\"\",\"\",\"WTSYSTEMUSER\")","v":""},{"$f":"IF(BY20=\"\",\"\",TODAY())","v":""},{"$f":"IF(BY20=\"\",\"\",\"WTSYSTEMUSER\")","v":""}]
[null,null,null,null,null,null,null,null,null,null,null,null,null,null,null,null,null,null,null,null,null,null,null,null,null,null,null,null,null,null,null,null,null,null,null,null,null,null,null,null,null,null,null,null,null,null,null,null,null,null,null,null,null,null,null,null,null,null,null,null,null,null,null,null,null,null,null,null,null,null,null,null,null,null,null,null,{"$f":"IF(AH36=\"\",\"\",IF('Test 5'!AI43=\"\",\"\",\"AgencyEntityInstance Id 96\"))","v":""},{"$f":"IF(BY98=\"\",\"\",VLOOKUP(\"CM_Base_DCP\",'Send Sync'!$K$56:$L$96,2,FALSE))","v":""},null,{"$f":"IF(BY98=\"\",\"\",BY78)","v":""},{"$f":"IF(BY98=\"\",\"\",CONCATENATE(\"<Data><cm_base_dcp_01_begin>\",CO495,\"</cm_base_dcp_01_begin><cm_base_dcp_02_end>\",CO496,\"</cm_base_dcp_02_end><cm_base_dcp_03_blows>\",CO497,\"</cm_base_dcp_03_blows><cm_base_dcp_04_index>\",CO498,\"</cm_base_dcp_04_index></Data>\"))","v":""},"","","","",null,null,null,null,null,null,null,"",null,{"$f":"IF(BY20=\"\",\"\",\"AgencyEntityInsData Id 96\")","v":""},{"$f":"IF(BY20=\"\",\"\",\"AgencyEntityInstance Id 18\")","v":""},{"$f":"IF(BY20=\"\",\"\",\"cm_subgrade_comp_07_comp_a\")","v":""},{"$f":"IF(BY20=\"\",\"\",'Test 1'!AG95)","v":""},{"$f":"IF(BY20=\"\",\"\",TODAY())","v":""},{"$f":"IF(BY20=\"\",\"\",\"WTSYSTEMUSER\")","v":""},{"$f":"IF(BY20=\"\",\"\",TODAY())","v":""},{"$f":"IF(BY20=\"\",\"\",\"WTSYSTEMUSER\")","v":""}]
[null,null,null,null,null,null,null,null,null,null,null,null,null,null,null,null,null,null,null,null,null,null,null,null,null,null,null,null,null,null,null,null,null,null,null,null,null,null,null,null,null,null,null,null,null,null,null,null,null,null,null,null,null,null,null,null,null,null,null,null,null,null,null,null,null,null,null,null,null,null,null,null,null,null,null,{"$f":"BX78+1","v":3},{"$f":"IF(AH37=\"\",\"\",\"AgencyEntityInstance Id 97\")","v":""},{"$f":"IF(BY99=\"\",\"\",VLOOKUP(\"CM_Base_DCP_Header\",'Send Sync'!$K$56:$L$96,2,FALSE))","v":""},{"$f":"IF(BY99=\"\",\"\",\"SampleRecordTest Id 35\")","v":""},null,{"$f":"IF(BY99=\"\",\"\",CONCATENATE(\"<Data><cm_base_dcp_header_01_avg>\",CO499,\"</cm_base_dcp_header_01_avg><cm_base_dcp_header_02_thi_spec>\",CO500,\"</cm_base_dcp_header_02_thi_spec><cm_base_dcp_header_03_thi_meas>\",CO501,\"</cm_base_dcp_header_03_thi_meas><cm_base_dcp_header_04_sta_1>\",CO502,\"</cm_base_dcp_header_04_sta_1><cm_base_dcp_header_05_sta_2>\",CO503,\"</cm_base_dcp_header_05_sta_2><cm_base_dcp_header_06_location>\",CO504,\"</cm_base_dcp_header_06_location><cm_base_dcp_header_07_tester>\",CO505,\"</cm_base_dcp_header_07_tester></Data>\"))","v":""},"","","","",null,null,null,null,null,null,null,"",null,{"$f":"IF(BY20=\"\",\"\",\"AgencyEntityInsData Id 97\")","v":""},{"$f":"IF(BY20=\"\",\"\",\"AgencyEntityInstance Id 18\")","v":""},{"$f":"IF(BY20=\"\",\"\",\"cm_subgrade_comp_08_comp_b\")","v":""},{"$f":"IF(BY20=\"\",\"\",'Test 1'!AG96)","v":""},{"$f":"IF(BY20=\"\",\"\",TODAY())","v":""},{"$f":"IF(BY20=\"\",\"\",\"WTSYSTEMUSER\")","v":""},{"$f":"IF(BY20=\"\",\"\",TODAY())","v":""},{"$f":"IF(BY20=\"\",\"\",\"WTSYSTEMUSER\")","v":""}]
[null,null,null,null,null,null,null,null,null,null,null,null,null,null,null,null,null,null,null,null,null,null,null,null,null,null,null,null,null,null,null,null,null,null,null,null,null,null,null,null,null,null,null,null,null,null,null,null,null,null,null,null,null,null,null,null,null,null,null,null,null,null,null,null,null,null,null,null,null,null,null,null,null,null,null,null,{"$f":"IF(AH37=\"\",\"\",IF('Test 5'!AF58=\"\",\"\",\"AgencyEntityInstance Id 98\"))","v":""},{"$f":"IF(BY100=\"\",\"\",VLOOKUP(\"CM_Base_DCP\",'Send Sync'!$K$56:$L$96,2,FALSE))","v":""},null,{"$f":"IF(BY100=\"\",\"\",BY99)","v":""},{"$f":"IF(BY100=\"\",\"\",CONCATENATE(\"<Data><cm_base_dcp_01_begin>\",CO506,\"</cm_base_dcp_01_begin><cm_base_dcp_02_end>\",CO507,\"</cm_base_dcp_02_end><cm_base_dcp_03_blows>\",CO508,\"</cm_base_dcp_03_blows><cm_base_dcp_04_index>\",CO509,\"</cm_base_dcp_04_index></Data>\"))","v":""},"","","","",null,null,null,null,null,null,null,"",null,{"$f":"IF(BY20=\"\",\"\",\"AgencyEntityInsData Id 98\")","v":""},{"$f":"IF(BY20=\"\",\"\",\"AgencyEntityInstance Id 18\")","v":""},{"$f":"IF(BY20=\"\",\"\",\"cm_subgrade_comp_09_density_a\")","v":""},{"$f":"IF(BY20=\"\",\"\",'Test 1'!AH95)","v":""},{"$f":"IF(BY20=\"\",\"\",TODAY())","v":""},{"$f":"IF(BY20=\"\",\"\",\"WTSYSTEMUSER\")","v":""},{"$f":"IF(BY20=\"\",\"\",TODAY())","v":""},{"$f":"IF(BY20=\"\",\"\",\"WTSYSTEMUSER\")","v":""}]
[null,null,null,null,null,null,null,null,null,null,null,null,null,null,null,null,null,null,null,null,null,null,null,null,null,null,null,null,null,null,null,null,null,null,null,null,null,null,null,null,null,null,null,null,null,null,null,null,null,null,null,null,null,null,null,null,null,null,null,null,null,null,null,null,null,null,null,null,null,null,null,null,null,null,null,null,{"$f":"IF(AH37=\"\",\"\",IF('Test 5'!AF59=\"\",\"\",\"AgencyEntityInstance Id 99\"))","v":""},{"$f":"IF(BY101=\"\",\"\",VLOOKUP(\"CM_Base_DCP\",'Send Sync'!$K$56:$L$96,2,FALSE))","v":""},null,{"$f":"IF(BY101=\"\",\"\",BY99)","v":""},{"$f":"IF(BY101=\"\",\"\",CONCATENATE(\"<Data><cm_base_dcp_01_begin>\",CO510,\"</cm_base_dcp_01_begin><cm_base_dcp_02_end>\",CO511,\"</cm_base_dcp_02_end><cm_base_dcp_03_blows>\",CO512,\"</cm_base_dcp_03_blows><cm_base_dcp_04_index>\",CO513,\"</cm_base_dcp_04_index></Data>\"))","v":""},"","","","",null,null,null,null,null,null,null,"",null,{"$f":"IF(BY20=\"\",\"\",\"AgencyEntityInsData Id 99\")","v":""},{"$f":"IF(BY20=\"\",\"\",\"AgencyEntityInstance Id 18\")","v":""},{"$f":"IF(BY20=\"\",\"\",\"cm_subgrade_comp_10_density_b\")","v":""},{"$f":"IF(BY20=\"\",\"\",'Test 1'!AH96)","v":""},{"$f":"IF(BY20=\"\",\"\",TODAY())","v":""},{"$f":"IF(BY20=\"\",\"\",\"WTSYSTEMUSER\")","v":""},{"$f":"IF(BY20=\"\",\"\",TODAY())","v":""},{"$f":"IF(BY20=\"\",\"\",\"WTSYSTEMUSER\")","v":""}]
[null,null,null,null,null,null,null,null,null,null,null,null,null,null,null,null,null,null,null,null,null,null,null,null,null,null,null,null,null,null,null,null,null,null,null,null,null,null,null,null,null,null,null,null,null,null,null,null,null,null,null,null,null,null,null,null,null,null,null,null,null,null,null,null,null,null,null,null,null,null,null,null,null,null,null,null,{"$f":"IF(AH37=\"\",\"\",IF('Test 5'!AF60=\"\",\"\",\"AgencyEntityInstance Id 100\"))","v":""},{"$f":"IF(BY102=\"\",\"\",VLOOKUP(\"CM_Base_DCP\",'Send Sync'!$K$56:$L$96,2,FALSE))","v":""},null,{"$f":"IF(BY102=\"\",\"\",BY99)","v":""},{"$f":"IF(BY102=\"\",\"\",CONCATENATE(\"<Data><cm_base_dcp_01_begin>\",CO514,\"</cm_base_dcp_01_begin><cm_base_dcp_02_end>\",CO515,\"</cm_base_dcp_02_end><cm_base_dcp_03_blows>\",CO516,\"</cm_base_dcp_03_blows><cm_base_dcp_04_index>\",CO517,\"</cm_base_dcp_04_index></Data>\"))","v":""},"","","","",null,null,null,null,null,null,null,"",null,{"$f":"IF(BY21=\"\",\"\",\"AgencyEntityInsData Id 100\")","v":""},{"$f":"IF(BY21=\"\",\"\",\"AgencyEntityInstance Id 19\")","v":""},{"$f":"IF(BY21=\"\",\"\",\"CM_Standard_For_Remarks\")","v":""},{"$f":"IF(BY21=\"\",\"\",IF('Test 1'!J91=\"\",\"\",'Test 1'!J91))","v":""},{"$f":"IF(BY21=\"\",\"\",TODAY())","v":""},{"$f":"IF(BY21=\"\",\"\",\"WTSYSTEMUSER\")","v":""},{"$f":"IF(BY21=\"\",\"\",TODAY())","v":""},{"$f":"IF(BY21=\"\",\"\",\"WTSYSTEMUSER\")","v":""}]
[null,null,null,null,null,null,null,null,null,null,null,null,null,null,null,null,null,null,null,null,null,null,null,null,null,null,null,null,null,null,null,null,null,null,null,null,null,null,null,null,null,null,null,null,null,null,null,null,null,null,null,null,null,null,null,null,null,null,null,null,null,null,null,null,null,null,null,null,null,null,null,null,null,null,null,null,{"$f":"IF(AH37=\"\",\"\",IF('Test 5'!AF61=\"\",\"\",\"AgencyEntityInstance Id 101\"))","v":""},{"$f":"IF(BY103=\"\",\"\",VLOOKUP(\"CM_Base_DCP\",'Send Sync'!$K$56:$L$96,2,FALSE))","v":""},null,{"$f":"IF(BY103=\"\",\"\",BY99)","v":""},{"$f":"IF(BY103=\"\",\"\",CONCATENATE(\"<Data><cm_base_dcp_01_begin>\",CO518,\"</cm_base_dcp_01_begin><cm_base_dcp_02_end>\",CO519,\"</cm_base_dcp_02_end><cm_base_dcp_03_blows>\",CO520,\"</cm_base_dcp_03_blows><cm_base_dcp_04_index>\",CO521,\"</cm_base_dcp_04_index></Data>\"))","v":""},"","","","",null,null,null,null,null,null,null,"",10,{"$f":"IF(BY22=\"\",\"\",\"AgencyEntityInsData Id 101\")","v":""},{"$f":"IF(BY22=\"\",\"\",\"AgencyEntityInstance Id 20\")","v":""},{"$f":"IF(BY22=\"\",\"\",\"cm_subgrade_comp_01_qty_cy_a\")","v":""},{"$f":"IF(BY22=\"\",\"\",'Test 1'!AE105)","v":""},{"$f":"IF(BY22=\"\",\"\",TODAY())","v":""},{"$f":"IF(BY22=\"\",\"\",\"WTSYSTEMUSER\")","v":""},{"$f":"IF(BY22=\"\",\"\",TODAY())","v":""},{"$f":"IF(BY22=\"\",\"\",\"WTSYSTEMUSER\")","v":""}]
[null,null,null,null,null,null,null,null,null,null,null,null,null,null,null,null,null,null,null,null,null,null,null,null,null,null,null,null,null,null,null,null,null,null,null,null,null,null,null,null,null,null,null,null,null,null,null,null,null,null,null,null,null,null,null,null,null,null,null,null,null,null,null,null,null,null,null,null,null,null,null,null,null,null,null,null,{"$f":"IF(AH37=\"\",\"\",IF('Test 5'!AF62=\"\",\"\",\"AgencyEntityInstance Id 102\"))","v":""},{"$f":"IF(BY104=\"\",\"\",VLOOKUP(\"CM_Base_DCP\",'Send Sync'!$K$56:$L$96,2,FALSE))","v":""},null,{"$f":"IF(BY104=\"\",\"\",BY99)","v":""},{"$f":"IF(BY104=\"\",\"\",CONCATENATE(\"<Data><cm_base_dcp_01_begin>\",CO522,\"</cm_base_dcp_01_begin><cm_base_dcp_02_end>\",CO523,\"</cm_base_dcp_02_end><cm_base_dcp_03_blows>\",CO524,\"</cm_base_dcp_03_blows><cm_base_dcp_04_index>\",CO525,\"</cm_base_dcp_04_index></Data>\"))","v":""},"","","","",null,null,null,null,null,null,null,"",null,{"$f":"IF(BY22=\"\",\"\",\"AgencyEntityInsData Id 102\")","v":""},{"$f":"IF(BY22=\"\",\"\",\"AgencyEntityInstance Id 20\")","v":""},{"$f":"IF(BY22=\"\",\"\",\"cm_subgrade_comp_02_qty_cy_b\")","v":""},{"$f":"IF(BY22=\"\",\"\",'Test 1'!AE106)","v":""},{"$f":"IF(BY22=\"\",\"\",TODAY())","v":""},{"$f":"IF(BY22=\"\",\"\",\"WTSYSTEMUSER\")","v":""},{"$f":"IF(BY22=\"\",\"\",TODAY())","v":""},{"$f":"IF(BY22=\"\",\"\",\"WTSYSTEMUSER\")","v":""}]
[null,null,null,null,null,null,null,null,null,null,null,null,null,null,null,null,null,null,null,null,null,null,null,null,null,null,null,null,null,null,null,null,null,null,null,null,null,null,null,null,null,null,null,null,null,null,null,null,null,null,null,null,null,null,null,null,null,null,null,null,null,null,null,null,null,null,null,null,null,null,null,null,null,null,null,null,{"$f":"IF(AH37=\"\",\"\",IF('Test 5'!AF63=\"\",\"\",\"AgencyEntityInstance Id 103\"))","v":""},{"$f":"IF(BY105=\"\",\"\",VLOOKUP(\"CM_Base_DCP\",'Send Sync'!$K$56:$L$96,2,FALSE))","v":""},null,{"$f":"IF(BY105=\"\",\"\",BY99)","v":""},{"$f":"IF(BY105=\"\",\"\",CONCATENATE(\"<Data><cm_base_dcp_01_begin>\",CO526,\"</cm_base_dcp_01_begin><cm_base_dcp_02_end>\",CO527,\"</cm_base_dcp_02_end><cm_base_dcp_03_blows>\",CO528,\"</cm_base_dcp_03_blows><cm_base_dcp_04_index>\",CO529,\"</cm_base_dcp_04_index></Data>\"))","v":""},"","","","",null,null,null,null,null,null,null,"",null,{"$f":"IF(BY22=\"\",\"\",\"AgencyEntityInsData Id 103\")","v":""},{"$f":"IF(BY22=\"\",\"\",\"AgencyEntityInstance Id 20\")","v":""},{"$f":"IF(BY22=\"\",\"\",\"cm_subgrade_comp_03_qty_cy_rocky\")","v":""},{"$f":"IF(BY22=\"\",\"\",'Test 1'!AE107)","v":""},{"$f":"IF(BY22=\"\",\"\",TODAY())","v":""},{"$f":"IF(BY22=\"\",\"\",\"WTSYSTEMUSER\")","v":""},{"$f":"IF(BY22=\"\",\"\",TODAY())","v":""},{"$f":"IF(BY22=\"\",\"\",\"WTSYSTEMUSER\")","v":""}]
[null,null,null,null,null,null,null,null,null,null,null,null,null,null,null,null,null,null,null,null,null,null,null,null,null,null,null,null,null,null,null,null,null,null,null,null,null,null,null,null,null,null,null,null,null,null,null,null,null,null,null,null,null,null,null,null,null,null,null,null,null,null,null,null,null,null,null,null,null,null,null,null,null,null,null,null,{"$f":"IF(AH37=\"\",\"\",IF('Test 5'!AF64=\"\",\"\",\"AgencyEntityInstance Id 104\"))","v":""},{"$f":"IF(BY106=\"\",\"\",VLOOKUP(\"CM_Base_DCP\",'Send Sync'!$K$56:$L$96,2,FALSE))","v":""},null,{"$f":"IF(BY106=\"\",\"\",BY99)","v":""},{"$f":"IF(BY106=\"\",\"\",CONCATENATE(\"<Data><cm_base_dcp_01_begin>\",CO530,\"</cm_base_dcp_01_begin><cm_base_dcp_02_end>\",CO531,\"</cm_base_dcp_02_end><cm_base_dcp_03_blows>\",CO532,\"</cm_base_dcp_03_blows><cm_base_dcp_04_index>\",CO533,\"</cm_base_dcp_04_index></Data>\"))","v":""},"","","","",null,null,null,null,null,null,null,"",null,{"$f":"IF(BY22=\"\",\"\",\"AgencyEntityInsData Id 104\")","v":""},{"$f":"IF(BY22=\"\",\"\",\"AgencyEntityInstance Id 20\")","v":""},{"$f":"IF(BY22=\"\",\"\",\"cm_subgrade_comp_04_qty_sta_a\")","v":""},{"$f":"IF(BY22=\"\",\"\",'Test 1'!AF105)","v":""},{"$f":"IF(BY22=\"\",\"\",TODAY())","v":""},{"$f":"IF(BY22=\"\",\"\",\"WTSYSTEMUSER\")","v":""},{"$f":"IF(BY22=\"\",\"\",TODAY())","v":""},{"$f":"IF(BY22=\"\",\"\",\"WTSYSTEMUSER\")","v":""}]
[null,null,null,null,null,null,null,null,null,null,null,null,null,null,null,null,null,null,null,null,null,null,null,null,null,null,null,null,null,null,null,null,null,null,null,null,null,null,null,null,null,null,null,null,null,null,null,null,null,null,null,null,null,null,null,null,null,null,null,null,null,null,null,null,null,null,null,null,null,null,null,null,null,null,null,null,{"$f":"IF(AH37=\"\",\"\",IF('Test 5'!AF65=\"\",\"\",\"AgencyEntityInstance Id 105\"))","v":""},{"$f":"IF(BY107=\"\",\"\",VLOOKUP(\"CM_Base_DCP\",'Send Sync'!$K$56:$L$96,2,FALSE))","v":""},null,{"$f":"IF(BY107=\"\",\"\",BY99)","v":""},{"$f":"IF(BY107=\"\",\"\",CONCATENATE(\"<Data><cm_base_dcp_01_begin>\",CO534,\"</cm_base_dcp_01_begin><cm_base_dcp_02_end>\",CO535,\"</cm_base_dcp_02_end><cm_base_dcp_03_blows>\",CO536,\"</cm_base_dcp_03_blows><cm_base_dcp_04_index>\",CO537,\"</cm_base_dcp_04_index></Data>\"))","v":""},"","","","",null,null,null,null,null,null,null,"",null,{"$f":"IF(BY22=\"\",\"\",\"AgencyEntityInsData Id 105\")","v":""},{"$f":"IF(BY22=\"\",\"\",\"AgencyEntityInstance Id 20\")","v":""},{"$f":"IF(BY22=\"\",\"\",\"cm_subgrade_comp_05_qty_sta_b\")","v":""},{"$f":"IF(BY22=\"\",\"\",'Test 1'!AF106)","v":""},{"$f":"IF(BY22=\"\",\"\",TODAY())","v":""},{"$f":"IF(BY22=\"\",\"\",\"WTSYSTEMUSER\")","v":""},{"$f":"IF(BY22=\"\",\"\",TODAY())","v":""},{"$f":"IF(BY22=\"\",\"\",\"WTSYSTEMUSER\")","v":""}]
[null,null,null,null,null,null,null,null,null,null,null,null,null,null,null,null,null,null,null,null,null,null,null,null,null,null,null,null,null,null,null,null,null,null,null,null,null,null,null,null,null,null,null,null,null,null,null,null,null,null,null,null,null,null,null,null,null,null,null,null,null,null,null,null,null,null,null,null,null,null,null,null,null,null,null,null,{"$f":"IF(AH37=\"\",\"\",IF('Test 5'!AF66=\"\",\"\",\"AgencyEntityInstance Id 106\"))","v":""},{"$f":"IF(BY108=\"\",\"\",VLOOKUP(\"CM_Base_DCP\",'Send Sync'!$K$56:$L$96,2,FALSE))","v":""},null,{"$f":"IF(BY108=\"\",\"\",BY99)","v":""},{"$f":"IF(BY108=\"\",\"\",CONCATENATE(\"<Data><cm_base_dcp_01_begin>\",CO538,\"</cm_base_dcp_01_begin><cm_base_dcp_02_end>\",CO539,\"</cm_base_dcp_02_end><cm_base_dcp_03_blows>\",CO540,\"</cm_base_dcp_03_blows><cm_base_dcp_04_index>\",CO541,\"</cm_base_dcp_04_index></Data>\"))","v":""},"","","","",null,null,null,null,null,null,null,"",null,{"$f":"IF(BY22=\"\",\"\",\"AgencyEntityInsData Id 106\")","v":""},{"$f":"IF(BY22=\"\",\"\",\"AgencyEntityInstance Id 20\")","v":""},{"$f":"IF(BY22=\"\",\"\",\"cm_subgrade_comp_06_qty_sta_rocky\")","v":""},{"$f":"IF(BY22=\"\",\"\",'Test 1'!AF107)","v":""},{"$f":"IF(BY22=\"\",\"\",TODAY())","v":""},{"$f":"IF(BY22=\"\",\"\",\"WTSYSTEMUSER\")","v":""},{"$f":"IF(BY22=\"\",\"\",TODAY())","v":""},{"$f":"IF(BY22=\"\",\"\",\"WTSYSTEMUSER\")","v":""}]
[null,null,null,null,null,null,null,null,null,null,null,null,null,null,null,null,null,null,null,null,null,null,null,null,null,null,null,null,null,null,null,null,null,null,null,null,null,null,null,null,null,null,null,null,null,null,null,null,null,null,null,null,null,null,null,null,null,null,null,null,null,null,null,null,null,null,null,null,null,null,null,null,null,null,null,null,{"$f":"IF(AH37=\"\",\"\",IF('Test 5'!AF67=\"\",\"\",\"AgencyEntityInstance Id 107\"))","v":""},{"$f":"IF(BY109=\"\",\"\",VLOOKUP(\"CM_Base_DCP\",'Send Sync'!$K$56:$L$96,2,FALSE))","v":""},null,{"$f":"IF(BY109=\"\",\"\",BY99)","v":""},{"$f":"IF(BY109=\"\",\"\",CONCATENATE(\"<Data><cm_base_dcp_01_begin>\",CO542,\"</cm_base_dcp_01_begin><cm_base_dcp_02_end>\",CO543,\"</cm_base_dcp_02_end><cm_base_dcp_03_blows>\",CO544,\"</cm_base_dcp_03_blows><cm_base_dcp_04_index>\",CO545,\"</cm_base_dcp_04_index></Data>\"))","v":""},"","","","",null,null,null,null,null,null,null,"",null,{"$f":"IF(BY22=\"\",\"\",\"AgencyEntityInsData Id 107\")","v":""},{"$f":"IF(BY22=\"\",\"\",\"AgencyEntityInstance Id 20\")","v":""},{"$f":"IF(BY22=\"\",\"\",\"cm_subgrade_comp_07_comp_a\")","v":""},{"$f":"IF(BY22=\"\",\"\",'Test 1'!AG105)","v":""},{"$f":"IF(BY22=\"\",\"\",TODAY())","v":""},{"$f":"IF(BY22=\"\",\"\",\"WTSYSTEMUSER\")","v":""},{"$f":"IF(BY22=\"\",\"\",TODAY())","v":""},{"$f":"IF(BY22=\"\",\"\",\"WTSYSTEMUSER\")","v":""}]
[null,null,null,null,null,null,null,null,null,null,null,null,null,null,null,null,null,null,null,null,null,null,null,null,null,null,null,null,null,null,null,null,null,null,null,null,null,null,null,null,null,null,null,null,null,null,null,null,null,null,null,null,null,null,null,null,null,null,null,null,null,null,null,null,null,null,null,null,null,null,null,null,null,null,null,null,{"$f":"IF(AH37=\"\",\"\",IF('Test 5'!AF68=\"\",\"\",\"AgencyEntityInstance Id 108\"))","v":""},{"$f":"IF(BY110=\"\",\"\",VLOOKUP(\"CM_Base_DCP\",'Send Sync'!$K$56:$L$96,2,FALSE))","v":""},null,{"$f":"IF(BY110=\"\",\"\",BY99)","v":""},{"$f":"IF(BY110=\"\",\"\",CONCATENATE(\"<Data><cm_base_dcp_01_begin>\",CO546,\"</cm_base_dcp_01_begin><cm_base_dcp_02_end>\",CO547,\"</cm_base_dcp_02_end><cm_base_dcp_03_blows>\",CO548,\"</cm_base_dcp_03_blows><cm_base_dcp_04_index>\",CO549,\"</cm_base_dcp_04_index></Data>\"))","v":""},"","","","",null,null,null,null,null,null,null,"",null,{"$f":"IF(BY22=\"\",\"\",\"AgencyEntityInsData Id 108\")","v":""},{"$f":"IF(BY22=\"\",\"\",\"AgencyEntityInstance Id 20\")","v":""},{"$f":"IF(BY22=\"\",\"\",\"cm_subgrade_comp_08_comp_b\")","v":""},{"$f":"IF(BY22=\"\",\"\",'Test 1'!AG106)","v":""},{"$f":"IF(BY22=\"\",\"\",TODAY())","v":""},{"$f":"IF(BY22=\"\",\"\",\"WTSYSTEMUSER\")","v":""},{"$f":"IF(BY22=\"\",\"\",TODAY())","v":""},{"$f":"IF(BY22=\"\",\"\",\"WTSYSTEMUSER\")","v":""}]
[null,null,null,null,null,null,null,null,null,null,null,null,null,null,null,null,null,null,null,null,null,null,null,null,null,null,null,null,null,null,null,null,null,null,null,null,null,null,null,null,null,null,null,null,null,null,null,null,null,null,null,null,null,null,null,null,null,null,null,null,null,null,null,null,null,null,null,null,null,null,null,null,null,null,null,null,{"$f":"IF(AH37=\"\",\"\",IF('Test 5'!AF69=\"\",\"\",\"AgencyEntityInstance Id 109\"))","v":""},{"$f":"IF(BY111=\"\",\"\",VLOOKUP(\"CM_Base_DCP\",'Send Sync'!$K$56:$L$96,2,FALSE))","v":""},null,{"$f":"IF(BY111=\"\",\"\",BY99)","v":""},{"$f":"IF(BY111=\"\",\"\",CONCATENATE(\"<Data><cm_base_dcp_01_begin>\",CO550,\"</cm_base_dcp_01_begin><cm_base_dcp_02_end>\",CO551,\"</cm_base_dcp_02_end><cm_base_dcp_03_blows>\",CO552,\"</cm_base_dcp_03_blows><cm_base_dcp_04_index>\",CO553,\"</cm_base_dcp_04_index></Data>\"))","v":""},"","","","",null,null,null,null,null,null,null,"",null,{"$f":"IF(BY22=\"\",\"\",\"AgencyEntityInsData Id 109\")","v":""},{"$f":"IF(BY22=\"\",\"\",\"AgencyEntityInstance Id 20\")","v":""},{"$f":"IF(BY22=\"\",\"\",\"cm_subgrade_comp_09_density_a\")","v":""},{"$f":"IF(BY22=\"\",\"\",'Test 1'!AH105)","v":""},{"$f":"IF(BY22=\"\",\"\",TODAY())","v":""},{"$f":"IF(BY22=\"\",\"\",\"WTSYSTEMUSER\")","v":""},{"$f":"IF(BY22=\"\",\"\",TODAY())","v":""},{"$f":"IF(BY22=\"\",\"\",\"WTSYSTEMUSER\")","v":""}]
[null,null,null,null,null,null,null,null,null,null,null,null,null,null,null,null,null,null,null,null,null,null,null,null,null,null,null,null,null,null,null,null,null,null,null,null,null,null,null,null,null,null,null,null,null,null,null,null,null,null,null,null,null,null,null,null,null,null,null,null,null,null,null,null,null,null,null,null,null,null,null,null,null,null,null,null,{"$f":"IF(AH37=\"\",\"\",IF('Test 5'!AF70=\"\",\"\",\"AgencyEntityInstance Id 110\"))","v":""},{"$f":"IF(BY112=\"\",\"\",VLOOKUP(\"CM_Base_DCP\",'Send Sync'!$K$56:$L$96,2,FALSE))","v":""},null,{"$f":"IF(BY112=\"\",\"\",BY99)","v":""},{"$f":"IF(BY112=\"\",\"\",CONCATENATE(\"<Data><cm_base_dcp_01_begin>\",CO554,\"</cm_base_dcp_01_begin><cm_base_dcp_02_end>\",CO555,\"</cm_base_dcp_02_end><cm_base_dcp_03_blows>\",CO556,\"</cm_base_dcp_03_blows><cm_base_dcp_04_index>\",CO557,\"</cm_base_dcp_04_index></Data>\"))","v":""},"","","","",null,null,null,null,null,null,null,"",null,{"$f":"IF(BY22=\"\",\"\",\"AgencyEntityInsData Id 110\")","v":""},{"$f":"IF(BY22=\"\",\"\",\"AgencyEntityInstance Id 20\")","v":""},{"$f":"IF(BY22=\"\",\"\",\"cm_subgrade_comp_10_density_b\")","v":""},{"$f":"IF(BY22=\"\",\"\",'Test 1'!AH106)","v":""},{"$f":"IF(BY22=\"\",\"\",TODAY())","v":""},{"$f":"IF(BY22=\"\",\"\",\"WTSYSTEMUSER\")","v":""},{"$f":"IF(BY22=\"\",\"\",TODAY())","v":""},{"$f":"IF(BY22=\"\",\"\",\"WTSYSTEMUSER\")","v":""}]
[null,null,null,null,null,null,null,null,null,null,null,null,null,null,null,null,null,null,null,null,null,null,null,null,null,null,null,null,null,null,null,null,null,null,null,null,null,null,null,null,null,null,null,null,null,null,null,null,null,null,null,null,null,null,null,null,null,null,null,null,null,null,null,null,null,null,null,null,null,null,null,null,null,null,null,null,{"$f":"IF(AH37=\"\",\"\",IF('Test 5'!AF71=\"\",\"\",\"AgencyEntityInstance Id 111\"))","v":""},{"$f":"IF(BY113=\"\",\"\",VLOOKUP(\"CM_Base_DCP\",'Send Sync'!$K$56:$L$96,2,FALSE))","v":""},null,{"$f":"IF(BY113=\"\",\"\",BY99)","v":""},{"$f":"IF(BY113=\"\",\"\",CONCATENATE(\"<Data><cm_base_dcp_01_begin>\",CO558,\"</cm_base_dcp_01_begin><cm_base_dcp_02_end>\",CO559,\"</cm_base_dcp_02_end><cm_base_dcp_03_blows>\",CO560,\"</cm_base_dcp_03_blows><cm_base_dcp_04_index>\",CO561,\"</cm_base_dcp_04_index></Data>\"))","v":""},"","","","",null,null,null,null,null,null,null,"",null,{"$f":"IF(BY23=\"\",\"\",\"AgencyEntityInsData Id 111\")","v":""},{"$f":"IF(BY23=\"\",\"\",\"AgencyEntityInstance Id 21\")","v":""},{"$f":"IF(BY23=\"\",\"\",\"CM_Standard_For_Remarks\")","v":""},{"$f":"IF(BY23=\"\",\"\",IF('Test 1'!J101=\"\",\"\",'Test 1'!J101))","v":""},{"$f":"IF(BY23=\"\",\"\",TODAY())","v":""},{"$f":"IF(BY23=\"\",\"\",\"WTSYSTEMUSER\")","v":""},{"$f":"IF(BY23=\"\",\"\",TODAY())","v":""},{"$f":"IF(BY23=\"\",\"\",\"WTSYSTEMUSER\")","v":""}]
[null,null,null,null,null,null,null,null,null,null,null,null,null,null,null,null,null,null,null,null,null,null,null,null,null,null,null,null,null,null,null,null,null,null,null,null,null,null,null,null,null,null,null,null,null,null,null,null,null,null,null,null,null,null,null,null,null,null,null,null,null,null,null,null,null,null,null,null,null,null,null,null,null,null,null,null,{"$f":"IF(AH37=\"\",\"\",IF('Test 5'!AF72=\"\",\"\",\"AgencyEntityInstance Id 112\"))","v":""},{"$f":"IF(BY114=\"\",\"\",VLOOKUP(\"CM_Base_DCP\",'Send Sync'!$K$56:$L$96,2,FALSE))","v":""},null,{"$f":"IF(BY114=\"\",\"\",BY99)","v":""},{"$f":"IF(BY114=\"\",\"\",CONCATENATE(\"<Data><cm_base_dcp_01_begin>\",CO562,\"</cm_base_dcp_01_begin><cm_base_dcp_02_end>\",CO563,\"</cm_base_dcp_02_end><cm_base_dcp_03_blows>\",CO564,\"</cm_base_dcp_03_blows><cm_base_dcp_04_index>\",CO565,\"</cm_base_dcp_04_index></Data>\"))","v":""},"","","","",null,null,null,null,null,null,null,"",11,{"$f":"IF(BY24=\"\",\"\",\"AgencyEntityInsData Id 112\")","v":""},{"$f":"IF(BY24=\"\",\"\",\"AgencyEntityInstance Id 22\")","v":""},{"$f":"IF(BY24=\"\",\"\",\"cm_subgrade_comp_01_qty_cy_a\")","v":""},{"$f":"IF(BY24=\"\",\"\",'Test 1'!AE115)","v":""},{"$f":"IF(BY24=\"\",\"\",TODAY())","v":""},{"$f":"IF(BY24=\"\",\"\",\"WTSYSTEMUSER\")","v":""},{"$f":"IF(BY24=\"\",\"\",TODAY())","v":""},{"$f":"IF(BY24=\"\",\"\",\"WTSYSTEMUSER\")","v":""}]
[null,null,null,null,null,null,null,null,null,null,null,null,null,null,null,null,null,null,null,null,null,null,null,null,null,null,null,null,null,null,null,null,null,null,null,null,null,null,null,null,null,null,null,null,null,null,null,null,null,null,null,null,null,null,null,null,null,null,null,null,null,null,null,null,null,null,null,null,null,null,null,null,null,null,null,null,{"$f":"IF(AH37=\"\",\"\",IF('Test 5'!AF73=\"\",\"\",\"AgencyEntityInstance Id 113\"))","v":""},{"$f":"IF(BY115=\"\",\"\",VLOOKUP(\"CM_Base_DCP\",'Send Sync'!$K$56:$L$96,2,FALSE))","v":""},null,{"$f":"IF(BY115=\"\",\"\",BY99)","v":""},{"$f":"IF(BY115=\"\",\"\",CONCATENATE(\"<Data><cm_base_dcp_01_begin>\",CO566,\"</cm_base_dcp_01_begin><cm_base_dcp_02_end>\",CO567,\"</cm_base_dcp_02_end><cm_base_dcp_03_blows>\",CO568,\"</cm_base_dcp_03_blows><cm_base_dcp_04_index>\",CO569,\"</cm_base_dcp_04_index></Data>\"))","v":""},"","","","",null,null,null,null,null,null,null,"",null,{"$f":"IF(BY24=\"\",\"\",\"AgencyEntityInsData Id 113\")","v":""},{"$f":"IF(BY24=\"\",\"\",\"AgencyEntityInstance Id 22\")","v":""},{"$f":"IF(BY24=\"\",\"\",\"cm_subgrade_comp_02_qty_cy_b\")","v":""},{"$f":"IF(BY24=\"\",\"\",'Test 1'!AE116)","v":""},{"$f":"IF(BY24=\"\",\"\",TODAY())","v":""},{"$f":"IF(BY24=\"\",\"\",\"WTSYSTEMUSER\")","v":""},{"$f":"IF(BY24=\"\",\"\",TODAY())","v":""},{"$f":"IF(BY24=\"\",\"\",\"WTSYSTEMUSER\")","v":""}]
[null,null,null,null,null,null,null,null,null,null,null,null,null,null,null,null,null,null,null,null,null,null,null,null,null,null,null,null,null,null,null,null,null,null,null,null,null,null,null,null,null,null,null,null,null,null,null,null,null,null,null,null,null,null,null,null,null,null,null,null,null,null,null,null,null,null,null,null,null,null,null,null,null,null,null,null,{"$f":"IF(AH37=\"\",\"\",IF('Test 5'!AF74=\"\",\"\",\"AgencyEntityInstance Id 114\"))","v":""},{"$f":"IF(BY116=\"\",\"\",VLOOKUP(\"CM_Base_DCP\",'Send Sync'!$K$56:$L$96,2,FALSE))","v":""},null,{"$f":"IF(BY116=\"\",\"\",BY99)","v":""},{"$f":"IF(BY116=\"\",\"\",CONCATENATE(\"<Data><cm_base_dcp_01_begin>\",CO570,\"</cm_base_dcp_01_begin><cm_base_dcp_02_end>\",CO571,\"</cm_base_dcp_02_end><cm_base_dcp_03_blows>\",CO572,\"</cm_base_dcp_03_blows><cm_base_dcp_04_index>\",CO573,\"</cm_base_dcp_04_index></Data>\"))","v":""},"","","","",null,null,null,null,null,null,null,"",null,{"$f":"IF(BY24=\"\",\"\",\"AgencyEntityInsData Id 114\")","v":""},{"$f":"IF(BY24=\"\",\"\",\"AgencyEntityInstance Id 22\")","v":""},{"$f":"IF(BY24=\"\",\"\",\"cm_subgrade_comp_03_qty_cy_rocky\")","v":""},{"$f":"IF(BY24=\"\",\"\",'Test 1'!AE117)","v":""},{"$f":"IF(BY24=\"\",\"\",TODAY())","v":""},{"$f":"IF(BY24=\"\",\"\",\"WTSYSTEMUSER\")","v":""},{"$f":"IF(BY24=\"\",\"\",TODAY())","v":""},{"$f":"IF(BY24=\"\",\"\",\"WTSYSTEMUSER\")","v":""}]
[null,null,null,null,null,null,null,null,null,null,null,null,null,null,null,null,null,null,null,null,null,null,null,null,null,null,null,null,null,null,null,null,null,null,null,null,null,null,null,null,null,null,null,null,null,null,null,null,null,null,null,null,null,null,null,null,null,null,null,null,null,null,null,null,null,null,null,null,null,null,null,null,null,null,null,null,{"$f":"IF(AH37=\"\",\"\",IF('Test 5'!AF75=\"\",\"\",\"AgencyEntityInstance Id 115\"))","v":""},{"$f":"IF(BY117=\"\",\"\",VLOOKUP(\"CM_Base_DCP\",'Send Sync'!$K$56:$L$96,2,FALSE))","v":""},null,{"$f":"IF(BY117=\"\",\"\",BY99)","v":""},{"$f":"IF(BY117=\"\",\"\",CONCATENATE(\"<Data><cm_base_dcp_01_begin>\",CO574,\"</cm_base_dcp_01_begin><cm_base_dcp_02_end>\",CO575,\"</cm_base_dcp_02_end><cm_base_dcp_03_blows>\",CO576,\"</cm_base_dcp_03_blows><cm_base_dcp_04_index>\",CO577,\"</cm_base_dcp_04_index></Data>\"))","v":""},"","","","",null,null,null,null,null,null,null,"",null,{"$f":"IF(BY24=\"\",\"\",\"AgencyEntityInsData Id 115\")","v":""},{"$f":"IF(BY24=\"\",\"\",\"AgencyEntityInstance Id 22\")","v":""},{"$f":"IF(BY24=\"\",\"\",\"cm_subgrade_comp_04_qty_sta_a\")","v":""},{"$f":"IF(BY24=\"\",\"\",'Test 1'!AF115)","v":""},{"$f":"IF(BY24=\"\",\"\",TODAY())","v":""},{"$f":"IF(BY24=\"\",\"\",\"WTSYSTEMUSER\")","v":""},{"$f":"IF(BY24=\"\",\"\",TODAY())","v":""},{"$f":"IF(BY24=\"\",\"\",\"WTSYSTEMUSER\")","v":""}]
[null,null,null,null,null,null,null,null,null,null,null,null,null,null,null,null,null,null,null,null,null,null,null,null,null,null,null,null,null,null,null,null,null,null,null,null,null,null,null,null,null,null,null,null,null,null,null,null,null,null,null,null,null,null,null,null,null,null,null,null,null,null,null,null,null,null,null,null,null,null,null,null,null,null,null,null,{"$f":"IF(AH37=\"\",\"\",IF('Test 5'!AF76=\"\",\"\",\"AgencyEntityInstance Id 116\"))","v":""},{"$f":"IF(BY118=\"\",\"\",VLOOKUP(\"CM_Base_DCP\",'Send Sync'!$K$56:$L$96,2,FALSE))","v":""},null,{"$f":"IF(BY118=\"\",\"\",BY99)","v":""},{"$f":"IF(BY118=\"\",\"\",CONCATENATE(\"<Data><cm_base_dcp_01_begin>\",CO578,\"</cm_base_dcp_01_begin><cm_base_dcp_02_end>\",CO579,\"</cm_base_dcp_02_end><cm_base_dcp_03_blows>\",CO580,\"</cm_base_dcp_03_blows><cm_base_dcp_04_index>\",CO581,\"</cm_base_dcp_04_index></Data>\"))","v":""},"","","","",null,null,null,null,null,null,null,"",null,{"$f":"IF(BY24=\"\",\"\",\"AgencyEntityInsData Id 116\")","v":""},{"$f":"IF(BY24=\"\",\"\",\"AgencyEntityInstance Id 22\")","v":""},{"$f":"IF(BY24=\"\",\"\",\"cm_subgrade_comp_05_qty_sta_b\")","v":""},{"$f":"IF(BY24=\"\",\"\",'Test 1'!AF116)","v":""},{"$f":"IF(BY24=\"\",\"\",TODAY())","v":""},{"$f":"IF(BY24=\"\",\"\",\"WTSYSTEMUSER\")","v":""},{"$f":"IF(BY24=\"\",\"\",TODAY())","v":""},{"$f":"IF(BY24=\"\",\"\",\"WTSYSTEMUSER\")","v":""}]
[null,null,null,null,null,null,null,null,null,null,null,null,null,null,null,null,null,null,null,null,null,null,null,null,null,null,null,null,null,null,null,null,null,null,null,null,null,null,null,null,null,null,null,null,null,null,null,null,null,null,null,null,null,null,null,null,null,null,null,null,null,null,null,null,null,null,null,null,null,null,null,null,null,null,null,null,{"$f":"IF(AH37=\"\",\"\",IF('Test 5'!AF77=\"\",\"\",\"AgencyEntityInstance Id 117\"))","v":""},{"$f":"IF(BY119=\"\",\"\",VLOOKUP(\"CM_Base_DCP\",'Send Sync'!$K$56:$L$96,2,FALSE))","v":""},null,{"$f":"IF(BY119=\"\",\"\",BY99)","v":""},{"$f":"IF(BY119=\"\",\"\",CONCATENATE(\"<Data><cm_base_dcp_01_begin>\",CO582,\"</cm_base_dcp_01_begin><cm_base_dcp_02_end>\",CO583,\"</cm_base_dcp_02_end><cm_base_dcp_03_blows>\",CO584,\"</cm_base_dcp_03_blows><cm_base_dcp_04_index>\",CO585,\"</cm_base_dcp_04_index></Data>\"))","v":""},"","","","",null,null,null,null,null,null,null,"",null,{"$f":"IF(BY24=\"\",\"\",\"AgencyEntityInsData Id 117\")","v":""},{"$f":"IF(BY24=\"\",\"\",\"AgencyEntityInstance Id 22\")","v":""},{"$f":"IF(BY24=\"\",\"\",\"cm_subgrade_comp_06_qty_sta_rocky\")","v":""},{"$f":"IF(BY24=\"\",\"\",'Test 1'!AF117)","v":""},{"$f":"IF(BY24=\"\",\"\",TODAY())","v":""},{"$f":"IF(BY24=\"\",\"\",\"WTSYSTEMUSER\")","v":""},{"$f":"IF(BY24=\"\",\"\",TODAY())","v":""},{"$f":"IF(BY24=\"\",\"\",\"WTSYSTEMUSER\")","v":""}]
[null,null,null,null,null,null,null,null,null,null,null,null,null,null,null,null,null,null,null,null,null,null,null,null,null,null,null,null,null,null,null,null,null,null,null,null,null,null,null,null,null,null,null,null,null,null,null,null,null,null,null,null,null,null,null,null,null,null,null,null,null,null,null,null,null,null,null,null,null,null,null,null,null,null,null,{"$f":"BX99+1","v":4},{"$f":"IF(AH38=\"\",\"\",\"AgencyEntityInstance Id 118\")","v":""},{"$f":"IF(BY120=\"\",\"\",VLOOKUP(\"CM_Base_DCP_Header\",'Send Sync'!$K$56:$L$96,2,FALSE))","v":""},{"$f":"IF(BY120=\"\",\"\",\"SampleRecordTest Id 36\")","v":""},null,{"$f":"IF(BY120=\"\",\"\",CONCATENATE(\"<Data><cm_base_dcp_header_01_avg>\",CO586,\"</cm_base_dcp_header_01_avg><cm_base_dcp_header_02_thi_spec>\",CO587,\"</cm_base_dcp_header_02_thi_spec><cm_base_dcp_header_03_thi_meas>\",CO588,\"</cm_base_dcp_header_03_thi_meas><cm_base_dcp_header_04_sta_1>\",CO589,\"</cm_base_dcp_header_04_sta_1><cm_base_dcp_header_05_sta_2>\",CO590,\"</cm_base_dcp_header_05_sta_2><cm_base_dcp_header_06_location>\",CO591,\"</cm_base_dcp_header_06_location><cm_base_dcp_header_07_tester>\",CO592,\"</cm_base_dcp_header_07_tester></Data>\"))","v":""},"","","","",null,null,null,null,null,null,null,"",null,{"$f":"IF(BY24=\"\",\"\",\"AgencyEntityInsData Id 118\")","v":""},{"$f":"IF(BY24=\"\",\"\",\"AgencyEntityInstance Id 22\")","v":""},{"$f":"IF(BY24=\"\",\"\",\"cm_subgrade_comp_07_comp_a\")","v":""},{"$f":"IF(BY24=\"\",\"\",'Test 1'!AG115)","v":""},{"$f":"IF(BY24=\"\",\"\",TODAY())","v":""},{"$f":"IF(BY24=\"\",\"\",\"WTSYSTEMUSER\")","v":""},{"$f":"IF(BY24=\"\",\"\",TODAY())","v":""},{"$f":"IF(BY24=\"\",\"\",\"WTSYSTEMUSER\")","v":""}]
[null,null,null,null,null,null,null,null,null,null,null,null,null,null,null,null,null,null,null,null,null,null,null,null,null,null,null,null,null,null,null,null,null,null,null,null,null,null,null,null,null,null,null,null,null,null,null,null,null,null,null,null,null,null,null,null,null,null,null,null,null,null,null,null,null,null,null,null,null,null,null,null,null,null,null,null,{"$f":"IF(AH38=\"\",\"\",IF('Test 5'!AI58=\"\",\"\",\"AgencyEntityInstance Id 119\"))","v":""},{"$f":"IF(BY121=\"\",\"\",VLOOKUP(\"CM_Base_DCP\",'Send Sync'!$K$56:$L$96,2,FALSE))","v":""},null,{"$f":"IF(BY121=\"\",\"\",BY120)","v":""},{"$f":"IF(BY121=\"\",\"\",CONCATENATE(\"<Data><cm_base_dcp_01_begin>\",CO593,\"</cm_base_dcp_01_begin><cm_base_dcp_02_end>\",CO594,\"</cm_base_dcp_02_end><cm_base_dcp_03_blows>\",CO595,\"</cm_base_dcp_03_blows><cm_base_dcp_04_index>\",CO596,\"</cm_base_dcp_04_index></Data>\"))","v":""},{"$f":"IF(BY121=\"\",\"\",TODAY())","v":""},{"$f":"IF(BY121=\"\",\"\",\"WTSYSTEMUSER\")","v":""},{"$f":"IF(BY121=\"\",\"\",TODAY())","v":""},{"$f":"IF(BY121=\"\",\"\",\"WTSYSTEMUSER\")","v":""},null,null,null,null,null,null,null,"",null,{"$f":"IF(BY24=\"\",\"\",\"AgencyEntityInsData Id 119\")","v":""},{"$f":"IF(BY24=\"\",\"\",\"AgencyEntityInstance Id 22\")","v":""},{"$f":"IF(BY24=\"\",\"\",\"cm_subgrade_comp_08_comp_b\")","v":""},{"$f":"IF(BY24=\"\",\"\",'Test 1'!AG116)","v":""},{"$f":"IF(BY24=\"\",\"\",TODAY())","v":""},{"$f":"IF(BY24=\"\",\"\",\"WTSYSTEMUSER\")","v":""},{"$f":"IF(BY24=\"\",\"\",TODAY())","v":""},{"$f":"IF(BY24=\"\",\"\",\"WTSYSTEMUSER\")","v":""}]
[null,null,null,null,null,null,null,null,null,null,null,null,null,null,null,null,null,null,null,null,null,null,null,null,null,null,null,null,null,null,null,null,null,null,null,null,null,null,null,null,null,null,null,null,null,null,null,null,null,null,null,null,null,null,null,null,null,null,null,null,null,null,null,null,null,null,null,null,null,null,null,null,null,null,null,null,{"$f":"IF(AH38=\"\",\"\",IF('Test 5'!AI59=\"\",\"\",\"AgencyEntityInstance Id 120\"))","v":""},{"$f":"IF(BY122=\"\",\"\",VLOOKUP(\"CM_Base_DCP\",'Send Sync'!$K$56:$L$96,2,FALSE))","v":""},null,{"$f":"IF(BY122=\"\",\"\",BY120)","v":""},{"$f":"IF(BY122=\"\",\"\",CONCATENATE(\"<Data><cm_base_dcp_01_begin>\",CO597,\"</cm_base_dcp_01_begin><cm_base_dcp_02_end>\",CO598,\"</cm_base_dcp_02_end><cm_base_dcp_03_blows>\",CO599,\"</cm_base_dcp_03_blows><cm_base_dcp_04_index>\",CO600,\"</cm_base_dcp_04_index></Data>\"))","v":""},"","","","",null,null,null,null,null,null,null,"",null,{"$f":"IF(BY24=\"\",\"\",\"AgencyEntityInsData Id 120\")","v":""},{"$f":"IF(BY24=\"\",\"\",\"AgencyEntityInstance Id 22\")","v":""},{"$f":"IF(BY24=\"\",\"\",\"cm_subgrade_comp_09_density_a\")","v":""},{"$f":"IF(BY24=\"\",\"\",'Test 1'!AH115)","v":""},{"$f":"IF(BY24=\"\",\"\",TODAY())","v":""},{"$f":"IF(BY24=\"\",\"\",\"WTSYSTEMUSER\")","v":""},{"$f":"IF(BY24=\"\",\"\",TODAY())","v":""},{"$f":"IF(BY24=\"\",\"\",\"WTSYSTEMUSER\")","v":""}]
[null,null,null,null,null,null,null,null,null,null,null,null,null,null,null,null,null,null,null,null,null,null,null,null,null,null,null,null,null,null,null,null,null,null,null,null,null,null,null,null,null,null,null,null,null,null,null,null,null,null,null,null,null,null,null,null,null,null,null,null,null,null,null,null,null,null,null,null,null,null,null,null,null,null,null,null,{"$f":"IF(AH38=\"\",\"\",IF('Test 5'!AI60=\"\",\"\",\"AgencyEntityInstance Id 121\"))","v":""},{"$f":"IF(BY123=\"\",\"\",VLOOKUP(\"CM_Base_DCP\",'Send Sync'!$K$56:$L$96,2,FALSE))","v":""},null,{"$f":"IF(BY123=\"\",\"\",BY120)","v":""},{"$f":"IF(BY123=\"\",\"\",CONCATENATE(\"<Data><cm_base_dcp_01_begin>\",CO601,\"</cm_base_dcp_01_begin><cm_base_dcp_02_end>\",CO602,\"</cm_base_dcp_02_end><cm_base_dcp_03_blows>\",CO603,\"</cm_base_dcp_03_blows><cm_base_dcp_04_index>\",CO604,\"</cm_base_dcp_04_index></Data>\"))","v":""},"","","","",null,null,null,null,null,null,null,"",null,{"$f":"IF(BY24=\"\",\"\",\"AgencyEntityInsData Id 121\")","v":""},{"$f":"IF(BY24=\"\",\"\",\"AgencyEntityInstance Id 22\")","v":""},{"$f":"IF(BY24=\"\",\"\",\"cm_subgrade_comp_10_density_b\")","v":""},{"$f":"IF(BY24=\"\",\"\",'Test 1'!AH116)","v":""},{"$f":"IF(BY24=\"\",\"\",TODAY())","v":""},{"$f":"IF(BY24=\"\",\"\",\"WTSYSTEMUSER\")","v":""},{"$f":"IF(BY24=\"\",\"\",TODAY())","v":""},{"$f":"IF(BY24=\"\",\"\",\"WTSYSTEMUSER\")","v":""}]
[null,null,null,null,null,null,null,null,null,null,null,null,null,null,null,null,null,null,null,null,null,null,null,null,null,null,null,null,null,null,null,null,null,null,null,null,null,null,null,null,null,null,null,null,null,null,null,null,null,null,null,null,null,null,null,null,null,null,null,null,null,null,null,null,null,null,null,null,null,null,null,null,null,null,null,null,{"$f":"IF(AH38=\"\",\"\",IF('Test 5'!AI61=\"\",\"\",\"AgencyEntityInstance Id 122\"))","v":""},{"$f":"IF(BY124=\"\",\"\",VLOOKUP(\"CM_Base_DCP\",'Send Sync'!$K$56:$L$96,2,FALSE))","v":""},null,{"$f":"IF(BY124=\"\",\"\",BY120)","v":""},{"$f":"IF(BY124=\"\",\"\",CONCATENATE(\"<Data><cm_base_dcp_01_begin>\",CO605,\"</cm_base_dcp_01_begin><cm_base_dcp_02_end>\",CO606,\"</cm_base_dcp_02_end><cm_base_dcp_03_blows>\",CO607,\"</cm_base_dcp_03_blows><cm_base_dcp_04_index>\",CO608,\"</cm_base_dcp_04_index></Data>\"))","v":""},"","","","",null,null,null,null,null,null,null,"",null,{"$f":"IF(BY25=\"\",\"\",\"AgencyEntityInsData Id 122\")","v":""},{"$f":"IF(BY25=\"\",\"\",\"AgencyEntityInstance Id 23\")","v":""},{"$f":"IF(BY25=\"\",\"\",\"CM_Standard_For_Remarks\")","v":""},{"$f":"IF(BY25=\"\",\"\",IF('Test 1'!J111=\"\",\"\",'Test 1'!J111))","v":""},{"$f":"IF(BY25=\"\",\"\",TODAY())","v":""},{"$f":"IF(BY25=\"\",\"\",\"WTSYSTEMUSER\")","v":""},{"$f":"IF(BY25=\"\",\"\",TODAY())","v":""},{"$f":"IF(BY25=\"\",\"\",\"WTSYSTEMUSER\")","v":""}]
[null,null,null,null,null,null,null,null,null,null,null,null,null,null,null,null,null,null,null,null,null,null,null,null,null,null,null,null,null,null,null,null,null,null,null,null,null,null,null,null,null,null,null,null,null,null,null,null,null,null,null,null,null,null,null,null,null,null,null,null,null,null,null,null,null,null,null,null,null,null,null,null,null,null,null,null,{"$f":"IF(AH38=\"\",\"\",IF('Test 5'!AI62=\"\",\"\",\"AgencyEntityInstance Id 123\"))","v":""},{"$f":"IF(BY125=\"\",\"\",VLOOKUP(\"CM_Base_DCP\",'Send Sync'!$K$56:$L$96,2,FALSE))","v":""},null,{"$f":"IF(BY125=\"\",\"\",BY120)","v":""},{"$f":"IF(BY125=\"\",\"\",CONCATENATE(\"<Data><cm_base_dcp_01_begin>\",CO609,\"</cm_base_dcp_01_begin><cm_base_dcp_02_end>\",CO610,\"</cm_base_dcp_02_end><cm_base_dcp_03_blows>\",CO611,\"</cm_base_dcp_03_blows><cm_base_dcp_04_index>\",CO612,\"</cm_base_dcp_04_index></Data>\"))","v":""},"","","","",null,null,null,null,null,null,null,"",12,{"$f":"IF(BY26=\"\",\"\",\"AgencyEntityInsData Id 123\")","v":""},{"$f":"IF(BY26=\"\",\"\",\"AgencyEntityInstance Id 24\")","v":""},{"$f":"IF(BY26=\"\",\"\",\"cm_subgrade_comp_01_qty_cy_a\")","v":""},{"$f":"IF(BY26=\"\",\"\",'Test 1'!AE125)","v":""},{"$f":"IF(BY26=\"\",\"\",TODAY())","v":""},{"$f":"IF(BY26=\"\",\"\",\"WTSYSTEMUSER\")","v":""},{"$f":"IF(BY26=\"\",\"\",TODAY())","v":""},{"$f":"IF(BY26=\"\",\"\",\"WTSYSTEMUSER\")","v":""}]
[null,null,null,null,null,null,null,null,null,null,null,null,null,null,null,null,null,null,null,null,null,null,null,null,null,null,null,null,null,null,null,null,null,null,null,null,null,null,null,null,null,null,null,null,null,null,null,null,null,null,null,null,null,null,null,null,null,null,null,null,null,null,null,null,null,null,null,null,null,null,null,null,null,null,null,null,{"$f":"IF(AH38=\"\",\"\",IF('Test 5'!AI63=\"\",\"\",\"AgencyEntityInstance Id 124\"))","v":""},{"$f":"IF(BY126=\"\",\"\",VLOOKUP(\"CM_Base_DCP\",'Send Sync'!$K$56:$L$96,2,FALSE))","v":""},null,{"$f":"IF(BY126=\"\",\"\",BY120)","v":""},{"$f":"IF(BY126=\"\",\"\",CONCATENATE(\"<Data><cm_base_dcp_01_begin>\",CO613,\"</cm_base_dcp_01_begin><cm_base_dcp_02_end>\",CO614,\"</cm_base_dcp_02_end><cm_base_dcp_03_blows>\",CO615,\"</cm_base_dcp_03_blows><cm_base_dcp_04_index>\",CO616,\"</cm_base_dcp_04_index></Data>\"))","v":""},"","","","",null,null,null,null,null,null,null,"",null,{"$f":"IF(BY26=\"\",\"\",\"AgencyEntityInsData Id 124\")","v":""},{"$f":"IF(BY26=\"\",\"\",\"AgencyEntityInstance Id 24\")","v":""},{"$f":"IF(BY26=\"\",\"\",\"cm_subgrade_comp_02_qty_cy_b\")","v":""},{"$f":"IF(BY26=\"\",\"\",'Test 1'!AE126)","v":""},{"$f":"IF(BY26=\"\",\"\",TODAY())","v":""},{"$f":"IF(BY26=\"\",\"\",\"WTSYSTEMUSER\")","v":""},{"$f":"IF(BY26=\"\",\"\",TODAY())","v":""},{"$f":"IF(BY26=\"\",\"\",\"WTSYSTEMUSER\")","v":""}]
[null,null,null,null,null,null,null,null,null,null,null,null,null,null,null,null,null,null,null,null,null,null,null,null,null,null,null,null,null,null,null,null,null,null,null,null,null,null,null,null,null,null,null,null,null,null,null,null,null,null,null,null,null,null,null,null,null,null,null,null,null,null,null,null,null,null,null,null,null,null,null,null,null,null,null,null,{"$f":"IF(AH38=\"\",\"\",IF('Test 5'!AI64=\"\",\"\",\"AgencyEntityInstance Id 125\"))","v":""},{"$f":"IF(BY127=\"\",\"\",VLOOKUP(\"CM_Base_DCP\",'Send Sync'!$K$56:$L$96,2,FALSE))","v":""},null,{"$f":"IF(BY127=\"\",\"\",BY120)","v":""},{"$f":"IF(BY127=\"\",\"\",CONCATENATE(\"<Data><cm_base_dcp_01_begin>\",CO617,\"</cm_base_dcp_01_begin><cm_base_dcp_02_end>\",CO618,\"</cm_base_dcp_02_end><cm_base_dcp_03_blows>\",CO619,\"</cm_base_dcp_03_blows><cm_base_dcp_04_index>\",CO620,\"</cm_base_dcp_04_index></Data>\"))","v":""},"","","","",null,null,null,null,null,null,null,"",null,{"$f":"IF(BY26=\"\",\"\",\"AgencyEntityInsData Id 125\")","v":""},{"$f":"IF(BY26=\"\",\"\",\"AgencyEntityInstance Id 24\")","v":""},{"$f":"IF(BY26=\"\",\"\",\"cm_subgrade_comp_03_qty_cy_rocky\")","v":""},{"$f":"IF(BY26=\"\",\"\",'Test 1'!AE127)","v":""},{"$f":"IF(BY26=\"\",\"\",TODAY())","v":""},{"$f":"IF(BY26=\"\",\"\",\"WTSYSTEMUSER\")","v":""},{"$f":"IF(BY26=\"\",\"\",TODAY())","v":""},{"$f":"IF(BY26=\"\",\"\",\"WTSYSTEMUSER\")","v":""}]
[null,null,null,null,null,null,null,null,null,null,null,null,null,null,null,null,null,null,null,null,null,null,null,null,null,null,null,null,null,null,null,null,null,null,null,null,null,null,null,null,null,null,null,null,null,null,null,null,null,null,null,null,null,null,null,null,null,null,null,null,null,null,null,null,null,null,null,null,null,null,null,null,null,null,null,null,{"$f":"IF(AH38=\"\",\"\",IF('Test 5'!AI65=\"\",\"\",\"AgencyEntityInstance Id 126\"))","v":""},{"$f":"IF(BY128=\"\",\"\",VLOOKUP(\"CM_Base_DCP\",'Send Sync'!$K$56:$L$96,2,FALSE))","v":""},null,{"$f":"IF(BY128=\"\",\"\",BY120)","v":""},{"$f":"IF(BY128=\"\",\"\",CONCATENATE(\"<Data><cm_base_dcp_01_begin>\",CO621,\"</cm_base_dcp_01_begin><cm_base_dcp_02_end>\",CO622,\"</cm_base_dcp_02_end><cm_base_dcp_03_blows>\",CO623,\"</cm_base_dcp_03_blows><cm_base_dcp_04_index>\",CO624,\"</cm_base_dcp_04_index></Data>\"))","v":""},"","","","",null,null,null,null,null,null,null,"",null,{"$f":"IF(BY26=\"\",\"\",\"AgencyEntityInsData Id 126\")","v":""},{"$f":"IF(BY26=\"\",\"\",\"AgencyEntityInstance Id 24\")","v":""},{"$f":"IF(BY26=\"\",\"\",\"cm_subgrade_comp_04_qty_sta_a\")","v":""},{"$f":"IF(BY26=\"\",\"\",'Test 1'!AF125)","v":""},{"$f":"IF(BY26=\"\",\"\",TODAY())","v":""},{"$f":"IF(BY26=\"\",\"\",\"WTSYSTEMUSER\")","v":""},{"$f":"IF(BY26=\"\",\"\",TODAY())","v":""},{"$f":"IF(BY26=\"\",\"\",\"WTSYSTEMUSER\")","v":""}]
[null,null,null,null,null,null,null,null,null,null,null,null,null,null,null,null,null,null,null,null,null,null,null,null,null,null,null,null,null,null,null,null,null,null,null,null,null,null,null,null,null,null,null,null,null,null,null,null,null,null,null,null,null,null,null,null,null,null,null,null,null,null,null,null,null,null,null,null,null,null,null,null,null,null,null,null,{"$f":"IF(AH38=\"\",\"\",IF('Test 5'!AI66=\"\",\"\",\"AgencyEntityInstance Id 127\"))","v":""},{"$f":"IF(BY129=\"\",\"\",VLOOKUP(\"CM_Base_DCP\",'Send Sync'!$K$56:$L$96,2,FALSE))","v":""},null,{"$f":"IF(BY129=\"\",\"\",BY120)","v":""},{"$f":"IF(BY129=\"\",\"\",CONCATENATE(\"<Data><cm_base_dcp_01_begin>\",CO625,\"</cm_base_dcp_01_begin><cm_base_dcp_02_end>\",CO626,\"</cm_base_dcp_02_end><cm_base_dcp_03_blows>\",CO627,\"</cm_base_dcp_03_blows><cm_base_dcp_04_index>\",CO628,\"</cm_base_dcp_04_index></Data>\"))","v":""},"","","","",null,null,null,null,null,null,null,"",null,{"$f":"IF(BY26=\"\",\"\",\"AgencyEntityInsData Id 127\")","v":""},{"$f":"IF(BY26=\"\",\"\",\"AgencyEntityInstance Id 24\")","v":""},{"$f":"IF(BY26=\"\",\"\",\"cm_subgrade_comp_05_qty_sta_b\")","v":""},{"$f":"IF(BY26=\"\",\"\",'Test 1'!AF126)","v":""},{"$f":"IF(BY26=\"\",\"\",TODAY())","v":""},{"$f":"IF(BY26=\"\",\"\",\"WTSYSTEMUSER\")","v":""},{"$f":"IF(BY26=\"\",\"\",TODAY())","v":""},{"$f":"IF(BY26=\"\",\"\",\"WTSYSTEMUSER\")","v":""}]
[null,null,null,null,null,null,null,null,null,null,null,null,null,null,null,null,null,null,null,null,null,null,null,null,null,null,null,null,null,null,null,null,null,null,null,null,null,null,null,null,null,null,null,null,null,null,null,null,null,null,null,null,null,null,null,null,null,null,null,null,null,null,null,null,null,null,null,null,null,null,null,null,null,null,null,null,{"$f":"IF(AH38=\"\",\"\",IF('Test 5'!AI67=\"\",\"\",\"AgencyEntityInstance Id 128\"))","v":""},{"$f":"IF(BY130=\"\",\"\",VLOOKUP(\"CM_Base_DCP\",'Send Sync'!$K$56:$L$96,2,FALSE))","v":""},null,{"$f":"IF(BY130=\"\",\"\",BY120)","v":""},{"$f":"IF(BY130=\"\",\"\",CONCATENATE(\"<Data><cm_base_dcp_01_begin>\",CO629,\"</cm_base_dcp_01_begin><cm_base_dcp_02_end>\",CO630,\"</cm_base_dcp_02_end><cm_base_dcp_03_blows>\",CO631,\"</cm_base_dcp_03_blows><cm_base_dcp_04_index>\",CO632,\"</cm_base_dcp_04_index></Data>\"))","v":""},"","","","",null,null,null,null,null,null,null,"",null,{"$f":"IF(BY26=\"\",\"\",\"AgencyEntityInsData Id 128\")","v":""},{"$f":"IF(BY26=\"\",\"\",\"AgencyEntityInstance Id 24\")","v":""},{"$f":"IF(BY26=\"\",\"\",\"cm_subgrade_comp_06_qty_sta_rocky\")","v":""},{"$f":"IF(BY26=\"\",\"\",'Test 1'!AF127)","v":""},{"$f":"IF(BY26=\"\",\"\",TODAY())","v":""},{"$f":"IF(BY26=\"\",\"\",\"WTSYSTEMUSER\")","v":""},{"$f":"IF(BY26=\"\",\"\",TODAY())","v":""},{"$f":"IF(BY26=\"\",\"\",\"WTSYSTEMUSER\")","v":""}]
[null,null,null,null,null,null,null,null,null,null,null,null,null,null,null,null,null,null,null,null,null,null,null,null,null,null,null,null,null,null,null,null,null,null,null,null,null,null,null,null,null,null,null,null,null,null,null,null,null,null,null,null,null,null,null,null,null,null,null,null,null,null,null,null,null,null,null,null,null,null,null,null,null,null,null,null,{"$f":"IF(AH38=\"\",\"\",IF('Test 5'!AI68=\"\",\"\",\"AgencyEntityInstance Id 129\"))","v":""},{"$f":"IF(BY131=\"\",\"\",VLOOKUP(\"CM_Base_DCP\",'Send Sync'!$K$56:$L$96,2,FALSE))","v":""},null,{"$f":"IF(BY131=\"\",\"\",BY120)","v":""},{"$f":"IF(BY131=\"\",\"\",CONCATENATE(\"<Data><cm_base_dcp_01_begin>\",CO633,\"</cm_base_dcp_01_begin><cm_base_dcp_02_end>\",CO634,\"</cm_base_dcp_02_end><cm_base_dcp_03_blows>\",CO635,\"</cm_base_dcp_03_blows><cm_base_dcp_04_index>\",CO636,\"</cm_base_dcp_04_index></Data>\"))","v":""},"","","","",null,null,null,null,null,null,null,"",null,{"$f":"IF(BY26=\"\",\"\",\"AgencyEntityInsData Id 129\")","v":""},{"$f":"IF(BY26=\"\",\"\",\"AgencyEntityInstance Id 24\")","v":""},{"$f":"IF(BY26=\"\",\"\",\"cm_subgrade_comp_07_comp_a\")","v":""},{"$f":"IF(BY26=\"\",\"\",'Test 1'!AG125)","v":""},{"$f":"IF(BY26=\"\",\"\",TODAY())","v":""},{"$f":"IF(BY26=\"\",\"\",\"WTSYSTEMUSER\")","v":""},{"$f":"IF(BY26=\"\",\"\",TODAY())","v":""},{"$f":"IF(BY26=\"\",\"\",\"WTSYSTEMUSER\")","v":""}]
[null,null,null,null,null,null,null,null,null,null,null,null,null,null,null,null,null,null,null,null,null,null,null,null,null,null,null,null,null,null,null,null,null,null,null,null,null,null,null,null,null,null,null,null,null,null,null,null,null,null,null,null,null,null,null,null,null,null,null,null,null,null,null,null,null,null,null,null,null,null,null,null,null,null,null,null,{"$f":"IF(AH38=\"\",\"\",IF('Test 5'!AI69=\"\",\"\",\"AgencyEntityInstance Id 130\"))","v":""},{"$f":"IF(BY132=\"\",\"\",VLOOKUP(\"CM_Base_DCP\",'Send Sync'!$K$56:$L$96,2,FALSE))","v":""},null,{"$f":"IF(BY132=\"\",\"\",BY120)","v":""},{"$f":"IF(BY132=\"\",\"\",CONCATENATE(\"<Data><cm_base_dcp_01_begin>\",CO637,\"</cm_base_dcp_01_begin><cm_base_dcp_02_end>\",CO638,\"</cm_base_dcp_02_end><cm_base_dcp_03_blows>\",CO639,\"</cm_base_dcp_03_blows><cm_base_dcp_04_index>\",CO640,\"</cm_base_dcp_04_index></Data>\"))","v":""},"","","","",null,null,null,null,null,null,null,{"$f":"IF(CT132=\"\",\"\",SUBSTITUTE(SUBSTITUTE(SUBSTITUTE(SUBSTITUTE(SUBSTITUTE(CT132,\"&\",\"&amp;\"),\">\",\"&gt;\"),\"<\",\"&lt;\"),\"'\",\"&#39;\"),\"\"\"\",\"&quot;\"))","v":""},null,{"$f":"IF(BY26=\"\",\"\",\"AgencyEntityInsData Id 130\")","v":""},{"$f":"IF(BY26=\"\",\"\",\"AgencyEntityInstance Id 24\")","v":""},{"$f":"IF(BY26=\"\",\"\",\"cm_subgrade_comp_08_comp_b\")","v":""},{"$f":"IF(BY26=\"\",\"\",'Test 1'!AG126)","v":""},{"$f":"IF(BY26=\"\",\"\",TODAY())","v":""},{"$f":"IF(BY26=\"\",\"\",\"WTSYSTEMUSER\")","v":""},{"$f":"IF(BY26=\"\",\"\",TODAY())","v":""},{"$f":"IF(BY26=\"\",\"\",\"WTSYSTEMUSER\")","v":""}]
[null,null,null,null,null,null,null,null,null,null,null,null,null,null,null,null,null,null,null,null,null,null,null,null,null,null,null,null,null,null,null,null,null,null,null,null,null,null,null,null,null,null,null,null,null,null,null,null,null,null,null,null,null,null,null,null,null,null,null,null,null,null,null,null,null,null,null,null,null,null,null,null,null,null,null,null,{"$f":"IF(AH38=\"\",\"\",IF('Test 5'!AI70=\"\",\"\",\"AgencyEntityInstance Id 131\"))","v":""},{"$f":"IF(BY133=\"\",\"\",VLOOKUP(\"CM_Base_DCP\",'Send Sync'!$K$56:$L$96,2,FALSE))","v":""},null,{"$f":"IF(BY133=\"\",\"\",BY120)","v":""},{"$f":"IF(BY133=\"\",\"\",CONCATENATE(\"<Data><cm_base_dcp_01_begin>\",CO641,\"</cm_base_dcp_01_begin><cm_base_dcp_02_end>\",CO642,\"</cm_base_dcp_02_end><cm_base_dcp_03_blows>\",CO643,\"</cm_base_dcp_03_blows><cm_base_dcp_04_index>\",CO644,\"</cm_base_dcp_04_index></Data>\"))","v":""},"","","","",null,null,null,null,null,null,null,"",null,{"$f":"IF(BY26=\"\",\"\",\"AgencyEntityInsData Id 131\")","v":""},{"$f":"IF(BY26=\"\",\"\",\"AgencyEntityInstance Id 24\")","v":""},{"$f":"IF(BY26=\"\",\"\",\"cm_subgrade_comp_09_density_a\")","v":""},{"$f":"IF(BY26=\"\",\"\",'Test 1'!AH125)","v":""},{"$f":"IF(BY26=\"\",\"\",TODAY())","v":""},{"$f":"IF(BY26=\"\",\"\",\"WTSYSTEMUSER\")","v":""},{"$f":"IF(BY26=\"\",\"\",TODAY())","v":""},{"$f":"IF(BY26=\"\",\"\",\"WTSYSTEMUSER\")","v":""}]
[null,null,null,null,null,null,null,null,null,null,null,null,null,null,null,null,null,null,null,null,null,null,null,null,null,null,null,null,null,null,null,null,null,null,null,null,null,null,null,null,null,null,null,null,null,null,null,null,null,null,null,null,null,null,null,null,null,null,null,null,null,null,null,null,null,null,null,null,null,null,null,null,null,null,null,null,{"$f":"IF(AH38=\"\",\"\",IF('Test 5'!AI71=\"\",\"\",\"AgencyEntityInstance Id 132\"))","v":""},{"$f":"IF(BY134=\"\",\"\",VLOOKUP(\"CM_Base_DCP\",'Send Sync'!$K$56:$L$96,2,FALSE))","v":""},null,{"$f":"IF(BY134=\"\",\"\",BY120)","v":""},{"$f":"IF(BY134=\"\",\"\",CONCATENATE(\"<Data><cm_base_dcp_01_begin>\",CO645,\"</cm_base_dcp_01_begin><cm_base_dcp_02_end>\",CO646,\"</cm_base_dcp_02_end><cm_base_dcp_03_blows>\",CO647,\"</cm_base_dcp_03_blows><cm_base_dcp_04_index>\",CO648,\"</cm_base_dcp_04_index></Data>\"))","v":""},"","","","",null,null,null,null,null,null,null,"",null,{"$f":"IF(BY26=\"\",\"\",\"AgencyEntityInsData Id 132\")","v":""},{"$f":"IF(BY26=\"\",\"\",\"AgencyEntityInstance Id 24\")","v":""},{"$f":"IF(BY26=\"\",\"\",\"cm_subgrade_comp_10_density_b\")","v":""},{"$f":"IF(BY26=\"\",\"\",'Test 1'!AH126)","v":""},{"$f":"IF(BY26=\"\",\"\",TODAY())","v":""},{"$f":"IF(BY26=\"\",\"\",\"WTSYSTEMUSER\")","v":""},{"$f":"IF(BY26=\"\",\"\",TODAY())","v":""},{"$f":"IF(BY26=\"\",\"\",\"WTSYSTEMUSER\")","v":""}]
[null,null,null,null,null,null,null,null,null,null,null,null,null,null,null,null,null,null,null,null,null,null,null,null,null,null,null,null,null,null,null,null,null,null,null,null,null,null,null,null,null,null,null,null,null,null,null,null,null,null,null,null,null,null,null,null,null,null,null,null,null,null,null,null,null,null,null,null,null,null,null,null,null,null,null,null,{"$f":"IF(AH38=\"\",\"\",IF('Test 5'!AI72=\"\",\"\",\"AgencyEntityInstance Id 133\"))","v":""},{"$f":"IF(BY135=\"\",\"\",VLOOKUP(\"CM_Base_DCP\",'Send Sync'!$K$56:$L$96,2,FALSE))","v":""},null,{"$f":"IF(BY135=\"\",\"\",BY120)","v":""},{"$f":"IF(BY135=\"\",\"\",CONCATENATE(\"<Data><cm_base_dcp_01_begin>\",CO649,\"</cm_base_dcp_01_begin><cm_base_dcp_02_end>\",CO650,\"</cm_base_dcp_02_end><cm_base_dcp_03_blows>\",CO651,\"</cm_base_dcp_03_blows><cm_base_dcp_04_index>\",CO652,\"</cm_base_dcp_04_index></Data>\"))","v":""},"","","","",null,null,null,null,null,null,null,"",null,{"$f":"IF(BY27=\"\",\"\",\"AgencyEntityInsData Id 133\")","v":""},{"$f":"IF(BY27=\"\",\"\",\"AgencyEntityInstance Id 25\")","v":""},{"$f":"IF(BY27=\"\",\"\",\"CM_Standard_For_Remarks\")","v":""},{"$f":"IF(BY27=\"\",\"\",IF('Test 1'!J121=\"\",\"\",'Test 1'!J121))","v":""},{"$f":"IF(BY27=\"\",\"\",TODAY())","v":""},{"$f":"IF(BY27=\"\",\"\",\"WTSYSTEMUSER\")","v":""},{"$f":"IF(BY27=\"\",\"\",TODAY())","v":""},{"$f":"IF(BY27=\"\",\"\",\"WTSYSTEMUSER\")","v":""}]
[null,null,null,null,null,null,null,null,null,null,null,null,null,null,null,null,null,null,null,null,null,null,null,null,null,null,null,null,null,null,null,null,null,null,null,null,null,null,null,null,null,null,null,null,null,null,null,null,null,null,null,null,null,null,null,null,null,null,null,null,null,null,null,null,null,null,null,null,null,null,null,null,null,null,null,null,{"$f":"IF(AH38=\"\",\"\",IF('Test 5'!AI73=\"\",\"\",\"AgencyEntityInstance Id 134\"))","v":""},{"$f":"IF(BY136=\"\",\"\",VLOOKUP(\"CM_Base_DCP\",'Send Sync'!$K$56:$L$96,2,FALSE))","v":""},null,{"$f":"IF(BY136=\"\",\"\",BY120)","v":""},{"$f":"IF(BY136=\"\",\"\",CONCATENATE(\"<Data><cm_base_dcp_01_begin>\",CO653,\"</cm_base_dcp_01_begin><cm_base_dcp_02_end>\",CO654,\"</cm_base_dcp_02_end><cm_base_dcp_03_blows>\",CO655,\"</cm_base_dcp_03_blows><cm_base_dcp_04_index>\",CO656,\"</cm_base_dcp_04_index></Data>\"))","v":""},"","","","",null,null,null,null,null,null,null,"",13,{"$f":"IF(BY28=\"\",\"\",\"AgencyEntityInsData Id 134\")","v":""},{"$f":"IF(BY28=\"\",\"\",\"AgencyEntityInstance Id 26\")","v":""},{"$f":"IF(BY28=\"\",\"\",\"cm_subgrade_comp_01_qty_cy_a\")","v":""},{"$f":"IF(BY28=\"\",\"\",'Test 1'!AE135)","v":""},{"$f":"IF(BY28=\"\",\"\",TODAY())","v":""},{"$f":"IF(BY28=\"\",\"\",\"WTSYSTEMUSER\")","v":""},{"$f":"IF(BY28=\"\",\"\",TODAY())","v":""},{"$f":"IF(BY28=\"\",\"\",\"WTSYSTEMUSER\")","v":""}]
[null,null,null,null,null,null,null,null,null,null,null,null,null,null,null,null,null,null,null,null,null,null,null,null,null,null,null,null,null,null,null,null,null,null,null,null,null,null,null,null,null,null,null,null,null,null,null,null,null,null,null,null,null,null,null,null,null,null,null,null,null,null,null,null,null,null,null,null,null,null,null,null,null,null,null,null,{"$f":"IF(AH38=\"\",\"\",IF('Test 5'!AI74=\"\",\"\",\"AgencyEntityInstance Id 135\"))","v":""},{"$f":"IF(BY137=\"\",\"\",VLOOKUP(\"CM_Base_DCP\",'Send Sync'!$K$56:$L$96,2,FALSE))","v":""},null,{"$f":"IF(BY137=\"\",\"\",BY120)","v":""},{"$f":"IF(BY137=\"\",\"\",CONCATENATE(\"<Data><cm_base_dcp_01_begin>\",CO657,\"</cm_base_dcp_01_begin><cm_base_dcp_02_end>\",CO658,\"</cm_base_dcp_02_end><cm_base_dcp_03_blows>\",CO659,\"</cm_base_dcp_03_blows><cm_base_dcp_04_index>\",CO660,\"</cm_base_dcp_04_index></Data>\"))","v":""},"","","","",null,null,null,null,null,null,null,"",null,{"$f":"IF(BY28=\"\",\"\",\"AgencyEntityInsData Id 135\")","v":""},{"$f":"IF(BY28=\"\",\"\",\"AgencyEntityInstance Id 26\")","v":""},{"$f":"IF(BY28=\"\",\"\",\"cm_subgrade_comp_02_qty_cy_b\")","v":""},{"$f":"IF(BY28=\"\",\"\",'Test 1'!AE136)","v":""},{"$f":"IF(BY28=\"\",\"\",TODAY())","v":""},{"$f":"IF(BY28=\"\",\"\",\"WTSYSTEMUSER\")","v":""},{"$f":"IF(BY28=\"\",\"\",TODAY())","v":""},{"$f":"IF(BY28=\"\",\"\",\"WTSYSTEMUSER\")","v":""}]
[null,null,null,null,null,null,null,null,null,null,null,null,null,null,null,null,null,null,null,null,null,null,null,null,null,null,null,null,null,null,null,null,null,null,null,null,null,null,null,null,null,null,null,null,null,null,null,null,null,null,null,null,null,null,null,null,null,null,null,null,null,null,null,null,null,null,null,null,null,null,null,null,null,null,null,null,{"$f":"IF(AH38=\"\",\"\",IF('Test 5'!AI75=\"\",\"\",\"AgencyEntityInstance Id 136\"))","v":""},{"$f":"IF(BY138=\"\",\"\",VLOOKUP(\"CM_Base_DCP\",'Send Sync'!$K$56:$L$96,2,FALSE))","v":""},null,{"$f":"IF(BY138=\"\",\"\",BY120)","v":""},{"$f":"IF(BY138=\"\",\"\",CONCATENATE(\"<Data><cm_base_dcp_01_begin>\",CO661,\"</cm_base_dcp_01_begin><cm_base_dcp_02_end>\",CO662,\"</cm_base_dcp_02_end><cm_base_dcp_03_blows>\",CO663,\"</cm_base_dcp_03_blows><cm_base_dcp_04_index>\",CO664,\"</cm_base_dcp_04_index></Data>\"))","v":""},"","","","",null,null,null,null,null,null,null,"",null,{"$f":"IF(BY28=\"\",\"\",\"AgencyEntityInsData Id 136\")","v":""},{"$f":"IF(BY28=\"\",\"\",\"AgencyEntityInstance Id 26\")","v":""},{"$f":"IF(BY28=\"\",\"\",\"cm_subgrade_comp_03_qty_cy_rocky\")","v":""},{"$f":"IF(BY28=\"\",\"\",'Test 1'!AE137)","v":""},{"$f":"IF(BY28=\"\",\"\",TODAY())","v":""},{"$f":"IF(BY28=\"\",\"\",\"WTSYSTEMUSER\")","v":""},{"$f":"IF(BY28=\"\",\"\",TODAY())","v":""},{"$f":"IF(BY28=\"\",\"\",\"WTSYSTEMUSER\")","v":""}]
[null,null,null,null,null,null,null,null,null,null,null,null,null,null,null,null,null,null,null,null,null,null,null,null,null,null,null,null,null,null,null,null,null,null,null,null,null,null,null,null,null,null,null,null,null,null,null,null,null,null,null,null,null,null,null,null,null,null,null,null,null,null,null,null,null,null,null,null,null,null,null,null,null,null,null,null,{"$f":"IF(AH38=\"\",\"\",IF('Test 5'!AI76=\"\",\"\",\"AgencyEntityInstance Id 137\"))","v":""},{"$f":"IF(BY139=\"\",\"\",VLOOKUP(\"CM_Base_DCP\",'Send Sync'!$K$56:$L$96,2,FALSE))","v":""},null,{"$f":"IF(BY139=\"\",\"\",BY120)","v":""},{"$f":"IF(BY139=\"\",\"\",CONCATENATE(\"<Data><cm_base_dcp_01_begin>\",CO665,\"</cm_base_dcp_01_begin><cm_base_dcp_02_end>\",CO666,\"</cm_base_dcp_02_end><cm_base_dcp_03_blows>\",CO667,\"</cm_base_dcp_03_blows><cm_base_dcp_04_index>\",CO668,\"</cm_base_dcp_04_index></Data>\"))","v":""},"","","","",null,null,null,null,null,null,null,"",null,{"$f":"IF(BY28=\"\",\"\",\"AgencyEntityInsData Id 137\")","v":""},{"$f":"IF(BY28=\"\",\"\",\"AgencyEntityInstance Id 26\")","v":""},{"$f":"IF(BY28=\"\",\"\",\"cm_subgrade_comp_04_qty_sta_a\")","v":""},{"$f":"IF(BY28=\"\",\"\",'Test 1'!AF135)","v":""},{"$f":"IF(BY28=\"\",\"\",TODAY())","v":""},{"$f":"IF(BY28=\"\",\"\",\"WTSYSTEMUSER\")","v":""},{"$f":"IF(BY28=\"\",\"\",TODAY())","v":""},{"$f":"IF(BY28=\"\",\"\",\"WTSYSTEMUSER\")","v":""}]
[null,null,null,null,null,null,null,null,null,null,null,null,null,null,null,null,null,null,null,null,null,null,null,null,null,null,null,null,null,null,null,null,null,null,null,null,null,null,null,null,null,null,null,null,null,null,null,null,null,null,null,null,null,null,null,null,null,null,null,null,null,null,null,null,null,null,null,null,null,null,null,null,null,null,null,null,{"$f":"IF(AH38=\"\",\"\",IF('Test 5'!AI77=\"\",\"\",\"AgencyEntityInstance Id 138\"))","v":""},{"$f":"IF(BY140=\"\",\"\",VLOOKUP(\"CM_Base_DCP\",'Send Sync'!$K$56:$L$96,2,FALSE))","v":""},null,{"$f":"IF(BY140=\"\",\"\",BY120)","v":""},{"$f":"IF(BY140=\"\",\"\",CONCATENATE(\"<Data><cm_base_dcp_01_begin>\",CO669,\"</cm_base_dcp_01_begin><cm_base_dcp_02_end>\",CO670,\"</cm_base_dcp_02_end><cm_base_dcp_03_blows>\",CO671,\"</cm_base_dcp_03_blows><cm_base_dcp_04_index>\",CO672,\"</cm_base_dcp_04_index></Data>\"))","v":""},"","","","",null,null,null,null,null,null,null,"",null,{"$f":"IF(BY28=\"\",\"\",\"AgencyEntityInsData Id 138\")","v":""},{"$f":"IF(BY28=\"\",\"\",\"AgencyEntityInstance Id 26\")","v":""},{"$f":"IF(BY28=\"\",\"\",\"cm_subgrade_comp_05_qty_sta_b\")","v":""},{"$f":"IF(BY28=\"\",\"\",'Test 1'!AF136)","v":""},{"$f":"IF(BY28=\"\",\"\",TODAY())","v":""},{"$f":"IF(BY28=\"\",\"\",\"WTSYSTEMUSER\")","v":""},{"$f":"IF(BY28=\"\",\"\",TODAY())","v":""},{"$f":"IF(BY28=\"\",\"\",\"WTSYSTEMUSER\")","v":""}]
[null,null,null,null,null,null,null,null,null,null,null,null,null,null,null,null,null,null,null,null,null,null,null,null,null,null,null,null,null,null,null,null,null,null,null,null,null,null,null,null,null,null,null,null,null,null,null,null,null,null,null,null,null,null,null,null,null,null,null,null,null,null,null,null,null,null,null,null,null,null,null,null,null,null,null,{"$f":"BX120+1","v":5},{"$f":"IF(AH39=\"\",\"\",\"AgencyEntityInstance Id 139\")","v":""},{"$f":"IF(BY141=\"\",\"\",VLOOKUP(\"CM_Base_DCP_Header\",'Send Sync'!$K$56:$L$96,2,FALSE))","v":""},{"$f":"IF(BY141=\"\",\"\",\"SampleRecordTest Id 37\")","v":""},null,{"$f":"IF(BY141=\"\",\"\",CONCATENATE(\"<Data><cm_base_dcp_header_01_avg>\",CO673,\"</cm_base_dcp_header_01_avg><cm_base_dcp_header_02_thi_spec>\",CO674,\"</cm_base_dcp_header_02_thi_spec><cm_base_dcp_header_03_thi_meas>\",CO675,\"</cm_base_dcp_header_03_thi_meas><cm_base_dcp_header_04_sta_1>\",CO676,\"</cm_base_dcp_header_04_sta_1><cm_base_dcp_header_05_sta_2>\",CO677,\"</cm_base_dcp_header_05_sta_2><cm_base_dcp_header_06_location>\",CO678,\"</cm_base_dcp_header_06_location><cm_base_dcp_header_07_tester>\",CO679,\"</cm_base_dcp_header_07_tester></Data>\"))","v":""},"","","","",null,null,null,null,null,null,null,"",null,{"$f":"IF(BY28=\"\",\"\",\"AgencyEntityInsData Id 139\")","v":""},{"$f":"IF(BY28=\"\",\"\",\"AgencyEntityInstance Id 26\")","v":""},{"$f":"IF(BY28=\"\",\"\",\"cm_subgrade_comp_06_qty_sta_rocky\")","v":""},{"$f":"IF(BY28=\"\",\"\",'Test 1'!AF137)","v":""},{"$f":"IF(BY28=\"\",\"\",TODAY())","v":""},{"$f":"IF(BY28=\"\",\"\",\"WTSYSTEMUSER\")","v":""},{"$f":"IF(BY28=\"\",\"\",TODAY())","v":""},{"$f":"IF(BY28=\"\",\"\",\"WTSYSTEMUSER\")","v":""}]
[null,null,null,null,null,null,null,null,null,null,null,null,null,null,null,null,null,null,null,null,null,null,null,null,null,null,null,null,null,null,null,null,null,null,null,null,null,null,null,null,null,null,null,null,null,null,null,null,null,null,null,null,null,null,null,null,null,null,null,null,null,null,null,null,null,null,null,null,null,null,null,null,null,null,null,null,{"$f":"IF(AH39=\"\",\"\",IF('Test 5'!AF92=\"\",\"\",\"AgencyEntityInstance Id 140\"))","v":""},{"$f":"IF(BY142=\"\",\"\",VLOOKUP(\"CM_Base_DCP\",'Send Sync'!$K$56:$L$96,2,FALSE))","v":""},null,{"$f":"IF(BY142=\"\",\"\",BY141)","v":""},{"$f":"IF(BY142=\"\",\"\",CONCATENATE(\"<Data><cm_base_dcp_01_begin>\",CO680,\"</cm_base_dcp_01_begin><cm_base_dcp_02_end>\",CO681,\"</cm_base_dcp_02_end><cm_base_dcp_03_blows>\",CO682,\"</cm_base_dcp_03_blows><cm_base_dcp_04_index>\",CO683,\"</cm_base_dcp_04_index></Data>\"))","v":""},"","","","",null,null,null,null,null,null,null,"",null,{"$f":"IF(BY28=\"\",\"\",\"AgencyEntityInsData Id 140\")","v":""},{"$f":"IF(BY28=\"\",\"\",\"AgencyEntityInstance Id 26\")","v":""},{"$f":"IF(BY28=\"\",\"\",\"cm_subgrade_comp_07_comp_a\")","v":""},{"$f":"IF(BY28=\"\",\"\",'Test 1'!AG135)","v":""},{"$f":"IF(BY28=\"\",\"\",TODAY())","v":""},{"$f":"IF(BY28=\"\",\"\",\"WTSYSTEMUSER\")","v":""},{"$f":"IF(BY28=\"\",\"\",TODAY())","v":""},{"$f":"IF(BY28=\"\",\"\",\"WTSYSTEMUSER\")","v":""}]
[null,null,null,null,null,null,null,null,null,null,null,null,null,null,null,null,null,null,null,null,null,null,null,null,null,null,null,null,null,null,null,null,null,null,null,null,null,null,null,null,null,null,null,null,null,null,null,null,null,null,null,null,null,null,null,null,null,null,null,null,null,null,null,null,null,null,null,null,null,null,null,null,null,null,null,null,{"$f":"IF(AH39=\"\",\"\",IF('Test 5'!AF93=\"\",\"\",\"AgencyEntityInstance Id 141\"))","v":""},{"$f":"IF(BY143=\"\",\"\",VLOOKUP(\"CM_Base_DCP\",'Send Sync'!$K$56:$L$96,2,FALSE))","v":""},null,{"$f":"IF(BY143=\"\",\"\",BY141)","v":""},{"$f":"IF(BY143=\"\",\"\",CONCATENATE(\"<Data><cm_base_dcp_01_begin>\",CO684,\"</cm_base_dcp_01_begin><cm_base_dcp_02_end>\",CO685,\"</cm_base_dcp_02_end><cm_base_dcp_03_blows>\",CO686,\"</cm_base_dcp_03_blows><cm_base_dcp_04_index>\",CO687,\"</cm_base_dcp_04_index></Data>\"))","v":""},"","","","",null,null,null,null,null,null,null,"",null,{"$f":"IF(BY28=\"\",\"\",\"AgencyEntityInsData Id 141\")","v":""},{"$f":"IF(BY28=\"\",\"\",\"AgencyEntityInstance Id 26\")","v":""},{"$f":"IF(BY28=\"\",\"\",\"cm_subgrade_comp_08_comp_b\")","v":""},{"$f":"IF(BY28=\"\",\"\",'Test 1'!AG136)","v":""},{"$f":"IF(BY28=\"\",\"\",TODAY())","v":""},{"$f":"IF(BY28=\"\",\"\",\"WTSYSTEMUSER\")","v":""},{"$f":"IF(BY28=\"\",\"\",TODAY())","v":""},{"$f":"IF(BY28=\"\",\"\",\"WTSYSTEMUSER\")","v":""}]
[null,null,null,null,null,null,null,null,null,null,null,null,null,null,null,null,null,null,null,null,null,null,null,null,null,null,null,null,null,null,null,null,null,null,null,null,null,null,null,null,null,null,null,null,null,null,null,null,null,null,null,null,null,null,null,null,null,null,null,null,null,null,null,null,null,null,null,null,null,null,null,null,null,null,null,null,{"$f":"IF(AH39=\"\",\"\",IF('Test 5'!AF94=\"\",\"\",\"AgencyEntityInstance Id 142\"))","v":""},{"$f":"IF(BY144=\"\",\"\",VLOOKUP(\"CM_Base_DCP\",'Send Sync'!$K$56:$L$96,2,FALSE))","v":""},null,{"$f":"IF(BY144=\"\",\"\",BY141)","v":""},{"$f":"IF(BY144=\"\",\"\",CONCATENATE(\"<Data><cm_base_dcp_01_begin>\",CO688,\"</cm_base_dcp_01_begin><cm_base_dcp_02_end>\",CO689,\"</cm_base_dcp_02_end><cm_base_dcp_03_blows>\",CO690,\"</cm_base_dcp_03_blows><cm_base_dcp_04_index>\",CO691,\"</cm_base_dcp_04_index></Data>\"))","v":""},"","","","",null,null,null,null,null,null,null,"",null,{"$f":"IF(BY28=\"\",\"\",\"AgencyEntityInsData Id 142\")","v":""},{"$f":"IF(BY28=\"\",\"\",\"AgencyEntityInstance Id 26\")","v":""},{"$f":"IF(BY28=\"\",\"\",\"cm_subgrade_comp_09_density_a\")","v":""},{"$f":"IF(BY28=\"\",\"\",'Test 1'!AH135)","v":""},{"$f":"IF(BY28=\"\",\"\",TODAY())","v":""},{"$f":"IF(BY28=\"\",\"\",\"WTSYSTEMUSER\")","v":""},{"$f":"IF(BY28=\"\",\"\",TODAY())","v":""},{"$f":"IF(BY28=\"\",\"\",\"WTSYSTEMUSER\")","v":""}]
[null,null,null,null,null,null,null,null,null,null,null,null,null,null,null,null,null,null,null,null,null,null,null,null,null,null,null,null,null,null,null,null,null,null,null,null,null,null,null,null,null,null,null,null,null,null,null,null,null,null,null,null,null,null,null,null,null,null,null,null,null,null,null,null,null,null,null,null,null,null,null,null,null,null,null,null,{"$f":"IF(AH39=\"\",\"\",IF('Test 5'!AF95=\"\",\"\",\"AgencyEntityInstance Id 143\"))","v":""},{"$f":"IF(BY145=\"\",\"\",VLOOKUP(\"CM_Base_DCP\",'Send Sync'!$K$56:$L$96,2,FALSE))","v":""},null,{"$f":"IF(BY145=\"\",\"\",BY141)","v":""},{"$f":"IF(BY145=\"\",\"\",CONCATENATE(\"<Data><cm_base_dcp_01_begin>\",CO692,\"</cm_base_dcp_01_begin><cm_base_dcp_02_end>\",CO693,\"</cm_base_dcp_02_end><cm_base_dcp_03_blows>\",CO694,\"</cm_base_dcp_03_blows><cm_base_dcp_04_index>\",CO695,\"</cm_base_dcp_04_index></Data>\"))","v":""},"","","","",null,null,null,null,null,null,null,"",null,{"$f":"IF(BY28=\"\",\"\",\"AgencyEntityInsData Id 143\")","v":""},{"$f":"IF(BY28=\"\",\"\",\"AgencyEntityInstance Id 26\")","v":""},{"$f":"IF(BY28=\"\",\"\",\"cm_subgrade_comp_10_density_b\")","v":""},{"$f":"IF(BY28=\"\",\"\",'Test 1'!AH136)","v":""},{"$f":"IF(BY28=\"\",\"\",TODAY())","v":""},{"$f":"IF(BY28=\"\",\"\",\"WTSYSTEMUSER\")","v":""},{"$f":"IF(BY28=\"\",\"\",TODAY())","v":""},{"$f":"IF(BY28=\"\",\"\",\"WTSYSTEMUSER\")","v":""}]
[null,null,null,null,null,null,null,null,null,null,null,null,null,null,null,null,null,null,null,null,null,null,null,null,null,null,null,null,null,null,null,null,null,null,null,null,null,null,null,null,null,null,null,null,null,null,null,null,null,null,null,null,null,null,null,null,null,null,null,null,null,null,null,null,null,null,null,null,null,null,null,null,null,null,null,null,{"$f":"IF(AH39=\"\",\"\",IF('Test 5'!AF96=\"\",\"\",\"AgencyEntityInstance Id 144\"))","v":""},{"$f":"IF(BY146=\"\",\"\",VLOOKUP(\"CM_Base_DCP\",'Send Sync'!$K$56:$L$96,2,FALSE))","v":""},null,{"$f":"IF(BY146=\"\",\"\",BY141)","v":""},{"$f":"IF(BY146=\"\",\"\",CONCATENATE(\"<Data><cm_base_dcp_01_begin>\",CO696,\"</cm_base_dcp_01_begin><cm_base_dcp_02_end>\",CO697,\"</cm_base_dcp_02_end><cm_base_dcp_03_blows>\",CO698,\"</cm_base_dcp_03_blows><cm_base_dcp_04_index>\",CO699,\"</cm_base_dcp_04_index></Data>\"))","v":""},"","","","",null,null,null,null,null,null,null,"",null,{"$f":"IF(BY29=\"\",\"\",\"AgencyEntityInsData Id 144\")","v":""},{"$f":"IF(BY29=\"\",\"\",\"AgencyEntityInstance Id 27\")","v":""},{"$f":"IF(BY29=\"\",\"\",\"CM_Standard_For_Remarks\")","v":""},{"$f":"IF(BY29=\"\",\"\",IF('Test 1'!J131=\"\",\"\",'Test 1'!J131))","v":""},{"$f":"IF(BY29=\"\",\"\",TODAY())","v":""},{"$f":"IF(BY29=\"\",\"\",\"WTSYSTEMUSER\")","v":""},{"$f":"IF(BY29=\"\",\"\",TODAY())","v":""},{"$f":"IF(BY29=\"\",\"\",\"WTSYSTEMUSER\")","v":""}]
[null,null,null,null,null,null,null,null,null,null,null,null,null,null,null,null,null,null,null,null,null,null,null,null,null,null,null,null,null,null,null,null,null,null,null,null,null,null,null,null,null,null,null,null,null,null,null,null,null,null,null,null,null,null,null,null,null,null,null,null,null,null,null,null,null,null,null,null,null,null,null,null,null,null,null,null,{"$f":"IF(AH39=\"\",\"\",IF('Test 5'!AF97=\"\",\"\",\"AgencyEntityInstance Id 145\"))","v":""},{"$f":"IF(BY147=\"\",\"\",VLOOKUP(\"CM_Base_DCP\",'Send Sync'!$K$56:$L$96,2,FALSE))","v":""},null,{"$f":"IF(BY147=\"\",\"\",BY141)","v":""},{"$f":"IF(BY147=\"\",\"\",CONCATENATE(\"<Data><cm_base_dcp_01_begin>\",CO700,\"</cm_base_dcp_01_begin><cm_base_dcp_02_end>\",CO701,\"</cm_base_dcp_02_end><cm_base_dcp_03_blows>\",CO702,\"</cm_base_dcp_03_blows><cm_base_dcp_04_index>\",CO703,\"</cm_base_dcp_04_index></Data>\"))","v":""},"","","","",null,null,null,null,null,null,null,"",14,{"$f":"IF(BY30=\"\",\"\",\"AgencyEntityInsData Id 145\")","v":""},{"$f":"IF(BY30=\"\",\"\",\"AgencyEntityInstance Id 28\")","v":""},{"$f":"IF(BY30=\"\",\"\",\"cm_subgrade_comp_01_qty_cy_a\")","v":""},{"$f":"IF(BY30=\"\",\"\",'Test 1'!AE145)","v":""},{"$f":"IF(BY30=\"\",\"\",TODAY())","v":""},{"$f":"IF(BY30=\"\",\"\",\"WTSYSTEMUSER\")","v":""},{"$f":"IF(BY30=\"\",\"\",TODAY())","v":""},{"$f":"IF(BY30=\"\",\"\",\"WTSYSTEMUSER\")","v":""}]
[null,null,null,null,null,null,null,null,null,null,null,null,null,null,null,null,null,null,null,null,null,null,null,null,null,null,null,null,null,null,null,null,null,null,null,null,null,null,null,null,null,null,null,null,null,null,null,null,null,null,null,null,null,null,null,null,null,null,null,null,null,null,null,null,null,null,null,null,null,null,null,null,null,null,null,null,{"$f":"IF(AH39=\"\",\"\",IF('Test 5'!AF98=\"\",\"\",\"AgencyEntityInstance Id 146\"))","v":""},{"$f":"IF(BY148=\"\",\"\",VLOOKUP(\"CM_Base_DCP\",'Send Sync'!$K$56:$L$96,2,FALSE))","v":""},null,{"$f":"IF(BY148=\"\",\"\",BY141)","v":""},{"$f":"IF(BY148=\"\",\"\",CONCATENATE(\"<Data><cm_base_dcp_01_begin>\",CO704,\"</cm_base_dcp_01_begin><cm_base_dcp_02_end>\",CO705,\"</cm_base_dcp_02_end><cm_base_dcp_03_blows>\",CO706,\"</cm_base_dcp_03_blows><cm_base_dcp_04_index>\",CO707,\"</cm_base_dcp_04_index></Data>\"))","v":""},"","","","",null,null,null,null,null,null,null,"",null,{"$f":"IF(BY30=\"\",\"\",\"AgencyEntityInsData Id 146\")","v":""},{"$f":"IF(BY30=\"\",\"\",\"AgencyEntityInstance Id 28\")","v":""},{"$f":"IF(BY30=\"\",\"\",\"cm_subgrade_comp_02_qty_cy_b\")","v":""},{"$f":"IF(BY30=\"\",\"\",'Test 1'!AE146)","v":""},{"$f":"IF(BY30=\"\",\"\",TODAY())","v":""},{"$f":"IF(BY30=\"\",\"\",\"WTSYSTEMUSER\")","v":""},{"$f":"IF(BY30=\"\",\"\",TODAY())","v":""},{"$f":"IF(BY30=\"\",\"\",\"WTSYSTEMUSER\")","v":""}]
[null,null,null,null,null,null,null,null,null,null,null,null,null,null,null,null,null,null,null,null,null,null,null,null,null,null,null,null,null,null,null,null,null,null,null,null,null,null,null,null,null,null,null,null,null,null,null,null,null,null,null,null,null,null,null,null,null,null,null,null,null,null,null,null,null,null,null,null,null,null,null,null,null,null,null,null,{"$f":"IF(AH39=\"\",\"\",IF('Test 5'!AF99=\"\",\"\",\"AgencyEntityInstance Id 147\"))","v":""},{"$f":"IF(BY149=\"\",\"\",VLOOKUP(\"CM_Base_DCP\",'Send Sync'!$K$56:$L$96,2,FALSE))","v":""},null,{"$f":"IF(BY149=\"\",\"\",BY141)","v":""},{"$f":"IF(BY149=\"\",\"\",CONCATENATE(\"<Data><cm_base_dcp_01_begin>\",CO708,\"</cm_base_dcp_01_begin><cm_base_dcp_02_end>\",CO709,\"</cm_base_dcp_02_end><cm_base_dcp_03_blows>\",CO710,\"</cm_base_dcp_03_blows><cm_base_dcp_04_index>\",CO711,\"</cm_base_dcp_04_index></Data>\"))","v":""},"","","","",null,null,null,null,null,null,null,"",null,{"$f":"IF(BY30=\"\",\"\",\"AgencyEntityInsData Id 147\")","v":""},{"$f":"IF(BY30=\"\",\"\",\"AgencyEntityInstance Id 28\")","v":""},{"$f":"IF(BY30=\"\",\"\",\"cm_subgrade_comp_03_qty_cy_rocky\")","v":""},{"$f":"IF(BY30=\"\",\"\",'Test 1'!AE147)","v":""},{"$f":"IF(BY30=\"\",\"\",TODAY())","v":""},{"$f":"IF(BY30=\"\",\"\",\"WTSYSTEMUSER\")","v":""},{"$f":"IF(BY30=\"\",\"\",TODAY())","v":""},{"$f":"IF(BY30=\"\",\"\",\"WTSYSTEMUSER\")","v":""}]
[null,null,null,null,null,null,null,null,null,null,null,null,null,null,null,null,null,null,null,null,null,null,null,null,null,null,null,null,null,null,null,null,null,null,null,null,null,null,null,null,null,null,null,null,null,null,null,null,null,null,null,null,null,null,null,null,null,null,null,null,null,null,null,null,null,null,null,null,null,null,null,null,null,null,null,null,{"$f":"IF(AH39=\"\",\"\",IF('Test 5'!AF100=\"\",\"\",\"AgencyEntityInstance Id 148\"))","v":""},{"$f":"IF(BY150=\"\",\"\",VLOOKUP(\"CM_Base_DCP\",'Send Sync'!$K$56:$L$96,2,FALSE))","v":""},null,{"$f":"IF(BY150=\"\",\"\",BY141)","v":""},{"$f":"IF(BY150=\"\",\"\",CONCATENATE(\"<Data><cm_base_dcp_01_begin>\",CO712,\"</cm_base_dcp_01_begin><cm_base_dcp_02_end>\",CO713,\"</cm_base_dcp_02_end><cm_base_dcp_03_blows>\",CO714,\"</cm_base_dcp_03_blows><cm_base_dcp_04_index>\",CO715,\"</cm_base_dcp_04_index></Data>\"))","v":""},"","","","",null,null,null,null,null,null,null,"",null,{"$f":"IF(BY30=\"\",\"\",\"AgencyEntityInsData Id 148\")","v":""},{"$f":"IF(BY30=\"\",\"\",\"AgencyEntityInstance Id 28\")","v":""},{"$f":"IF(BY30=\"\",\"\",\"cm_subgrade_comp_04_qty_sta_a\")","v":""},{"$f":"IF(BY30=\"\",\"\",'Test 1'!AF145)","v":""},{"$f":"IF(BY30=\"\",\"\",TODAY())","v":""},{"$f":"IF(BY30=\"\",\"\",\"WTSYSTEMUSER\")","v":""},{"$f":"IF(BY30=\"\",\"\",TODAY())","v":""},{"$f":"IF(BY30=\"\",\"\",\"WTSYSTEMUSER\")","v":""}]
[null,null,null,null,null,null,null,null,null,null,null,null,null,null,null,null,null,null,null,null,null,null,null,null,null,null,null,null,null,null,null,null,null,null,null,null,null,null,null,null,null,null,null,null,null,null,null,null,null,null,null,null,null,null,null,null,null,null,null,null,null,null,null,null,null,null,null,null,null,null,null,null,null,null,null,null,{"$f":"IF(AH39=\"\",\"\",IF('Test 5'!AF101=\"\",\"\",\"AgencyEntityInstance Id 149\"))","v":""},{"$f":"IF(BY151=\"\",\"\",VLOOKUP(\"CM_Base_DCP\",'Send Sync'!$K$56:$L$96,2,FALSE))","v":""},null,{"$f":"IF(BY151=\"\",\"\",BY141)","v":""},{"$f":"IF(BY151=\"\",\"\",CONCATENATE(\"<Data><cm_base_dcp_01_begin>\",CO716,\"</cm_base_dcp_01_begin><cm_base_dcp_02_end>\",CO717,\"</cm_base_dcp_02_end><cm_base_dcp_03_blows>\",CO718,\"</cm_base_dcp_03_blows><cm_base_dcp_04_index>\",CO719,\"</cm_base_dcp_04_index></Data>\"))","v":""},"","","","",null,null,null,null,null,null,null,"",null,{"$f":"IF(BY30=\"\",\"\",\"AgencyEntityInsData Id 149\")","v":""},{"$f":"IF(BY30=\"\",\"\",\"AgencyEntityInstance Id 28\")","v":""},{"$f":"IF(BY30=\"\",\"\",\"cm_subgrade_comp_05_qty_sta_b\")","v":""},{"$f":"IF(BY30=\"\",\"\",'Test 1'!AF146)","v":""},{"$f":"IF(BY30=\"\",\"\",TODAY())","v":""},{"$f":"IF(BY30=\"\",\"\",\"WTSYSTEMUSER\")","v":""},{"$f":"IF(BY30=\"\",\"\",TODAY())","v":""},{"$f":"IF(BY30=\"\",\"\",\"WTSYSTEMUSER\")","v":""}]
[null,null,null,null,null,null,null,null,null,null,null,null,null,null,null,null,null,null,null,null,null,null,null,null,null,null,null,null,null,null,null,null,null,null,null,null,null,null,null,null,null,null,null,null,null,null,null,null,null,null,null,null,null,null,null,null,null,null,null,null,null,null,null,null,null,null,null,null,null,null,null,null,null,null,null,null,{"$f":"IF(AH39=\"\",\"\",IF('Test 5'!AF102=\"\",\"\",\"AgencyEntityInstance Id 150\"))","v":""},{"$f":"IF(BY152=\"\",\"\",VLOOKUP(\"CM_Base_DCP\",'Send Sync'!$K$56:$L$96,2,FALSE))","v":""},null,{"$f":"IF(BY152=\"\",\"\",BY141)","v":""},{"$f":"IF(BY152=\"\",\"\",CONCATENATE(\"<Data><cm_base_dcp_01_begin>\",CO720,\"</cm_base_dcp_01_begin><cm_base_dcp_02_end>\",CO721,\"</cm_base_dcp_02_end><cm_base_dcp_03_blows>\",CO722,\"</cm_base_dcp_03_blows><cm_base_dcp_04_index>\",CO723,\"</cm_base_dcp_04_index></Data>\"))","v":""},"","","","",null,null,null,null,null,null,null,"",null,{"$f":"IF(BY30=\"\",\"\",\"AgencyEntityInsData Id 150\")","v":""},{"$f":"IF(BY30=\"\",\"\",\"AgencyEntityInstance Id 28\")","v":""},{"$f":"IF(BY30=\"\",\"\",\"cm_subgrade_comp_06_qty_sta_rocky\")","v":""},{"$f":"IF(BY30=\"\",\"\",'Test 1'!AF147)","v":""},{"$f":"IF(BY30=\"\",\"\",TODAY())","v":""},{"$f":"IF(BY30=\"\",\"\",\"WTSYSTEMUSER\")","v":""},{"$f":"IF(BY30=\"\",\"\",TODAY())","v":""},{"$f":"IF(BY30=\"\",\"\",\"WTSYSTEMUSER\")","v":""}]
[null,null,null,null,null,null,null,null,null,null,null,null,null,null,null,null,null,null,null,null,null,null,null,null,null,null,null,null,null,null,null,null,null,null,null,null,null,null,null,null,null,null,null,null,null,null,null,null,null,null,null,null,null,null,null,null,null,null,null,null,null,null,null,null,null,null,null,null,null,null,null,null,null,null,null,null,{"$f":"IF(AH39=\"\",\"\",IF('Test 5'!AF103=\"\",\"\",\"AgencyEntityInstance Id 151\"))","v":""},{"$f":"IF(BY153=\"\",\"\",VLOOKUP(\"CM_Base_DCP\",'Send Sync'!$K$56:$L$96,2,FALSE))","v":""},null,{"$f":"IF(BY153=\"\",\"\",BY141)","v":""},{"$f":"IF(BY153=\"\",\"\",CONCATENATE(\"<Data><cm_base_dcp_01_begin>\",CO724,\"</cm_base_dcp_01_begin><cm_base_dcp_02_end>\",CO725,\"</cm_base_dcp_02_end><cm_base_dcp_03_blows>\",CO726,\"</cm_base_dcp_03_blows><cm_base_dcp_04_index>\",CO727,\"</cm_base_dcp_04_index></Data>\"))","v":""},"","","","",null,null,null,null,null,null,null,"",null,{"$f":"IF(BY30=\"\",\"\",\"AgencyEntityInsData Id 151\")","v":""},{"$f":"IF(BY30=\"\",\"\",\"AgencyEntityInstance Id 28\")","v":""},{"$f":"IF(BY30=\"\",\"\",\"cm_subgrade_comp_07_comp_a\")","v":""},{"$f":"IF(BY30=\"\",\"\",'Test 1'!AG145)","v":""},{"$f":"IF(BY30=\"\",\"\",TODAY())","v":""},{"$f":"IF(BY30=\"\",\"\",\"WTSYSTEMUSER\")","v":""},{"$f":"IF(BY30=\"\",\"\",TODAY())","v":""},{"$f":"IF(BY30=\"\",\"\",\"WTSYSTEMUSER\")","v":""}]
[null,null,null,null,null,null,null,null,null,null,null,null,null,null,null,null,null,null,null,null,null,null,null,null,null,null,null,null,null,null,null,null,null,null,null,null,null,null,null,null,null,null,null,null,null,null,null,null,null,null,null,null,null,null,null,null,null,null,null,null,null,null,null,null,null,null,null,null,null,null,null,null,null,null,null,null,{"$f":"IF(AH39=\"\",\"\",IF('Test 5'!AF104=\"\",\"\",\"AgencyEntityInstance Id 152\"))","v":""},{"$f":"IF(BY154=\"\",\"\",VLOOKUP(\"CM_Base_DCP\",'Send Sync'!$K$56:$L$96,2,FALSE))","v":""},null,{"$f":"IF(BY154=\"\",\"\",BY141)","v":""},{"$f":"IF(BY154=\"\",\"\",CONCATENATE(\"<Data><cm_base_dcp_01_begin>\",CO728,\"</cm_base_dcp_01_begin><cm_base_dcp_02_end>\",CO729,\"</cm_base_dcp_02_end><cm_base_dcp_03_blows>\",CO730,\"</cm_base_dcp_03_blows><cm_base_dcp_04_index>\",CO731,\"</cm_base_dcp_04_index></Data>\"))","v":""},"","","","",null,null,null,null,null,null,null,"",null,{"$f":"IF(BY30=\"\",\"\",\"AgencyEntityInsData Id 152\")","v":""},{"$f":"IF(BY30=\"\",\"\",\"AgencyEntityInstance Id 28\")","v":""},{"$f":"IF(BY30=\"\",\"\",\"cm_subgrade_comp_08_comp_b\")","v":""},{"$f":"IF(BY30=\"\",\"\",'Test 1'!AG146)","v":""},{"$f":"IF(BY30=\"\",\"\",TODAY())","v":""},{"$f":"IF(BY30=\"\",\"\",\"WTSYSTEMUSER\")","v":""},{"$f":"IF(BY30=\"\",\"\",TODAY())","v":""},{"$f":"IF(BY30=\"\",\"\",\"WTSYSTEMUSER\")","v":""}]
[null,null,null,null,null,null,null,null,null,null,null,null,null,null,null,null,null,null,null,null,null,null,null,null,null,null,null,null,null,null,null,null,null,null,null,null,null,null,null,null,null,null,null,null,null,null,null,null,null,null,null,null,null,null,null,null,null,null,null,null,null,null,null,null,null,null,null,null,null,null,null,null,null,null,null,null,{"$f":"IF(AH39=\"\",\"\",IF('Test 5'!AF105=\"\",\"\",\"AgencyEntityInstance Id 153\"))","v":""},{"$f":"IF(BY155=\"\",\"\",VLOOKUP(\"CM_Base_DCP\",'Send Sync'!$K$56:$L$96,2,FALSE))","v":""},null,{"$f":"IF(BY155=\"\",\"\",BY141)","v":""},{"$f":"IF(BY155=\"\",\"\",CONCATENATE(\"<Data><cm_base_dcp_01_begin>\",CO732,\"</cm_base_dcp_01_begin><cm_base_dcp_02_end>\",CO733,\"</cm_base_dcp_02_end><cm_base_dcp_03_blows>\",CO734,\"</cm_base_dcp_03_blows><cm_base_dcp_04_index>\",CO735,\"</cm_base_dcp_04_index></Data>\"))","v":""},"","","","",null,null,null,null,null,null,null,"",null,{"$f":"IF(BY30=\"\",\"\",\"AgencyEntityInsData Id 153\")","v":""},{"$f":"IF(BY30=\"\",\"\",\"AgencyEntityInstance Id 28\")","v":""},{"$f":"IF(BY30=\"\",\"\",\"cm_subgrade_comp_09_density_a\")","v":""},{"$f":"IF(BY30=\"\",\"\",'Test 1'!AH145)","v":""},{"$f":"IF(BY30=\"\",\"\",TODAY())","v":""},{"$f":"IF(BY30=\"\",\"\",\"WTSYSTEMUSER\")","v":""},{"$f":"IF(BY30=\"\",\"\",TODAY())","v":""},{"$f":"IF(BY30=\"\",\"\",\"WTSYSTEMUSER\")","v":""}]
[null,null,null,null,null,null,null,null,null,null,null,null,null,null,null,null,null,null,null,null,null,null,null,null,null,null,null,null,null,null,null,null,null,null,null,null,null,null,null,null,null,null,null,null,null,null,null,null,null,null,null,null,null,null,null,null,null,null,null,null,null,null,null,null,null,null,null,null,null,null,null,null,null,null,null,null,{"$f":"IF(AH39=\"\",\"\",IF('Test 5'!AF106=\"\",\"\",\"AgencyEntityInstance Id 154\"))","v":""},{"$f":"IF(BY156=\"\",\"\",VLOOKUP(\"CM_Base_DCP\",'Send Sync'!$K$56:$L$96,2,FALSE))","v":""},null,{"$f":"IF(BY156=\"\",\"\",BY141)","v":""},{"$f":"IF(BY156=\"\",\"\",CONCATENATE(\"<Data><cm_base_dcp_01_begin>\",CO736,\"</cm_base_dcp_01_begin><cm_base_dcp_02_end>\",CO737,\"</cm_base_dcp_02_end><cm_base_dcp_03_blows>\",CO738,\"</cm_base_dcp_03_blows><cm_base_dcp_04_index>\",CO739,\"</cm_base_dcp_04_index></Data>\"))","v":""},"","","","",null,null,null,null,null,null,null,"",null,{"$f":"IF(BY30=\"\",\"\",\"AgencyEntityInsData Id 154\")","v":""},{"$f":"IF(BY30=\"\",\"\",\"AgencyEntityInstance Id 28\")","v":""},{"$f":"IF(BY30=\"\",\"\",\"cm_subgrade_comp_10_density_b\")","v":""},{"$f":"IF(BY30=\"\",\"\",'Test 1'!AH146)","v":""},{"$f":"IF(BY30=\"\",\"\",TODAY())","v":""},{"$f":"IF(BY30=\"\",\"\",\"WTSYSTEMUSER\")","v":""},{"$f":"IF(BY30=\"\",\"\",TODAY())","v":""},{"$f":"IF(BY30=\"\",\"\",\"WTSYSTEMUSER\")","v":""}]
[null,null,null,null,null,null,null,null,null,null,null,null,null,null,null,null,null,null,null,null,null,null,null,null,null,null,null,null,null,null,null,null,null,null,null,null,null,null,null,null,null,null,null,null,null,null,null,null,null,null,null,null,null,null,null,null,null,null,null,null,null,null,null,null,null,null,null,null,null,null,null,null,null,null,null,null,{"$f":"IF(AH39=\"\",\"\",IF('Test 5'!AF107=\"\",\"\",\"AgencyEntityInstance Id 155\"))","v":""},{"$f":"IF(BY157=\"\",\"\",VLOOKUP(\"CM_Base_DCP\",'Send Sync'!$K$56:$L$96,2,FALSE))","v":""},null,{"$f":"IF(BY157=\"\",\"\",BY141)","v":""},{"$f":"IF(BY157=\"\",\"\",CONCATENATE(\"<Data><cm_base_dcp_01_begin>\",CO740,\"</cm_base_dcp_01_begin><cm_base_dcp_02_end>\",CO741,\"</cm_base_dcp_02_end><cm_base_dcp_03_blows>\",CO742,\"</cm_base_dcp_03_blows><cm_base_dcp_04_index>\",CO743,\"</cm_base_dcp_04_index></Data>\"))","v":""},"","","","",null,null,null,null,null,null,null,"",null,{"$f":"IF(BY31=\"\",\"\",\"AgencyEntityInsData Id 155\")","v":""},{"$f":"IF(BY31=\"\",\"\",\"AgencyEntityInstance Id 29\")","v":""},{"$f":"IF(BY31=\"\",\"\",\"CM_Standard_For_Remarks\")","v":""},{"$f":"IF(BY31=\"\",\"\",IF('Test 1'!J141=\"\",\"\",'Test 1'!J141))","v":""},{"$f":"IF(BY31=\"\",\"\",TODAY())","v":""},{"$f":"IF(BY31=\"\",\"\",\"WTSYSTEMUSER\")","v":""},{"$f":"IF(BY31=\"\",\"\",TODAY())","v":""},{"$f":"IF(BY31=\"\",\"\",\"WTSYSTEMUSER\")","v":""}]
[null,null,null,null,null,null,null,null,null,null,null,null,null,null,null,null,null,null,null,null,null,null,null,null,null,null,null,null,null,null,null,null,null,null,null,null,null,null,null,null,null,null,null,null,null,null,null,null,null,null,null,null,null,null,null,null,null,null,null,null,null,null,null,null,null,null,null,null,null,null,null,null,null,null,null,null,{"$f":"IF(AH39=\"\",\"\",IF('Test 5'!AF108=\"\",\"\",\"AgencyEntityInstance Id 156\"))","v":""},{"$f":"IF(BY158=\"\",\"\",VLOOKUP(\"CM_Base_DCP\",'Send Sync'!$K$56:$L$96,2,FALSE))","v":""},null,{"$f":"IF(BY158=\"\",\"\",BY141)","v":""},{"$f":"IF(BY158=\"\",\"\",CONCATENATE(\"<Data><cm_base_dcp_01_begin>\",CO744,\"</cm_base_dcp_01_begin><cm_base_dcp_02_end>\",CO745,\"</cm_base_dcp_02_end><cm_base_dcp_03_blows>\",CO746,\"</cm_base_dcp_03_blows><cm_base_dcp_04_index>\",CO747,\"</cm_base_dcp_04_index></Data>\"))","v":""},"","","","",null,null,null,null,null,null,null,"",15,{"$f":"IF(BY32=\"\",\"\",\"AgencyEntityInsData Id 156\")","v":""},{"$f":"IF(BY32=\"\",\"\",\"AgencyEntityInstance Id 30\")","v":""},{"$f":"IF(BY32=\"\",\"\",\"cm_subgrade_comp_01_qty_cy_a\")","v":""},{"$f":"IF(BY32=\"\",\"\",'Test 1'!AE155)","v":""},{"$f":"IF(BY32=\"\",\"\",TODAY())","v":""},{"$f":"IF(BY32=\"\",\"\",\"WTSYSTEMUSER\")","v":""},{"$f":"IF(BY32=\"\",\"\",TODAY())","v":""},{"$f":"IF(BY32=\"\",\"\",\"WTSYSTEMUSER\")","v":""}]
[null,null,null,null,null,null,null,null,null,null,null,null,null,null,null,null,null,null,null,null,null,null,null,null,null,null,null,null,null,null,null,null,null,null,null,null,null,null,null,null,null,null,null,null,null,null,null,null,null,null,null,null,null,null,null,null,null,null,null,null,null,null,null,null,null,null,null,null,null,null,null,null,null,null,null,null,{"$f":"IF(AH39=\"\",\"\",IF('Test 5'!AF109=\"\",\"\",\"AgencyEntityInstance Id 157\"))","v":""},{"$f":"IF(BY159=\"\",\"\",VLOOKUP(\"CM_Base_DCP\",'Send Sync'!$K$56:$L$96,2,FALSE))","v":""},null,{"$f":"IF(BY159=\"\",\"\",BY141)","v":""},{"$f":"IF(BY159=\"\",\"\",CONCATENATE(\"<Data><cm_base_dcp_01_begin>\",CO748,\"</cm_base_dcp_01_begin><cm_base_dcp_02_end>\",CO749,\"</cm_base_dcp_02_end><cm_base_dcp_03_blows>\",CO750,\"</cm_base_dcp_03_blows><cm_base_dcp_04_index>\",CO751,\"</cm_base_dcp_04_index></Data>\"))","v":""},"","","","",null,null,null,null,null,null,null,"",null,{"$f":"IF(BY32=\"\",\"\",\"AgencyEntityInsData Id 157\")","v":""},{"$f":"IF(BY32=\"\",\"\",\"AgencyEntityInstance Id 30\")","v":""},{"$f":"IF(BY32=\"\",\"\",\"cm_subgrade_comp_02_qty_cy_b\")","v":""},{"$f":"IF(BY32=\"\",\"\",'Test 1'!AE156)","v":""},{"$f":"IF(BY32=\"\",\"\",TODAY())","v":""},{"$f":"IF(BY32=\"\",\"\",\"WTSYSTEMUSER\")","v":""},{"$f":"IF(BY32=\"\",\"\",TODAY())","v":""},{"$f":"IF(BY32=\"\",\"\",\"WTSYSTEMUSER\")","v":""}]
[null,null,null,null,null,null,null,null,null,null,null,null,null,null,null,null,null,null,null,null,null,null,null,null,null,null,null,null,null,null,null,null,null,null,null,null,null,null,null,null,null,null,null,null,null,null,null,null,null,null,null,null,null,null,null,null,null,null,null,null,null,null,null,null,null,null,null,null,null,null,null,null,null,null,null,null,{"$f":"IF(AH39=\"\",\"\",IF('Test 5'!AF110=\"\",\"\",\"AgencyEntityInstance Id 158\"))","v":""},{"$f":"IF(BY160=\"\",\"\",VLOOKUP(\"CM_Base_DCP\",'Send Sync'!$K$56:$L$96,2,FALSE))","v":""},null,{"$f":"IF(BY160=\"\",\"\",BY141)","v":""},{"$f":"IF(BY160=\"\",\"\",CONCATENATE(\"<Data><cm_base_dcp_01_begin>\",CO752,\"</cm_base_dcp_01_begin><cm_base_dcp_02_end>\",CO753,\"</cm_base_dcp_02_end><cm_base_dcp_03_blows>\",CO754,\"</cm_base_dcp_03_blows><cm_base_dcp_04_index>\",CO755,\"</cm_base_dcp_04_index></Data>\"))","v":""},"","","","",null,null,null,null,null,null,null,"",null,{"$f":"IF(BY32=\"\",\"\",\"AgencyEntityInsData Id 158\")","v":""},{"$f":"IF(BY32=\"\",\"\",\"AgencyEntityInstance Id 30\")","v":""},{"$f":"IF(BY32=\"\",\"\",\"cm_subgrade_comp_03_qty_cy_rocky\")","v":""},{"$f":"IF(BY32=\"\",\"\",'Test 1'!AE157)","v":""},{"$f":"IF(BY32=\"\",\"\",TODAY())","v":""},{"$f":"IF(BY32=\"\",\"\",\"WTSYSTEMUSER\")","v":""},{"$f":"IF(BY32=\"\",\"\",TODAY())","v":""},{"$f":"IF(BY32=\"\",\"\",\"WTSYSTEMUSER\")","v":""}]
[null,null,null,null,null,null,null,null,null,null,null,null,null,null,null,null,null,null,null,null,null,null,null,null,null,null,null,null,null,null,null,null,null,null,null,null,null,null,null,null,null,null,null,null,null,null,null,null,null,null,null,null,null,null,null,null,null,null,null,null,null,null,null,null,null,null,null,null,null,null,null,null,null,null,null,null,{"$f":"IF(AH39=\"\",\"\",IF('Test 5'!AF111=\"\",\"\",\"AgencyEntityInstance Id 159\"))","v":""},{"$f":"IF(BY161=\"\",\"\",VLOOKUP(\"CM_Base_DCP\",'Send Sync'!$K$56:$L$96,2,FALSE))","v":""},null,{"$f":"IF(BY161=\"\",\"\",BY141)","v":""},{"$f":"IF(BY161=\"\",\"\",CONCATENATE(\"<Data><cm_base_dcp_01_begin>\",CO756,\"</cm_base_dcp_01_begin><cm_base_dcp_02_end>\",CO757,\"</cm_base_dcp_02_end><cm_base_dcp_03_blows>\",CO758,\"</cm_base_dcp_03_blows><cm_base_dcp_04_index>\",CO759,\"</cm_base_dcp_04_index></Data>\"))","v":""},"","","","",null,null,null,null,null,null,null,"",null,{"$f":"IF(BY32=\"\",\"\",\"AgencyEntityInsData Id 159\")","v":""},{"$f":"IF(BY32=\"\",\"\",\"AgencyEntityInstance Id 30\")","v":""},{"$f":"IF(BY32=\"\",\"\",\"cm_subgrade_comp_04_qty_sta_a\")","v":""},{"$f":"IF(BY32=\"\",\"\",'Test 1'!AF155)","v":""},{"$f":"IF(BY32=\"\",\"\",TODAY())","v":""},{"$f":"IF(BY32=\"\",\"\",\"WTSYSTEMUSER\")","v":""},{"$f":"IF(BY32=\"\",\"\",TODAY())","v":""},{"$f":"IF(BY32=\"\",\"\",\"WTSYSTEMUSER\")","v":""}]
[null,null,null,null,null,null,null,null,null,null,null,null,null,null,null,null,null,null,null,null,null,null,null,null,null,null,null,null,null,null,null,null,null,null,null,null,null,null,null,null,null,null,null,null,null,null,null,null,null,null,null,null,null,null,null,null,null,null,null,null,null,null,null,null,null,null,null,null,null,null,null,null,null,null,null,{"$f":"BX141+1","v":6},{"$f":"IF(AH40=\"\",\"\",\"AgencyEntityInstance Id 160\")","v":""},{"$f":"IF(BY162=\"\",\"\",VLOOKUP(\"CM_Base_DCP_Header\",'Send Sync'!$K$56:$L$96,2,FALSE))","v":""},{"$f":"IF(BY162=\"\",\"\",\"SampleRecordTest Id 38\")","v":""},null,{"$f":"IF(BY162=\"\",\"\",CONCATENATE(\"<Data><cm_base_dcp_header_01_avg>\",CO760,\"</cm_base_dcp_header_01_avg><cm_base_dcp_header_02_thi_spec>\",CO761,\"</cm_base_dcp_header_02_thi_spec><cm_base_dcp_header_03_thi_meas>\",CO762,\"</cm_base_dcp_header_03_thi_meas><cm_base_dcp_header_04_sta_1>\",CO763,\"</cm_base_dcp_header_04_sta_1><cm_base_dcp_header_05_sta_2>\",CO764,\"</cm_base_dcp_header_05_sta_2><cm_base_dcp_header_06_location>\",CO765,\"</cm_base_dcp_header_06_location><cm_base_dcp_header_07_tester>\",CO766,\"</cm_base_dcp_header_07_tester></Data>\"))","v":""},"","","","",null,null,null,null,null,null,null,"",null,{"$f":"IF(BY32=\"\",\"\",\"AgencyEntityInsData Id 160\")","v":""},{"$f":"IF(BY32=\"\",\"\",\"AgencyEntityInstance Id 30\")","v":""},{"$f":"IF(BY32=\"\",\"\",\"cm_subgrade_comp_05_qty_sta_b\")","v":""},{"$f":"IF(BY32=\"\",\"\",'Test 1'!AF156)","v":""},{"$f":"IF(BY32=\"\",\"\",TODAY())","v":""},{"$f":"IF(BY32=\"\",\"\",\"WTSYSTEMUSER\")","v":""},{"$f":"IF(BY32=\"\",\"\",TODAY())","v":""},{"$f":"IF(BY32=\"\",\"\",\"WTSYSTEMUSER\")","v":""}]
[null,null,null,null,null,null,null,null,null,null,null,null,null,null,null,null,null,null,null,null,null,null,null,null,null,null,null,null,null,null,null,null,null,null,null,null,null,null,null,null,null,null,null,null,null,null,null,null,null,null,null,null,null,null,null,null,null,null,null,null,null,null,null,null,null,null,null,null,null,null,null,null,null,null,null,null,{"$f":"IF(AH40=\"\",\"\",IF('Test 5'!AI92=\"\",\"\",\"AgencyEntityInstance Id 161\"))","v":""},{"$f":"IF(BY163=\"\",\"\",VLOOKUP(\"CM_Base_DCP\",'Send Sync'!$K$56:$L$96,2,FALSE))","v":""},null,{"$f":"IF(BY163=\"\",\"\",BY162)","v":""},{"$f":"IF(BY163=\"\",\"\",CONCATENATE(\"<Data><cm_base_dcp_01_begin>\",CO767,\"</cm_base_dcp_01_begin><cm_base_dcp_02_end>\",CO768,\"</cm_base_dcp_02_end><cm_base_dcp_03_blows>\",CO769,\"</cm_base_dcp_03_blows><cm_base_dcp_04_index>\",CO770,\"</cm_base_dcp_04_index></Data>\"))","v":""},"","","","",null,null,null,null,null,null,null,"",null,{"$f":"IF(BY32=\"\",\"\",\"AgencyEntityInsData Id 161\")","v":""},{"$f":"IF(BY32=\"\",\"\",\"AgencyEntityInstance Id 30\")","v":""},{"$f":"IF(BY32=\"\",\"\",\"cm_subgrade_comp_06_qty_sta_rocky\")","v":""},{"$f":"IF(BY32=\"\",\"\",'Test 1'!AF157)","v":""},{"$f":"IF(BY32=\"\",\"\",TODAY())","v":""},{"$f":"IF(BY32=\"\",\"\",\"WTSYSTEMUSER\")","v":""},{"$f":"IF(BY32=\"\",\"\",TODAY())","v":""},{"$f":"IF(BY32=\"\",\"\",\"WTSYSTEMUSER\")","v":""}]
[null,null,null,null,null,null,null,null,null,null,null,null,null,null,null,null,null,null,null,null,null,null,null,null,null,null,null,null,null,null,null,null,null,null,null,null,null,null,null,null,null,null,null,null,null,null,null,null,null,null,null,null,null,null,null,null,null,null,null,null,null,null,null,null,null,null,null,null,null,null,null,null,null,null,null,null,{"$f":"IF(AH40=\"\",\"\",IF('Test 5'!AI93=\"\",\"\",\"AgencyEntityInstance Id 162\"))","v":""},{"$f":"IF(BY164=\"\",\"\",VLOOKUP(\"CM_Base_DCP\",'Send Sync'!$K$56:$L$96,2,FALSE))","v":""},null,{"$f":"IF(BY164=\"\",\"\",BY162)","v":""},{"$f":"IF(BY164=\"\",\"\",CONCATENATE(\"<Data><cm_base_dcp_01_begin>\",CO771,\"</cm_base_dcp_01_begin><cm_base_dcp_02_end>\",CO772,\"</cm_base_dcp_02_end><cm_base_dcp_03_blows>\",CO773,\"</cm_base_dcp_03_blows><cm_base_dcp_04_index>\",CO774,\"</cm_base_dcp_04_index></Data>\"))","v":""},"","","","",null,null,null,null,null,null,null,"",null,{"$f":"IF(BY32=\"\",\"\",\"AgencyEntityInsData Id 162\")","v":""},{"$f":"IF(BY32=\"\",\"\",\"AgencyEntityInstance Id 30\")","v":""},{"$f":"IF(BY32=\"\",\"\",\"cm_subgrade_comp_07_comp_a\")","v":""},{"$f":"IF(BY32=\"\",\"\",'Test 1'!AG155)","v":""},{"$f":"IF(BY32=\"\",\"\",TODAY())","v":""},{"$f":"IF(BY32=\"\",\"\",\"WTSYSTEMUSER\")","v":""},{"$f":"IF(BY32=\"\",\"\",TODAY())","v":""},{"$f":"IF(BY32=\"\",\"\",\"WTSYSTEMUSER\")","v":""}]
[null,null,null,null,null,null,null,null,null,null,null,null,null,null,null,null,null,null,null,null,null,null,null,null,null,null,null,null,null,null,null,null,null,null,null,null,null,null,null,null,null,null,null,null,null,null,null,null,null,null,null,null,null,null,null,null,null,null,null,null,null,null,null,null,null,null,null,null,null,null,null,null,null,null,null,null,{"$f":"IF(AH40=\"\",\"\",IF('Test 5'!AI94=\"\",\"\",\"AgencyEntityInstance Id 163\"))","v":""},{"$f":"IF(BY165=\"\",\"\",VLOOKUP(\"CM_Base_DCP\",'Send Sync'!$K$56:$L$96,2,FALSE))","v":""},null,{"$f":"IF(BY165=\"\",\"\",BY162)","v":""},{"$f":"IF(BY165=\"\",\"\",CONCATENATE(\"<Data><cm_base_dcp_01_begin>\",CO775,\"</cm_base_dcp_01_begin><cm_base_dcp_02_end>\",CO776,\"</cm_base_dcp_02_end><cm_base_dcp_03_blows>\",CO777,\"</cm_base_dcp_03_blows><cm_base_dcp_04_index>\",CO778,\"</cm_base_dcp_04_index></Data>\"))","v":""},"","","","",null,null,null,null,null,null,null,"",null,{"$f":"IF(BY32=\"\",\"\",\"AgencyEntityInsData Id 163\")","v":""},{"$f":"IF(BY32=\"\",\"\",\"AgencyEntityInstance Id 30\")","v":""},{"$f":"IF(BY32=\"\",\"\",\"cm_subgrade_comp_08_comp_b\")","v":""},{"$f":"IF(BY32=\"\",\"\",'Test 1'!AG156)","v":""},{"$f":"IF(BY32=\"\",\"\",TODAY())","v":""},{"$f":"IF(BY32=\"\",\"\",\"WTSYSTEMUSER\")","v":""},{"$f":"IF(BY32=\"\",\"\",TODAY())","v":""},{"$f":"IF(BY32=\"\",\"\",\"WTSYSTEMUSER\")","v":""}]
[null,null,null,null,null,null,null,null,null,null,null,null,null,null,null,null,null,null,null,null,null,null,null,null,null,null,null,null,null,null,null,null,null,null,null,null,null,null,null,null,null,null,null,null,null,null,null,null,null,null,null,null,null,null,null,null,null,null,null,null,null,null,null,null,null,null,null,null,null,null,null,null,null,null,null,null,{"$f":"IF(AH40=\"\",\"\",IF('Test 5'!AI95=\"\",\"\",\"AgencyEntityInstance Id 164\"))","v":""},{"$f":"IF(BY166=\"\",\"\",VLOOKUP(\"CM_Base_DCP\",'Send Sync'!$K$56:$L$96,2,FALSE))","v":""},null,{"$f":"IF(BY166=\"\",\"\",BY162)","v":""},{"$f":"IF(BY166=\"\",\"\",CONCATENATE(\"<Data><cm_base_dcp_01_begin>\",CO779,\"</cm_base_dcp_01_begin><cm_base_dcp_02_end>\",CO780,\"</cm_base_dcp_02_end><cm_base_dcp_03_blows>\",CO781,\"</cm_base_dcp_03_blows><cm_base_dcp_04_index>\",CO782,\"</cm_base_dcp_04_index></Data>\"))","v":""},"","","","",null,null,null,null,null,null,null,"",null,{"$f":"IF(BY32=\"\",\"\",\"AgencyEntityInsData Id 164\")","v":""},{"$f":"IF(BY32=\"\",\"\",\"AgencyEntityInstance Id 30\")","v":""},{"$f":"IF(BY32=\"\",\"\",\"cm_subgrade_comp_09_density_a\")","v":""},{"$f":"IF(BY32=\"\",\"\",'Test 1'!AH155)","v":""},{"$f":"IF(BY32=\"\",\"\",TODAY())","v":""},{"$f":"IF(BY32=\"\",\"\",\"WTSYSTEMUSER\")","v":""},{"$f":"IF(BY32=\"\",\"\",TODAY())","v":""},{"$f":"IF(BY32=\"\",\"\",\"WTSYSTEMUSER\")","v":""}]
[null,null,null,null,null,null,null,null,null,null,null,null,null,null,null,null,null,null,null,null,null,null,null,null,null,null,null,null,null,null,null,null,null,null,null,null,null,null,null,null,null,null,null,null,null,null,null,null,null,null,null,null,null,null,null,null,null,null,null,null,null,null,null,null,null,null,null,null,null,null,null,null,null,null,null,null,{"$f":"IF(AH40=\"\",\"\",IF('Test 5'!AI96=\"\",\"\",\"AgencyEntityInstance Id 165\"))","v":""},{"$f":"IF(BY167=\"\",\"\",VLOOKUP(\"CM_Base_DCP\",'Send Sync'!$K$56:$L$96,2,FALSE))","v":""},null,{"$f":"IF(BY167=\"\",\"\",BY162)","v":""},{"$f":"IF(BY167=\"\",\"\",CONCATENATE(\"<Data><cm_base_dcp_01_begin>\",CO783,\"</cm_base_dcp_01_begin><cm_base_dcp_02_end>\",CO784,\"</cm_base_dcp_02_end><cm_base_dcp_03_blows>\",CO785,\"</cm_base_dcp_03_blows><cm_base_dcp_04_index>\",CO786,\"</cm_base_dcp_04_index></Data>\"))","v":""},"","","","",null,null,null,null,null,null,null,"",null,{"$f":"IF(BY32=\"\",\"\",\"AgencyEntityInsData Id 165\")","v":""},{"$f":"IF(BY32=\"\",\"\",\"AgencyEntityInstance Id 30\")","v":""},{"$f":"IF(BY32=\"\",\"\",\"cm_subgrade_comp_10_density_b\")","v":""},{"$f":"IF(BY32=\"\",\"\",'Test 1'!AH156)","v":""},{"$f":"IF(BY32=\"\",\"\",TODAY())","v":""},{"$f":"IF(BY32=\"\",\"\",\"WTSYSTEMUSER\")","v":""},{"$f":"IF(BY32=\"\",\"\",TODAY())","v":""},{"$f":"IF(BY32=\"\",\"\",\"WTSYSTEMUSER\")","v":""}]
[null,null,null,null,null,null,null,null,null,null,null,null,null,null,null,null,null,null,null,null,null,null,null,null,null,null,null,null,null,null,null,null,null,null,null,null,null,null,null,null,null,null,null,null,null,null,null,null,null,null,null,null,null,null,null,null,null,null,null,null,null,null,null,null,null,null,null,null,null,null,null,null,null,null,null,null,{"$f":"IF(AH40=\"\",\"\",IF('Test 5'!AI97=\"\",\"\",\"AgencyEntityInstance Id 166\"))","v":""},{"$f":"IF(BY168=\"\",\"\",VLOOKUP(\"CM_Base_DCP\",'Send Sync'!$K$56:$L$96,2,FALSE))","v":""},null,{"$f":"IF(BY168=\"\",\"\",BY162)","v":""},{"$f":"IF(BY168=\"\",\"\",CONCATENATE(\"<Data><cm_base_dcp_01_begin>\",CO787,\"</cm_base_dcp_01_begin><cm_base_dcp_02_end>\",CO788,\"</cm_base_dcp_02_end><cm_base_dcp_03_blows>\",CO789,\"</cm_base_dcp_03_blows><cm_base_dcp_04_index>\",CO790,\"</cm_base_dcp_04_index></Data>\"))","v":""},"","","","",null,null,null,null,null,null,null,"",null,{"$f":"IF(BY33=\"\",\"\",\"AgencyEntityInsData Id 166\")","v":""},{"$f":"IF(BY33=\"\",\"\",\"AgencyEntityInstance Id 31\")","v":""},{"$f":"IF(BY33=\"\",\"\",\"CM_Standard_For_Remarks\")","v":""},{"$f":"IF(BY33=\"\",\"\",IF('Test 1'!J151=\"\",\"\",'Test 1'!J151))","v":""},{"$f":"IF(BY33=\"\",\"\",TODAY())","v":""},{"$f":"IF(BY33=\"\",\"\",\"WTSYSTEMUSER\")","v":""},{"$f":"IF(BY33=\"\",\"\",TODAY())","v":""},{"$f":"IF(BY33=\"\",\"\",\"WTSYSTEMUSER\")","v":""}]
[null,null,null,null,null,null,null,null,null,null,null,null,null,null,null,null,null,null,null,null,null,null,null,null,null,null,null,null,null,null,null,null,null,null,null,null,null,null,null,null,null,null,null,null,null,null,null,null,null,null,null,null,null,null,null,null,null,null,null,null,null,null,null,null,null,null,null,null,null,null,null,null,null,null,null,null,{"$f":"IF(AH40=\"\",\"\",IF('Test 5'!AI98=\"\",\"\",\"AgencyEntityInstance Id 167\"))","v":""},{"$f":"IF(BY169=\"\",\"\",VLOOKUP(\"CM_Base_DCP\",'Send Sync'!$K$56:$L$96,2,FALSE))","v":""},null,{"$f":"IF(BY169=\"\",\"\",BY162)","v":""},{"$f":"IF(BY169=\"\",\"\",CONCATENATE(\"<Data><cm_base_dcp_01_begin>\",CO791,\"</cm_base_dcp_01_begin><cm_base_dcp_02_end>\",CO792,\"</cm_base_dcp_02_end><cm_base_dcp_03_blows>\",CO793,\"</cm_base_dcp_03_blows><cm_base_dcp_04_index>\",CO794,\"</cm_base_dcp_04_index></Data>\"))","v":""},"","","","",null,null,null,null,null,null,null,"",16,{"$f":"IF(BY34=\"\",\"\",\"AgencyEntityInsData Id 167\")","v":""},{"$f":"IF(BY34=\"\",\"\",\"AgencyEntityInstance Id 32\")","v":""},{"$f":"IF(BY34=\"\",\"\",\"cm_subgrade_comp_01_qty_cy_a\")","v":""},{"$f":"IF(BY34=\"\",\"\",'Test 1'!AE165)","v":""},{"$f":"IF(BY34=\"\",\"\",TODAY())","v":""},{"$f":"IF(BY34=\"\",\"\",\"WTSYSTEMUSER\")","v":""},{"$f":"IF(BY34=\"\",\"\",TODAY())","v":""},{"$f":"IF(BY34=\"\",\"\",\"WTSYSTEMUSER\")","v":""}]
[null,null,null,null,null,null,null,null,null,null,null,null,null,null,null,null,null,null,null,null,null,null,null,null,null,null,null,null,null,null,null,null,null,null,null,null,null,null,null,null,null,null,null,null,null,null,null,null,null,null,null,null,null,null,null,null,null,null,null,null,null,null,null,null,null,null,null,null,null,null,null,null,null,null,null,null,{"$f":"IF(AH40=\"\",\"\",IF('Test 5'!AI99=\"\",\"\",\"AgencyEntityInstance Id 168\"))","v":""},{"$f":"IF(BY170=\"\",\"\",VLOOKUP(\"CM_Base_DCP\",'Send Sync'!$K$56:$L$96,2,FALSE))","v":""},null,{"$f":"IF(BY170=\"\",\"\",BY162)","v":""},{"$f":"IF(BY170=\"\",\"\",CONCATENATE(\"<Data><cm_base_dcp_01_begin>\",CO795,\"</cm_base_dcp_01_begin><cm_base_dcp_02_end>\",CO796,\"</cm_base_dcp_02_end><cm_base_dcp_03_blows>\",CO797,\"</cm_base_dcp_03_blows><cm_base_dcp_04_index>\",CO798,\"</cm_base_dcp_04_index></Data>\"))","v":""},"","","","",null,null,null,null,null,null,null,"",null,{"$f":"IF(BY34=\"\",\"\",\"AgencyEntityInsData Id 168\")","v":""},{"$f":"IF(BY34=\"\",\"\",\"AgencyEntityInstance Id 32\")","v":""},{"$f":"IF(BY34=\"\",\"\",\"cm_subgrade_comp_02_qty_cy_b\")","v":""},{"$f":"IF(BY34=\"\",\"\",'Test 1'!AE166)","v":""},{"$f":"IF(BY34=\"\",\"\",TODAY())","v":""},{"$f":"IF(BY34=\"\",\"\",\"WTSYSTEMUSER\")","v":""},{"$f":"IF(BY34=\"\",\"\",TODAY())","v":""},{"$f":"IF(BY34=\"\",\"\",\"WTSYSTEMUSER\")","v":""}]
[null,null,null,null,null,null,null,null,null,null,null,null,null,null,null,null,null,null,null,null,null,null,null,null,null,null,null,null,null,null,null,null,null,null,null,null,null,null,null,null,null,null,null,null,null,null,null,null,null,null,null,null,null,null,null,null,null,null,null,null,null,null,null,null,null,null,null,null,null,null,null,null,null,null,null,null,{"$f":"IF(AH40=\"\",\"\",IF('Test 5'!AI100=\"\",\"\",\"AgencyEntityInstance Id 169\"))","v":""},{"$f":"IF(BY171=\"\",\"\",VLOOKUP(\"CM_Base_DCP\",'Send Sync'!$K$56:$L$96,2,FALSE))","v":""},null,{"$f":"IF(BY171=\"\",\"\",BY162)","v":""},{"$f":"IF(BY171=\"\",\"\",CONCATENATE(\"<Data><cm_base_dcp_01_begin>\",CO799,\"</cm_base_dcp_01_begin><cm_base_dcp_02_end>\",CO800,\"</cm_base_dcp_02_end><cm_base_dcp_03_blows>\",CO801,\"</cm_base_dcp_03_blows><cm_base_dcp_04_index>\",CO802,\"</cm_base_dcp_04_index></Data>\"))","v":""},"","","","",null,null,null,null,null,null,null,"",null,{"$f":"IF(BY34=\"\",\"\",\"AgencyEntityInsData Id 169\")","v":""},{"$f":"IF(BY34=\"\",\"\",\"AgencyEntityInstance Id 32\")","v":""},{"$f":"IF(BY34=\"\",\"\",\"cm_subgrade_comp_03_qty_cy_rocky\")","v":""},{"$f":"IF(BY34=\"\",\"\",'Test 1'!AE167)","v":""},{"$f":"IF(BY34=\"\",\"\",TODAY())","v":""},{"$f":"IF(BY34=\"\",\"\",\"WTSYSTEMUSER\")","v":""},{"$f":"IF(BY34=\"\",\"\",TODAY())","v":""},{"$f":"IF(BY34=\"\",\"\",\"WTSYSTEMUSER\")","v":""}]
[null,null,null,null,null,null,null,null,null,null,null,null,null,null,null,null,null,null,null,null,null,null,null,null,null,null,null,null,null,null,null,null,null,null,null,null,null,null,null,null,null,null,null,null,null,null,null,null,null,null,null,null,null,null,null,null,null,null,null,null,null,null,null,null,null,null,null,null,null,null,null,null,null,null,null,null,{"$f":"IF(AH40=\"\",\"\",IF('Test 5'!AI101=\"\",\"\",\"AgencyEntityInstance Id 170\"))","v":""},{"$f":"IF(BY172=\"\",\"\",VLOOKUP(\"CM_Base_DCP\",'Send Sync'!$K$56:$L$96,2,FALSE))","v":""},null,{"$f":"IF(BY172=\"\",\"\",BY162)","v":""},{"$f":"IF(BY172=\"\",\"\",CONCATENATE(\"<Data><cm_base_dcp_01_begin>\",CO803,\"</cm_base_dcp_01_begin><cm_base_dcp_02_end>\",CO804,\"</cm_base_dcp_02_end><cm_base_dcp_03_blows>\",CO805,\"</cm_base_dcp_03_blows><cm_base_dcp_04_index>\",CO806,\"</cm_base_dcp_04_index></Data>\"))","v":""},"","","","",null,null,null,null,null,null,null,"",null,{"$f":"IF(BY34=\"\",\"\",\"AgencyEntityInsData Id 170\")","v":""},{"$f":"IF(BY34=\"\",\"\",\"AgencyEntityInstance Id 32\")","v":""},{"$f":"IF(BY34=\"\",\"\",\"cm_subgrade_comp_04_qty_sta_a\")","v":""},{"$f":"IF(BY34=\"\",\"\",'Test 1'!AF165)","v":""},{"$f":"IF(BY34=\"\",\"\",TODAY())","v":""},{"$f":"IF(BY34=\"\",\"\",\"WTSYSTEMUSER\")","v":""},{"$f":"IF(BY34=\"\",\"\",TODAY())","v":""},{"$f":"IF(BY34=\"\",\"\",\"WTSYSTEMUSER\")","v":""}]
[null,null,null,null,null,null,null,null,null,null,null,null,null,null,null,null,null,null,null,null,null,null,null,null,null,null,null,null,null,null,null,null,null,null,null,null,null,null,null,null,null,null,null,null,null,null,null,null,null,null,null,null,null,null,null,null,null,null,null,null,null,null,null,null,null,null,null,null,null,null,null,null,null,null,null,null,{"$f":"IF(AH40=\"\",\"\",IF('Test 5'!AI102=\"\",\"\",\"AgencyEntityInstance Id 171\"))","v":""},{"$f":"IF(BY173=\"\",\"\",VLOOKUP(\"CM_Base_DCP\",'Send Sync'!$K$56:$L$96,2,FALSE))","v":""},null,{"$f":"IF(BY173=\"\",\"\",BY162)","v":""},{"$f":"IF(BY173=\"\",\"\",CONCATENATE(\"<Data><cm_base_dcp_01_begin>\",CO807,\"</cm_base_dcp_01_begin><cm_base_dcp_02_end>\",CO808,\"</cm_base_dcp_02_end><cm_base_dcp_03_blows>\",CO809,\"</cm_base_dcp_03_blows><cm_base_dcp_04_index>\",CO810,\"</cm_base_dcp_04_index></Data>\"))","v":""},"","","","",null,null,null,null,null,null,null,"",null,{"$f":"IF(BY34=\"\",\"\",\"AgencyEntityInsData Id 171\")","v":""},{"$f":"IF(BY34=\"\",\"\",\"AgencyEntityInstance Id 32\")","v":""},{"$f":"IF(BY34=\"\",\"\",\"cm_subgrade_comp_05_qty_sta_b\")","v":""},{"$f":"IF(BY34=\"\",\"\",'Test 1'!AF166)","v":""},{"$f":"IF(BY34=\"\",\"\",TODAY())","v":""},{"$f":"IF(BY34=\"\",\"\",\"WTSYSTEMUSER\")","v":""},{"$f":"IF(BY34=\"\",\"\",TODAY())","v":""},{"$f":"IF(BY34=\"\",\"\",\"WTSYSTEMUSER\")","v":""}]
[null,null,null,null,null,null,null,null,null,null,null,null,null,null,null,null,null,null,null,null,null,null,null,null,null,null,null,null,null,null,null,null,null,null,null,null,null,null,null,null,null,null,null,null,null,null,null,null,null,null,null,null,null,null,null,null,null,null,null,null,null,null,null,null,null,null,null,null,null,null,null,null,null,null,null,null,{"$f":"IF(AH40=\"\",\"\",IF('Test 5'!AI103=\"\",\"\",\"AgencyEntityInstance Id 172\"))","v":""},{"$f":"IF(BY174=\"\",\"\",VLOOKUP(\"CM_Base_DCP\",'Send Sync'!$K$56:$L$96,2,FALSE))","v":""},null,{"$f":"IF(BY174=\"\",\"\",BY162)","v":""},{"$f":"IF(BY174=\"\",\"\",CONCATENATE(\"<Data><cm_base_dcp_01_begin>\",CO811,\"</cm_base_dcp_01_begin><cm_base_dcp_02_end>\",CO812,\"</cm_base_dcp_02_end><cm_base_dcp_03_blows>\",CO813,\"</cm_base_dcp_03_blows><cm_base_dcp_04_index>\",CO814,\"</cm_base_dcp_04_index></Data>\"))","v":""},"","","","",null,null,null,null,null,null,null,"",null,{"$f":"IF(BY34=\"\",\"\",\"AgencyEntityInsData Id 172\")","v":""},{"$f":"IF(BY34=\"\",\"\",\"AgencyEntityInstance Id 32\")","v":""},{"$f":"IF(BY34=\"\",\"\",\"cm_subgrade_comp_06_qty_sta_rocky\")","v":""},{"$f":"IF(BY34=\"\",\"\",'Test 1'!AF167)","v":""},{"$f":"IF(BY34=\"\",\"\",TODAY())","v":""},{"$f":"IF(BY34=\"\",\"\",\"WTSYSTEMUSER\")","v":""},{"$f":"IF(BY34=\"\",\"\",TODAY())","v":""},{"$f":"IF(BY34=\"\",\"\",\"WTSYSTEMUSER\")","v":""}]
[null,null,null,null,null,null,null,null,null,null,null,null,null,null,null,null,null,null,null,null,null,null,null,null,null,null,null,null,null,null,null,null,null,null,null,null,null,null,null,null,null,null,null,null,null,null,null,null,null,null,null,null,null,null,null,null,null,null,null,null,null,null,null,null,null,null,null,null,null,null,null,null,null,null,null,null,{"$f":"IF(AH40=\"\",\"\",IF('Test 5'!AI104=\"\",\"\",\"AgencyEntityInstance Id 173\"))","v":""},{"$f":"IF(BY175=\"\",\"\",VLOOKUP(\"CM_Base_DCP\",'Send Sync'!$K$56:$L$96,2,FALSE))","v":""},null,{"$f":"IF(BY175=\"\",\"\",BY162)","v":""},{"$f":"IF(BY175=\"\",\"\",CONCATENATE(\"<Data><cm_base_dcp_01_begin>\",CO815,\"</cm_base_dcp_01_begin><cm_base_dcp_02_end>\",CO816,\"</cm_base_dcp_02_end><cm_base_dcp_03_blows>\",CO817,\"</cm_base_dcp_03_blows><cm_base_dcp_04_index>\",CO818,\"</cm_base_dcp_04_index></Data>\"))","v":""},"","","","",null,null,null,null,null,null,null,"",null,{"$f":"IF(BY34=\"\",\"\",\"AgencyEntityInsData Id 173\")","v":""},{"$f":"IF(BY34=\"\",\"\",\"AgencyEntityInstance Id 32\")","v":""},{"$f":"IF(BY34=\"\",\"\",\"cm_subgrade_comp_07_comp_a\")","v":""},{"$f":"IF(BY34=\"\",\"\",'Test 1'!AG165)","v":""},{"$f":"IF(BY34=\"\",\"\",TODAY())","v":""},{"$f":"IF(BY34=\"\",\"\",\"WTSYSTEMUSER\")","v":""},{"$f":"IF(BY34=\"\",\"\",TODAY())","v":""},{"$f":"IF(BY34=\"\",\"\",\"WTSYSTEMUSER\")","v":""}]
[null,null,null,null,null,null,null,null,null,null,null,null,null,null,null,null,null,null,null,null,null,null,null,null,null,null,null,null,null,null,null,null,null,null,null,null,null,null,null,null,null,null,null,null,null,null,null,null,null,null,null,null,null,null,null,null,null,null,null,null,null,null,null,null,null,null,null,null,null,null,null,null,null,null,null,null,{"$f":"IF(AH40=\"\",\"\",IF('Test 5'!AI105=\"\",\"\",\"AgencyEntityInstance Id 174\"))","v":""},{"$f":"IF(BY176=\"\",\"\",VLOOKUP(\"CM_Base_DCP\",'Send Sync'!$K$56:$L$96,2,FALSE))","v":""},null,{"$f":"IF(BY176=\"\",\"\",BY162)","v":""},{"$f":"IF(BY176=\"\",\"\",CONCATENATE(\"<Data><cm_base_dcp_01_begin>\",CO819,\"</cm_base_dcp_01_begin><cm_base_dcp_02_end>\",CO820,\"</cm_base_dcp_02_end><cm_base_dcp_03_blows>\",CO821,\"</cm_base_dcp_03_blows><cm_base_dcp_04_index>\",CO822,\"</cm_base_dcp_04_index></Data>\"))","v":""},"","","","",null,null,null,null,null,null,null,"",null,{"$f":"IF(BY34=\"\",\"\",\"AgencyEntityInsData Id 174\")","v":""},{"$f":"IF(BY34=\"\",\"\",\"AgencyEntityInstance Id 32\")","v":""},{"$f":"IF(BY34=\"\",\"\",\"cm_subgrade_comp_08_comp_b\")","v":""},{"$f":"IF(BY34=\"\",\"\",'Test 1'!AG166)","v":""},{"$f":"IF(BY34=\"\",\"\",TODAY())","v":""},{"$f":"IF(BY34=\"\",\"\",\"WTSYSTEMUSER\")","v":""},{"$f":"IF(BY34=\"\",\"\",TODAY())","v":""},{"$f":"IF(BY34=\"\",\"\",\"WTSYSTEMUSER\")","v":""}]
[null,null,null,null,null,null,null,null,null,null,null,null,null,null,null,null,null,null,null,null,null,null,null,null,null,null,null,null,null,null,null,null,null,null,null,null,null,null,null,null,null,null,null,null,null,null,null,null,null,null,null,null,null,null,null,null,null,null,null,null,null,null,null,null,null,null,null,null,null,null,null,null,null,null,null,null,{"$f":"IF(AH40=\"\",\"\",IF('Test 5'!AI106=\"\",\"\",\"AgencyEntityInstance Id 175\"))","v":""},{"$f":"IF(BY177=\"\",\"\",VLOOKUP(\"CM_Base_DCP\",'Send Sync'!$K$56:$L$96,2,FALSE))","v":""},null,{"$f":"IF(BY177=\"\",\"\",BY162)","v":""},{"$f":"IF(BY177=\"\",\"\",CONCATENATE(\"<Data><cm_base_dcp_01_begin>\",CO823,\"</cm_base_dcp_01_begin><cm_base_dcp_02_end>\",CO824,\"</cm_base_dcp_02_end><cm_base_dcp_03_blows>\",CO825,\"</cm_base_dcp_03_blows><cm_base_dcp_04_index>\",CO826,\"</cm_base_dcp_04_index></Data>\"))","v":""},"","","","",null,null,null,null,null,null,null,"",null,{"$f":"IF(BY34=\"\",\"\",\"AgencyEntityInsData Id 175\")","v":""},{"$f":"IF(BY34=\"\",\"\",\"AgencyEntityInstance Id 32\")","v":""},{"$f":"IF(BY34=\"\",\"\",\"cm_subgrade_comp_09_density_a\")","v":""},{"$f":"IF(BY34=\"\",\"\",'Test 1'!AH165)","v":""},{"$f":"IF(BY34=\"\",\"\",TODAY())","v":""},{"$f":"IF(BY34=\"\",\"\",\"WTSYSTEMUSER\")","v":""},{"$f":"IF(BY34=\"\",\"\",TODAY())","v":""},{"$f":"IF(BY34=\"\",\"\",\"WTSYSTEMUSER\")","v":""}]
[null,null,null,null,null,null,null,null,null,null,null,null,null,null,null,null,null,null,null,null,null,null,null,null,null,null,null,null,null,null,null,null,null,null,null,null,null,null,null,null,null,null,null,null,null,null,null,null,null,null,null,null,null,null,null,null,null,null,null,null,null,null,null,null,null,null,null,null,null,null,null,null,null,null,null,null,{"$f":"IF(AH40=\"\",\"\",IF('Test 5'!AI107=\"\",\"\",\"AgencyEntityInstance Id 176\"))","v":""},{"$f":"IF(BY178=\"\",\"\",VLOOKUP(\"CM_Base_DCP\",'Send Sync'!$K$56:$L$96,2,FALSE))","v":""},null,{"$f":"IF(BY178=\"\",\"\",BY162)","v":""},{"$f":"IF(BY178=\"\",\"\",CONCATENATE(\"<Data><cm_base_dcp_01_begin>\",CO827,\"</cm_base_dcp_01_begin><cm_base_dcp_02_end>\",CO828,\"</cm_base_dcp_02_end><cm_base_dcp_03_blows>\",CO829,\"</cm_base_dcp_03_blows><cm_base_dcp_04_index>\",CO830,\"</cm_base_dcp_04_index></Data>\"))","v":""},"","","","",null,null,null,null,null,null,null,"",null,{"$f":"IF(BY34=\"\",\"\",\"AgencyEntityInsData Id 176\")","v":""},{"$f":"IF(BY34=\"\",\"\",\"AgencyEntityInstance Id 32\")","v":""},{"$f":"IF(BY34=\"\",\"\",\"cm_subgrade_comp_10_density_b\")","v":""},{"$f":"IF(BY34=\"\",\"\",'Test 1'!AH166)","v":""},{"$f":"IF(BY34=\"\",\"\",TODAY())","v":""},{"$f":"IF(BY34=\"\",\"\",\"WTSYSTEMUSER\")","v":""},{"$f":"IF(BY34=\"\",\"\",TODAY())","v":""},{"$f":"IF(BY34=\"\",\"\",\"WTSYSTEMUSER\")","v":""}]
[null,null,null,null,null,null,null,null,null,null,null,null,null,null,null,null,null,null,null,null,null,null,null,null,null,null,null,null,null,null,null,null,null,null,null,null,null,null,null,null,null,null,null,null,null,null,null,null,null,null,null,null,null,null,null,null,null,null,null,null,null,null,null,null,null,null,null,null,null,null,null,null,null,null,null,null,{"$f":"IF(AH40=\"\",\"\",IF('Test 5'!AI108=\"\",\"\",\"AgencyEntityInstance Id 177\"))","v":""},{"$f":"IF(BY179=\"\",\"\",VLOOKUP(\"CM_Base_DCP\",'Send Sync'!$K$56:$L$96,2,FALSE))","v":""},null,{"$f":"IF(BY179=\"\",\"\",BY162)","v":""},{"$f":"IF(BY179=\"\",\"\",CONCATENATE(\"<Data><cm_base_dcp_01_begin>\",CO831,\"</cm_base_dcp_01_begin><cm_base_dcp_02_end>\",CO832,\"</cm_base_dcp_02_end><cm_base_dcp_03_blows>\",CO833,\"</cm_base_dcp_03_blows><cm_base_dcp_04_index>\",CO834,\"</cm_base_dcp_04_index></Data>\"))","v":""},"","","","",null,null,null,null,null,null,null,"",null,{"$f":"IF(BY35=\"\",\"\",\"AgencyEntityInsData Id 177\")","v":""},{"$f":"IF(BY35=\"\",\"\",\"AgencyEntityInstance Id 33\")","v":""},{"$f":"IF(BY35=\"\",\"\",\"CM_Standard_For_Remarks\")","v":""},{"$f":"IF(BY35=\"\",\"\",IF('Test 1'!J161=\"\",\"\",'Test 1'!J161))","v":""},{"$f":"IF(BY35=\"\",\"\",TODAY())","v":""},{"$f":"IF(BY35=\"\",\"\",\"WTSYSTEMUSER\")","v":""},{"$f":"IF(BY35=\"\",\"\",TODAY())","v":""},{"$f":"IF(BY35=\"\",\"\",\"WTSYSTEMUSER\")","v":""}]
[null,null,null,null,null,null,null,null,null,null,null,null,null,null,null,null,null,null,null,null,null,null,null,null,null,null,null,null,null,null,null,null,null,null,null,null,null,null,null,null,null,null,null,null,null,null,null,null,null,null,null,null,null,null,null,null,null,null,null,null,null,null,null,null,null,null,null,null,null,null,null,null,null,null,null,null,{"$f":"IF(AH40=\"\",\"\",IF('Test 5'!AI109=\"\",\"\",\"AgencyEntityInstance Id 178\"))","v":""},{"$f":"IF(BY180=\"\",\"\",VLOOKUP(\"CM_Base_DCP\",'Send Sync'!$K$56:$L$96,2,FALSE))","v":""},null,{"$f":"IF(BY180=\"\",\"\",BY162)","v":""},{"$f":"IF(BY180=\"\",\"\",CONCATENATE(\"<Data><cm_base_dcp_01_begin>\",CO835,\"</cm_base_dcp_01_begin><cm_base_dcp_02_end>\",CO836,\"</cm_base_dcp_02_end><cm_base_dcp_03_blows>\",CO837,\"</cm_base_dcp_03_blows><cm_base_dcp_04_index>\",CO838,\"</cm_base_dcp_04_index></Data>\"))","v":""},"","","","",null,null,null,null,null,null,null,"",17,{"$f":"IF(BY36=\"\",\"\",\"AgencyEntityInsData Id 178\")","v":""},{"$f":"IF(BY36=\"\",\"\",\"AgencyEntityInstance Id 34\")","v":""},{"$f":"IF(BY36=\"\",\"\",\"cm_subgrade_comp_01_qty_cy_a\")","v":""},{"$f":"IF(BY36=\"\",\"\",'Test 1'!AE175)","v":""},{"$f":"IF(BY36=\"\",\"\",TODAY())","v":""},{"$f":"IF(BY36=\"\",\"\",\"WTSYSTEMUSER\")","v":""},{"$f":"IF(BY36=\"\",\"\",TODAY())","v":""},{"$f":"IF(BY36=\"\",\"\",\"WTSYSTEMUSER\")","v":""}]
[null,null,null,null,null,null,null,null,null,null,null,null,null,null,null,null,null,null,null,null,null,null,null,null,null,null,null,null,null,null,null,null,null,null,null,null,null,null,null,null,null,null,null,null,null,null,null,null,null,null,null,null,null,null,null,null,null,null,null,null,null,null,null,null,null,null,null,null,null,null,null,null,null,null,null,null,{"$f":"IF(AH40=\"\",\"\",IF('Test 5'!AI110=\"\",\"\",\"AgencyEntityInstance Id 179\"))","v":""},{"$f":"IF(BY181=\"\",\"\",VLOOKUP(\"CM_Base_DCP\",'Send Sync'!$K$56:$L$96,2,FALSE))","v":""},null,{"$f":"IF(BY181=\"\",\"\",BY162)","v":""},{"$f":"IF(BY181=\"\",\"\",CONCATENATE(\"<Data><cm_base_dcp_01_begin>\",CO839,\"</cm_base_dcp_01_begin><cm_base_dcp_02_end>\",CO840,\"</cm_base_dcp_02_end><cm_base_dcp_03_blows>\",CO841,\"</cm_base_dcp_03_blows><cm_base_dcp_04_index>\",CO842,\"</cm_base_dcp_04_index></Data>\"))","v":""},"","","","",null,null,null,null,null,null,null,"",null,{"$f":"IF(BY36=\"\",\"\",\"AgencyEntityInsData Id 179\")","v":""},{"$f":"IF(BY36=\"\",\"\",\"AgencyEntityInstance Id 34\")","v":""},{"$f":"IF(BY36=\"\",\"\",\"cm_subgrade_comp_02_qty_cy_b\")","v":""},{"$f":"IF(BY36=\"\",\"\",'Test 1'!AE176)","v":""},{"$f":"IF(BY36=\"\",\"\",TODAY())","v":""},{"$f":"IF(BY36=\"\",\"\",\"WTSYSTEMUSER\")","v":""},{"$f":"IF(BY36=\"\",\"\",TODAY())","v":""},{"$f":"IF(BY36=\"\",\"\",\"WTSYSTEMUSER\")","v":""}]
[null,null,null,null,null,null,null,null,null,null,null,null,null,null,null,null,null,null,null,null,null,null,null,null,null,null,null,null,null,null,null,null,null,null,null,null,null,null,null,null,null,null,null,null,null,null,null,null,null,null,null,null,null,null,null,null,null,null,null,null,null,null,null,null,null,null,null,null,null,null,null,null,null,null,null,null,{"$f":"IF(AH40=\"\",\"\",IF('Test 5'!AI111=\"\",\"\",\"AgencyEntityInstance Id 180\"))","v":""},{"$f":"IF(BY182=\"\",\"\",VLOOKUP(\"CM_Base_DCP\",'Send Sync'!$K$56:$L$96,2,FALSE))","v":""},null,{"$f":"IF(BY182=\"\",\"\",BY162)","v":""},{"$f":"IF(BY182=\"\",\"\",CONCATENATE(\"<Data><cm_base_dcp_01_begin>\",CO843,\"</cm_base_dcp_01_begin><cm_base_dcp_02_end>\",CO844,\"</cm_base_dcp_02_end><cm_base_dcp_03_blows>\",CO845,\"</cm_base_dcp_03_blows><cm_base_dcp_04_index>\",CO846,\"</cm_base_dcp_04_index></Data>\"))","v":""},"","","","",null,null,null,null,null,null,null,"",null,{"$f":"IF(BY36=\"\",\"\",\"AgencyEntityInsData Id 180\")","v":""},{"$f":"IF(BY36=\"\",\"\",\"AgencyEntityInstance Id 34\")","v":""},{"$f":"IF(BY36=\"\",\"\",\"cm_subgrade_comp_03_qty_cy_rocky\")","v":""},{"$f":"IF(BY36=\"\",\"\",'Test 1'!AE177)","v":""},{"$f":"IF(BY36=\"\",\"\",TODAY())","v":""},{"$f":"IF(BY36=\"\",\"\",\"WTSYSTEMUSER\")","v":""},{"$f":"IF(BY36=\"\",\"\",TODAY())","v":""},{"$f":"IF(BY36=\"\",\"\",\"WTSYSTEMUSER\")","v":""}]
[null,null,null,null,null,null,null,null,null,null,null,null,null,null,null,null,null,null,null,null,null,null,null,null,null,null,null,null,null,null,null,null,null,null,null,null,null,null,null,null,null,null,null,null,null,null,null,null,null,null,null,null,null,null,null,null,null,null,null,null,null,null,null,null,null,null,null,null,null,null,null,null,null,null,null,{"$f":"BX162+1","v":7},{"$f":"IF(AH41=\"\",\"\",\"AgencyEntityInstance Id 181\")","v":""},{"$f":"IF(BY183=\"\",\"\",VLOOKUP(\"CM_Base_DCP_Header\",'Send Sync'!$K$56:$L$96,2,FALSE))","v":""},{"$f":"IF(BY183=\"\",\"\",\"SampleRecordTest Id 39\")","v":""},null,{"$f":"IF(BY183=\"\",\"\",CONCATENATE(\"<Data><cm_base_dcp_header_01_avg>\",CO847,\"</cm_base_dcp_header_01_avg><cm_base_dcp_header_02_thi_spec>\",CO848,\"</cm_base_dcp_header_02_thi_spec><cm_base_dcp_header_03_thi_meas>\",CO849,\"</cm_base_dcp_header_03_thi_meas><cm_base_dcp_header_04_sta_1>\",CO850,\"</cm_base_dcp_header_04_sta_1><cm_base_dcp_header_05_sta_2>\",CO851,\"</cm_base_dcp_header_05_sta_2><cm_base_dcp_header_06_location>\",CO852,\"</cm_base_dcp_header_06_location><cm_base_dcp_header_07_tester>\",CO853,\"</cm_base_dcp_header_07_tester></Data>\"))","v":""},"","","","",null,null,null,null,null,null,null,"",null,{"$f":"IF(BY36=\"\",\"\",\"AgencyEntityInsData Id 181\")","v":""},{"$f":"IF(BY36=\"\",\"\",\"AgencyEntityInstance Id 34\")","v":""},{"$f":"IF(BY36=\"\",\"\",\"cm_subgrade_comp_04_qty_sta_a\")","v":""},{"$f":"IF(BY36=\"\",\"\",'Test 1'!AF175)","v":""},{"$f":"IF(BY36=\"\",\"\",TODAY())","v":""},{"$f":"IF(BY36=\"\",\"\",\"WTSYSTEMUSER\")","v":""},{"$f":"IF(BY36=\"\",\"\",TODAY())","v":""},{"$f":"IF(BY36=\"\",\"\",\"WTSYSTEMUSER\")","v":""}]
[null,null,null,null,null,null,null,null,null,null,null,null,null,null,null,null,null,null,null,null,null,null,null,null,null,null,null,null,null,null,null,null,null,null,null,null,null,null,null,null,null,null,null,null,null,null,null,null,null,null,null,null,null,null,null,null,null,null,null,null,null,null,null,null,null,null,null,null,null,null,null,null,null,null,null,null,{"$f":"IF(AH41=\"\",\"\",IF('Test 5'!AF126=\"\",\"\",\"AgencyEntityInstance Id 182\"))","v":""},{"$f":"IF(BY184=\"\",\"\",VLOOKUP(\"CM_Base_DCP\",'Send Sync'!$K$56:$L$96,2,FALSE))","v":""},null,{"$f":"IF(BY184=\"\",\"\",BY183)","v":""},{"$f":"IF(BY184=\"\",\"\",CONCATENATE(\"<Data><cm_base_dcp_01_begin>\",CO854,\"</cm_base_dcp_01_begin><cm_base_dcp_02_end>\",CO855,\"</cm_base_dcp_02_end><cm_base_dcp_03_blows>\",CO856,\"</cm_base_dcp_03_blows><cm_base_dcp_04_index>\",CO857,\"</cm_base_dcp_04_index></Data>\"))","v":""},"","","","",null,null,null,null,null,null,null,"",null,{"$f":"IF(BY36=\"\",\"\",\"AgencyEntityInsData Id 182\")","v":""},{"$f":"IF(BY36=\"\",\"\",\"AgencyEntityInstance Id 34\")","v":""},{"$f":"IF(BY36=\"\",\"\",\"cm_subgrade_comp_05_qty_sta_b\")","v":""},{"$f":"IF(BY36=\"\",\"\",'Test 1'!AF176)","v":""},{"$f":"IF(BY36=\"\",\"\",TODAY())","v":""},{"$f":"IF(BY36=\"\",\"\",\"WTSYSTEMUSER\")","v":""},{"$f":"IF(BY36=\"\",\"\",TODAY())","v":""},{"$f":"IF(BY36=\"\",\"\",\"WTSYSTEMUSER\")","v":""}]
[null,null,null,null,null,null,null,null,null,null,null,null,null,null,null,null,null,null,null,null,null,null,null,null,null,null,null,null,null,null,null,null,null,null,null,null,null,null,null,null,null,null,null,null,null,null,null,null,null,null,null,null,null,null,null,null,null,null,null,null,null,null,null,null,null,null,null,null,null,null,null,null,null,null,null,null,{"$f":"IF(AH41=\"\",\"\",IF('Test 5'!AF127=\"\",\"\",\"AgencyEntityInstance Id 183\"))","v":""},{"$f":"IF(BY185=\"\",\"\",VLOOKUP(\"CM_Base_DCP\",'Send Sync'!$K$56:$L$96,2,FALSE))","v":""},null,{"$f":"IF(BY185=\"\",\"\",BY183)","v":""},{"$f":"IF(BY185=\"\",\"\",CONCATENATE(\"<Data><cm_base_dcp_01_begin>\",CO858,\"</cm_base_dcp_01_begin><cm_base_dcp_02_end>\",CO859,\"</cm_base_dcp_02_end><cm_base_dcp_03_blows>\",CO860,\"</cm_base_dcp_03_blows><cm_base_dcp_04_index>\",CO861,\"</cm_base_dcp_04_index></Data>\"))","v":""},{"$f":"IF(BY185=\"\",\"\",TODAY())","v":""},{"$f":"IF(BY185=\"\",\"\",\"WTSYSTEMUSER\")","v":""},{"$f":"IF(BY185=\"\",\"\",TODAY())","v":""},{"$f":"IF(BY185=\"\",\"\",\"WTSYSTEMUSER\")","v":""},null,null,null,null,null,null,null,"",null,{"$f":"IF(BY36=\"\",\"\",\"AgencyEntityInsData Id 183\")","v":""},{"$f":"IF(BY36=\"\",\"\",\"AgencyEntityInstance Id 34\")","v":""},{"$f":"IF(BY36=\"\",\"\",\"cm_subgrade_comp_06_qty_sta_rocky\")","v":""},{"$f":"IF(BY36=\"\",\"\",'Test 1'!AF177)","v":""},{"$f":"IF(BY36=\"\",\"\",TODAY())","v":""},{"$f":"IF(BY36=\"\",\"\",\"WTSYSTEMUSER\")","v":""},{"$f":"IF(BY36=\"\",\"\",TODAY())","v":""},{"$f":"IF(BY36=\"\",\"\",\"WTSYSTEMUSER\")","v":""}]
[null,null,null,null,null,null,null,null,null,null,null,null,null,null,null,null,null,null,null,null,null,null,null,null,null,null,null,null,null,null,null,null,null,null,null,null,null,null,null,null,null,null,null,null,null,null,null,null,null,null,null,null,null,null,null,null,null,null,null,null,null,null,null,null,null,null,null,null,null,null,null,null,null,null,null,null,{"$f":"IF(AH41=\"\",\"\",IF('Test 5'!AF128=\"\",\"\",\"AgencyEntityInstance Id 184\"))","v":""},{"$f":"IF(BY186=\"\",\"\",VLOOKUP(\"CM_Base_DCP\",'Send Sync'!$K$56:$L$96,2,FALSE))","v":""},null,{"$f":"IF(BY186=\"\",\"\",BY183)","v":""},{"$f":"IF(BY186=\"\",\"\",CONCATENATE(\"<Data><cm_base_dcp_01_begin>\",CO862,\"</cm_base_dcp_01_begin><cm_base_dcp_02_end>\",CO863,\"</cm_base_dcp_02_end><cm_base_dcp_03_blows>\",CO864,\"</cm_base_dcp_03_blows><cm_base_dcp_04_index>\",CO865,\"</cm_base_dcp_04_index></Data>\"))","v":""},"","","","",null,null,null,null,null,null,null,"",null,{"$f":"IF(BY36=\"\",\"\",\"AgencyEntityInsData Id 184\")","v":""},{"$f":"IF(BY36=\"\",\"\",\"AgencyEntityInstance Id 34\")","v":""},{"$f":"IF(BY36=\"\",\"\",\"cm_subgrade_comp_07_comp_a\")","v":""},{"$f":"IF(BY36=\"\",\"\",'Test 1'!AG175)","v":""},{"$f":"IF(BY36=\"\",\"\",TODAY())","v":""},{"$f":"IF(BY36=\"\",\"\",\"WTSYSTEMUSER\")","v":""},{"$f":"IF(BY36=\"\",\"\",TODAY())","v":""},{"$f":"IF(BY36=\"\",\"\",\"WTSYSTEMUSER\")","v":""}]
[null,null,null,null,null,null,null,null,null,null,null,null,null,null,null,null,null,null,null,null,null,null,null,null,null,null,null,null,null,null,null,null,null,null,null,null,null,null,null,null,null,null,null,null,null,null,null,null,null,null,null,null,null,null,null,null,null,null,null,null,null,null,null,null,null,null,null,null,null,null,null,null,null,null,null,null,{"$f":"IF(AH41=\"\",\"\",IF('Test 5'!AF129=\"\",\"\",\"AgencyEntityInstance Id 185\"))","v":""},{"$f":"IF(BY187=\"\",\"\",VLOOKUP(\"CM_Base_DCP\",'Send Sync'!$K$56:$L$96,2,FALSE))","v":""},null,{"$f":"IF(BY187=\"\",\"\",BY183)","v":""},{"$f":"IF(BY187=\"\",\"\",CONCATENATE(\"<Data><cm_base_dcp_01_begin>\",CO866,\"</cm_base_dcp_01_begin><cm_base_dcp_02_end>\",CO867,\"</cm_base_dcp_02_end><cm_base_dcp_03_blows>\",CO868,\"</cm_base_dcp_03_blows><cm_base_dcp_04_index>\",CO869,\"</cm_base_dcp_04_index></Data>\"))","v":""},"","","","",null,null,null,null,null,null,null,"",null,{"$f":"IF(BY36=\"\",\"\",\"AgencyEntityInsData Id 185\")","v":""},{"$f":"IF(BY36=\"\",\"\",\"AgencyEntityInstance Id 34\")","v":""},{"$f":"IF(BY36=\"\",\"\",\"cm_subgrade_comp_08_comp_b\")","v":""},{"$f":"IF(BY36=\"\",\"\",'Test 1'!AG176)","v":""},{"$f":"IF(BY36=\"\",\"\",TODAY())","v":""},{"$f":"IF(BY36=\"\",\"\",\"WTSYSTEMUSER\")","v":""},{"$f":"IF(BY36=\"\",\"\",TODAY())","v":""},{"$f":"IF(BY36=\"\",\"\",\"WTSYSTEMUSER\")","v":""}]
[null,null,null,null,null,null,null,null,null,null,null,null,null,null,null,null,null,null,null,null,null,null,null,null,null,null,null,null,null,null,null,null,null,null,null,null,null,null,null,null,null,null,null,null,null,null,null,null,null,null,null,null,null,null,null,null,null,null,null,null,null,null,null,null,null,null,null,null,null,null,null,null,null,null,null,null,{"$f":"IF(AH41=\"\",\"\",IF('Test 5'!AF130=\"\",\"\",\"AgencyEntityInstance Id 186\"))","v":""},{"$f":"IF(BY188=\"\",\"\",VLOOKUP(\"CM_Base_DCP\",'Send Sync'!$K$56:$L$96,2,FALSE))","v":""},null,{"$f":"IF(BY188=\"\",\"\",BY183)","v":""},{"$f":"IF(BY188=\"\",\"\",CONCATENATE(\"<Data><cm_base_dcp_01_begin>\",CO870,\"</cm_base_dcp_01_begin><cm_base_dcp_02_end>\",CO871,\"</cm_base_dcp_02_end><cm_base_dcp_03_blows>\",CO872,\"</cm_base_dcp_03_blows><cm_base_dcp_04_index>\",CO873,\"</cm_base_dcp_04_index></Data>\"))","v":""},"","","","",null,null,null,null,null,null,null,"",null,{"$f":"IF(BY36=\"\",\"\",\"AgencyEntityInsData Id 186\")","v":""},{"$f":"IF(BY36=\"\",\"\",\"AgencyEntityInstance Id 34\")","v":""},{"$f":"IF(BY36=\"\",\"\",\"cm_subgrade_comp_09_density_a\")","v":""},{"$f":"IF(BY36=\"\",\"\",'Test 1'!AH175)","v":""},{"$f":"IF(BY36=\"\",\"\",TODAY())","v":""},{"$f":"IF(BY36=\"\",\"\",\"WTSYSTEMUSER\")","v":""},{"$f":"IF(BY36=\"\",\"\",TODAY())","v":""},{"$f":"IF(BY36=\"\",\"\",\"WTSYSTEMUSER\")","v":""}]
[null,null,null,null,null,null,null,null,null,null,null,null,null,null,null,null,null,null,null,null,null,null,null,null,null,null,null,null,null,null,null,null,null,null,null,null,null,null,null,null,null,null,null,null,null,null,null,null,null,null,null,null,null,null,null,null,null,null,null,null,null,null,null,null,null,null,null,null,null,null,null,null,null,null,null,null,{"$f":"IF(AH41=\"\",\"\",IF('Test 5'!AF131=\"\",\"\",\"AgencyEntityInstance Id 187\"))","v":""},{"$f":"IF(BY189=\"\",\"\",VLOOKUP(\"CM_Base_DCP\",'Send Sync'!$K$56:$L$96,2,FALSE))","v":""},null,{"$f":"IF(BY189=\"\",\"\",BY183)","v":""},{"$f":"IF(BY189=\"\",\"\",CONCATENATE(\"<Data><cm_base_dcp_01_begin>\",CO874,\"</cm_base_dcp_01_begin><cm_base_dcp_02_end>\",CO875,\"</cm_base_dcp_02_end><cm_base_dcp_03_blows>\",CO876,\"</cm_base_dcp_03_blows><cm_base_dcp_04_index>\",CO877,\"</cm_base_dcp_04_index></Data>\"))","v":""},"","","","",null,null,null,null,null,null,null,"",null,{"$f":"IF(BY36=\"\",\"\",\"AgencyEntityInsData Id 187\")","v":""},{"$f":"IF(BY36=\"\",\"\",\"AgencyEntityInstance Id 34\")","v":""},{"$f":"IF(BY36=\"\",\"\",\"cm_subgrade_comp_10_density_b\")","v":""},{"$f":"IF(BY36=\"\",\"\",'Test 1'!AH176)","v":""},{"$f":"IF(BY36=\"\",\"\",TODAY())","v":""},{"$f":"IF(BY36=\"\",\"\",\"WTSYSTEMUSER\")","v":""},{"$f":"IF(BY36=\"\",\"\",TODAY())","v":""},{"$f":"IF(BY36=\"\",\"\",\"WTSYSTEMUSER\")","v":""}]
[null,null,null,null,null,null,null,null,null,null,null,null,null,null,null,null,null,null,null,null,null,null,null,null,null,null,null,null,null,null,null,null,null,null,null,null,null,null,null,null,null,null,null,null,null,null,null,null,null,null,null,null,null,null,null,null,null,null,null,null,null,null,null,null,null,null,null,null,null,null,null,null,null,null,null,null,{"$f":"IF(AH41=\"\",\"\",IF('Test 5'!AF132=\"\",\"\",\"AgencyEntityInstance Id 188\"))","v":""},{"$f":"IF(BY190=\"\",\"\",VLOOKUP(\"CM_Base_DCP\",'Send Sync'!$K$56:$L$96,2,FALSE))","v":""},null,{"$f":"IF(BY190=\"\",\"\",BY183)","v":""},{"$f":"IF(BY190=\"\",\"\",CONCATENATE(\"<Data><cm_base_dcp_01_begin>\",CO878,\"</cm_base_dcp_01_begin><cm_base_dcp_02_end>\",CO879,\"</cm_base_dcp_02_end><cm_base_dcp_03_blows>\",CO880,\"</cm_base_dcp_03_blows><cm_base_dcp_04_index>\",CO881,\"</cm_base_dcp_04_index></Data>\"))","v":""},"","","","",null,null,null,null,null,null,null,"",null,{"$f":"IF(BY37=\"\",\"\",\"AgencyEntityInsData Id 188\")","v":""},{"$f":"IF(BY37=\"\",\"\",\"AgencyEntityInstance Id 35\")","v":""},{"$f":"IF(BY37=\"\",\"\",\"CM_Standard_For_Remarks\")","v":""},{"$f":"IF(BY37=\"\",\"\",IF('Test 1'!J171=\"\",\"\",'Test 1'!J171))","v":""},{"$f":"IF(BY37=\"\",\"\",TODAY())","v":""},{"$f":"IF(BY37=\"\",\"\",\"WTSYSTEMUSER\")","v":""},{"$f":"IF(BY37=\"\",\"\",TODAY())","v":""},{"$f":"IF(BY37=\"\",\"\",\"WTSYSTEMUSER\")","v":""}]
[null,null,null,null,null,null,null,null,null,null,null,null,null,null,null,null,null,null,null,null,null,null,null,null,null,null,null,null,null,null,null,null,null,null,null,null,null,null,null,null,null,null,null,null,null,null,null,null,null,null,null,null,null,null,null,null,null,null,null,null,null,null,null,null,null,null,null,null,null,null,null,null,null,null,null,null,{"$f":"IF(AH41=\"\",\"\",IF('Test 5'!AF133=\"\",\"\",\"AgencyEntityInstance Id 189\"))","v":""},{"$f":"IF(BY191=\"\",\"\",VLOOKUP(\"CM_Base_DCP\",'Send Sync'!$K$56:$L$96,2,FALSE))","v":""},null,{"$f":"IF(BY191=\"\",\"\",BY183)","v":""},{"$f":"IF(BY191=\"\",\"\",CONCATENATE(\"<Data><cm_base_dcp_01_begin>\",CO882,\"</cm_base_dcp_01_begin><cm_base_dcp_02_end>\",CO883,\"</cm_base_dcp_02_end><cm_base_dcp_03_blows>\",CO884,\"</cm_base_dcp_03_blows><cm_base_dcp_04_index>\",CO885,\"</cm_base_dcp_04_index></Data>\"))","v":""},"","","","",null,null,null,null,null,null,null,"",18,{"$f":"IF(BY38=\"\",\"\",\"AgencyEntityInsData Id 189\")","v":""},{"$f":"IF(BY38=\"\",\"\",\"AgencyEntityInstance Id 36\")","v":""},{"$f":"IF(BY38=\"\",\"\",\"cm_subgrade_comp_01_qty_cy_a\")","v":""},{"$f":"IF(BY38=\"\",\"\",'Test 1'!AE185)","v":""},{"$f":"IF(BY38=\"\",\"\",TODAY())","v":""},{"$f":"IF(BY38=\"\",\"\",\"WTSYSTEMUSER\")","v":""},{"$f":"IF(BY38=\"\",\"\",TODAY())","v":""},{"$f":"IF(BY38=\"\",\"\",\"WTSYSTEMUSER\")","v":""}]
[null,null,null,null,null,null,null,null,null,null,null,null,null,null,null,null,null,null,null,null,null,null,null,null,null,null,null,null,null,null,null,null,null,null,null,null,null,null,null,null,null,null,null,null,null,null,null,null,null,null,null,null,null,null,null,null,null,null,null,null,null,null,null,null,null,null,null,null,null,null,null,null,null,null,null,null,{"$f":"IF(AH41=\"\",\"\",IF('Test 5'!AF134=\"\",\"\",\"AgencyEntityInstance Id 190\"))","v":""},{"$f":"IF(BY192=\"\",\"\",VLOOKUP(\"CM_Base_DCP\",'Send Sync'!$K$56:$L$96,2,FALSE))","v":""},null,{"$f":"IF(BY192=\"\",\"\",BY183)","v":""},{"$f":"IF(BY192=\"\",\"\",CONCATENATE(\"<Data><cm_base_dcp_01_begin>\",CO886,\"</cm_base_dcp_01_begin><cm_base_dcp_02_end>\",CO887,\"</cm_base_dcp_02_end><cm_base_dcp_03_blows>\",CO888,\"</cm_base_dcp_03_blows><cm_base_dcp_04_index>\",CO889,\"</cm_base_dcp_04_index></Data>\"))","v":""},"","","","",null,null,null,null,null,null,null,"",null,{"$f":"IF(BY38=\"\",\"\",\"AgencyEntityInsData Id 190\")","v":""},{"$f":"IF(BY38=\"\",\"\",\"AgencyEntityInstance Id 36\")","v":""},{"$f":"IF(BY38=\"\",\"\",\"cm_subgrade_comp_02_qty_cy_b\")","v":""},{"$f":"IF(BY38=\"\",\"\",'Test 1'!AE186)","v":""},{"$f":"IF(BY38=\"\",\"\",TODAY())","v":""},{"$f":"IF(BY38=\"\",\"\",\"WTSYSTEMUSER\")","v":""},{"$f":"IF(BY38=\"\",\"\",TODAY())","v":""},{"$f":"IF(BY38=\"\",\"\",\"WTSYSTEMUSER\")","v":""}]
[null,null,null,null,null,null,null,null,null,null,null,null,null,null,null,null,null,null,null,null,null,null,null,null,null,null,null,null,null,null,null,null,null,null,null,null,null,null,null,null,null,null,null,null,null,null,null,null,null,null,null,null,null,null,null,null,null,null,null,null,null,null,null,null,null,null,null,null,null,null,null,null,null,null,null,null,{"$f":"IF(AH41=\"\",\"\",IF('Test 5'!AF135=\"\",\"\",\"AgencyEntityInstance Id 191\"))","v":""},{"$f":"IF(BY193=\"\",\"\",VLOOKUP(\"CM_Base_DCP\",'Send Sync'!$K$56:$L$96,2,FALSE))","v":""},null,{"$f":"IF(BY193=\"\",\"\",BY183)","v":""},{"$f":"IF(BY193=\"\",\"\",CONCATENATE(\"<Data><cm_base_dcp_01_begin>\",CO890,\"</cm_base_dcp_01_begin><cm_base_dcp_02_end>\",CO891,\"</cm_base_dcp_02_end><cm_base_dcp_03_blows>\",CO892,\"</cm_base_dcp_03_blows><cm_base_dcp_04_index>\",CO893,\"</cm_base_dcp_04_index></Data>\"))","v":""},"","","","",null,null,null,null,null,null,null,"",null,{"$f":"IF(BY38=\"\",\"\",\"AgencyEntityInsData Id 191\")","v":""},{"$f":"IF(BY38=\"\",\"\",\"AgencyEntityInstance Id 36\")","v":""},{"$f":"IF(BY38=\"\",\"\",\"cm_subgrade_comp_03_qty_cy_rocky\")","v":""},{"$f":"IF(BY38=\"\",\"\",'Test 1'!AE187)","v":""},{"$f":"IF(BY38=\"\",\"\",TODAY())","v":""},{"$f":"IF(BY38=\"\",\"\",\"WTSYSTEMUSER\")","v":""},{"$f":"IF(BY38=\"\",\"\",TODAY())","v":""},{"$f":"IF(BY38=\"\",\"\",\"WTSYSTEMUSER\")","v":""}]
[null,null,null,null,null,null,null,null,null,null,null,null,null,null,null,null,null,null,null,null,null,null,null,null,null,null,null,null,null,null,null,null,null,null,null,null,null,null,null,null,null,null,null,null,null,null,null,null,null,null,null,null,null,null,null,null,null,null,null,null,null,null,null,null,null,null,null,null,null,null,null,null,null,null,null,null,{"$f":"IF(AH41=\"\",\"\",IF('Test 5'!AF136=\"\",\"\",\"AgencyEntityInstance Id 192\"))","v":""},{"$f":"IF(BY194=\"\",\"\",VLOOKUP(\"CM_Base_DCP\",'Send Sync'!$K$56:$L$96,2,FALSE))","v":""},null,{"$f":"IF(BY194=\"\",\"\",BY183)","v":""},{"$f":"IF(BY194=\"\",\"\",CONCATENATE(\"<Data><cm_base_dcp_01_begin>\",CO894,\"</cm_base_dcp_01_begin><cm_base_dcp_02_end>\",CO895,\"</cm_base_dcp_02_end><cm_base_dcp_03_blows>\",CO896,\"</cm_base_dcp_03_blows><cm_base_dcp_04_index>\",CO897,\"</cm_base_dcp_04_index></Data>\"))","v":""},"","","","",null,null,null,null,null,null,null,"",null,{"$f":"IF(BY38=\"\",\"\",\"AgencyEntityInsData Id 192\")","v":""},{"$f":"IF(BY38=\"\",\"\",\"AgencyEntityInstance Id 36\")","v":""},{"$f":"IF(BY38=\"\",\"\",\"cm_subgrade_comp_04_qty_sta_a\")","v":""},{"$f":"IF(BY38=\"\",\"\",'Test 1'!AF185)","v":""},{"$f":"IF(BY38=\"\",\"\",TODAY())","v":""},{"$f":"IF(BY38=\"\",\"\",\"WTSYSTEMUSER\")","v":""},{"$f":"IF(BY38=\"\",\"\",TODAY())","v":""},{"$f":"IF(BY38=\"\",\"\",\"WTSYSTEMUSER\")","v":""}]
[null,null,null,null,null,null,null,null,null,null,null,null,null,null,null,null,null,null,null,null,null,null,null,null,null,null,null,null,null,null,null,null,null,null,null,null,null,null,null,null,null,null,null,null,null,null,null,null,null,null,null,null,null,null,null,null,null,null,null,null,null,null,null,null,null,null,null,null,null,null,null,null,null,null,null,null,{"$f":"IF(AH41=\"\",\"\",IF('Test 5'!AF137=\"\",\"\",\"AgencyEntityInstance Id 193\"))","v":""},{"$f":"IF(BY195=\"\",\"\",VLOOKUP(\"CM_Base_DCP\",'Send Sync'!$K$56:$L$96,2,FALSE))","v":""},null,{"$f":"IF(BY195=\"\",\"\",BY183)","v":""},{"$f":"IF(BY195=\"\",\"\",CONCATENATE(\"<Data><cm_base_dcp_01_begin>\",CO898,\"</cm_base_dcp_01_begin><cm_base_dcp_02_end>\",CO899,\"</cm_base_dcp_02_end><cm_base_dcp_03_blows>\",CO900,\"</cm_base_dcp_03_blows><cm_base_dcp_04_index>\",CO901,\"</cm_base_dcp_04_index></Data>\"))","v":""},"","","","",null,null,null,null,null,null,null,"",null,{"$f":"IF(BY38=\"\",\"\",\"AgencyEntityInsData Id 193\")","v":""},{"$f":"IF(BY38=\"\",\"\",\"AgencyEntityInstance Id 36\")","v":""},{"$f":"IF(BY38=\"\",\"\",\"cm_subgrade_comp_05_qty_sta_b\")","v":""},{"$f":"IF(BY38=\"\",\"\",'Test 1'!AF186)","v":""},{"$f":"IF(BY38=\"\",\"\",TODAY())","v":""},{"$f":"IF(BY38=\"\",\"\",\"WTSYSTEMUSER\")","v":""},{"$f":"IF(BY38=\"\",\"\",TODAY())","v":""},{"$f":"IF(BY38=\"\",\"\",\"WTSYSTEMUSER\")","v":""}]
[null,null,null,null,null,null,null,null,null,null,null,null,null,null,null,null,null,null,null,null,null,null,null,null,null,null,null,null,null,null,null,null,null,null,null,null,null,null,null,null,null,null,null,null,null,null,null,null,null,null,null,null,null,null,null,null,null,null,null,null,null,null,null,null,null,null,null,null,null,null,null,null,null,null,null,null,{"$f":"IF(AH41=\"\",\"\",IF('Test 5'!AF138=\"\",\"\",\"AgencyEntityInstance Id 194\"))","v":""},{"$f":"IF(BY196=\"\",\"\",VLOOKUP(\"CM_Base_DCP\",'Send Sync'!$K$56:$L$96,2,FALSE))","v":""},null,{"$f":"IF(BY196=\"\",\"\",BY183)","v":""},{"$f":"IF(BY196=\"\",\"\",CONCATENATE(\"<Data><cm_base_dcp_01_begin>\",CO902,\"</cm_base_dcp_01_begin><cm_base_dcp_02_end>\",CO903,\"</cm_base_dcp_02_end><cm_base_dcp_03_blows>\",CO904,\"</cm_base_dcp_03_blows><cm_base_dcp_04_index>\",CO905,\"</cm_base_dcp_04_index></Data>\"))","v":""},"","","","",null,null,null,null,null,null,null,{"$f":"IF(CT196=\"\",\"\",SUBSTITUTE(SUBSTITUTE(SUBSTITUTE(SUBSTITUTE(SUBSTITUTE(CT196,\"&\",\"&amp;\"),\">\",\"&gt;\"),\"<\",\"&lt;\"),\"'\",\"&#39;\"),\"\"\"\",\"&quot;\"))","v":""},null,{"$f":"IF(BY38=\"\",\"\",\"AgencyEntityInsData Id 194\")","v":""},{"$f":"IF(BY38=\"\",\"\",\"AgencyEntityInstance Id 36\")","v":""},{"$f":"IF(BY38=\"\",\"\",\"cm_subgrade_comp_06_qty_sta_rocky\")","v":""},{"$f":"IF(BY38=\"\",\"\",'Test 1'!AF187)","v":""},{"$f":"IF(BY38=\"\",\"\",TODAY())","v":""},{"$f":"IF(BY38=\"\",\"\",\"WTSYSTEMUSER\")","v":""},{"$f":"IF(BY38=\"\",\"\",TODAY())","v":""},{"$f":"IF(BY38=\"\",\"\",\"WTSYSTEMUSER\")","v":""}]
[null,null,null,null,null,null,null,null,null,null,null,null,null,null,null,null,null,null,null,null,null,null,null,null,null,null,null,null,null,null,null,null,null,null,null,null,null,null,null,null,null,null,null,null,null,null,null,null,null,null,null,null,null,null,null,null,null,null,null,null,null,null,null,null,null,null,null,null,null,null,null,null,null,null,null,null,{"$f":"IF(AH41=\"\",\"\",IF('Test 5'!AF139=\"\",\"\",\"AgencyEntityInstance Id 195\"))","v":""},{"$f":"IF(BY197=\"\",\"\",VLOOKUP(\"CM_Base_DCP\",'Send Sync'!$K$56:$L$96,2,FALSE))","v":""},null,{"$f":"IF(BY197=\"\",\"\",BY183)","v":""},{"$f":"IF(BY197=\"\",\"\",CONCATENATE(\"<Data><cm_base_dcp_01_begin>\",CO906,\"</cm_base_dcp_01_begin><cm_base_dcp_02_end>\",CO907,\"</cm_base_dcp_02_end><cm_base_dcp_03_blows>\",CO908,\"</cm_base_dcp_03_blows><cm_base_dcp_04_index>\",CO909,\"</cm_base_dcp_04_index></Data>\"))","v":""},"","","","",null,null,null,null,null,null,null,"",null,{"$f":"IF(BY38=\"\",\"\",\"AgencyEntityInsData Id 195\")","v":""},{"$f":"IF(BY38=\"\",\"\",\"AgencyEntityInstance Id 36\")","v":""},{"$f":"IF(BY38=\"\",\"\",\"cm_subgrade_comp_07_comp_a\")","v":""},{"$f":"IF(BY38=\"\",\"\",'Test 1'!AG185)","v":""},{"$f":"IF(BY38=\"\",\"\",TODAY())","v":""},{"$f":"IF(BY38=\"\",\"\",\"WTSYSTEMUSER\")","v":""},{"$f":"IF(BY38=\"\",\"\",TODAY())","v":""},{"$f":"IF(BY38=\"\",\"\",\"WTSYSTEMUSER\")","v":""}]
[null,null,null,null,null,null,null,null,null,null,null,null,null,null,null,null,null,null,null,null,null,null,null,null,null,null,null,null,null,null,null,null,null,null,null,null,null,null,null,null,null,null,null,null,null,null,null,null,null,null,null,null,null,null,null,null,null,null,null,null,null,null,null,null,null,null,null,null,null,null,null,null,null,null,null,null,{"$f":"IF(AH41=\"\",\"\",IF('Test 5'!AF140=\"\",\"\",\"AgencyEntityInstance Id 196\"))","v":""},{"$f":"IF(BY198=\"\",\"\",VLOOKUP(\"CM_Base_DCP\",'Send Sync'!$K$56:$L$96,2,FALSE))","v":""},null,{"$f":"IF(BY198=\"\",\"\",BY183)","v":""},{"$f":"IF(BY198=\"\",\"\",CONCATENATE(\"<Data><cm_base_dcp_01_begin>\",CO910,\"</cm_base_dcp_01_begin><cm_base_dcp_02_end>\",CO911,\"</cm_base_dcp_02_end><cm_base_dcp_03_blows>\",CO912,\"</cm_base_dcp_03_blows><cm_base_dcp_04_index>\",CO913,\"</cm_base_dcp_04_index></Data>\"))","v":""},"","","","",null,null,null,null,null,null,null,"",null,{"$f":"IF(BY38=\"\",\"\",\"AgencyEntityInsData Id 196\")","v":""},{"$f":"IF(BY38=\"\",\"\",\"AgencyEntityInstance Id 36\")","v":""},{"$f":"IF(BY38=\"\",\"\",\"cm_subgrade_comp_08_comp_b\")","v":""},{"$f":"IF(BY38=\"\",\"\",'Test 1'!AG186)","v":""},{"$f":"IF(BY38=\"\",\"\",TODAY())","v":""},{"$f":"IF(BY38=\"\",\"\",\"WTSYSTEMUSER\")","v":""},{"$f":"IF(BY38=\"\",\"\",TODAY())","v":""},{"$f":"IF(BY38=\"\",\"\",\"WTSYSTEMUSER\")","v":""}]
[null,null,null,null,null,null,null,null,null,null,null,null,null,null,null,null,null,null,null,null,null,null,null,null,null,null,null,null,null,null,null,null,null,null,null,null,null,null,null,null,null,null,null,null,null,null,null,null,null,null,null,null,null,null,null,null,null,null,null,null,null,null,null,null,null,null,null,null,null,null,null,null,null,null,null,null,{"$f":"IF(AH41=\"\",\"\",IF('Test 5'!AF141=\"\",\"\",\"AgencyEntityInstance Id 197\"))","v":""},{"$f":"IF(BY199=\"\",\"\",VLOOKUP(\"CM_Base_DCP\",'Send Sync'!$K$56:$L$96,2,FALSE))","v":""},null,{"$f":"IF(BY199=\"\",\"\",BY183)","v":""},{"$f":"IF(BY199=\"\",\"\",CONCATENATE(\"<Data><cm_base_dcp_01_begin>\",CO914,\"</cm_base_dcp_01_begin><cm_base_dcp_02_end>\",CO915,\"</cm_base_dcp_02_end><cm_base_dcp_03_blows>\",CO916,\"</cm_base_dcp_03_blows><cm_base_dcp_04_index>\",CO917,\"</cm_base_dcp_04_index></Data>\"))","v":""},"","","","",null,null,null,null,null,null,null,"",null,{"$f":"IF(BY38=\"\",\"\",\"AgencyEntityInsData Id 197\")","v":""},{"$f":"IF(BY38=\"\",\"\",\"AgencyEntityInstance Id 36\")","v":""},{"$f":"IF(BY38=\"\",\"\",\"cm_subgrade_comp_09_density_a\")","v":""},{"$f":"IF(BY38=\"\",\"\",'Test 1'!AH185)","v":""},{"$f":"IF(BY38=\"\",\"\",TODAY())","v":""},{"$f":"IF(BY38=\"\",\"\",\"WTSYSTEMUSER\")","v":""},{"$f":"IF(BY38=\"\",\"\",TODAY())","v":""},{"$f":"IF(BY38=\"\",\"\",\"WTSYSTEMUSER\")","v":""}]
[null,null,null,null,null,null,null,null,null,null,null,null,null,null,null,null,null,null,null,null,null,null,null,null,null,null,null,null,null,null,null,null,null,null,null,null,null,null,null,null,null,null,null,null,null,null,null,null,null,null,null,null,null,null,null,null,null,null,null,null,null,null,null,null,null,null,null,null,null,null,null,null,null,null,null,null,{"$f":"IF(AH41=\"\",\"\",IF('Test 5'!AF142=\"\",\"\",\"AgencyEntityInstance Id 198\"))","v":""},{"$f":"IF(BY200=\"\",\"\",VLOOKUP(\"CM_Base_DCP\",'Send Sync'!$K$56:$L$96,2,FALSE))","v":""},null,{"$f":"IF(BY200=\"\",\"\",BY183)","v":""},{"$f":"IF(BY200=\"\",\"\",CONCATENATE(\"<Data><cm_base_dcp_01_begin>\",CO918,\"</cm_base_dcp_01_begin><cm_base_dcp_02_end>\",CO919,\"</cm_base_dcp_02_end><cm_base_dcp_03_blows>\",CO920,\"</cm_base_dcp_03_blows><cm_base_dcp_04_index>\",CO921,\"</cm_base_dcp_04_index></Data>\"))","v":""},"","","","",null,null,null,null,null,null,null,"",null,{"$f":"IF(BY38=\"\",\"\",\"AgencyEntityInsData Id 198\")","v":""},{"$f":"IF(BY38=\"\",\"\",\"AgencyEntityInstance Id 36\")","v":""},{"$f":"IF(BY38=\"\",\"\",\"cm_subgrade_comp_10_density_b\")","v":""},{"$f":"IF(BY38=\"\",\"\",'Test 1'!AH186)","v":""},{"$f":"IF(BY38=\"\",\"\",TODAY())","v":""},{"$f":"IF(BY38=\"\",\"\",\"WTSYSTEMUSER\")","v":""},{"$f":"IF(BY38=\"\",\"\",TODAY())","v":""},{"$f":"IF(BY38=\"\",\"\",\"WTSYSTEMUSER\")","v":""}]
[null,null,null,null,null,null,null,null,null,null,null,null,null,null,null,null,null,null,null,null,null,null,null,null,null,null,null,null,null,null,null,null,null,null,null,null,null,null,null,null,null,null,null,null,null,null,null,null,null,null,null,null,null,null,null,null,null,null,null,null,null,null,null,null,null,null,null,null,null,null,null,null,null,null,null,null,{"$f":"IF(AH41=\"\",\"\",IF('Test 5'!AF143=\"\",\"\",\"AgencyEntityInstance Id 199\"))","v":""},{"$f":"IF(BY201=\"\",\"\",VLOOKUP(\"CM_Base_DCP\",'Send Sync'!$K$56:$L$96,2,FALSE))","v":""},null,{"$f":"IF(BY201=\"\",\"\",BY183)","v":""},{"$f":"IF(BY201=\"\",\"\",CONCATENATE(\"<Data><cm_base_dcp_01_begin>\",CO922,\"</cm_base_dcp_01_begin><cm_base_dcp_02_end>\",CO923,\"</cm_base_dcp_02_end><cm_base_dcp_03_blows>\",CO924,\"</cm_base_dcp_03_blows><cm_base_dcp_04_index>\",CO925,\"</cm_base_dcp_04_index></Data>\"))","v":""},"","","","",null,null,null,null,null,null,null,"",null,{"$f":"IF(BY39=\"\",\"\",\"AgencyEntityInsData Id 199\")","v":""},{"$f":"IF(BY39=\"\",\"\",\"AgencyEntityInstance Id 37\")","v":""},{"$f":"IF(BY39=\"\",\"\",\"CM_Standard_For_Remarks\")","v":""},{"$f":"IF(BY39=\"\",\"\",IF('Test 1'!J181=\"\",\"\",'Test 1'!J181))","v":""},{"$f":"IF(BY39=\"\",\"\",TODAY())","v":""},{"$f":"IF(BY39=\"\",\"\",\"WTSYSTEMUSER\")","v":""},{"$f":"IF(BY39=\"\",\"\",TODAY())","v":""},{"$f":"IF(BY39=\"\",\"\",\"WTSYSTEMUSER\")","v":""}]
[null,null,null,null,null,null,null,null,null,null,null,null,null,null,null,null,null,null,null,null,null,null,null,null,null,null,null,null,null,null,null,null,null,null,null,null,null,null,null,null,null,null,null,null,null,null,null,null,null,null,null,null,null,null,null,null,null,null,null,null,null,null,null,null,null,null,null,null,null,null,null,null,null,null,null,null,{"$f":"IF(AH41=\"\",\"\",IF('Test 5'!AF144=\"\",\"\",\"AgencyEntityInstance Id 200\"))","v":""},{"$f":"IF(BY202=\"\",\"\",VLOOKUP(\"CM_Base_DCP\",'Send Sync'!$K$56:$L$96,2,FALSE))","v":""},null,{"$f":"IF(BY202=\"\",\"\",BY183)","v":""},{"$f":"IF(BY202=\"\",\"\",CONCATENATE(\"<Data><cm_base_dcp_01_begin>\",CO926,\"</cm_base_dcp_01_begin><cm_base_dcp_02_end>\",CO927,\"</cm_base_dcp_02_end><cm_base_dcp_03_blows>\",CO928,\"</cm_base_dcp_03_blows><cm_base_dcp_04_index>\",CO929,\"</cm_base_dcp_04_index></Data>\"))","v":""},"","","","",null,null,null,null,null,null,null,"",19,{"$f":"IF(BY40=\"\",\"\",\"AgencyEntityInsData Id 200\")","v":""},{"$f":"IF(BY40=\"\",\"\",\"AgencyEntityInstance Id 38\")","v":""},{"$f":"IF(BY40=\"\",\"\",\"cm_subgrade_comp_01_qty_cy_a\")","v":""},{"$f":"IF(BY40=\"\",\"\",'Test 1'!AE195)","v":""},{"$f":"IF(BY40=\"\",\"\",TODAY())","v":""},{"$f":"IF(BY40=\"\",\"\",\"WTSYSTEMUSER\")","v":""},{"$f":"IF(BY40=\"\",\"\",TODAY())","v":""},{"$f":"IF(BY40=\"\",\"\",\"WTSYSTEMUSER\")","v":""}]
[null,null,null,null,null,null,null,null,null,null,null,null,null,null,null,null,null,null,null,null,null,null,null,null,null,null,null,null,null,null,null,null,null,null,null,null,null,null,null,null,null,null,null,null,null,null,null,null,null,null,null,null,null,null,null,null,null,null,null,null,null,null,null,null,null,null,null,null,null,null,null,null,null,null,null,null,{"$f":"IF(AH41=\"\",\"\",IF('Test 5'!AF145=\"\",\"\",\"AgencyEntityInstance Id 201\"))","v":""},{"$f":"IF(BY203=\"\",\"\",VLOOKUP(\"CM_Base_DCP\",'Send Sync'!$K$56:$L$96,2,FALSE))","v":""},null,{"$f":"IF(BY203=\"\",\"\",BY183)","v":""},{"$f":"IF(BY203=\"\",\"\",CONCATENATE(\"<Data><cm_base_dcp_01_begin>\",CO930,\"</cm_base_dcp_01_begin><cm_base_dcp_02_end>\",CO931,\"</cm_base_dcp_02_end><cm_base_dcp_03_blows>\",CO932,\"</cm_base_dcp_03_blows><cm_base_dcp_04_index>\",CO933,\"</cm_base_dcp_04_index></Data>\"))","v":""},"","","","",null,null,null,null,null,null,null,"",null,{"$f":"IF(BY40=\"\",\"\",\"AgencyEntityInsData Id 201\")","v":""},{"$f":"IF(BY40=\"\",\"\",\"AgencyEntityInstance Id 38\")","v":""},{"$f":"IF(BY40=\"\",\"\",\"cm_subgrade_comp_02_qty_cy_b\")","v":""},{"$f":"IF(BY40=\"\",\"\",'Test 1'!AE196)","v":""},{"$f":"IF(BY40=\"\",\"\",TODAY())","v":""},{"$f":"IF(BY40=\"\",\"\",\"WTSYSTEMUSER\")","v":""},{"$f":"IF(BY40=\"\",\"\",TODAY())","v":""},{"$f":"IF(BY40=\"\",\"\",\"WTSYSTEMUSER\")","v":""}]
[null,null,null,null,null,null,null,null,null,null,null,null,null,null,null,null,null,null,null,null,null,null,null,null,null,null,null,null,null,null,null,null,null,null,null,null,null,null,null,null,null,null,null,null,null,null,null,null,null,null,null,null,null,null,null,null,null,null,null,null,null,null,null,null,null,null,null,null,null,null,null,null,null,null,null,{"$f":"BX183+1","v":8},{"$f":"IF(AH42=\"\",\"\",\"AgencyEntityInstance Id 202\")","v":""},{"$f":"IF(BY204=\"\",\"\",VLOOKUP(\"CM_Base_DCP_Header\",'Send Sync'!$K$56:$L$96,2,FALSE))","v":""},{"$f":"IF(BY204=\"\",\"\",\"SampleRecordTest Id 40\")","v":""},null,{"$f":"IF(BY204=\"\",\"\",CONCATENATE(\"<Data><cm_base_dcp_header_01_avg>\",CO934,\"</cm_base_dcp_header_01_avg><cm_base_dcp_header_02_thi_spec>\",CO935,\"</cm_base_dcp_header_02_thi_spec><cm_base_dcp_header_03_thi_meas>\",CO936,\"</cm_base_dcp_header_03_thi_meas><cm_base_dcp_header_04_sta_1>\",CO937,\"</cm_base_dcp_header_04_sta_1><cm_base_dcp_header_05_sta_2>\",CO938,\"</cm_base_dcp_header_05_sta_2><cm_base_dcp_header_06_location>\",CO939,\"</cm_base_dcp_header_06_location><cm_base_dcp_header_07_tester>\",CO940,\"</cm_base_dcp_header_07_tester></Data>\"))","v":""},"","","","",null,null,null,null,null,null,null,"",null,{"$f":"IF(BY40=\"\",\"\",\"AgencyEntityInsData Id 202\")","v":""},{"$f":"IF(BY40=\"\",\"\",\"AgencyEntityInstance Id 38\")","v":""},{"$f":"IF(BY40=\"\",\"\",\"cm_subgrade_comp_03_qty_cy_rocky\")","v":""},{"$f":"IF(BY40=\"\",\"\",'Test 1'!AE197)","v":""},{"$f":"IF(BY40=\"\",\"\",TODAY())","v":""},{"$f":"IF(BY40=\"\",\"\",\"WTSYSTEMUSER\")","v":""},{"$f":"IF(BY40=\"\",\"\",TODAY())","v":""},{"$f":"IF(BY40=\"\",\"\",\"WTSYSTEMUSER\")","v":""}]
[null,null,null,null,null,null,null,null,null,null,null,null,null,null,null,null,null,null,null,null,null,null,null,null,null,null,null,null,null,null,null,null,null,null,null,null,null,null,null,null,null,null,null,null,null,null,null,null,null,null,null,null,null,null,null,null,null,null,null,null,null,null,null,null,null,null,null,null,null,null,null,null,null,null,null,null,{"$f":"IF(AH42=\"\",\"\",IF('Test 5'!AI126=\"\",\"\",\"AgencyEntityInstance Id 203\"))","v":""},{"$f":"IF(BY205=\"\",\"\",VLOOKUP(\"CM_Base_DCP\",'Send Sync'!$K$56:$L$96,2,FALSE))","v":""},null,{"$f":"IF(BY205=\"\",\"\",BY204)","v":""},{"$f":"IF(BY205=\"\",\"\",CONCATENATE(\"<Data><cm_base_dcp_01_begin>\",CO941,\"</cm_base_dcp_01_begin><cm_base_dcp_02_end>\",CO942,\"</cm_base_dcp_02_end><cm_base_dcp_03_blows>\",CO943,\"</cm_base_dcp_03_blows><cm_base_dcp_04_index>\",CO944,\"</cm_base_dcp_04_index></Data>\"))","v":""},"","","","",null,null,null,null,null,null,null,"",null,{"$f":"IF(BY40=\"\",\"\",\"AgencyEntityInsData Id 203\")","v":""},{"$f":"IF(BY40=\"\",\"\",\"AgencyEntityInstance Id 38\")","v":""},{"$f":"IF(BY40=\"\",\"\",\"cm_subgrade_comp_04_qty_sta_a\")","v":""},{"$f":"IF(BY40=\"\",\"\",'Test 1'!AF195)","v":""},{"$f":"IF(BY40=\"\",\"\",TODAY())","v":""},{"$f":"IF(BY40=\"\",\"\",\"WTSYSTEMUSER\")","v":""},{"$f":"IF(BY40=\"\",\"\",TODAY())","v":""},{"$f":"IF(BY40=\"\",\"\",\"WTSYSTEMUSER\")","v":""}]
[null,null,null,null,null,null,null,null,null,null,null,null,null,null,null,null,null,null,null,null,null,null,null,null,null,null,null,null,null,null,null,null,null,null,null,null,null,null,null,null,null,null,null,null,null,null,null,null,null,null,null,null,null,null,null,null,null,null,null,null,null,null,null,null,null,null,null,null,null,null,null,null,null,null,null,null,{"$f":"IF(AH42=\"\",\"\",IF('Test 5'!AI127=\"\",\"\",\"AgencyEntityInstance Id 204\"))","v":""},{"$f":"IF(BY206=\"\",\"\",VLOOKUP(\"CM_Base_DCP\",'Send Sync'!$K$56:$L$96,2,FALSE))","v":""},null,{"$f":"IF(BY206=\"\",\"\",BY204)","v":""},{"$f":"IF(BY206=\"\",\"\",CONCATENATE(\"<Data><cm_base_dcp_01_begin>\",CO945,\"</cm_base_dcp_01_begin><cm_base_dcp_02_end>\",CO946,\"</cm_base_dcp_02_end><cm_base_dcp_03_blows>\",CO947,\"</cm_base_dcp_03_blows><cm_base_dcp_04_index>\",CO948,\"</cm_base_dcp_04_index></Data>\"))","v":""},"","","","",null,null,null,null,null,null,null,"",null,{"$f":"IF(BY40=\"\",\"\",\"AgencyEntityInsData Id 204\")","v":""},{"$f":"IF(BY40=\"\",\"\",\"AgencyEntityInstance Id 38\")","v":""},{"$f":"IF(BY40=\"\",\"\",\"cm_subgrade_comp_05_qty_sta_b\")","v":""},{"$f":"IF(BY40=\"\",\"\",'Test 1'!AF196)","v":""},{"$f":"IF(BY40=\"\",\"\",TODAY())","v":""},{"$f":"IF(BY40=\"\",\"\",\"WTSYSTEMUSER\")","v":""},{"$f":"IF(BY40=\"\",\"\",TODAY())","v":""},{"$f":"IF(BY40=\"\",\"\",\"WTSYSTEMUSER\")","v":""}]
[null,null,null,null,null,null,null,null,null,null,null,null,null,null,null,null,null,null,null,null,null,null,null,null,null,null,null,null,null,null,null,null,null,null,null,null,null,null,null,null,null,null,null,null,null,null,null,null,null,null,null,null,null,null,null,null,null,null,null,null,null,null,null,null,null,null,null,null,null,null,null,null,null,null,null,null,{"$f":"IF(AH42=\"\",\"\",IF('Test 5'!AI128=\"\",\"\",\"AgencyEntityInstance Id 205\"))","v":""},{"$f":"IF(BY207=\"\",\"\",VLOOKUP(\"CM_Base_DCP\",'Send Sync'!$K$56:$L$96,2,FALSE))","v":""},null,{"$f":"IF(BY207=\"\",\"\",BY204)","v":""},{"$f":"IF(BY207=\"\",\"\",CONCATENATE(\"<Data><cm_base_dcp_01_begin>\",CO949,\"</cm_base_dcp_01_begin><cm_base_dcp_02_end>\",CO950,\"</cm_base_dcp_02_end><cm_base_dcp_03_blows>\",CO951,\"</cm_base_dcp_03_blows><cm_base_dcp_04_index>\",CO952,\"</cm_base_dcp_04_index></Data>\"))","v":""},"","","","",null,null,null,null,null,null,null,"",null,{"$f":"IF(BY40=\"\",\"\",\"AgencyEntityInsData Id 205\")","v":""},{"$f":"IF(BY40=\"\",\"\",\"AgencyEntityInstance Id 38\")","v":""},{"$f":"IF(BY40=\"\",\"\",\"cm_subgrade_comp_06_qty_sta_rocky\")","v":""},{"$f":"IF(BY40=\"\",\"\",'Test 1'!AF197)","v":""},{"$f":"IF(BY40=\"\",\"\",TODAY())","v":""},{"$f":"IF(BY40=\"\",\"\",\"WTSYSTEMUSER\")","v":""},{"$f":"IF(BY40=\"\",\"\",TODAY())","v":""},{"$f":"IF(BY40=\"\",\"\",\"WTSYSTEMUSER\")","v":""}]
[null,null,null,null,null,null,null,null,null,null,null,null,null,null,null,null,null,null,null,null,null,null,null,null,null,null,null,null,null,null,null,null,null,null,null,null,null,null,null,null,null,null,null,null,null,null,null,null,null,null,null,null,null,null,null,null,null,null,null,null,null,null,null,null,null,null,null,null,null,null,null,null,null,null,null,null,{"$f":"IF(AH42=\"\",\"\",IF('Test 5'!AI129=\"\",\"\",\"AgencyEntityInstance Id 206\"))","v":""},{"$f":"IF(BY208=\"\",\"\",VLOOKUP(\"CM_Base_DCP\",'Send Sync'!$K$56:$L$96,2,FALSE))","v":""},null,{"$f":"IF(BY208=\"\",\"\",BY204)","v":""},{"$f":"IF(BY208=\"\",\"\",CONCATENATE(\"<Data><cm_base_dcp_01_begin>\",CO953,\"</cm_base_dcp_01_begin><cm_base_dcp_02_end>\",CO954,\"</cm_base_dcp_02_end><cm_base_dcp_03_blows>\",CO955,\"</cm_base_dcp_03_blows><cm_base_dcp_04_index>\",CO956,\"</cm_base_dcp_04_index></Data>\"))","v":""},"","","","",null,null,null,null,null,null,null,"",null,{"$f":"IF(BY40=\"\",\"\",\"AgencyEntityInsData Id 206\")","v":""},{"$f":"IF(BY40=\"\",\"\",\"AgencyEntityInstance Id 38\")","v":""},{"$f":"IF(BY40=\"\",\"\",\"cm_subgrade_comp_07_comp_a\")","v":""},{"$f":"IF(BY40=\"\",\"\",'Test 1'!AG195)","v":""},{"$f":"IF(BY40=\"\",\"\",TODAY())","v":""},{"$f":"IF(BY40=\"\",\"\",\"WTSYSTEMUSER\")","v":""},{"$f":"IF(BY40=\"\",\"\",TODAY())","v":""},{"$f":"IF(BY40=\"\",\"\",\"WTSYSTEMUSER\")","v":""}]
[null,null,null,null,null,null,null,null,null,null,null,null,null,null,null,null,null,null,null,null,null,null,null,null,null,null,null,null,null,null,null,null,null,null,null,null,null,null,null,null,null,null,null,null,null,null,null,null,null,null,null,null,null,null,null,null,null,null,null,null,null,null,null,null,null,null,null,null,null,null,null,null,null,null,null,null,{"$f":"IF(AH42=\"\",\"\",IF('Test 5'!AI130=\"\",\"\",\"AgencyEntityInstance Id 207\"))","v":""},{"$f":"IF(BY209=\"\",\"\",VLOOKUP(\"CM_Base_DCP\",'Send Sync'!$K$56:$L$96,2,FALSE))","v":""},null,{"$f":"IF(BY209=\"\",\"\",BY204)","v":""},{"$f":"IF(BY209=\"\",\"\",CONCATENATE(\"<Data><cm_base_dcp_01_begin>\",CO957,\"</cm_base_dcp_01_begin><cm_base_dcp_02_end>\",CO958,\"</cm_base_dcp_02_end><cm_base_dcp_03_blows>\",CO959,\"</cm_base_dcp_03_blows><cm_base_dcp_04_index>\",CO960,\"</cm_base_dcp_04_index></Data>\"))","v":""},"","","","",null,null,null,null,null,null,null,"",null,{"$f":"IF(BY40=\"\",\"\",\"AgencyEntityInsData Id 207\")","v":""},{"$f":"IF(BY40=\"\",\"\",\"AgencyEntityInstance Id 38\")","v":""},{"$f":"IF(BY40=\"\",\"\",\"cm_subgrade_comp_08_comp_b\")","v":""},{"$f":"IF(BY40=\"\",\"\",'Test 1'!AG196)","v":""},{"$f":"IF(BY40=\"\",\"\",TODAY())","v":""},{"$f":"IF(BY40=\"\",\"\",\"WTSYSTEMUSER\")","v":""},{"$f":"IF(BY40=\"\",\"\",TODAY())","v":""},{"$f":"IF(BY40=\"\",\"\",\"WTSYSTEMUSER\")","v":""}]
[null,null,null,null,null,null,null,null,null,null,null,null,null,null,null,null,null,null,null,null,null,null,null,null,null,null,null,null,null,null,null,null,null,null,null,null,null,null,null,null,null,null,null,null,null,null,null,null,null,null,null,null,null,null,null,null,null,null,null,null,null,null,null,null,null,null,null,null,null,null,null,null,null,null,null,null,{"$f":"IF(AH42=\"\",\"\",IF('Test 5'!AI131=\"\",\"\",\"AgencyEntityInstance Id 208\"))","v":""},{"$f":"IF(BY210=\"\",\"\",VLOOKUP(\"CM_Base_DCP\",'Send Sync'!$K$56:$L$96,2,FALSE))","v":""},null,{"$f":"IF(BY210=\"\",\"\",BY204)","v":""},{"$f":"IF(BY210=\"\",\"\",CONCATENATE(\"<Data><cm_base_dcp_01_begin>\",CO961,\"</cm_base_dcp_01_begin><cm_base_dcp_02_end>\",CO962,\"</cm_base_dcp_02_end><cm_base_dcp_03_blows>\",CO963,\"</cm_base_dcp_03_blows><cm_base_dcp_04_index>\",CO964,\"</cm_base_dcp_04_index></Data>\"))","v":""},"","","","",null,null,null,null,null,null,null,"",null,{"$f":"IF(BY40=\"\",\"\",\"AgencyEntityInsData Id 208\")","v":""},{"$f":"IF(BY40=\"\",\"\",\"AgencyEntityInstance Id 38\")","v":""},{"$f":"IF(BY40=\"\",\"\",\"cm_subgrade_comp_09_density_a\")","v":""},{"$f":"IF(BY40=\"\",\"\",'Test 1'!AH195)","v":""},{"$f":"IF(BY40=\"\",\"\",TODAY())","v":""},{"$f":"IF(BY40=\"\",\"\",\"WTSYSTEMUSER\")","v":""},{"$f":"IF(BY40=\"\",\"\",TODAY())","v":""},{"$f":"IF(BY40=\"\",\"\",\"WTSYSTEMUSER\")","v":""}]
[null,null,null,null,null,null,null,null,null,null,null,null,null,null,null,null,null,null,null,null,null,null,null,null,null,null,null,null,null,null,null,null,null,null,null,null,null,null,null,null,null,null,null,null,null,null,null,null,null,null,null,null,null,null,null,null,null,null,null,null,null,null,null,null,null,null,null,null,null,null,null,null,null,null,null,null,{"$f":"IF(AH42=\"\",\"\",IF('Test 5'!AI132=\"\",\"\",\"AgencyEntityInstance Id 209\"))","v":""},{"$f":"IF(BY211=\"\",\"\",VLOOKUP(\"CM_Base_DCP\",'Send Sync'!$K$56:$L$96,2,FALSE))","v":""},null,{"$f":"IF(BY211=\"\",\"\",BY204)","v":""},{"$f":"IF(BY211=\"\",\"\",CONCATENATE(\"<Data><cm_base_dcp_01_begin>\",CO965,\"</cm_base_dcp_01_begin><cm_base_dcp_02_end>\",CO966,\"</cm_base_dcp_02_end><cm_base_dcp_03_blows>\",CO967,\"</cm_base_dcp_03_blows><cm_base_dcp_04_index>\",CO968,\"</cm_base_dcp_04_index></Data>\"))","v":""},"","","","",null,null,null,null,null,null,null,"",null,{"$f":"IF(BY40=\"\",\"\",\"AgencyEntityInsData Id 209\")","v":""},{"$f":"IF(BY40=\"\",\"\",\"AgencyEntityInstance Id 38\")","v":""},{"$f":"IF(BY40=\"\",\"\",\"cm_subgrade_comp_10_density_b\")","v":""},{"$f":"IF(BY40=\"\",\"\",'Test 1'!AH196)","v":""},{"$f":"IF(BY40=\"\",\"\",TODAY())","v":""},{"$f":"IF(BY40=\"\",\"\",\"WTSYSTEMUSER\")","v":""},{"$f":"IF(BY40=\"\",\"\",TODAY())","v":""},{"$f":"IF(BY40=\"\",\"\",\"WTSYSTEMUSER\")","v":""}]
[null,null,null,null,null,null,null,null,null,null,null,null,null,null,null,null,null,null,null,null,null,null,null,null,null,null,null,null,null,null,null,null,null,null,null,null,null,null,null,null,null,null,null,null,null,null,null,null,null,null,null,null,null,null,null,null,null,null,null,null,null,null,null,null,null,null,null,null,null,null,null,null,null,null,null,null,{"$f":"IF(AH42=\"\",\"\",IF('Test 5'!AI133=\"\",\"\",\"AgencyEntityInstance Id 210\"))","v":""},{"$f":"IF(BY212=\"\",\"\",VLOOKUP(\"CM_Base_DCP\",'Send Sync'!$K$56:$L$96,2,FALSE))","v":""},null,{"$f":"IF(BY212=\"\",\"\",BY204)","v":""},{"$f":"IF(BY212=\"\",\"\",CONCATENATE(\"<Data><cm_base_dcp_01_begin>\",CO969,\"</cm_base_dcp_01_begin><cm_base_dcp_02_end>\",CO970,\"</cm_base_dcp_02_end><cm_base_dcp_03_blows>\",CO971,\"</cm_base_dcp_03_blows><cm_base_dcp_04_index>\",CO972,\"</cm_base_dcp_04_index></Data>\"))","v":""},"","","","",null,null,null,null,null,null,null,"",null,{"$f":"IF(BY41=\"\",\"\",\"AgencyEntityInsData Id 210\")","v":""},{"$f":"IF(BY41=\"\",\"\",\"AgencyEntityInstance Id 39\")","v":""},{"$f":"IF(BY41=\"\",\"\",\"CM_Standard_For_Remarks\")","v":""},{"$f":"IF(BY41=\"\",\"\",IF('Test 1'!J191=\"\",\"\",'Test 1'!J191))","v":""},{"$f":"IF(BY41=\"\",\"\",TODAY())","v":""},{"$f":"IF(BY41=\"\",\"\",\"WTSYSTEMUSER\")","v":""},{"$f":"IF(BY41=\"\",\"\",TODAY())","v":""},{"$f":"IF(BY41=\"\",\"\",\"WTSYSTEMUSER\")","v":""}]
[null,null,null,null,null,null,null,null,null,null,null,null,null,null,null,null,null,null,null,null,null,null,null,null,null,null,null,null,null,null,null,null,null,null,null,null,null,null,null,null,null,null,null,null,null,null,null,null,null,null,null,null,null,null,null,null,null,null,null,null,null,null,null,null,null,null,null,null,null,null,null,null,null,null,null,null,{"$f":"IF(AH42=\"\",\"\",IF('Test 5'!AI134=\"\",\"\",\"AgencyEntityInstance Id 211\"))","v":""},{"$f":"IF(BY213=\"\",\"\",VLOOKUP(\"CM_Base_DCP\",'Send Sync'!$K$56:$L$96,2,FALSE))","v":""},null,{"$f":"IF(BY213=\"\",\"\",BY204)","v":""},{"$f":"IF(BY213=\"\",\"\",CONCATENATE(\"<Data><cm_base_dcp_01_begin>\",CO973,\"</cm_base_dcp_01_begin><cm_base_dcp_02_end>\",CO974,\"</cm_base_dcp_02_end><cm_base_dcp_03_blows>\",CO975,\"</cm_base_dcp_03_blows><cm_base_dcp_04_index>\",CO976,\"</cm_base_dcp_04_index></Data>\"))","v":""},"","","","",null,null,null,null,null,null,null,"",20,{"$f":"IF(BY42=\"\",\"\",\"AgencyEntityInsData Id 211\")","v":""},{"$f":"IF(BY42=\"\",\"\",\"AgencyEntityInstance Id 40\")","v":""},{"$f":"IF(BY42=\"\",\"\",\"cm_subgrade_comp_01_qty_cy_a\")","v":""},{"$f":"IF(BY42=\"\",\"\",'Test 1'!AE205)","v":""},{"$f":"IF(BY42=\"\",\"\",TODAY())","v":""},{"$f":"IF(BY42=\"\",\"\",\"WTSYSTEMUSER\")","v":""},{"$f":"IF(BY42=\"\",\"\",TODAY())","v":""},{"$f":"IF(BY42=\"\",\"\",\"WTSYSTEMUSER\")","v":""}]
[null,null,null,null,null,null,null,null,null,null,null,null,null,null,null,null,null,null,null,null,null,null,null,null,null,null,null,null,null,null,null,null,null,null,null,null,null,null,null,null,null,null,null,null,null,null,null,null,null,null,null,null,null,null,null,null,null,null,null,null,null,null,null,null,null,null,null,null,null,null,null,null,null,null,null,null,{"$f":"IF(AH42=\"\",\"\",IF('Test 5'!AI135=\"\",\"\",\"AgencyEntityInstance Id 212\"))","v":""},{"$f":"IF(BY214=\"\",\"\",VLOOKUP(\"CM_Base_DCP\",'Send Sync'!$K$56:$L$96,2,FALSE))","v":""},null,{"$f":"IF(BY214=\"\",\"\",BY204)","v":""},{"$f":"IF(BY214=\"\",\"\",CONCATENATE(\"<Data><cm_base_dcp_01_begin>\",CO977,\"</cm_base_dcp_01_begin><cm_base_dcp_02_end>\",CO978,\"</cm_base_dcp_02_end><cm_base_dcp_03_blows>\",CO979,\"</cm_base_dcp_03_blows><cm_base_dcp_04_index>\",CO980,\"</cm_base_dcp_04_index></Data>\"))","v":""},"","","","",null,null,null,null,null,null,null,"",null,{"$f":"IF(BY42=\"\",\"\",\"AgencyEntityInsData Id 212\")","v":""},{"$f":"IF(BY42=\"\",\"\",\"AgencyEntityInstance Id 40\")","v":""},{"$f":"IF(BY42=\"\",\"\",\"cm_subgrade_comp_02_qty_cy_b\")","v":""},{"$f":"IF(BY42=\"\",\"\",'Test 1'!AE206)","v":""},{"$f":"IF(BY42=\"\",\"\",TODAY())","v":""},{"$f":"IF(BY42=\"\",\"\",\"WTSYSTEMUSER\")","v":""},{"$f":"IF(BY42=\"\",\"\",TODAY())","v":""},{"$f":"IF(BY42=\"\",\"\",\"WTSYSTEMUSER\")","v":""}]
[null,null,null,null,null,null,null,null,null,null,null,null,null,null,null,null,null,null,null,null,null,null,null,null,null,null,null,null,null,null,null,null,null,null,null,null,null,null,null,null,null,null,null,null,null,null,null,null,null,null,null,null,null,null,null,null,null,null,null,null,null,null,null,null,null,null,null,null,null,null,null,null,null,null,null,null,{"$f":"IF(AH42=\"\",\"\",IF('Test 5'!AI136=\"\",\"\",\"AgencyEntityInstance Id 213\"))","v":""},{"$f":"IF(BY215=\"\",\"\",VLOOKUP(\"CM_Base_DCP\",'Send Sync'!$K$56:$L$96,2,FALSE))","v":""},null,{"$f":"IF(BY215=\"\",\"\",BY204)","v":""},{"$f":"IF(BY215=\"\",\"\",CONCATENATE(\"<Data><cm_base_dcp_01_begin>\",CO981,\"</cm_base_dcp_01_begin><cm_base_dcp_02_end>\",CO982,\"</cm_base_dcp_02_end><cm_base_dcp_03_blows>\",CO983,\"</cm_base_dcp_03_blows><cm_base_dcp_04_index>\",CO984,\"</cm_base_dcp_04_index></Data>\"))","v":""},"","","","",null,null,null,null,null,null,null,"",null,{"$f":"IF(BY42=\"\",\"\",\"AgencyEntityInsData Id 213\")","v":""},{"$f":"IF(BY42=\"\",\"\",\"AgencyEntityInstance Id 40\")","v":""},{"$f":"IF(BY42=\"\",\"\",\"cm_subgrade_comp_03_qty_cy_rocky\")","v":""},{"$f":"IF(BY42=\"\",\"\",'Test 1'!AE207)","v":""},{"$f":"IF(BY42=\"\",\"\",TODAY())","v":""},{"$f":"IF(BY42=\"\",\"\",\"WTSYSTEMUSER\")","v":""},{"$f":"IF(BY42=\"\",\"\",TODAY())","v":""},{"$f":"IF(BY42=\"\",\"\",\"WTSYSTEMUSER\")","v":""}]
[null,null,null,null,null,null,null,null,null,null,null,null,null,null,null,null,null,null,null,null,null,null,null,null,null,null,null,null,null,null,null,null,null,null,null,null,null,null,null,null,null,null,null,null,null,null,null,null,null,null,null,null,null,null,null,null,null,null,null,null,null,null,null,null,null,null,null,null,null,null,null,null,null,null,null,null,{"$f":"IF(AH42=\"\",\"\",IF('Test 5'!AI137=\"\",\"\",\"AgencyEntityInstance Id 214\"))","v":""},{"$f":"IF(BY216=\"\",\"\",VLOOKUP(\"CM_Base_DCP\",'Send Sync'!$K$56:$L$96,2,FALSE))","v":""},null,{"$f":"IF(BY216=\"\",\"\",BY204)","v":""},{"$f":"IF(BY216=\"\",\"\",CONCATENATE(\"<Data><cm_base_dcp_01_begin>\",CO985,\"</cm_base_dcp_01_begin><cm_base_dcp_02_end>\",CO986,\"</cm_base_dcp_02_end><cm_base_dcp_03_blows>\",CO987,\"</cm_base_dcp_03_blows><cm_base_dcp_04_index>\",CO988,\"</cm_base_dcp_04_index></Data>\"))","v":""},"","","","",null,null,null,null,null,null,null,"",null,{"$f":"IF(BY42=\"\",\"\",\"AgencyEntityInsData Id 214\")","v":""},{"$f":"IF(BY42=\"\",\"\",\"AgencyEntityInstance Id 40\")","v":""},{"$f":"IF(BY42=\"\",\"\",\"cm_subgrade_comp_04_qty_sta_a\")","v":""},{"$f":"IF(BY42=\"\",\"\",'Test 1'!AF205)","v":""},{"$f":"IF(BY42=\"\",\"\",TODAY())","v":""},{"$f":"IF(BY42=\"\",\"\",\"WTSYSTEMUSER\")","v":""},{"$f":"IF(BY42=\"\",\"\",TODAY())","v":""},{"$f":"IF(BY42=\"\",\"\",\"WTSYSTEMUSER\")","v":""}]
[null,null,null,null,null,null,null,null,null,null,null,null,null,null,null,null,null,null,null,null,null,null,null,null,null,null,null,null,null,null,null,null,null,null,null,null,null,null,null,null,null,null,null,null,null,null,null,null,null,null,null,null,null,null,null,null,null,null,null,null,null,null,null,null,null,null,null,null,null,null,null,null,null,null,null,null,{"$f":"IF(AH42=\"\",\"\",IF('Test 5'!AI138=\"\",\"\",\"AgencyEntityInstance Id 215\"))","v":""},{"$f":"IF(BY217=\"\",\"\",VLOOKUP(\"CM_Base_DCP\",'Send Sync'!$K$56:$L$96,2,FALSE))","v":""},null,{"$f":"IF(BY217=\"\",\"\",BY204)","v":""},{"$f":"IF(BY217=\"\",\"\",CONCATENATE(\"<Data><cm_base_dcp_01_begin>\",CO989,\"</cm_base_dcp_01_begin><cm_base_dcp_02_end>\",CO990,\"</cm_base_dcp_02_end><cm_base_dcp_03_blows>\",CO991,\"</cm_base_dcp_03_blows><cm_base_dcp_04_index>\",CO992,\"</cm_base_dcp_04_index></Data>\"))","v":""},"","","","",null,null,null,null,null,null,null,"",null,{"$f":"IF(BY42=\"\",\"\",\"AgencyEntityInsData Id 215\")","v":""},{"$f":"IF(BY42=\"\",\"\",\"AgencyEntityInstance Id 40\")","v":""},{"$f":"IF(BY42=\"\",\"\",\"cm_subgrade_comp_05_qty_sta_b\")","v":""},{"$f":"IF(BY42=\"\",\"\",'Test 1'!AF206)","v":""},{"$f":"IF(BY42=\"\",\"\",TODAY())","v":""},{"$f":"IF(BY42=\"\",\"\",\"WTSYSTEMUSER\")","v":""},{"$f":"IF(BY42=\"\",\"\",TODAY())","v":""},{"$f":"IF(BY42=\"\",\"\",\"WTSYSTEMUSER\")","v":""}]
[null,null,null,null,null,null,null,null,null,null,null,null,null,null,null,null,null,null,null,null,null,null,null,null,null,null,null,null,null,null,null,null,null,null,null,null,null,null,null,null,null,null,null,null,null,null,null,null,null,null,null,null,null,null,null,null,null,null,null,null,null,null,null,null,null,null,null,null,null,null,null,null,null,null,null,null,{"$f":"IF(AH42=\"\",\"\",IF('Test 5'!AI139=\"\",\"\",\"AgencyEntityInstance Id 216\"))","v":""},{"$f":"IF(BY218=\"\",\"\",VLOOKUP(\"CM_Base_DCP\",'Send Sync'!$K$56:$L$96,2,FALSE))","v":""},null,{"$f":"IF(BY218=\"\",\"\",BY204)","v":""},{"$f":"IF(BY218=\"\",\"\",CONCATENATE(\"<Data><cm_base_dcp_01_begin>\",CO993,\"</cm_base_dcp_01_begin><cm_base_dcp_02_end>\",CO994,\"</cm_base_dcp_02_end><cm_base_dcp_03_blows>\",CO995,\"</cm_base_dcp_03_blows><cm_base_dcp_04_index>\",CO996,\"</cm_base_dcp_04_index></Data>\"))","v":""},"","","","",null,null,null,null,null,null,null,"",null,{"$f":"IF(BY42=\"\",\"\",\"AgencyEntityInsData Id 216\")","v":""},{"$f":"IF(BY42=\"\",\"\",\"AgencyEntityInstance Id 40\")","v":""},{"$f":"IF(BY42=\"\",\"\",\"cm_subgrade_comp_06_qty_sta_rocky\")","v":""},{"$f":"IF(BY42=\"\",\"\",'Test 1'!AF207)","v":""},{"$f":"IF(BY42=\"\",\"\",TODAY())","v":""},{"$f":"IF(BY42=\"\",\"\",\"WTSYSTEMUSER\")","v":""},{"$f":"IF(BY42=\"\",\"\",TODAY())","v":""},{"$f":"IF(BY42=\"\",\"\",\"WTSYSTEMUSER\")","v":""}]
[null,null,null,null,null,null,null,null,null,null,null,null,null,null,null,null,null,null,null,null,null,null,null,null,null,null,null,null,null,null,null,null,null,null,null,null,null,null,null,null,null,null,null,null,null,null,null,null,null,null,null,null,null,null,null,null,null,null,null,null,null,null,null,null,null,null,null,null,null,null,null,null,null,null,null,null,{"$f":"IF(AH42=\"\",\"\",IF('Test 5'!AI140=\"\",\"\",\"AgencyEntityInstance Id 217\"))","v":""},{"$f":"IF(BY219=\"\",\"\",VLOOKUP(\"CM_Base_DCP\",'Send Sync'!$K$56:$L$96,2,FALSE))","v":""},null,{"$f":"IF(BY219=\"\",\"\",BY204)","v":""},{"$f":"IF(BY219=\"\",\"\",CONCATENATE(\"<Data><cm_base_dcp_01_begin>\",CO997,\"</cm_base_dcp_01_begin><cm_base_dcp_02_end>\",CO998,\"</cm_base_dcp_02_end><cm_base_dcp_03_blows>\",CO999,\"</cm_base_dcp_03_blows><cm_base_dcp_04_index>\",CO1000,\"</cm_base_dcp_04_index></Data>\"))","v":""},"","","","",null,null,null,null,null,null,null,"",null,{"$f":"IF(BY42=\"\",\"\",\"AgencyEntityInsData Id 217\")","v":""},{"$f":"IF(BY42=\"\",\"\",\"AgencyEntityInstance Id 40\")","v":""},{"$f":"IF(BY42=\"\",\"\",\"cm_subgrade_comp_07_comp_a\")","v":""},{"$f":"IF(BY42=\"\",\"\",'Test 1'!AG205)","v":""},{"$f":"IF(BY42=\"\",\"\",TODAY())","v":""},{"$f":"IF(BY42=\"\",\"\",\"WTSYSTEMUSER\")","v":""},{"$f":"IF(BY42=\"\",\"\",TODAY())","v":""},{"$f":"IF(BY42=\"\",\"\",\"WTSYSTEMUSER\")","v":""}]
[null,null,null,null,null,null,null,null,null,null,null,null,null,null,null,null,null,null,null,null,null,null,null,null,null,null,null,null,null,null,null,null,null,null,null,null,null,null,null,null,null,null,null,null,null,null,null,null,null,null,null,null,null,null,null,null,null,null,null,null,null,null,null,null,null,null,null,null,null,null,null,null,null,null,null,null,{"$f":"IF(AH42=\"\",\"\",IF('Test 5'!AI141=\"\",\"\",\"AgencyEntityInstance Id 218\"))","v":""},{"$f":"IF(BY220=\"\",\"\",VLOOKUP(\"CM_Base_DCP\",'Send Sync'!$K$56:$L$96,2,FALSE))","v":""},null,{"$f":"IF(BY220=\"\",\"\",BY204)","v":""},{"$f":"IF(BY220=\"\",\"\",CONCATENATE(\"<Data><cm_base_dcp_01_begin>\",CO1001,\"</cm_base_dcp_01_begin><cm_base_dcp_02_end>\",CO1002,\"</cm_base_dcp_02_end><cm_base_dcp_03_blows>\",CO1003,\"</cm_base_dcp_03_blows><cm_base_dcp_04_index>\",CO1004,\"</cm_base_dcp_04_index></Data>\"))","v":""},"","","","",null,null,null,null,null,null,null,"",null,{"$f":"IF(BY42=\"\",\"\",\"AgencyEntityInsData Id 218\")","v":""},{"$f":"IF(BY42=\"\",\"\",\"AgencyEntityInstance Id 40\")","v":""},{"$f":"IF(BY42=\"\",\"\",\"cm_subgrade_comp_08_comp_b\")","v":""},{"$f":"IF(BY42=\"\",\"\",'Test 1'!AG206)","v":""},{"$f":"IF(BY42=\"\",\"\",TODAY())","v":""},{"$f":"IF(BY42=\"\",\"\",\"WTSYSTEMUSER\")","v":""},{"$f":"IF(BY42=\"\",\"\",TODAY())","v":""},{"$f":"IF(BY42=\"\",\"\",\"WTSYSTEMUSER\")","v":""}]
[null,null,null,null,null,null,null,null,null,null,null,null,null,null,null,null,null,null,null,null,null,null,null,null,null,null,null,null,null,null,null,null,null,null,null,null,null,null,null,null,null,null,null,null,null,null,null,null,null,null,null,null,null,null,null,null,null,null,null,null,null,null,null,null,null,null,null,null,null,null,null,null,null,null,null,null,{"$f":"IF(AH42=\"\",\"\",IF('Test 5'!AI142=\"\",\"\",\"AgencyEntityInstance Id 219\"))","v":""},{"$f":"IF(BY221=\"\",\"\",VLOOKUP(\"CM_Base_DCP\",'Send Sync'!$K$56:$L$96,2,FALSE))","v":""},null,{"$f":"IF(BY221=\"\",\"\",BY204)","v":""},{"$f":"IF(BY221=\"\",\"\",CONCATENATE(\"<Data><cm_base_dcp_01_begin>\",CO1005,\"</cm_base_dcp_01_begin><cm_base_dcp_02_end>\",CO1006,\"</cm_base_dcp_02_end><cm_base_dcp_03_blows>\",CO1007,\"</cm_base_dcp_03_blows><cm_base_dcp_04_index>\",CO1008,\"</cm_base_dcp_04_index></Data>\"))","v":""},"","","","",null,null,null,null,null,null,null,"",null,{"$f":"IF(BY42=\"\",\"\",\"AgencyEntityInsData Id 219\")","v":""},{"$f":"IF(BY42=\"\",\"\",\"AgencyEntityInstance Id 40\")","v":""},{"$f":"IF(BY42=\"\",\"\",\"cm_subgrade_comp_09_density_a\")","v":""},{"$f":"IF(BY42=\"\",\"\",'Test 1'!AH205)","v":""},{"$f":"IF(BY42=\"\",\"\",TODAY())","v":""},{"$f":"IF(BY42=\"\",\"\",\"WTSYSTEMUSER\")","v":""},{"$f":"IF(BY42=\"\",\"\",TODAY())","v":""},{"$f":"IF(BY42=\"\",\"\",\"WTSYSTEMUSER\")","v":""}]
[null,null,null,null,null,null,null,null,null,null,null,null,null,null,null,null,null,null,null,null,null,null,null,null,null,null,null,null,null,null,null,null,null,null,null,null,null,null,null,null,null,null,null,null,null,null,null,null,null,null,null,null,null,null,null,null,null,null,null,null,null,null,null,null,null,null,null,null,null,null,null,null,null,null,null,null,{"$f":"IF(AH42=\"\",\"\",IF('Test 5'!AI143=\"\",\"\",\"AgencyEntityInstance Id 220\"))","v":""},{"$f":"IF(BY222=\"\",\"\",VLOOKUP(\"CM_Base_DCP\",'Send Sync'!$K$56:$L$96,2,FALSE))","v":""},null,{"$f":"IF(BY222=\"\",\"\",BY204)","v":""},{"$f":"IF(BY222=\"\",\"\",CONCATENATE(\"<Data><cm_base_dcp_01_begin>\",CO1009,\"</cm_base_dcp_01_begin><cm_base_dcp_02_end>\",CO1010,\"</cm_base_dcp_02_end><cm_base_dcp_03_blows>\",CO1011,\"</cm_base_dcp_03_blows><cm_base_dcp_04_index>\",CO1012,\"</cm_base_dcp_04_index></Data>\"))","v":""},"","","","",null,null,null,null,null,null,null,"",null,{"$f":"IF(BY42=\"\",\"\",\"AgencyEntityInsData Id 220\")","v":""},{"$f":"IF(BY42=\"\",\"\",\"AgencyEntityInstance Id 40\")","v":""},{"$f":"IF(BY42=\"\",\"\",\"cm_subgrade_comp_10_density_b\")","v":""},{"$f":"IF(BY42=\"\",\"\",'Test 1'!AH206)","v":""},{"$f":"IF(BY42=\"\",\"\",TODAY())","v":""},{"$f":"IF(BY42=\"\",\"\",\"WTSYSTEMUSER\")","v":""},{"$f":"IF(BY42=\"\",\"\",TODAY())","v":""},{"$f":"IF(BY42=\"\",\"\",\"WTSYSTEMUSER\")","v":""}]
[null,null,null,null,null,null,null,null,null,null,null,null,null,null,null,null,null,null,null,null,null,null,null,null,null,null,null,null,null,null,null,null,null,null,null,null,null,null,null,null,null,null,null,null,null,null,null,null,null,null,null,null,null,null,null,null,null,null,null,null,null,null,null,null,null,null,null,null,null,null,null,null,null,null,null,null,{"$f":"IF(AH42=\"\",\"\",IF('Test 5'!AI144=\"\",\"\",\"AgencyEntityInstance Id 221\"))","v":""},{"$f":"IF(BY223=\"\",\"\",VLOOKUP(\"CM_Base_DCP\",'Send Sync'!$K$56:$L$96,2,FALSE))","v":""},null,{"$f":"IF(BY223=\"\",\"\",BY204)","v":""},{"$f":"IF(BY223=\"\",\"\",CONCATENATE(\"<Data><cm_base_dcp_01_begin>\",CO1013,\"</cm_base_dcp_01_begin><cm_base_dcp_02_end>\",CO1014,\"</cm_base_dcp_02_end><cm_base_dcp_03_blows>\",CO1015,\"</cm_base_dcp_03_blows><cm_base_dcp_04_index>\",CO1016,\"</cm_base_dcp_04_index></Data>\"))","v":""},"","","","",null,null,null,null,null,null,null,"",null,{"$f":"IF(BY43=\"\",\"\",\"AgencyEntityInsData Id 221\")","v":""},{"$f":"IF(BY43=\"\",\"\",\"AgencyEntityInstance Id 41\")","v":""},{"$f":"IF(BY43=\"\",\"\",\"CM_Standard_For_Remarks\")","v":""},{"$f":"IF(BY43=\"\",\"\",IF('Test 1'!J201=\"\",\"\",'Test 1'!J201))","v":""},{"$f":"IF(BY43=\"\",\"\",TODAY())","v":""},{"$f":"IF(BY43=\"\",\"\",\"WTSYSTEMUSER\")","v":""},{"$f":"IF(BY43=\"\",\"\",TODAY())","v":""},{"$f":"IF(BY43=\"\",\"\",\"WTSYSTEMUSER\")","v":""}]
[null,null,null,null,null,null,null,null,null,null,null,null,null,null,null,null,null,null,null,null,null,null,null,null,null,null,null,null,null,null,null,null,null,null,null,null,null,null,null,null,null,null,null,null,null,null,null,null,null,null,null,null,null,null,null,null,null,null,null,null,null,null,null,null,null,null,null,null,null,null,null,null,null,null,null,null,{"$f":"IF(AH42=\"\",\"\",IF('Test 5'!AI145=\"\",\"\",\"AgencyEntityInstance Id 222\"))","v":""},{"$f":"IF(BY224=\"\",\"\",VLOOKUP(\"CM_Base_DCP\",'Send Sync'!$K$56:$L$96,2,FALSE))","v":""},null,{"$f":"IF(BY224=\"\",\"\",BY204)","v":""},{"$f":"IF(BY224=\"\",\"\",CONCATENATE(\"<Data><cm_base_dcp_01_begin>\",CO1017,\"</cm_base_dcp_01_begin><cm_base_dcp_02_end>\",CO1018,\"</cm_base_dcp_02_end><cm_base_dcp_03_blows>\",CO1019,\"</cm_base_dcp_03_blows><cm_base_dcp_04_index>\",CO1020,\"</cm_base_dcp_04_index></Data>\"))","v":""},"","","","",null,null,null,null,null,null,null,"",null,{"$f":"IF(BY44=\"\",\"\",\"AgencyEntityInsData Id 222\")","v":""},{"$f":"IF(BY44=\"\",\"\",\"AgencyEntityInstance Id 42\")","v":""},{"$f":"IF(BY44=\"\",\"\",\"cm_rock_base_01_qty_b_rock\")","v":""},{"$f":"IF(BY44=\"\",\"\",IF('Test 2'!I16=\"\",\"\",'Test 2'!I16))","v":""},{"$f":"IF(BY44=\"\",\"\",TODAY())","v":""},{"$f":"IF(BY44=\"\",\"\",\"WTSYSTEMUSER\")","v":""},{"$f":"IF(BY44=\"\",\"\",TODAY())","v":""},{"$f":"IF(BY44=\"\",\"\",\"WTSYSTEMUSER\")","v":""}]
[null,null,null,null,null,null,null,null,null,null,null,null,null,null,null,null,null,null,null,null,null,null,null,null,null,null,null,null,null,null,null,null,null,null,null,null,null,null,null,null,null,null,null,null,null,null,null,null,null,null,null,null,null,null,null,null,null,null,null,null,null,null,null,null,null,null,null,null,null,null,null,null,null,null,null,{"$f":"BX204+1","v":9},{"$f":"IF(AH43=\"\",\"\",\"AgencyEntityInstance Id 223\")","v":""},{"$f":"IF(BY225=\"\",\"\",VLOOKUP(\"CM_Base_DCP_Header\",'Send Sync'!$K$56:$L$96,2,FALSE))","v":""},{"$f":"IF(BY225=\"\",\"\",\"SampleRecordTest Id 41\")","v":""},null,{"$f":"IF(BY225=\"\",\"\",CONCATENATE(\"<Data><cm_base_dcp_header_01_avg>\",CO1021,\"</cm_base_dcp_header_01_avg><cm_base_dcp_header_02_thi_spec>\",CO1022,\"</cm_base_dcp_header_02_thi_spec><cm_base_dcp_header_03_thi_meas>\",CO1023,\"</cm_base_dcp_header_03_thi_meas><cm_base_dcp_header_04_sta_1>\",CO1024,\"</cm_base_dcp_header_04_sta_1><cm_base_dcp_header_05_sta_2>\",CO1025,\"</cm_base_dcp_header_05_sta_2><cm_base_dcp_header_06_location>\",CO1026,\"</cm_base_dcp_header_06_location><cm_base_dcp_header_07_tester>\",CO1027,\"</cm_base_dcp_header_07_tester></Data>\"))","v":""},"","","","",null,null,null,null,null,null,null,"",null,{"$f":"IF(BY44=\"\",\"\",\"AgencyEntityInsData Id 223\")","v":""},{"$f":"IF(BY44=\"\",\"\",\"AgencyEntityInstance Id 42\")","v":""},{"$f":"IF(BY44=\"\",\"\",\"cm_rock_base_02_qty_b_rap\")","v":""},{"$f":"IF(BY44=\"\",\"\",IF('Test 2'!I18=\"\",\"\",'Test 2'!I18))","v":""},{"$f":"IF(BY44=\"\",\"\",TODAY())","v":""},{"$f":"IF(BY44=\"\",\"\",\"WTSYSTEMUSER\")","v":""},{"$f":"IF(BY44=\"\",\"\",TODAY())","v":""},{"$f":"IF(BY44=\"\",\"\",\"WTSYSTEMUSER\")","v":""}]
[null,null,null,null,null,null,null,null,null,null,null,null,null,null,null,null,null,null,null,null,null,null,null,null,null,null,null,null,null,null,null,null,null,null,null,null,null,null,null,null,null,null,null,null,null,null,null,null,null,null,null,null,null,null,null,null,null,null,null,null,null,null,null,null,null,null,null,null,null,null,null,null,null,null,null,null,{"$f":"IF(AH43=\"\",\"\",IF('Test 5'!AF160=\"\",\"\",\"AgencyEntityInstance Id 224\"))","v":""},{"$f":"IF(BY226=\"\",\"\",VLOOKUP(\"CM_Base_DCP\",'Send Sync'!$K$56:$L$96,2,FALSE))","v":""},null,{"$f":"IF(BY226=\"\",\"\",BY225)","v":""},{"$f":"IF(BY226=\"\",\"\",CONCATENATE(\"<Data><cm_base_dcp_01_begin>\",CO1028,\"</cm_base_dcp_01_begin><cm_base_dcp_02_end>\",CO1029,\"</cm_base_dcp_02_end><cm_base_dcp_03_blows>\",CO1030,\"</cm_base_dcp_03_blows><cm_base_dcp_04_index>\",CO1031,\"</cm_base_dcp_04_index></Data>\"))","v":""},"","","","",null,null,null,null,null,null,null,"",null,{"$f":"IF(BY44=\"\",\"\",\"AgencyEntityInsData Id 224\")","v":""},{"$f":"IF(BY44=\"\",\"\",\"AgencyEntityInstance Id 42\")","v":""},{"$f":"IF(BY44=\"\",\"\",\"cm_rock_base_03_qty_t_rca\")","v":""},{"$f":"IF(BY44=\"\",\"\",IF('Test 2'!I17=\"\",\"\",'Test 2'!I17))","v":""},{"$f":"IF(BY44=\"\",\"\",TODAY())","v":""},{"$f":"IF(BY44=\"\",\"\",\"WTSYSTEMUSER\")","v":""},{"$f":"IF(BY44=\"\",\"\",TODAY())","v":""},{"$f":"IF(BY44=\"\",\"\",\"WTSYSTEMUSER\")","v":""}]
[null,null,null,null,null,null,null,null,null,null,null,null,null,null,null,null,null,null,null,null,null,null,null,null,null,null,null,null,null,null,null,null,null,null,null,null,null,null,null,null,null,null,null,null,null,null,null,null,null,null,null,null,null,null,null,null,null,null,null,null,null,null,null,null,null,null,null,null,null,null,null,null,null,null,null,null,{"$f":"IF(AH43=\"\",\"\",IF('Test 5'!AF161=\"\",\"\",\"AgencyEntityInstance Id 225\"))","v":""},{"$f":"IF(BY227=\"\",\"\",VLOOKUP(\"CM_Base_DCP\",'Send Sync'!$K$56:$L$96,2,FALSE))","v":""},null,{"$f":"IF(BY227=\"\",\"\",BY225)","v":""},{"$f":"IF(BY227=\"\",\"\",CONCATENATE(\"<Data><cm_base_dcp_01_begin>\",CO1032,\"</cm_base_dcp_01_begin><cm_base_dcp_02_end>\",CO1033,\"</cm_base_dcp_02_end><cm_base_dcp_03_blows>\",CO1034,\"</cm_base_dcp_03_blows><cm_base_dcp_04_index>\",CO1035,\"</cm_base_dcp_04_index></Data>\"))","v":""},"","","","",null,null,null,null,null,null,null,"",null,{"$f":"IF(BY44=\"\",\"\",\"AgencyEntityInsData Id 225\")","v":""},{"$f":"IF(BY44=\"\",\"\",\"AgencyEntityInstance Id 42\")","v":""},{"$f":"IF(BY44=\"\",\"\",\"cm_rock_base_04_qty_t_rock\")","v":""},{"$f":"IF(BY44=\"\",\"\",IF('Test 2'!I20=\"\",\"\",'Test 2'!I20))","v":""},{"$f":"IF(BY44=\"\",\"\",TODAY())","v":""},{"$f":"IF(BY44=\"\",\"\",\"WTSYSTEMUSER\")","v":""},{"$f":"IF(BY44=\"\",\"\",TODAY())","v":""},{"$f":"IF(BY44=\"\",\"\",\"WTSYSTEMUSER\")","v":""}]
[null,null,null,null,null,null,null,null,null,null,null,null,null,null,null,null,null,null,null,null,null,null,null,null,null,null,null,null,null,null,null,null,null,null,null,null,null,null,null,null,null,null,null,null,null,null,null,null,null,null,null,null,null,null,null,null,null,null,null,null,null,null,null,null,null,null,null,null,null,null,null,null,null,null,null,null,{"$f":"IF(AH43=\"\",\"\",IF('Test 5'!AF162=\"\",\"\",\"AgencyEntityInstance Id 226\"))","v":""},{"$f":"IF(BY228=\"\",\"\",VLOOKUP(\"CM_Base_DCP\",'Send Sync'!$K$56:$L$96,2,FALSE))","v":""},null,{"$f":"IF(BY228=\"\",\"\",BY225)","v":""},{"$f":"IF(BY228=\"\",\"\",CONCATENATE(\"<Data><cm_base_dcp_01_begin>\",CO1036,\"</cm_base_dcp_01_begin><cm_base_dcp_02_end>\",CO1037,\"</cm_base_dcp_02_end><cm_base_dcp_03_blows>\",CO1038,\"</cm_base_dcp_03_blows><cm_base_dcp_04_index>\",CO1039,\"</cm_base_dcp_04_index></Data>\"))","v":""},"","","","",null,null,null,null,null,null,null,"",null,{"$f":"IF(BY44=\"\",\"\",\"AgencyEntityInsData Id 226\")","v":""},{"$f":"IF(BY44=\"\",\"\",\"AgencyEntityInstance Id 42\")","v":""},{"$f":"IF(BY44=\"\",\"\",\"cm_rock_base_05_qty_t_rap\")","v":""},{"$f":"IF(BY44=\"\",\"\",IF('Test 2'!I24=\"\",\"\",'Test 2'!I24))","v":""},{"$f":"IF(BY44=\"\",\"\",TODAY())","v":""},{"$f":"IF(BY44=\"\",\"\",\"WTSYSTEMUSER\")","v":""},{"$f":"IF(BY44=\"\",\"\",TODAY())","v":""},{"$f":"IF(BY44=\"\",\"\",\"WTSYSTEMUSER\")","v":""}]
[null,null,null,null,null,null,null,null,null,null,null,null,null,null,null,null,null,null,null,null,null,null,null,null,null,null,null,null,null,null,null,null,null,null,null,null,null,null,null,null,null,null,null,null,null,null,null,null,null,null,null,null,null,null,null,null,null,null,null,null,null,null,null,null,null,null,null,null,null,null,null,null,null,null,null,null,{"$f":"IF(AH43=\"\",\"\",IF('Test 5'!AF163=\"\",\"\",\"AgencyEntityInstance Id 227\"))","v":""},{"$f":"IF(BY229=\"\",\"\",VLOOKUP(\"CM_Base_DCP\",'Send Sync'!$K$56:$L$96,2,FALSE))","v":""},null,{"$f":"IF(BY229=\"\",\"\",BY225)","v":""},{"$f":"IF(BY229=\"\",\"\",CONCATENATE(\"<Data><cm_base_dcp_01_begin>\",CO1040,\"</cm_base_dcp_01_begin><cm_base_dcp_02_end>\",CO1041,\"</cm_base_dcp_02_end><cm_base_dcp_03_blows>\",CO1042,\"</cm_base_dcp_03_blows><cm_base_dcp_04_index>\",CO1043,\"</cm_base_dcp_04_index></Data>\"))","v":""},"","","","",null,null,null,null,null,null,null,"",null,{"$f":"IF(BY44=\"\",\"\",\"AgencyEntityInsData Id 227\")","v":""},{"$f":"IF(BY44=\"\",\"\",\"AgencyEntityInstance Id 42\")","v":""},{"$f":"IF(BY44=\"\",\"\",\"cm_rock_base_06_qty_t_rca\")","v":""},{"$f":"IF(BY44=\"\",\"\",IF('Test 2'!I22=\"\",\"\",'Test 2'!I22))","v":""},{"$f":"IF(BY44=\"\",\"\",TODAY())","v":""},{"$f":"IF(BY44=\"\",\"\",\"WTSYSTEMUSER\")","v":""},{"$f":"IF(BY44=\"\",\"\",TODAY())","v":""},{"$f":"IF(BY44=\"\",\"\",\"WTSYSTEMUSER\")","v":""}]
[null,null,null,null,null,null,null,null,null,null,null,null,null,null,null,null,null,null,null,null,null,null,null,null,null,null,null,null,null,null,null,null,null,null,null,null,null,null,null,null,null,null,null,null,null,null,null,null,null,null,null,null,null,null,null,null,null,null,null,null,null,null,null,null,null,null,null,null,null,null,null,null,null,null,null,null,{"$f":"IF(AH43=\"\",\"\",IF('Test 5'!AF164=\"\",\"\",\"AgencyEntityInstance Id 228\"))","v":""},{"$f":"IF(BY230=\"\",\"\",VLOOKUP(\"CM_Base_DCP\",'Send Sync'!$K$56:$L$96,2,FALSE))","v":""},null,{"$f":"IF(BY230=\"\",\"\",BY225)","v":""},{"$f":"IF(BY230=\"\",\"\",CONCATENATE(\"<Data><cm_base_dcp_01_begin>\",CO1044,\"</cm_base_dcp_01_begin><cm_base_dcp_02_end>\",CO1045,\"</cm_base_dcp_02_end><cm_base_dcp_03_blows>\",CO1046,\"</cm_base_dcp_03_blows><cm_base_dcp_04_index>\",CO1047,\"</cm_base_dcp_04_index></Data>\"))","v":""},"","","","",null,null,null,null,null,null,null,"",null,{"$f":"IF(BY44=\"\",\"\",\"AgencyEntityInsData Id 228\")","v":""},{"$f":"IF(BY44=\"\",\"\",\"AgencyEntityInstance Id 42\")","v":""},{"$f":"IF(BY44=\"\",\"\",\"cm_rock_base_07_retained_2_in\")","v":""},{"$f":"IF(BY44=\"\",\"\",IF('Test 2'!AE20=\"\",\"\",'Test 2'!AE20))","v":""},{"$f":"IF(BY44=\"\",\"\",TODAY())","v":""},{"$f":"IF(BY44=\"\",\"\",\"WTSYSTEMUSER\")","v":""},{"$f":"IF(BY44=\"\",\"\",TODAY())","v":""},{"$f":"IF(BY44=\"\",\"\",\"WTSYSTEMUSER\")","v":""}]
[null,null,null,null,null,null,null,null,null,null,null,null,null,null,null,null,null,null,null,null,null,null,null,null,null,null,null,null,null,null,null,null,null,null,null,null,null,null,null,null,null,null,null,null,null,null,null,null,null,null,null,null,null,null,null,null,null,null,null,null,null,null,null,null,null,null,null,null,null,null,null,null,null,null,null,null,{"$f":"IF(AH43=\"\",\"\",IF('Test 5'!AF165=\"\",\"\",\"AgencyEntityInstance Id 229\"))","v":""},{"$f":"IF(BY231=\"\",\"\",VLOOKUP(\"CM_Base_DCP\",'Send Sync'!$K$56:$L$96,2,FALSE))","v":""},null,{"$f":"IF(BY231=\"\",\"\",BY225)","v":""},{"$f":"IF(BY231=\"\",\"\",CONCATENATE(\"<Data><cm_base_dcp_01_begin>\",CO1048,\"</cm_base_dcp_01_begin><cm_base_dcp_02_end>\",CO1049,\"</cm_base_dcp_02_end><cm_base_dcp_03_blows>\",CO1050,\"</cm_base_dcp_03_blows><cm_base_dcp_04_index>\",CO1051,\"</cm_base_dcp_04_index></Data>\"))","v":""},"","","","",null,null,null,null,null,null,null,"",null,{"$f":"IF(BY44=\"\",\"\",\"AgencyEntityInsData Id 229\")","v":""},{"$f":"IF(BY44=\"\",\"\",\"AgencyEntityInstance Id 42\")","v":""},{"$f":"IF(BY44=\"\",\"\",\"cm_rock_base_08_retained_no_4\")","v":""},{"$f":"IF(BY44=\"\",\"\",IF('Test 2'!AE21=\"\",\"\",'Test 2'!AE21))","v":""},{"$f":"IF(BY44=\"\",\"\",TODAY())","v":""},{"$f":"IF(BY44=\"\",\"\",\"WTSYSTEMUSER\")","v":""},{"$f":"IF(BY44=\"\",\"\",TODAY())","v":""},{"$f":"IF(BY44=\"\",\"\",\"WTSYSTEMUSER\")","v":""}]
[null,null,null,null,null,null,null,null,null,null,null,null,null,null,null,null,null,null,null,null,null,null,null,null,null,null,null,null,null,null,null,null,null,null,null,null,null,null,null,null,null,null,null,null,null,null,null,null,null,null,null,null,null,null,null,null,null,null,null,null,null,null,null,null,null,null,null,null,null,null,null,null,null,null,null,null,{"$f":"IF(AH43=\"\",\"\",IF('Test 5'!AF166=\"\",\"\",\"AgencyEntityInstance Id 230\"))","v":""},{"$f":"IF(BY232=\"\",\"\",VLOOKUP(\"CM_Base_DCP\",'Send Sync'!$K$56:$L$96,2,FALSE))","v":""},null,{"$f":"IF(BY232=\"\",\"\",BY225)","v":""},{"$f":"IF(BY232=\"\",\"\",CONCATENATE(\"<Data><cm_base_dcp_01_begin>\",CO1052,\"</cm_base_dcp_01_begin><cm_base_dcp_02_end>\",CO1053,\"</cm_base_dcp_02_end><cm_base_dcp_03_blows>\",CO1054,\"</cm_base_dcp_03_blows><cm_base_dcp_04_index>\",CO1055,\"</cm_base_dcp_04_index></Data>\"))","v":""},"","","","",null,null,null,null,null,null,null,"",null,{"$f":"IF(BY44=\"\",\"\",\"AgencyEntityInsData Id 230\")","v":""},{"$f":"IF(BY44=\"\",\"\",\"AgencyEntityInstance Id 42\")","v":""},{"$f":"IF(BY44=\"\",\"\",\"cm_rock_base_09_pi\")","v":""},{"$f":"IF(BY44=\"\",\"\",IF('Test 2'!V20=\"\",\"\",'Test 2'!V20))","v":""},{"$f":"IF(BY44=\"\",\"\",TODAY())","v":""},{"$f":"IF(BY44=\"\",\"\",\"WTSYSTEMUSER\")","v":""},{"$f":"IF(BY44=\"\",\"\",TODAY())","v":""},{"$f":"IF(BY44=\"\",\"\",\"WTSYSTEMUSER\")","v":""}]
[null,null,null,null,null,null,null,null,null,null,null,null,null,null,null,null,null,null,null,null,null,null,null,null,null,null,null,null,null,null,null,null,null,null,null,null,null,null,null,null,null,null,null,null,null,null,null,null,null,null,null,null,null,null,null,null,null,null,null,null,null,null,null,null,null,null,null,null,null,null,null,null,null,null,null,null,{"$f":"IF(AH43=\"\",\"\",IF('Test 5'!AF167=\"\",\"\",\"AgencyEntityInstance Id 231\"))","v":""},{"$f":"IF(BY233=\"\",\"\",VLOOKUP(\"CM_Base_DCP\",'Send Sync'!$K$56:$L$96,2,FALSE))","v":""},null,{"$f":"IF(BY233=\"\",\"\",BY225)","v":""},{"$f":"IF(BY233=\"\",\"\",CONCATENATE(\"<Data><cm_base_dcp_01_begin>\",CO1056,\"</cm_base_dcp_01_begin><cm_base_dcp_02_end>\",CO1057,\"</cm_base_dcp_02_end><cm_base_dcp_03_blows>\",CO1058,\"</cm_base_dcp_03_blows><cm_base_dcp_04_index>\",CO1059,\"</cm_base_dcp_04_index></Data>\"))","v":""},"","","","",null,null,null,null,null,null,null,"",null,{"$f":"IF(BY45=\"\",\"\",\"AgencyEntityInsData Id 231\")","v":""},{"$f":"IF(BY45=\"\",\"\",\"AgencyEntityInstance Id 43\")","v":""},{"$f":"IF(BY45=\"\",\"\",\"cm_rock_base_09_pi\")","v":""},{"$f":"IF(BY45=\"\",\"\",IF('Test 2'!J11=\"\",\"\",'Test 2'!J11))","v":""},{"$f":"IF(BY45=\"\",\"\",TODAY())","v":""},{"$f":"IF(BY45=\"\",\"\",\"WTSYSTEMUSER\")","v":""},{"$f":"IF(BY45=\"\",\"\",TODAY())","v":""},{"$f":"IF(BY45=\"\",\"\",\"WTSYSTEMUSER\")","v":""}]
[null,null,null,null,null,null,null,null,null,null,null,null,null,null,null,null,null,null,null,null,null,null,null,null,null,null,null,null,null,null,null,null,null,null,null,null,null,null,null,null,null,null,null,null,null,null,null,null,null,null,null,null,null,null,null,null,null,null,null,null,null,null,null,null,null,null,null,null,null,null,null,null,null,null,null,null,{"$f":"IF(AH43=\"\",\"\",IF('Test 5'!AF168=\"\",\"\",\"AgencyEntityInstance Id 232\"))","v":""},{"$f":"IF(BY234=\"\",\"\",VLOOKUP(\"CM_Base_DCP\",'Send Sync'!$K$56:$L$96,2,FALSE))","v":""},null,{"$f":"IF(BY234=\"\",\"\",BY225)","v":""},{"$f":"IF(BY234=\"\",\"\",CONCATENATE(\"<Data><cm_base_dcp_01_begin>\",CO1060,\"</cm_base_dcp_01_begin><cm_base_dcp_02_end>\",CO1061,\"</cm_base_dcp_02_end><cm_base_dcp_03_blows>\",CO1062,\"</cm_base_dcp_03_blows><cm_base_dcp_04_index>\",CO1063,\"</cm_base_dcp_04_index></Data>\"))","v":""},"","","","",null,null,null,null,null,null,null,"",null,{"$f":"IF(BY46=\"\",\"\",\"AgencyEntityInsData Id 232\")","v":""},{"$f":"IF(BY46=\"\",\"\",\"AgencyEntityInstance Id 44\")","v":""},{"$f":"IF(BY46=\"\",\"\",\"cm_rock_base_01_qty_b_rock\")","v":""},{"$f":"IF(BY46=\"\",\"\",IF('Test 2'!I33=\"\",\"\",'Test 2'!I33))","v":""},{"$f":"IF(BY46=\"\",\"\",TODAY())","v":""},{"$f":"IF(BY46=\"\",\"\",\"WTSYSTEMUSER\")","v":""},{"$f":"IF(BY46=\"\",\"\",TODAY())","v":""},{"$f":"IF(BY46=\"\",\"\",\"WTSYSTEMUSER\")","v":""}]
[null,null,null,null,null,null,null,null,null,null,null,null,null,null,null,null,null,null,null,null,null,null,null,null,null,null,null,null,null,null,null,null,null,null,null,null,null,null,null,null,null,null,null,null,null,null,null,null,null,null,null,null,null,null,null,null,null,null,null,null,null,null,null,null,null,null,null,null,null,null,null,null,null,null,null,null,{"$f":"IF(AH43=\"\",\"\",IF('Test 5'!AF169=\"\",\"\",\"AgencyEntityInstance Id 233\"))","v":""},{"$f":"IF(BY235=\"\",\"\",VLOOKUP(\"CM_Base_DCP\",'Send Sync'!$K$56:$L$96,2,FALSE))","v":""},null,{"$f":"IF(BY235=\"\",\"\",BY225)","v":""},{"$f":"IF(BY235=\"\",\"\",CONCATENATE(\"<Data><cm_base_dcp_01_begin>\",CO1064,\"</cm_base_dcp_01_begin><cm_base_dcp_02_end>\",CO1065,\"</cm_base_dcp_02_end><cm_base_dcp_03_blows>\",CO1066,\"</cm_base_dcp_03_blows><cm_base_dcp_04_index>\",CO1067,\"</cm_base_dcp_04_index></Data>\"))","v":""},"","","","",null,null,null,null,null,null,null,"",null,{"$f":"IF(BY46=\"\",\"\",\"AgencyEntityInsData Id 233\")","v":""},{"$f":"IF(BY46=\"\",\"\",\"AgencyEntityInstance Id 44\")","v":""},{"$f":"IF(BY46=\"\",\"\",\"cm_rock_base_02_qty_b_rap\")","v":""},{"$f":"IF(BY46=\"\",\"\",IF('Test 2'!I35=\"\",\"\",'Test 2'!I35))","v":""},{"$f":"IF(BY46=\"\",\"\",TODAY())","v":""},{"$f":"IF(BY46=\"\",\"\",\"WTSYSTEMUSER\")","v":""},{"$f":"IF(BY46=\"\",\"\",TODAY())","v":""},{"$f":"IF(BY46=\"\",\"\",\"WTSYSTEMUSER\")","v":""}]
[null,null,null,null,null,null,null,null,null,null,null,null,null,null,null,null,null,null,null,null,null,null,null,null,null,null,null,null,null,null,null,null,null,null,null,null,null,null,null,null,null,null,null,null,null,null,null,null,null,null,null,null,null,null,null,null,null,null,null,null,null,null,null,null,null,null,null,null,null,null,null,null,null,null,null,null,{"$f":"IF(AH43=\"\",\"\",IF('Test 5'!AF170=\"\",\"\",\"AgencyEntityInstance Id 234\"))","v":""},{"$f":"IF(BY236=\"\",\"\",VLOOKUP(\"CM_Base_DCP\",'Send Sync'!$K$56:$L$96,2,FALSE))","v":""},null,{"$f":"IF(BY236=\"\",\"\",BY225)","v":""},{"$f":"IF(BY236=\"\",\"\",CONCATENATE(\"<Data><cm_base_dcp_01_begin>\",CO1068,\"</cm_base_dcp_01_begin><cm_base_dcp_02_end>\",CO1069,\"</cm_base_dcp_02_end><cm_base_dcp_03_blows>\",CO1070,\"</cm_base_dcp_03_blows><cm_base_dcp_04_index>\",CO1071,\"</cm_base_dcp_04_index></Data>\"))","v":""},"","","","",null,null,null,null,null,null,null,"",null,{"$f":"IF(BY46=\"\",\"\",\"AgencyEntityInsData Id 234\")","v":""},{"$f":"IF(BY46=\"\",\"\",\"AgencyEntityInstance Id 44\")","v":""},{"$f":"IF(BY46=\"\",\"\",\"cm_rock_base_03_qty_t_rca\")","v":""},{"$f":"IF(BY46=\"\",\"\",IF('Test 2'!I34=\"\",\"\",'Test 2'!I34))","v":""},{"$f":"IF(BY46=\"\",\"\",TODAY())","v":""},{"$f":"IF(BY46=\"\",\"\",\"WTSYSTEMUSER\")","v":""},{"$f":"IF(BY46=\"\",\"\",TODAY())","v":""},{"$f":"IF(BY46=\"\",\"\",\"WTSYSTEMUSER\")","v":""}]
[null,null,null,null,null,null,null,null,null,null,null,null,null,null,null,null,null,null,null,null,null,null,null,null,null,null,null,null,null,null,null,null,null,null,null,null,null,null,null,null,null,null,null,null,null,null,null,null,null,null,null,null,null,null,null,null,null,null,null,null,null,null,null,null,null,null,null,null,null,null,null,null,null,null,null,null,{"$f":"IF(AH43=\"\",\"\",IF('Test 5'!AF171=\"\",\"\",\"AgencyEntityInstance Id 235\"))","v":""},{"$f":"IF(BY237=\"\",\"\",VLOOKUP(\"CM_Base_DCP\",'Send Sync'!$K$56:$L$96,2,FALSE))","v":""},null,{"$f":"IF(BY237=\"\",\"\",BY225)","v":""},{"$f":"IF(BY237=\"\",\"\",CONCATENATE(\"<Data><cm_base_dcp_01_begin>\",CO1072,\"</cm_base_dcp_01_begin><cm_base_dcp_02_end>\",CO1073,\"</cm_base_dcp_02_end><cm_base_dcp_03_blows>\",CO1074,\"</cm_base_dcp_03_blows><cm_base_dcp_04_index>\",CO1075,\"</cm_base_dcp_04_index></Data>\"))","v":""},"","","","",null,null,null,null,null,null,null,"",null,{"$f":"IF(BY46=\"\",\"\",\"AgencyEntityInsData Id 235\")","v":""},{"$f":"IF(BY46=\"\",\"\",\"AgencyEntityInstance Id 44\")","v":""},{"$f":"IF(BY46=\"\",\"\",\"cm_rock_base_04_qty_t_rock\")","v":""},{"$f":"IF(BY46=\"\",\"\",IF('Test 2'!I37=\"\",\"\",'Test 2'!I37))","v":""},{"$f":"IF(BY46=\"\",\"\",TODAY())","v":""},{"$f":"IF(BY46=\"\",\"\",\"WTSYSTEMUSER\")","v":""},{"$f":"IF(BY46=\"\",\"\",TODAY())","v":""},{"$f":"IF(BY46=\"\",\"\",\"WTSYSTEMUSER\")","v":""}]
[null,null,null,null,null,null,null,null,null,null,null,null,null,null,null,null,null,null,null,null,null,null,null,null,null,null,null,null,null,null,null,null,null,null,null,null,null,null,null,null,null,null,null,null,null,null,null,null,null,null,null,null,null,null,null,null,null,null,null,null,null,null,null,null,null,null,null,null,null,null,null,null,null,null,null,null,{"$f":"IF(AH43=\"\",\"\",IF('Test 5'!AF172=\"\",\"\",\"AgencyEntityInstance Id 236\"))","v":""},{"$f":"IF(BY238=\"\",\"\",VLOOKUP(\"CM_Base_DCP\",'Send Sync'!$K$56:$L$96,2,FALSE))","v":""},null,{"$f":"IF(BY238=\"\",\"\",BY225)","v":""},{"$f":"IF(BY238=\"\",\"\",CONCATENATE(\"<Data><cm_base_dcp_01_begin>\",CO1076,\"</cm_base_dcp_01_begin><cm_base_dcp_02_end>\",CO1077,\"</cm_base_dcp_02_end><cm_base_dcp_03_blows>\",CO1078,\"</cm_base_dcp_03_blows><cm_base_dcp_04_index>\",CO1079,\"</cm_base_dcp_04_index></Data>\"))","v":""},"","","","",null,null,null,null,null,null,null,"",null,{"$f":"IF(BY46=\"\",\"\",\"AgencyEntityInsData Id 236\")","v":""},{"$f":"IF(BY46=\"\",\"\",\"AgencyEntityInstance Id 44\")","v":""},{"$f":"IF(BY46=\"\",\"\",\"cm_rock_base_05_qty_t_rap\")","v":""},{"$f":"IF(BY46=\"\",\"\",IF('Test 2'!I41=\"\",\"\",'Test 2'!I41))","v":""},{"$f":"IF(BY46=\"\",\"\",TODAY())","v":""},{"$f":"IF(BY46=\"\",\"\",\"WTSYSTEMUSER\")","v":""},{"$f":"IF(BY46=\"\",\"\",TODAY())","v":""},{"$f":"IF(BY46=\"\",\"\",\"WTSYSTEMUSER\")","v":""}]
[null,null,null,null,null,null,null,null,null,null,null,null,null,null,null,null,null,null,null,null,null,null,null,null,null,null,null,null,null,null,null,null,null,null,null,null,null,null,null,null,null,null,null,null,null,null,null,null,null,null,null,null,null,null,null,null,null,null,null,null,null,null,null,null,null,null,null,null,null,null,null,null,null,null,null,null,{"$f":"IF(AH43=\"\",\"\",IF('Test 5'!AF173=\"\",\"\",\"AgencyEntityInstance Id 237\"))","v":""},{"$f":"IF(BY239=\"\",\"\",VLOOKUP(\"CM_Base_DCP\",'Send Sync'!$K$56:$L$96,2,FALSE))","v":""},null,{"$f":"IF(BY239=\"\",\"\",BY225)","v":""},{"$f":"IF(BY239=\"\",\"\",CONCATENATE(\"<Data><cm_base_dcp_01_begin>\",CO1080,\"</cm_base_dcp_01_begin><cm_base_dcp_02_end>\",CO1081,\"</cm_base_dcp_02_end><cm_base_dcp_03_blows>\",CO1082,\"</cm_base_dcp_03_blows><cm_base_dcp_04_index>\",CO1083,\"</cm_base_dcp_04_index></Data>\"))","v":""},"","","","",null,null,null,null,null,null,null,"",null,{"$f":"IF(BY46=\"\",\"\",\"AgencyEntityInsData Id 237\")","v":""},{"$f":"IF(BY46=\"\",\"\",\"AgencyEntityInstance Id 44\")","v":""},{"$f":"IF(BY46=\"\",\"\",\"cm_rock_base_06_qty_t_rca\")","v":""},{"$f":"IF(BY46=\"\",\"\",IF('Test 2'!I39=\"\",\"\",'Test 2'!I39))","v":""},{"$f":"IF(BY46=\"\",\"\",TODAY())","v":""},{"$f":"IF(BY46=\"\",\"\",\"WTSYSTEMUSER\")","v":""},{"$f":"IF(BY46=\"\",\"\",TODAY())","v":""},{"$f":"IF(BY46=\"\",\"\",\"WTSYSTEMUSER\")","v":""}]
[null,null,null,null,null,null,null,null,null,null,null,null,null,null,null,null,null,null,null,null,null,null,null,null,null,null,null,null,null,null,null,null,null,null,null,null,null,null,null,null,null,null,null,null,null,null,null,null,null,null,null,null,null,null,null,null,null,null,null,null,null,null,null,null,null,null,null,null,null,null,null,null,null,null,null,null,{"$f":"IF(AH43=\"\",\"\",IF('Test 5'!AF174=\"\",\"\",\"AgencyEntityInstance Id 238\"))","v":""},{"$f":"IF(BY240=\"\",\"\",VLOOKUP(\"CM_Base_DCP\",'Send Sync'!$K$56:$L$96,2,FALSE))","v":""},null,{"$f":"IF(BY240=\"\",\"\",BY225)","v":""},{"$f":"IF(BY240=\"\",\"\",CONCATENATE(\"<Data><cm_base_dcp_01_begin>\",CO1084,\"</cm_base_dcp_01_begin><cm_base_dcp_02_end>\",CO1085,\"</cm_base_dcp_02_end><cm_base_dcp_03_blows>\",CO1086,\"</cm_base_dcp_03_blows><cm_base_dcp_04_index>\",CO1087,\"</cm_base_dcp_04_index></Data>\"))","v":""},"","","","",null,null,null,null,null,null,null,"",null,{"$f":"IF(BY46=\"\",\"\",\"AgencyEntityInsData Id 238\")","v":""},{"$f":"IF(BY46=\"\",\"\",\"AgencyEntityInstance Id 44\")","v":""},{"$f":"IF(BY46=\"\",\"\",\"cm_rock_base_07_retained_2_in\")","v":""},{"$f":"IF(BY46=\"\",\"\",IF('Test 2'!AE37=\"\",\"\",'Test 2'!AE37))","v":""},{"$f":"IF(BY46=\"\",\"\",TODAY())","v":""},{"$f":"IF(BY46=\"\",\"\",\"WTSYSTEMUSER\")","v":""},{"$f":"IF(BY46=\"\",\"\",TODAY())","v":""},{"$f":"IF(BY46=\"\",\"\",\"WTSYSTEMUSER\")","v":""}]
[null,null,null,null,null,null,null,null,null,null,null,null,null,null,null,null,null,null,null,null,null,null,null,null,null,null,null,null,null,null,null,null,null,null,null,null,null,null,null,null,null,null,null,null,null,null,null,null,null,null,null,null,null,null,null,null,null,null,null,null,null,null,null,null,null,null,null,null,null,null,null,null,null,null,null,null,{"$f":"IF(AH43=\"\",\"\",IF('Test 5'!AF175=\"\",\"\",\"AgencyEntityInstance Id 239\"))","v":""},{"$f":"IF(BY241=\"\",\"\",VLOOKUP(\"CM_Base_DCP\",'Send Sync'!$K$56:$L$96,2,FALSE))","v":""},null,{"$f":"IF(BY241=\"\",\"\",BY225)","v":""},{"$f":"IF(BY241=\"\",\"\",CONCATENATE(\"<Data><cm_base_dcp_01_begin>\",CO1088,\"</cm_base_dcp_01_begin><cm_base_dcp_02_end>\",CO1089,\"</cm_base_dcp_02_end><cm_base_dcp_03_blows>\",CO1090,\"</cm_base_dcp_03_blows><cm_base_dcp_04_index>\",CO1091,\"</cm_base_dcp_04_index></Data>\"))","v":""},"","","","",null,null,null,null,null,null,null,"",null,{"$f":"IF(BY46=\"\",\"\",\"AgencyEntityInsData Id 239\")","v":""},{"$f":"IF(BY46=\"\",\"\",\"AgencyEntityInstance Id 44\")","v":""},{"$f":"IF(BY46=\"\",\"\",\"cm_rock_base_08_retained_no_4\")","v":""},{"$f":"IF(BY46=\"\",\"\",IF('Test 2'!AE38=\"\",\"\",'Test 2'!AE38))","v":""},{"$f":"IF(BY46=\"\",\"\",TODAY())","v":""},{"$f":"IF(BY46=\"\",\"\",\"WTSYSTEMUSER\")","v":""},{"$f":"IF(BY46=\"\",\"\",TODAY())","v":""},{"$f":"IF(BY46=\"\",\"\",\"WTSYSTEMUSER\")","v":""}]
[null,null,null,null,null,null,null,null,null,null,null,null,null,null,null,null,null,null,null,null,null,null,null,null,null,null,null,null,null,null,null,null,null,null,null,null,null,null,null,null,null,null,null,null,null,null,null,null,null,null,null,null,null,null,null,null,null,null,null,null,null,null,null,null,null,null,null,null,null,null,null,null,null,null,null,null,{"$f":"IF(AH43=\"\",\"\",IF('Test 5'!AF176=\"\",\"\",\"AgencyEntityInstance Id 240\"))","v":""},{"$f":"IF(BY242=\"\",\"\",VLOOKUP(\"CM_Base_DCP\",'Send Sync'!$K$56:$L$96,2,FALSE))","v":""},null,{"$f":"IF(BY242=\"\",\"\",BY225)","v":""},{"$f":"IF(BY242=\"\",\"\",CONCATENATE(\"<Data><cm_base_dcp_01_begin>\",CO1092,\"</cm_base_dcp_01_begin><cm_base_dcp_02_end>\",CO1093,\"</cm_base_dcp_02_end><cm_base_dcp_03_blows>\",CO1094,\"</cm_base_dcp_03_blows><cm_base_dcp_04_index>\",CO1095,\"</cm_base_dcp_04_index></Data>\"))","v":""},"","","","",null,null,null,null,null,null,null,"",null,{"$f":"IF(BY46=\"\",\"\",\"AgencyEntityInsData Id 240\")","v":""},{"$f":"IF(BY46=\"\",\"\",\"AgencyEntityInstance Id 44\")","v":""},{"$f":"IF(BY46=\"\",\"\",\"cm_rock_base_09_pi\")","v":""},{"$f":"IF(BY46=\"\",\"\",IF('Test 2'!V37=\"\",\"\",'Test 2'!V37))","v":""},{"$f":"IF(BY46=\"\",\"\",TODAY())","v":""},{"$f":"IF(BY46=\"\",\"\",\"WTSYSTEMUSER\")","v":""},{"$f":"IF(BY46=\"\",\"\",TODAY())","v":""},{"$f":"IF(BY46=\"\",\"\",\"WTSYSTEMUSER\")","v":""}]
[null,null,null,null,null,null,null,null,null,null,null,null,null,null,null,null,null,null,null,null,null,null,null,null,null,null,null,null,null,null,null,null,null,null,null,null,null,null,null,null,null,null,null,null,null,null,null,null,null,null,null,null,null,null,null,null,null,null,null,null,null,null,null,null,null,null,null,null,null,null,null,null,null,null,null,null,{"$f":"IF(AH43=\"\",\"\",IF('Test 5'!AF177=\"\",\"\",\"AgencyEntityInstance Id 241\"))","v":""},{"$f":"IF(BY243=\"\",\"\",VLOOKUP(\"CM_Base_DCP\",'Send Sync'!$K$56:$L$96,2,FALSE))","v":""},null,{"$f":"IF(BY243=\"\",\"\",BY225)","v":""},{"$f":"IF(BY243=\"\",\"\",CONCATENATE(\"<Data><cm_base_dcp_01_begin>\",CO1096,\"</cm_base_dcp_01_begin><cm_base_dcp_02_end>\",CO1097,\"</cm_base_dcp_02_end><cm_base_dcp_03_blows>\",CO1098,\"</cm_base_dcp_03_blows><cm_base_dcp_04_index>\",CO1099,\"</cm_base_dcp_04_index></Data>\"))","v":""},"","","","",null,null,null,null,null,null,null,"",null,{"$f":"IF(BY47=\"\",\"\",\"AgencyEntityInsData Id 241\")","v":""},{"$f":"IF(BY47=\"\",\"\",\"AgencyEntityInstance Id 45\")","v":""},{"$f":"IF(BY47=\"\",\"\",\"cm_rock_base_09_pi\")","v":""},{"$f":"IF(BY47=\"\",\"\",IF('Test 2'!J28=\"\",\"\",'Test 2'!J28))","v":""},{"$f":"IF(BY47=\"\",\"\",TODAY())","v":""},{"$f":"IF(BY47=\"\",\"\",\"WTSYSTEMUSER\")","v":""},{"$f":"IF(BY47=\"\",\"\",TODAY())","v":""},{"$f":"IF(BY47=\"\",\"\",\"WTSYSTEMUSER\")","v":""}]
[null,null,null,null,null,null,null,null,null,null,null,null,null,null,null,null,null,null,null,null,null,null,null,null,null,null,null,null,null,null,null,null,null,null,null,null,null,null,null,null,null,null,null,null,null,null,null,null,null,null,null,null,null,null,null,null,null,null,null,null,null,null,null,null,null,null,null,null,null,null,null,null,null,null,null,null,{"$f":"IF(AH43=\"\",\"\",IF('Test 5'!AF178=\"\",\"\",\"AgencyEntityInstance Id 242\"))","v":""},{"$f":"IF(BY244=\"\",\"\",VLOOKUP(\"CM_Base_DCP\",'Send Sync'!$K$56:$L$96,2,FALSE))","v":""},null,{"$f":"IF(BY244=\"\",\"\",BY225)","v":""},{"$f":"IF(BY244=\"\",\"\",CONCATENATE(\"<Data><cm_base_dcp_01_begin>\",CO1100,\"</cm_base_dcp_01_begin><cm_base_dcp_02_end>\",CO1101,\"</cm_base_dcp_02_end><cm_base_dcp_03_blows>\",CO1102,\"</cm_base_dcp_03_blows><cm_base_dcp_04_index>\",CO1103,\"</cm_base_dcp_04_index></Data>\"))","v":""},"","","","",null,null,null,null,null,null,null,"",null,{"$f":"IF(BY48=\"\",\"\",\"AgencyEntityInsData Id 242\")","v":""},{"$f":"IF(BY48=\"\",\"\",\"AgencyEntityInstance Id 46\")","v":""},{"$f":"IF(BY48=\"\",\"\",\"cm_aggbase_01_opt_density\")","v":""},{"$f":"IF(BY48=\"\",\"\",IF('Test 3'!R14=\"\",\"\",'Test 3'!R14))","v":""},{"$f":"IF(BY48=\"\",\"\",TODAY())","v":""},{"$f":"IF(BY48=\"\",\"\",\"WTSYSTEMUSER\")","v":""},{"$f":"IF(BY48=\"\",\"\",TODAY())","v":""},{"$f":"IF(BY48=\"\",\"\",\"WTSYSTEMUSER\")","v":""}]
[null,null,null,null,null,null,null,null,null,null,null,null,null,null,null,null,null,null,null,null,null,null,null,null,null,null,null,null,null,null,null,null,null,null,null,null,null,null,null,null,null,null,null,null,null,null,null,null,null,null,null,null,null,null,null,null,null,null,null,null,null,null,null,null,null,null,null,null,null,null,null,null,null,null,null,null,{"$f":"IF(AH43=\"\",\"\",IF('Test 5'!AF179=\"\",\"\",\"AgencyEntityInstance Id 243\"))","v":""},{"$f":"IF(BY245=\"\",\"\",VLOOKUP(\"CM_Base_DCP\",'Send Sync'!$K$56:$L$96,2,FALSE))","v":""},null,{"$f":"IF(BY245=\"\",\"\",BY225)","v":""},{"$f":"IF(BY245=\"\",\"\",CONCATENATE(\"<Data><cm_base_dcp_01_begin>\",CO1104,\"</cm_base_dcp_01_begin><cm_base_dcp_02_end>\",CO1105,\"</cm_base_dcp_02_end><cm_base_dcp_03_blows>\",CO1106,\"</cm_base_dcp_03_blows><cm_base_dcp_04_index>\",CO1107,\"</cm_base_dcp_04_index></Data>\"))","v":""},"","","","",null,null,null,null,null,null,null,"",null,{"$f":"IF(BY48=\"\",\"\",\"AgencyEntityInsData Id 243\")","v":""},{"$f":"IF(BY48=\"\",\"\",\"AgencyEntityInstance Id 46\")","v":""},{"$f":"IF(BY48=\"\",\"\",\"cm_aggbase_02_opt_moisture\")","v":""},{"$f":"IF(BY48=\"\",\"\",'Test 3'!AG15)","v":""},{"$f":"IF(BY48=\"\",\"\",TODAY())","v":""},{"$f":"IF(BY48=\"\",\"\",\"WTSYSTEMUSER\")","v":""},{"$f":"IF(BY48=\"\",\"\",TODAY())","v":""},{"$f":"IF(BY48=\"\",\"\",\"WTSYSTEMUSER\")","v":""}]
[null,null,null,null,null,null,null,null,null,null,null,null,null,null,null,null,null,null,null,null,null,null,null,null,null,null,null,null,null,null,null,null,null,null,null,null,null,null,null,null,null,null,null,null,null,null,null,null,null,null,null,null,null,null,null,null,null,null,null,null,null,null,null,null,null,null,null,null,null,null,null,null,null,null,null,{"$f":"BX225+1","v":10},{"$f":"IF(AH44=\"\",\"\",\"AgencyEntityInstance Id 244\")","v":""},{"$f":"IF(BY246=\"\",\"\",VLOOKUP(\"CM_Base_DCP_Header\",'Send Sync'!$K$56:$L$96,2,FALSE))","v":""},{"$f":"IF(BY246=\"\",\"\",\"SampleRecordTest Id 42\")","v":""},null,{"$f":"IF(BY246=\"\",\"\",CONCATENATE(\"<Data><cm_base_dcp_header_01_avg>\",CO1108,\"</cm_base_dcp_header_01_avg><cm_base_dcp_header_02_thi_spec>\",CO1109,\"</cm_base_dcp_header_02_thi_spec><cm_base_dcp_header_03_thi_meas>\",CO1110,\"</cm_base_dcp_header_03_thi_meas><cm_base_dcp_header_04_sta_1>\",CO1111,\"</cm_base_dcp_header_04_sta_1><cm_base_dcp_header_05_sta_2>\",CO1112,\"</cm_base_dcp_header_05_sta_2><cm_base_dcp_header_06_location>\",CO1113,\"</cm_base_dcp_header_06_location><cm_base_dcp_header_07_tester>\",CO1114,\"</cm_base_dcp_header_07_tester></Data>\"))","v":""},"","","","",null,null,null,null,null,null,null,"",null,{"$f":"IF(BY48=\"\",\"\",\"AgencyEntityInsData Id 244\")","v":""},{"$f":"IF(BY48=\"\",\"\",\"AgencyEntityInstance Id 46\")","v":""},{"$f":"IF(BY48=\"\",\"\",\"cm_aggbase_03_test_depth\")","v":""},{"$f":"IF(BY48=\"\",\"\",'Test 3'!AE18)","v":""},{"$f":"IF(BY48=\"\",\"\",TODAY())","v":""},{"$f":"IF(BY48=\"\",\"\",\"WTSYSTEMUSER\")","v":""},{"$f":"IF(BY48=\"\",\"\",TODAY())","v":""},{"$f":"IF(BY48=\"\",\"\",\"WTSYSTEMUSER\")","v":""}]
[null,null,null,null,null,null,null,null,null,null,null,null,null,null,null,null,null,null,null,null,null,null,null,null,null,null,null,null,null,null,null,null,null,null,null,null,null,null,null,null,null,null,null,null,null,null,null,null,null,null,null,null,null,null,null,null,null,null,null,null,null,null,null,null,null,null,null,null,null,null,null,null,null,null,null,null,{"$f":"IF(AH44=\"\",\"\",IF('Test 5'!AI160=\"\",\"\",\"AgencyEntityInstance Id 245\"))","v":""},{"$f":"IF(BY247=\"\",\"\",VLOOKUP(\"CM_Base_DCP\",'Send Sync'!$K$56:$L$96,2,FALSE))","v":""},null,{"$f":"IF(BY247=\"\",\"\",BY246)","v":""},{"$f":"IF(BY247=\"\",\"\",CONCATENATE(\"<Data><cm_base_dcp_01_begin>\",CO1115,\"</cm_base_dcp_01_begin><cm_base_dcp_02_end>\",CO1116,\"</cm_base_dcp_02_end><cm_base_dcp_03_blows>\",CO1117,\"</cm_base_dcp_03_blows><cm_base_dcp_04_index>\",CO1118,\"</cm_base_dcp_04_index></Data>\"))","v":""},"","","","",null,null,null,null,null,null,null,"",null,{"$f":"IF(BY48=\"\",\"\",\"AgencyEntityInsData Id 245\")","v":""},{"$f":"IF(BY48=\"\",\"\",\"AgencyEntityInstance Id 46\")","v":""},{"$f":"IF(BY48=\"\",\"\",\"cm_aggbase_04_test_moisture\")","v":""},{"$f":"IF(BY48=\"\",\"\",'Test 3'!AG18)","v":""},{"$f":"IF(BY48=\"\",\"\",TODAY())","v":""},{"$f":"IF(BY48=\"\",\"\",\"WTSYSTEMUSER\")","v":""},{"$f":"IF(BY48=\"\",\"\",TODAY())","v":""},{"$f":"IF(BY48=\"\",\"\",\"WTSYSTEMUSER\")","v":""}]
[null,null,null,null,null,null,null,null,null,null,null,null,null,null,null,null,null,null,null,null,null,null,null,null,null,null,null,null,null,null,null,null,null,null,null,null,null,null,null,null,null,null,null,null,null,null,null,null,null,null,null,null,null,null,null,null,null,null,null,null,null,null,null,null,null,null,null,null,null,null,null,null,null,null,null,null,{"$f":"IF(AH44=\"\",\"\",IF('Test 5'!AI161=\"\",\"\",\"AgencyEntityInstance Id 246\"))","v":""},{"$f":"IF(BY248=\"\",\"\",VLOOKUP(\"CM_Base_DCP\",'Send Sync'!$K$56:$L$96,2,FALSE))","v":""},null,{"$f":"IF(BY248=\"\",\"\",BY246)","v":""},{"$f":"IF(BY248=\"\",\"\",CONCATENATE(\"<Data><cm_base_dcp_01_begin>\",CO1119,\"</cm_base_dcp_01_begin><cm_base_dcp_02_end>\",CO1120,\"</cm_base_dcp_02_end><cm_base_dcp_03_blows>\",CO1121,\"</cm_base_dcp_03_blows><cm_base_dcp_04_index>\",CO1122,\"</cm_base_dcp_04_index></Data>\"))","v":""},"","","","",null,null,null,null,null,null,null,"",null,{"$f":"IF(BY48=\"\",\"\",\"AgencyEntityInsData Id 246\")","v":""},{"$f":"IF(BY48=\"\",\"\",\"AgencyEntityInstance Id 46\")","v":""},{"$f":"IF(BY48=\"\",\"\",\"cm_aggbase_05_test_density_dry\")","v":""},{"$f":"IF(BY48=\"\",\"\",'Test 3'!AF17)","v":""},{"$f":"IF(BY48=\"\",\"\",TODAY())","v":""},{"$f":"IF(BY48=\"\",\"\",\"WTSYSTEMUSER\")","v":""},{"$f":"IF(BY48=\"\",\"\",TODAY())","v":""},{"$f":"IF(BY48=\"\",\"\",\"WTSYSTEMUSER\")","v":""}]
[null,null,null,null,null,null,null,null,null,null,null,null,null,null,null,null,null,null,null,null,null,null,null,null,null,null,null,null,null,null,null,null,null,null,null,null,null,null,null,null,null,null,null,null,null,null,null,null,null,null,null,null,null,null,null,null,null,null,null,null,null,null,null,null,null,null,null,null,null,null,null,null,null,null,null,null,{"$f":"IF(AH44=\"\",\"\",IF('Test 5'!AI162=\"\",\"\",\"AgencyEntityInstance Id 247\"))","v":""},{"$f":"IF(BY249=\"\",\"\",VLOOKUP(\"CM_Base_DCP\",'Send Sync'!$K$56:$L$96,2,FALSE))","v":""},null,{"$f":"IF(BY249=\"\",\"\",BY246)","v":""},{"$f":"IF(BY249=\"\",\"\",CONCATENATE(\"<Data><cm_base_dcp_01_begin>\",CO1123,\"</cm_base_dcp_01_begin><cm_base_dcp_02_end>\",CO1124,\"</cm_base_dcp_02_end><cm_base_dcp_03_blows>\",CO1125,\"</cm_base_dcp_03_blows><cm_base_dcp_04_index>\",CO1126,\"</cm_base_dcp_04_index></Data>\"))","v":""},{"$f":"IF(BY249=\"\",\"\",TODAY())","v":""},{"$f":"IF(BY249=\"\",\"\",\"WTSYSTEMUSER\")","v":""},{"$f":"IF(BY249=\"\",\"\",TODAY())","v":""},{"$f":"IF(BY249=\"\",\"\",\"WTSYSTEMUSER\")","v":""},null,null,null,null,null,null,null,"",null,{"$f":"IF(BY48=\"\",\"\",\"AgencyEntityInsData Id 247\")","v":""},{"$f":"IF(BY48=\"\",\"\",\"AgencyEntityInstance Id 46\")","v":""},{"$f":"IF(BY48=\"\",\"\",\"cm_aggbase_06_test_density_wet\")","v":""},{"$f":"IF(BY48=\"\",\"\",'Test 3'!AF18)","v":""},{"$f":"IF(BY48=\"\",\"\",TODAY())","v":""},{"$f":"IF(BY48=\"\",\"\",\"WTSYSTEMUSER\")","v":""},{"$f":"IF(BY48=\"\",\"\",TODAY())","v":""},{"$f":"IF(BY48=\"\",\"\",\"WTSYSTEMUSER\")","v":""}]
[null,null,null,null,null,null,null,null,null,null,null,null,null,null,null,null,null,null,null,null,null,null,null,null,null,null,null,null,null,null,null,null,null,null,null,null,null,null,null,null,null,null,null,null,null,null,null,null,null,null,null,null,null,null,null,null,null,null,null,null,null,null,null,null,null,null,null,null,null,null,null,null,null,null,null,null,{"$f":"IF(AH44=\"\",\"\",IF('Test 5'!AI163=\"\",\"\",\"AgencyEntityInstance Id 248\"))","v":""},{"$f":"IF(BY250=\"\",\"\",VLOOKUP(\"CM_Base_DCP\",'Send Sync'!$K$56:$L$96,2,FALSE))","v":""},null,{"$f":"IF(BY250=\"\",\"\",BY246)","v":""},{"$f":"IF(BY250=\"\",\"\",CONCATENATE(\"<Data><cm_base_dcp_01_begin>\",CO1127,\"</cm_base_dcp_01_begin><cm_base_dcp_02_end>\",CO1128,\"</cm_base_dcp_02_end><cm_base_dcp_03_blows>\",CO1129,\"</cm_base_dcp_03_blows><cm_base_dcp_04_index>\",CO1130,\"</cm_base_dcp_04_index></Data>\"))","v":""},"","","","",null,null,null,null,null,null,null,"",null,{"$f":"IF(BY48=\"\",\"\",\"AgencyEntityInsData Id 248\")","v":""},{"$f":"IF(BY48=\"\",\"\",\"AgencyEntityInstance Id 46\")","v":""},{"$f":"IF(BY48=\"\",\"\",\"cm_aggbase_07_comp_percent\")","v":""},{"$f":"IF(BY48=\"\",\"\",'Test 3'!AG17)","v":""},{"$f":"IF(BY48=\"\",\"\",TODAY())","v":""},{"$f":"IF(BY48=\"\",\"\",\"WTSYSTEMUSER\")","v":""},{"$f":"IF(BY48=\"\",\"\",TODAY())","v":""},{"$f":"IF(BY48=\"\",\"\",\"WTSYSTEMUSER\")","v":""}]
[null,null,null,null,null,null,null,null,null,null,null,null,null,null,null,null,null,null,null,null,null,null,null,null,null,null,null,null,null,null,null,null,null,null,null,null,null,null,null,null,null,null,null,null,null,null,null,null,null,null,null,null,null,null,null,null,null,null,null,null,null,null,null,null,null,null,null,null,null,null,null,null,null,null,null,null,{"$f":"IF(AH44=\"\",\"\",IF('Test 5'!AI164=\"\",\"\",\"AgencyEntityInstance Id 249\"))","v":""},{"$f":"IF(BY251=\"\",\"\",VLOOKUP(\"CM_Base_DCP\",'Send Sync'!$K$56:$L$96,2,FALSE))","v":""},null,{"$f":"IF(BY251=\"\",\"\",BY246)","v":""},{"$f":"IF(BY251=\"\",\"\",CONCATENATE(\"<Data><cm_base_dcp_01_begin>\",CO1131,\"</cm_base_dcp_01_begin><cm_base_dcp_02_end>\",CO1132,\"</cm_base_dcp_02_end><cm_base_dcp_03_blows>\",CO1133,\"</cm_base_dcp_03_blows><cm_base_dcp_04_index>\",CO1134,\"</cm_base_dcp_04_index></Data>\"))","v":""},"","","","",null,null,null,null,null,null,null,"",null,{"$f":"IF(BY48=\"\",\"\",\"AgencyEntityInsData Id 249\")","v":""},{"$f":"IF(BY48=\"\",\"\",\"AgencyEntityInstance Id 46\")","v":""},{"$f":"IF(BY48=\"\",\"\",\"cm_aggbase_08_thickness_measured\")","v":""},{"$f":"IF(BY48=\"\",\"\",'Test 3'!AF14)","v":""},{"$f":"IF(BY48=\"\",\"\",TODAY())","v":""},{"$f":"IF(BY48=\"\",\"\",\"WTSYSTEMUSER\")","v":""},{"$f":"IF(BY48=\"\",\"\",TODAY())","v":""},{"$f":"IF(BY48=\"\",\"\",\"WTSYSTEMUSER\")","v":""}]
[null,null,null,null,null,null,null,null,null,null,null,null,null,null,null,null,null,null,null,null,null,null,null,null,null,null,null,null,null,null,null,null,null,null,null,null,null,null,null,null,null,null,null,null,null,null,null,null,null,null,null,null,null,null,null,null,null,null,null,null,null,null,null,null,null,null,null,null,null,null,null,null,null,null,null,null,{"$f":"IF(AH44=\"\",\"\",IF('Test 5'!AI169=\"\",\"\",\"AgencyEntityInstance Id 254\"))","v":""},{"$f":"IF(BY256=\"\",\"\",VLOOKUP(\"CM_Base_DCP\",'Send Sync'!$K$56:$L$96,2,FALSE))","v":""},null,{"$f":"IF(BY256=\"\",\"\",BY246)","v":""},{"$f":"IF(BY256=\"\",\"\",CONCATENATE(\"<Data><cm_base_dcp_01_begin>\",CO1151,\"</cm_base_dcp_01_begin><cm_base_dcp_02_end>\",CO1152,\"</cm_base_dcp_02_end><cm_base_dcp_03_blows>\",CO1153,\"</cm_base_dcp_03_blows><cm_base_dcp_04_index>\",CO1154,\"</cm_base_dcp_04_index></Data>\"))","v":""},"","","","",null,null,null,null,null,null,null,"",null,{"$f":"IF(BY48=\"\",\"\",\"AgencyEntityInsData Id 254\")","v":""},{"$f":"IF(BY48=\"\",\"\",\"AgencyEntityInstance Id 46\")","v":""},{"$f":"IF(BY48=\"\",\"\",\"cm_aggbase_13_tester\")","v":""},{"$f":"IF(BY48=\"\",\"\",IF('Test 3'!P11=\"\",\"\",'Test 3'!P11))","v":""},{"$f":"IF(BY48=\"\",\"\",TODAY())","v":""},{"$f":"IF(BY48=\"\",\"\",\"WTSYSTEMUSER\")","v":""},{"$f":"IF(BY48=\"\",\"\",TODAY())","v":""},{"$f":"IF(BY48=\"\",\"\",\"WTSYSTEMUSER\")","v":""}]
[null,null,null,null,null,null,null,null,null,null,null,null,null,null,null,null,null,null,null,null,null,null,null,null,null,null,null,null,null,null,null,null,null,null,null,null,null,null,null,null,null,null,null,null,null,null,null,null,null,null,null,null,null,null,null,null,null,null,null,null,null,null,null,null,null,null,null,null,null,null,null,null,null,null,null,null,{"$f":"IF(AH44=\"\",\"\",IF('Test 5'!AI172=\"\",\"\",\"AgencyEntityInstance Id 257\"))","v":""},{"$f":"IF(BY259=\"\",\"\",VLOOKUP(\"CM_Base_DCP\",'Send Sync'!$K$56:$L$96,2,FALSE))","v":""},null,{"$f":"IF(BY259=\"\",\"\",BY246)","v":""},{"$f":"IF(BY259=\"\",\"\",CONCATENATE(\"<Data><cm_base_dcp_01_begin>\",CO1163,\"</cm_base_dcp_01_begin><cm_base_dcp_02_end>\",CO1164,\"</cm_base_dcp_02_end><cm_base_dcp_03_blows>\",CO1165,\"</cm_base_dcp_03_blows><cm_base_dcp_04_index>\",CO1166,\"</cm_base_dcp_04_index></Data>\"))","v":""},"","","","",null,null,null,null,null,null,null,"",null,{"$f":"IF(BY49=\"\",\"\",\"AgencyEntityInsData Id 257\")","v":""},{"$f":"IF(BY49=\"\",\"\",\"AgencyEntityInstance Id 47\")","v":""},{"$f":"IF(BY49=\"\",\"\",\"cm_aggbase_03_test_depth\")","v":""},{"$f":"IF(BY49=\"\",\"\",'Test 3'!AE27)","v":""},{"$f":"IF(BY49=\"\",\"\",TODAY())","v":""},{"$f":"IF(BY49=\"\",\"\",\"WTSYSTEMUSER\")","v":""},{"$f":"IF(BY49=\"\",\"\",TODAY())","v":""},{"$f":"IF(BY49=\"\",\"\",\"WTSYSTEMUSER\")","v":""}]
[null,null,null,null,null,null,null,null,null,null,null,null,null,null,null,null,null,null,null,null,null,null,null,null,null,null,null,null,null,null,null,null,null,null,null,null,null,null,null,null,null,null,null,null,null,null,null,null,null,null,null,null,null,null,null,null,null,null,null,null,null,null,null,null,null,null,null,null,null,null,null,null,null,null,null,null,{"$f":"IF(AH44=\"\",\"\",IF('Test 5'!AI174=\"\",\"\",\"AgencyEntityInstance Id 259\"))","v":""},{"$f":"IF(BY261=\"\",\"\",VLOOKUP(\"CM_Base_DCP\",'Send Sync'!$K$56:$L$96,2,FALSE))","v":""},null,{"$f":"IF(BY261=\"\",\"\",BY246)","v":""},{"$f":"IF(BY261=\"\",\"\",CONCATENATE(\"<Data><cm_base_dcp_01_begin>\",CO1171,\"</cm_base_dcp_01_begin><cm_base_dcp_02_end>\",CO1172,\"</cm_base_dcp_02_end><cm_base_dcp_03_blows>\",CO1173,\"</cm_base_dcp_03_blows><cm_base_dcp_04_index>\",CO1174,\"</cm_base_dcp_04_index></Data>\"))","v":""},"","","","",null,null,null,null,null,null,null,"",null,{"$f":"IF(BY49=\"\",\"\",\"AgencyEntityInsData Id 259\")","v":""},{"$f":"IF(BY49=\"\",\"\",\"AgencyEntityInstance Id 47\")","v":""},{"$f":"IF(BY49=\"\",\"\",\"cm_aggbase_05_test_density_dry\")","v":""},{"$f":"IF(BY49=\"\",\"\",'Test 3'!AF26)","v":""},{"$f":"IF(BY49=\"\",\"\",TODAY())","v":""},{"$f":"IF(BY49=\"\",\"\",\"WTSYSTEMUSER\")","v":""},{"$f":"IF(BY49=\"\",\"\",TODAY())","v":""},{"$f":"IF(BY49=\"\",\"\",\"WTSYSTEMUSER\")","v":""}]
[null,null,null,null,null,null,null,null,null,null,null,null,null,null,null,null,null,null,null,null,null,null,null,null,null,null,null,null,null,null,null,null,null,null,null,null,null,null,null,null,null,null,null,null,null,null,null,null,null,null,null,null,null,null,null,null,null,null,null,null,null,null,null,null,null,null,null,null,null,null,null,null,null,null,null,null,null,null,null,null,null,null,null,null,null,null,null,null,null,null,null,null,"",null,{"$f":"IF(BY49=\"\",\"\",\"AgencyEntityInsData Id 265\")","v":""},{"$f":"IF(BY49=\"\",\"\",\"AgencyEntityInstance Id 47\")","v":""},{"$f":"IF(BY49=\"\",\"\",\"cm_aggbase_11_sta_2\")","v":""},{"$f":"IF(BY49=\"\",\"\",IF('Test 3'!L20=\"\",\"\",'Test 3'!L20))","v":""},{"$f":"IF(BY49=\"\",\"\",TODAY())","v":""},{"$f":"IF(BY49=\"\",\"\",\"WTSYSTEMUSER\")","v":""},{"$f":"IF(BY49=\"\",\"\",TODAY())","v":""},{"$f":"IF(BY49=\"\",\"\",\"WTSYSTEMUSER\")","v":""}]
[null,null,null,null,null,null,null,null,null,null,null,null,null,null,null,null,null,null,null,null,null,null,null,null,null,null,null,null,null,null,null,null,null,null,null,null,null,null,null,null,null,null,null,null,null,null,null,null,null,null,null,null,null,null,null,null,null,null,null,null,null,null,null,null,null,null,null,null,null,null,null,null,null,null,null,null,null,null,null,null,null,null,null,null,null,null,null,null,null,null,null,null,"",null,{"$f":"IF(BY50=\"\",\"\",\"AgencyEntityInsData Id 268\")","v":""},{"$f":"IF(BY50=\"\",\"\",\"AgencyEntityInstance Id 48\")","v":""},{"$f":"IF(BY50=\"\",\"\",\"cm_aggbase_01_opt_density\")","v":""},{"$f":"IF(BY50=\"\",\"\",IF('Test 3'!R32=\"\",\"\",'Test 3'!R32))","v":""},{"$f":"IF(BY50=\"\",\"\",TODAY())","v":""},{"$f":"IF(BY50=\"\",\"\",\"WTSYSTEMUSER\")","v":""},{"$f":"IF(BY50=\"\",\"\",TODAY())","v":""},{"$f":"IF(BY50=\"\",\"\",\"WTSYSTEMUSER\")","v":""}]
[null,null,null,null,null,null,null,null,null,null,null,null,null,null,null,null,null,null,null,null,null,null,null,null,null,null,null,null,null,null,null,null,null,null,null,null,null,null,null,null,null,null,null,null,null,null,null,null,null,null,null,null,null,null,null,null,null,null,null,null,null,null,null,null,null,null,null,null,null,null,null,null,null,null,null,null,null,null,null,null,null,null,null,null,null,null,null,null,null,null,null,null,"",null,{"$f":"IF(BY50=\"\",\"\",\"AgencyEntityInsData Id 270\")","v":""},{"$f":"IF(BY50=\"\",\"\",\"AgencyEntityInstance Id 48\")","v":""},{"$f":"IF(BY50=\"\",\"\",\"cm_aggbase_03_test_depth\")","v":""},{"$f":"IF(BY50=\"\",\"\",'Test 3'!AE36)","v":""},{"$f":"IF(BY50=\"\",\"\",TODAY())","v":""},{"$f":"IF(BY50=\"\",\"\",\"WTSYSTEMUSER\")","v":""},{"$f":"IF(BY50=\"\",\"\",TODAY())","v":""},{"$f":"IF(BY50=\"\",\"\",\"WTSYSTEMUSER\")","v":""}]
[null,null,null,null,null,null,null,null,null,null,null,null,null,null,null,null,null,null,null,null,null,null,null,null,null,null,null,null,null,null,null,null,null,null,null,null,null,null,null,null,null,null,null,null,null,null,null,null,null,null,null,null,null,null,null,null,null,null,null,null,null,null,null,null,null,null,null,null,null,null,null,null,null,null,null,null,null,null,null,null,null,null,null,null,null,null,null,null,null,null,null,null,"",null,{"$f":"IF(BY50=\"\",\"\",\"AgencyEntityInsData Id 273\")","v":""},{"$f":"IF(BY50=\"\",\"\",\"AgencyEntityInstance Id 48\")","v":""},{"$f":"IF(BY50=\"\",\"\",\"cm_aggbase_06_test_density_wet\")","v":""},{"$f":"IF(BY50=\"\",\"\",'Test 3'!AF36)","v":""},{"$f":"IF(BY50=\"\",\"\",TODAY())","v":""},{"$f":"IF(BY50=\"\",\"\",\"WTSYSTEMUSER\")","v":""},{"$f":"IF(BY50=\"\",\"\",TODAY())","v":""},{"$f":"IF(BY50=\"\",\"\",\"WTSYSTEMUSER\")","v":""}]
[null,null,null,null,null,null,null,null,null,null,null,null,null,null,null,null,null,null,null,null,null,null,null,null,null,null,null,null,null,null,null,null,null,null,null,null,null,null,null,null,null,null,null,null,null,null,null,null,null,null,null,null,null,null,null,null,null,null,null,null,null,null,null,null,null,null,null,null,null,null,null,null,null,null,null,null,null,null,null,null,null,null,null,null,null,null,null,null,null,null,null,null,"",null,{"$f":"IF(BY50=\"\",\"\",\"AgencyEntityInsData Id 278\")","v":""},{"$f":"IF(BY50=\"\",\"\",\"AgencyEntityInstance Id 48\")","v":""},{"$f":"IF(BY50=\"\",\"\",\"cm_aggbase_11_sta_2\")","v":""},{"$f":"IF(BY50=\"\",\"\",IF('Test 3'!L29=\"\",\"\",'Test 3'!L29))","v":""},{"$f":"IF(BY50=\"\",\"\",TODAY())","v":""},{"$f":"IF(BY50=\"\",\"\",\"WTSYSTEMUSER\")","v":""},{"$f":"IF(BY50=\"\",\"\",TODAY())","v":""},{"$f":"IF(BY50=\"\",\"\",\"WTSYSTEMUSER\")","v":""}]
[null,null,null,null,null,null,null,null,null,null,null,null,null,null,null,null,null,null,null,null,null,null,null,null,null,null,null,null,null,null,null,null,null,null,null,null,null,null,null,null,null,null,null,null,null,null,null,null,null,null,null,null,null,null,null,null,null,null,null,null,null,null,null,null,null,null,null,null,null,null,null,null,null,null,null,null,null,null,null,null,null,null,null,null,null,null,null,null,null,null,null,null,"",null,{"$f":"IF(BY51=\"\",\"\",\"AgencyEntityInsData Id 282\")","v":""},{"$f":"IF(BY51=\"\",\"\",\"AgencyEntityInstance Id 49\")","v":""},{"$f":"IF(BY51=\"\",\"\",\"cm_aggbase_02_opt_moisture\")","v":""},{"$f":"IF(BY51=\"\",\"\",'Test 3'!AG42)","v":""},{"$f":"IF(BY51=\"\",\"\",TODAY())","v":""},{"$f":"IF(BY51=\"\",\"\",\"WTSYSTEMUSER\")","v":""},{"$f":"IF(BY51=\"\",\"\",TODAY())","v":""},{"$f":"IF(BY51=\"\",\"\",\"WTSYSTEMUSER\")","v":""}]
[null,null,null,null,null,null,null,null,null,null,null,null,null,null,null,null,null,null,null,null,null,null,null,null,null,null,null,null,null,null,null,null,null,null,null,null,null,null,null,null,null,null,null,null,null,null,null,null,null,null,null,null,null,null,null,null,null,null,null,null,null,null,null,null,null,null,null,null,null,null,null,null,null,null,null,null,null,null,null,null,null,null,null,null,null,null,null,null,null,null,null,null,"",null,{"$f":"IF(BY51=\"\",\"\",\"AgencyEntityInsData Id 285\")","v":""},{"$f":"IF(BY51=\"\",\"\",\"AgencyEntityInstance Id 49\")","v":""},{"$f":"IF(BY51=\"\",\"\",\"cm_aggbase_05_test_density_dry\")","v":""},{"$f":"IF(BY51=\"\",\"\",'Test 3'!AF44)","v":""},{"$f":"IF(BY51=\"\",\"\",TODAY())","v":""},{"$f":"IF(BY51=\"\",\"\",\"WTSYSTEMUSER\")","v":""},{"$f":"IF(BY51=\"\",\"\",TODAY())","v":""},{"$f":"IF(BY51=\"\",\"\",\"WTSYSTEMUSER\")","v":""}]
[null,null,null,null,null,null,null,null,null,null,null,null,null,null,null,null,null,null,null,null,null,null,null,null,null,null,null,null,null,null,null,null,null,null,null,null,null,null,null,null,null,null,null,null,null,null,null,null,null,null,null,null,null,null,null,null,null,null,null,null,null,null,null,null,null,null,null,null,null,null,null,null,null,null,null,null,null,null,null,null,null,null,null,null,null,null,null,null,null,null,null,null,"",null,{"$f":"IF(BY51=\"\",\"\",\"AgencyEntityInsData Id 287\")","v":""},{"$f":"IF(BY51=\"\",\"\",\"AgencyEntityInstance Id 49\")","v":""},{"$f":"IF(BY51=\"\",\"\",\"cm_aggbase_07_comp_percent\")","v":""},{"$f":"IF(BY51=\"\",\"\",'Test 3'!AG44)","v":""},{"$f":"IF(BY51=\"\",\"\",TODAY())","v":""},{"$f":"IF(BY51=\"\",\"\",\"WTSYSTEMUSER\")","v":""},{"$f":"IF(BY51=\"\",\"\",TODAY())","v":""},{"$f":"IF(BY51=\"\",\"\",\"WTSYSTEMUSER\")","v":""}]
[null,null,null,null,null,null,null,null,null,null,null,null,null,null,null,null,null,null,null,null,null,null,null,null,null,null,null,null,null,null,null,null,null,null,null,null,null,null,null,null,null,null,null,null,null,null,null,null,null,null,null,null,null,null,null,null,null,null,null,null,null,null,null,null,null,null,null,null,null,null,null,null,null,null,null,null,null,null,null,null,null,null,null,null,null,null,null,null,null,null,null,null,"",null,{"$f":"IF(BY51=\"\",\"\",\"AgencyEntityInsData Id 293\")","v":""},{"$f":"IF(BY51=\"\",\"\",\"AgencyEntityInstance Id 49\")","v":""},{"$f":"IF(BY51=\"\",\"\",\"cm_aggbase_13_tester\")","v":""},{"$f":"IF(BY51=\"\",\"\",IF('Test 3'!P38=\"\",\"\",'Test 3'!P38))","v":""},{"$f":"IF(BY51=\"\",\"\",TODAY())","v":""},{"$f":"IF(BY51=\"\",\"\",\"WTSYSTEMUSER\")","v":""},{"$f":"IF(BY51=\"\",\"\",TODAY())","v":""},{"$f":"IF(BY51=\"\",\"\",\"WTSYSTEMUSER\")","v":""}]
[null,null,null,null,null,null,null,null,null,null,null,null,null,null,null,null,null,null,null,null,null,null,null,null,null,null,null,null,null,null,null,null,null,null,null,null,null,null,null,null,null,null,null,null,null,null,null,null,null,null,null,null,null,null,null,null,null,null,null,null,null,null,null,null,null,null,null,null,null,null,null,null,null,null,null,null,null,null,null,null,null,null,null,null,null,null,null,null,null,null,null,null,"",null,{"$f":"IF(BY52=\"\",\"\",\"AgencyEntityInsData Id 296\")","v":""},{"$f":"IF(BY52=\"\",\"\",\"AgencyEntityInstance Id 50\")","v":""},{"$f":"IF(BY52=\"\",\"\",\"cm_aggbase_03_test_depth\")","v":""},{"$f":"IF(BY52=\"\",\"\",'Test 3'!AE54)","v":""},{"$f":"IF(BY52=\"\",\"\",TODAY())","v":""},{"$f":"IF(BY52=\"\",\"\",\"WTSYSTEMUSER\")","v":""},{"$f":"IF(BY52=\"\",\"\",TODAY())","v":""},{"$f":"IF(BY52=\"\",\"\",\"WTSYSTEMUSER\")","v":""}]
[null,null,null,null,null,null,null,null,null,null,null,null,null,null,null,null,null,null,null,null,null,null,null,null,null,null,null,null,null,null,null,null,null,null,null,null,null,null,null,null,null,null,null,null,null,null,null,null,null,null,null,null,null,null,null,null,null,null,null,null,null,null,null,null,null,null,null,null,null,null,null,null,null,null,null,null,null,null,null,null,null,null,null,null,null,null,null,null,null,null,null,null,"",null,{"$f":"IF(BY52=\"\",\"\",\"AgencyEntityInsData Id 298\")","v":""},{"$f":"IF(BY52=\"\",\"\",\"AgencyEntityInstance Id 50\")","v":""},{"$f":"IF(BY52=\"\",\"\",\"cm_aggbase_05_test_density_dry\")","v":""},{"$f":"IF(BY52=\"\",\"\",'Test 3'!AF53)","v":""},{"$f":"IF(BY52=\"\",\"\",TODAY())","v":""},{"$f":"IF(BY52=\"\",\"\",\"WTSYSTEMUSER\")","v":""},{"$f":"IF(BY52=\"\",\"\",TODAY())","v":""},{"$f":"IF(BY52=\"\",\"\",\"WTSYSTEMUSER\")","v":""}]
[null,null,null,null,null,null,null,null,null,null,null,null,null,null,null,null,null,null,null,null,null,null,null,null,null,null,null,null,null,null,null,null,null,null,null,null,null,null,null,null,null,null,null,null,null,null,null,null,null,null,null,null,null,null,null,null,null,null,null,null,null,null,null,null,null,null,null,null,null,null,null,null,null,null,null,null,null,null,null,null,null,null,null,null,null,null,null,null,null,null,null,null,"",null,{"$f":"IF(BY52=\"\",\"\",\"AgencyEntityInsData Id 301\")","v":""},{"$f":"IF(BY52=\"\",\"\",\"AgencyEntityInstance Id 50\")","v":""},{"$f":"IF(BY52=\"\",\"\",\"cm_aggbase_08_thickness_measured\")","v":""},{"$f":"IF(BY52=\"\",\"\",'Test 3'!AF50)","v":""},{"$f":"IF(BY52=\"\",\"\",TODAY())","v":""},{"$f":"IF(BY52=\"\",\"\",\"WTSYSTEMUSER\")","v":""},{"$f":"IF(BY52=\"\",\"\",TODAY())","v":""},{"$f":"IF(BY52=\"\",\"\",\"WTSYSTEMUSER\")","v":""}]
[null,null,null,null,null,null,null,null,null,null,null,null,null,null,null,null,null,null,null,null,null,null,null,null,null,null,null,null,null,null,null,null,null,null,null,null,null,null,null,null,null,null,null,null,null,null,null,null,null,null,null,null,null,null,null,null,null,null,null,null,null,null,null,null,null,null,null,null,null,null,null,null,null,null,null,null,null,null,null,null,null,null,null,null,null,null,null,null,null,null,null,null,"",null,{"$f":"IF(BY52=\"\",\"\",\"AgencyEntityInsData Id 306\")","v":""},{"$f":"IF(BY52=\"\",\"\",\"AgencyEntityInstance Id 50\")","v":""},{"$f":"IF(BY52=\"\",\"\",\"cm_aggbase_13_tester\")","v":""},{"$f":"IF(BY52=\"\",\"\",IF('Test 3'!P47=\"\",\"\",'Test 3'!P47))","v":""},{"$f":"IF(BY52=\"\",\"\",TODAY())","v":""},{"$f":"IF(BY52=\"\",\"\",\"WTSYSTEMUSER\")","v":""},{"$f":"IF(BY52=\"\",\"\",TODAY())","v":""},{"$f":"IF(BY52=\"\",\"\",\"WTSYSTEMUSER\")","v":""}]
[null,null,null,null,null,null,null,null,null,null,null,null,null,null,null,null,null,null,null,null,null,null,null,null,null,null,null,null,null,null,null,null,null,null,null,null,null,null,null,null,null,null,null,null,null,null,null,null,null,null,null,null,null,null,null,null,null,null,null,null,null,null,null,null,null,null,null,null,null,null,null,null,null,null,null,null,null,null,null,null,null,null,null,null,null,null,null,null,null,null,null,null,"",null,{"$f":"IF(BY55=\"\",\"\",\"AgencyEntityInsData Id 310\")","v":""},{"$f":"IF(BY55=\"\",\"\",\"AgencyEntityInstance Id 53\")","v":""},{"$f":"IF(BY55=\"\",\"\",\"cm_t99_field_02_correction\")","v":""},{"$f":"IF(BY55=\"\",\"\",'Test 4'!AE20)","v":""},{"$f":"IF(BY55=\"\",\"\",TODAY())","v":""},{"$f":"IF(BY55=\"\",\"\",\"WTSYSTEMUSER\")","v":""},{"$f":"IF(BY55=\"\",\"\",TODAY())","v":""},{"$f":"IF(BY55=\"\",\"\",\"WTSYSTEMUSER\")","v":""}]
[null,null,null,null,null,null,null,null,null,null,null,null,null,null,null,null,null,null,null,null,null,null,null,null,null,null,null,null,null,null,null,null,null,null,null,null,null,null,null,null,null,null,null,null,null,null,null,null,null,null,null,null,null,null,null,null,null,null,null,null,null,null,null,null,null,null,null,null,null,null,null,null,null,null,null,null,null,null,null,null,null,null,null,null,null,null,null,null,null,null,null,null,"",null,{"$f":"IF(BY55=\"\",\"\",\"AgencyEntityInsData Id 315\")","v":""},{"$f":"IF(BY55=\"\",\"\",\"AgencyEntityInstance Id 53\")","v":""},{"$f":"IF(BY55=\"\",\"\",\"cm_t99_field_07_opt_moisture\")","v":""},{"$f":"IF(BY55=\"\",\"\",IF('Test 4'!I26=\"\",\"\",'Test 4'!I26))","v":""},{"$f":"IF(BY55=\"\",\"\",TODAY())","v":""},{"$f":"IF(BY55=\"\",\"\",\"WTSYSTEMUSER\")","v":""},{"$f":"IF(BY55=\"\",\"\",TODAY())","v":""},{"$f":"IF(BY55=\"\",\"\",\"WTSYSTEMUSER\")","v":""}]
[null,null,null,null,null,null,null,null,null,null,null,null,null,null,null,null,null,null,null,null,null,null,null,null,null,null,null,null,null,null,null,null,null,null,null,null,null,null,null,null,null,null,null,null,null,null,null,null,null,null,null,null,null,null,null,null,null,null,null,null,null,null,null,null,null,null,null,null,null,null,null,null,null,null,null,null,null,null,null,null,null,null,null,null,null,null,null,null,null,null,null,null,"",null,{"$f":"IF(BY56=\"\",\"\",\"AgencyEntityInsData Id 318\")","v":""},{"$f":"IF(BY56=\"\",\"\",\"AgencyEntityInstance Id 54\")","v":""},{"$f":"IF(BY56=\"\",\"\",\"cm_t99_field_03_oversize\")","v":""},{"$f":"IF(BY56=\"\",\"\",'Test 4'!AF21)","v":""},{"$f":"IF(BY56=\"\",\"\",TODAY())","v":""},{"$f":"IF(BY56=\"\",\"\",\"WTSYSTEMUSER\")","v":""},{"$f":"IF(BY56=\"\",\"\",TODAY())","v":""},{"$f":"IF(BY56=\"\",\"\",\"WTSYSTEMUSER\")","v":""}]
[null,null,null,null,null,null,null,null,null,null,null,null,null,null,null,null,null,null,null,null,null,null,null,null,null,null,null,null,null,null,null,null,null,null,null,null,null,null,null,null,null,null,null,null,null,null,null,null,null,null,null,null,null,null,null,null,null,null,null,null,null,null,null,null,null,null,null,null,null,null,null,null,null,null,null,null,null,null,null,null,null,null,null,null,null,null,null,null,null,null,null,null,"",null,{"$f":"IF(BY56=\"\",\"\",\"AgencyEntityInsData Id 320\")","v":""},{"$f":"IF(BY56=\"\",\"\",\"AgencyEntityInstance Id 54\")","v":""},{"$f":"IF(BY56=\"\",\"\",\"cm_t99_field_05_no_4\")","v":""},{"$f":"IF(BY56=\"\",\"\",'Test 4'!AF23)","v":""},{"$f":"IF(BY56=\"\",\"\",TODAY())","v":""},{"$f":"IF(BY56=\"\",\"\",\"WTSYSTEMUSER\")","v":""},{"$f":"IF(BY56=\"\",\"\",TODAY())","v":""},{"$f":"IF(BY56=\"\",\"\",\"WTSYSTEMUSER\")","v":""}]
[null,null,null,null,null,null,null,null,null,null,null,null,null,null,null,null,null,null,null,null,null,null,null,null,null,null,null,null,null,null,null,null,null,null,null,null,null,null,null,null,null,null,null,null,null,null,null,null,null,null,null,null,null,null,null,null,null,null,null,null,null,null,null,null,null,null,null,null,null,null,null,null,null,null,null,null,null,null,null,null,null,null,null,null,null,null,null,null,null,null,null,null,"",null,{"$f":"IF(BY57=\"\",\"\",\"AgencyEntityInsData Id 323\")","v":""},{"$f":"IF(BY57=\"\",\"\",\"AgencyEntityInstance Id 55\")","v":""},{"$f":"IF(BY57=\"\",\"\",\"cm_base_dcp_header_01_avg\")","v":""},{"$f":"IF(BY57=\"\",\"\",'Test 5'!AE21)","v":""},{"$f":"IF(BY57=\"\",\"\",TODAY())","v":""},{"$f":"IF(BY57=\"\",\"\",\"WTSYSTEMUSER\")","v":""},{"$f":"IF(BY57=\"\",\"\",TODAY())","v":""},{"$f":"IF(BY57=\"\",\"\",\"WTSYSTEMUSER\")","v":""}]
[null,null,null,null,null,null,null,null,null,null,null,null,null,null,null,null,null,null,null,null,null,null,null,null,null,null,null,null,null,null,null,null,null,null,null,null,null,null,null,null,null,null,null,null,null,null,null,null,null,null,null,null,null,null,null,null,null,null,null,null,null,null,null,null,null,null,null,null,null,null,null,null,null,null,null,null,null,null,null,null,null,null,null,null,null,null,null,null,null,null,null,null,"",null,{"$f":"IF(BY57=\"\",\"\",\"AgencyEntityInsData Id 329\")","v":""},{"$f":"IF(BY57=\"\",\"\",\"AgencyEntityInstance Id 55\")","v":""},{"$f":"IF(BY57=\"\",\"\",\"cm_base_dcp_header_07_tester\")","v":""},{"$f":"IF(BY57=\"\",\"\",IF('Test 5'!E15=\"\",\"\",'Test 5'!E15))","v":""},{"$f":"IF(BY57=\"\",\"\",TODAY())","v":""},{"$f":"IF(BY57=\"\",\"\",\"WTSYSTEMUSER\")","v":""},{"$f":"IF(BY57=\"\",\"\",TODAY())","v":""},{"$f":"IF(BY57=\"\",\"\",\"WTSYSTEMUSER\")","v":""}]
[null,null,null,null,null,null,null,null,null,null,null,null,null,null,null,null,null,null,null,null,null,null,null,null,null,null,null,null,null,null,null,null,null,null,null,null,null,null,null,null,null,null,null,null,null,null,null,null,null,null,null,null,null,null,null,null,null,null,null,null,null,null,null,null,null,null,null,null,null,null,null,null,null,null,null,null,null,null,null,null,null,null,null,null,null,null,null,null,null,null,null,null,"",null,{"$f":"IF(BY58=\"\",\"\",\"AgencyEntityInsData Id 330\")","v":""},{"$f":"IF(BY58=\"\",\"\",\"AgencyEntityInstance Id 56\")","v":""},{"$f":"IF(BY58=\"\",\"\",\"cm_base_dcp_01_begin\")","v":""},{"$f":"IF(BY58=\"\",\"\",'Test 5'!AD24)","v":""},{"$f":"IF(BY58=\"\",\"\",TODAY())","v":""},{"$f":"IF(BY58=\"\",\"\",\"WTSYSTEMUSER\")","v":""},{"$f":"IF(BY58=\"\",\"\",TODAY())","v":""},{"$f":"IF(BY58=\"\",\"\",\"WTSYSTEMUSER\")","v":""}]
[null,null,null,null,null,null,null,null,null,null,null,null,null,null,null,null,null,null,null,null,null,null,null,null,null,null,null,null,null,null,null,null,null,null,null,null,null,null,null,null,null,null,null,null,null,null,null,null,null,null,null,null,null,null,null,null,null,null,null,null,null,null,null,null,null,null,null,null,null,null,null,null,null,null,null,null,null,null,null,null,null,null,null,null,null,null,null,null,null,null,null,null,"",null,{"$f":"IF(BY59=\"\",\"\",\"AgencyEntityInsData Id 334\")","v":""},{"$f":"IF(BY59=\"\",\"\",\"AgencyEntityInstance Id 57\")","v":""},{"$f":"IF(BY59=\"\",\"\",\"cm_base_dcp_01_begin\")","v":""},{"$f":"IF(BY59=\"\",\"\",'Test 5'!AD25)","v":""},{"$f":"IF(BY59=\"\",\"\",TODAY())","v":""},{"$f":"IF(BY59=\"\",\"\",\"WTSYSTEMUSER\")","v":""},{"$f":"IF(BY59=\"\",\"\",TODAY())","v":""},{"$f":"IF(BY59=\"\",\"\",\"WTSYSTEMUSER\")","v":""}]
[null,null,null,null,null,null,null,null,null,null,null,null,null,null,null,null,null,null,null,null,null,null,null,null,null,null,null,null,null,null,null,null,null,null,null,null,null,null,null,null,null,null,null,null,null,null,null,null,null,null,null,null,null,null,null,null,null,null,null,null,null,null,null,null,null,null,null,null,null,null,null,null,null,null,null,null,null,null,null,null,null,null,null,null,null,null,null,null,null,null,null,null,"",null,{"$f":"IF(BY60=\"\",\"\",\"AgencyEntityInsData Id 338\")","v":""},{"$f":"IF(BY60=\"\",\"\",\"AgencyEntityInstance Id 58\")","v":""},{"$f":"IF(BY60=\"\",\"\",\"cm_base_dcp_01_begin\")","v":""},{"$f":"IF(BY60=\"\",\"\",'Test 5'!AD26)","v":""},{"$f":"IF(BY60=\"\",\"\",TODAY())","v":""},{"$f":"IF(BY60=\"\",\"\",\"WTSYSTEMUSER\")","v":""},{"$f":"IF(BY60=\"\",\"\",TODAY())","v":""},{"$f":"IF(BY60=\"\",\"\",\"WTSYSTEMUSER\")","v":""}]
[null,null,null,null,null,null,null,null,null,null,null,null,null,null,null,null,null,null,null,null,null,null,null,null,null,null,null,null,null,null,null,null,null,null,null,null,null,null,null,null,null,null,null,null,null,null,null,null,null,null,null,null,null,null,null,null,null,null,null,null,null,null,null,null,null,null,null,null,null,null,null,null,null,null,null,null,null,null,null,null,null,null,null,null,null,null,null,null,null,null,null,null,"",null,{"$f":"IF(BY61=\"\",\"\",\"AgencyEntityInsData Id 343\")","v":""},{"$f":"IF(BY61=\"\",\"\",\"AgencyEntityInstance Id 59\")","v":""},{"$f":"IF(BY61=\"\",\"\",\"cm_base_dcp_02_end\")","v":""},{"$f":"IF(BY61=\"\",\"\",'Test 5'!AE27)","v":""},{"$f":"IF(BY61=\"\",\"\",TODAY())","v":""},{"$f":"IF(BY61=\"\",\"\",\"WTSYSTEMUSER\")","v":""},{"$f":"IF(BY61=\"\",\"\",TODAY())","v":""},{"$f":"IF(BY61=\"\",\"\",\"WTSYSTEMUSER\")","v":""}]
[null,null,null,null,null,null,null,null,null,null,null,null,null,null,null,null,null,null,null,null,null,null,null,null,null,null,null,null,null,null,null,null,null,null,null,null,null,null,null,null,null,null,null,null,null,null,null,null,null,null,null,null,null,null,null,null,null,null,null,null,null,null,null,null,null,null,null,null,null,null,null,null,null,null,null,null,null,null,null,null,null,null,null,null,null,null,null,null,null,null,null,null,"",null,{"$f":"IF(BY62=\"\",\"\",\"AgencyEntityInsData Id 346\")","v":""},{"$f":"IF(BY62=\"\",\"\",\"AgencyEntityInstance Id 60\")","v":""},{"$f":"IF(BY62=\"\",\"\",\"cm_base_dcp_01_begin\")","v":""},{"$f":"IF(BY62=\"\",\"\",'Test 5'!AD28)","v":""},{"$f":"IF(BY62=\"\",\"\",TODAY())","v":""},{"$f":"IF(BY62=\"\",\"\",\"WTSYSTEMUSER\")","v":""},{"$f":"IF(BY62=\"\",\"\",TODAY())","v":""},{"$f":"IF(BY62=\"\",\"\",\"WTSYSTEMUSER\")","v":""}]
[null,null,null,null,null,null,null,null,null,null,null,null,null,null,null,null,null,null,null,null,null,null,null,null,null,null,null,null,null,null,null,null,null,null,null,null,null,null,null,null,null,null,null,null,null,null,null,null,null,null,null,null,null,null,null,null,null,null,null,null,null,null,null,null,null,null,null,null,null,null,null,null,null,null,null,null,null,null,null,null,null,null,null,null,null,null,null,null,null,null,null,null,"",null,{"$f":"IF(BY62=\"\",\"\",\"AgencyEntityInsData Id 348\")","v":""},{"$f":"IF(BY62=\"\",\"\",\"AgencyEntityInstance Id 60\")","v":""},{"$f":"IF(BY62=\"\",\"\",\"cm_base_dcp_03_blows\")","v":""},{"$f":"IF(BY62=\"\",\"\",IF('Test 5'!I28=\"\",\"\",'Test 5'!I28))","v":""},{"$f":"IF(BY62=\"\",\"\",TODAY())","v":""},{"$f":"IF(BY62=\"\",\"\",\"WTSYSTEMUSER\")","v":""},{"$f":"IF(BY62=\"\",\"\",TODAY())","v":""},{"$f":"IF(BY62=\"\",\"\",\"WTSYSTEMUSER\")","v":""}]
[null,null,null,null,null,null,null,null,null,null,null,null,null,null,null,null,null,null,null,null,null,null,null,null,null,null,null,null,null,null,null,null,null,null,null,null,null,null,null,null,null,null,null,null,null,null,null,null,null,null,null,null,null,null,null,null,null,null,null,null,null,null,null,null,null,null,null,null,null,null,null,null,null,null,null,null,null,null,null,null,null,null,null,null,null,null,null,null,null,null,null,null,"",null,{"$f":"IF(BY63=\"\",\"\",\"AgencyEntityInsData Id 351\")","v":""},{"$f":"IF(BY63=\"\",\"\",\"AgencyEntityInstance Id 61\")","v":""},{"$f":"IF(BY63=\"\",\"\",\"cm_base_dcp_02_end\")","v":""},{"$f":"IF(BY63=\"\",\"\",'Test 5'!AE29)","v":""},{"$f":"IF(BY63=\"\",\"\",TODAY())","v":""},{"$f":"IF(BY63=\"\",\"\",\"WTSYSTEMUSER\")","v":""},{"$f":"IF(BY63=\"\",\"\",TODAY())","v":""},{"$f":"IF(BY63=\"\",\"\",\"WTSYSTEMUSER\")","v":""}]
[null,null,null,null,null,null,null,null,null,null,null,null,null,null,null,null,null,null,null,null,null,null,null,null,null,null,null,null,null,null,null,null,null,null,null,null,null,null,null,null,null,null,null,null,null,null,null,null,null,null,null,null,null,null,null,null,null,null,null,null,null,null,null,null,null,null,null,null,null,null,null,null,null,null,null,null,null,null,null,null,null,null,null,null,null,null,null,null,null,null,null,null,"",null,{"$f":"IF(BY64=\"\",\"\",\"AgencyEntityInsData Id 357\")","v":""},{"$f":"IF(BY64=\"\",\"\",\"AgencyEntityInstance Id 62\")","v":""},{"$f":"IF(BY64=\"\",\"\",\"cm_base_dcp_04_index\")","v":""},{"$f":"IF(BY64=\"\",\"\",'Test 5'!AF30)","v":""},{"$f":"IF(BY64=\"\",\"\",TODAY())","v":""},{"$f":"IF(BY64=\"\",\"\",\"WTSYSTEMUSER\")","v":""},{"$f":"IF(BY64=\"\",\"\",TODAY())","v":""},{"$f":"IF(BY64=\"\",\"\",\"WTSYSTEMUSER\")","v":""}]
[null,null,null,null,null,null,null,null,null,null,null,null,null,null,null,null,null,null,null,null,null,null,null,null,null,null,null,null,null,null,null,null,null,null,null,null,null,null,null,null,null,null,null,null,null,null,null,null,null,null,null,null,null,null,null,null,null,null,null,null,null,null,null,null,null,null,null,null,null,null,null,null,null,null,null,null,null,null,null,null,null,null,null,null,null,null,null,null,null,null,null,null,"",null,{"$f":"IF(BY65=\"\",\"\",\"AgencyEntityInsData Id 358\")","v":""},{"$f":"IF(BY65=\"\",\"\",\"AgencyEntityInstance Id 63\")","v":""},{"$f":"IF(BY65=\"\",\"\",\"cm_base_dcp_01_begin\")","v":""},{"$f":"IF(BY65=\"\",\"\",'Test 5'!AD31)","v":""},{"$f":"IF(BY65=\"\",\"\",TODAY())","v":""},{"$f":"IF(BY65=\"\",\"\",\"WTSYSTEMUSER\")","v":""},{"$f":"IF(BY65=\"\",\"\",TODAY())","v":""},{"$f":"IF(BY65=\"\",\"\",\"WTSYSTEMUSER\")","v":""}]
[null,null,null,null,null,null,null,null,null,null,null,null,null,null,null,null,null,null,null,null,null,null,null,null,null,null,null,null,null,null,null,null,null,null,null,null,null,null,null,null,null,null,null,null,null,null,null,null,null,null,null,null,null,null,null,null,null,null,null,null,null,null,null,null,null,null,null,null,null,null,null,null,null,null,null,null,null,null,null,null,null,null,null,null,null,null,null,null,null,null,null,null,"",null,{"$f":"IF(BY66=\"\",\"\",\"AgencyEntityInsData Id 362\")","v":""},{"$f":"IF(BY66=\"\",\"\",\"AgencyEntityInstance Id 64\")","v":""},{"$f":"IF(BY66=\"\",\"\",\"cm_base_dcp_01_begin\")","v":""},{"$f":"IF(BY66=\"\",\"\",'Test 5'!AD32)","v":""},{"$f":"IF(BY66=\"\",\"\",TODAY())","v":""},{"$f":"IF(BY66=\"\",\"\",\"WTSYSTEMUSER\")","v":""},{"$f":"IF(BY66=\"\",\"\",TODAY())","v":""},{"$f":"IF(BY66=\"\",\"\",\"WTSYSTEMUSER\")","v":""}]
[null,null,null,null,null,null,null,null,null,null,null,null,null,null,null,null,null,null,null,null,null,null,null,null,null,null,null,null,null,null,null,null,null,null,null,null,null,null,null,null,null,null,null,null,null,null,null,null,null,null,null,null,null,null,null,null,null,null,null,null,null,null,null,null,null,null,null,null,null,null,null,null,null,null,null,null,null,null,null,null,null,null,null,null,null,null,null,null,null,null,null,null,"",null,{"$f":"IF(BY67=\"\",\"\",\"AgencyEntityInsData Id 366\")","v":""},{"$f":"IF(BY67=\"\",\"\",\"AgencyEntityInstance Id 65\")","v":""},{"$f":"IF(BY67=\"\",\"\",\"cm_base_dcp_01_begin\")","v":""},{"$f":"IF(BY67=\"\",\"\",'Test 5'!AD33)","v":""},{"$f":"IF(BY67=\"\",\"\",TODAY())","v":""},{"$f":"IF(BY67=\"\",\"\",\"WTSYSTEMUSER\")","v":""},{"$f":"IF(BY67=\"\",\"\",TODAY())","v":""},{"$f":"IF(BY67=\"\",\"\",\"WTSYSTEMUSER\")","v":""}]
[null,null,null,null,null,null,null,null,null,null,null,null,null,null,null,null,null,null,null,null,null,null,null,null,null,null,null,null,null,null,null,null,null,null,null,null,null,null,null,null,null,null,null,null,null,null,null,null,null,null,null,null,null,null,null,null,null,null,null,null,null,null,null,null,null,null,null,null,null,null,null,null,null,null,null,null,null,null,null,null,null,null,null,null,null,null,null,null,null,null,null,null,"",null,{"$f":"IF(BY68=\"\",\"\",\"AgencyEntityInsData Id 371\")","v":""},{"$f":"IF(BY68=\"\",\"\",\"AgencyEntityInstance Id 66\")","v":""},{"$f":"IF(BY68=\"\",\"\",\"cm_base_dcp_02_end\")","v":""},{"$f":"IF(BY68=\"\",\"\",'Test 5'!AE34)","v":""},{"$f":"IF(BY68=\"\",\"\",TODAY())","v":""},{"$f":"IF(BY68=\"\",\"\",\"WTSYSTEMUSER\")","v":""},{"$f":"IF(BY68=\"\",\"\",TODAY())","v":""},{"$f":"IF(BY68=\"\",\"\",\"WTSYSTEMUSER\")","v":""}]
[null,null,null,null,null,null,null,null,null,null,null,null,null,null,null,null,null,null,null,null,null,null,null,null,null,null,null,null,null,null,null,null,null,null,null,null,null,null,null,null,null,null,null,null,null,null,null,null,null,null,null,null,null,null,null,null,null,null,null,null,null,null,null,null,null,null,null,null,null,null,null,null,null,null,null,null,null,null,null,null,null,null,null,null,null,null,null,null,null,null,null,null,"",null,{"$f":"IF(BY68=\"\",\"\",\"AgencyEntityInsData Id 372\")","v":""},{"$f":"IF(BY68=\"\",\"\",\"AgencyEntityInstance Id 66\")","v":""},{"$f":"IF(BY68=\"\",\"\",\"cm_base_dcp_03_blows\")","v":""},{"$f":"IF(BY68=\"\",\"\",IF('Test 5'!I34=\"\",\"\",'Test 5'!I34))","v":""},{"$f":"IF(BY68=\"\",\"\",TODAY())","v":""},{"$f":"IF(BY68=\"\",\"\",\"WTSYSTEMUSER\")","v":""},{"$f":"IF(BY68=\"\",\"\",TODAY())","v":""},{"$f":"IF(BY68=\"\",\"\",\"WTSYSTEMUSER\")","v":""}]
[null,null,null,null,null,null,null,null,null,null,null,null,null,null,null,null,null,null,null,null,null,null,null,null,null,null,null,null,null,null,null,null,null,null,null,null,null,null,null,null,null,null,null,null,null,null,null,null,null,null,null,null,null,null,null,null,null,null,null,null,null,null,null,null,null,null,null,null,null,null,null,null,null,null,null,null,null,null,null,null,null,null,null,null,null,null,null,null,null,null,null,null,"",null,{"$f":"IF(BY70=\"\",\"\",\"AgencyEntityInsData Id 378\")","v":""},{"$f":"IF(BY70=\"\",\"\",\"AgencyEntityInstance Id 68\")","v":""},{"$f":"IF(BY70=\"\",\"\",\"cm_base_dcp_01_begin\")","v":""},{"$f":"IF(BY70=\"\",\"\",'Test 5'!AD36)","v":""},{"$f":"IF(BY70=\"\",\"\",TODAY())","v":""},{"$f":"IF(BY70=\"\",\"\",\"WTSYSTEMUSER\")","v":""},{"$f":"IF(BY70=\"\",\"\",TODAY())","v":""},{"$f":"IF(BY70=\"\",\"\",\"WTSYSTEMUSER\")","v":""}]
[null,null,null,null,null,null,null,null,null,null,null,null,null,null,null,null,null,null,null,null,null,null,null,null,null,null,null,null,null,null,null,null,null,null,null,null,null,null,null,null,null,null,null,null,null,null,null,null,null,null,null,null,null,null,null,null,null,null,null,null,null,null,null,null,null,null,null,null,null,null,null,null,null,null,null,null,null,null,null,null,null,null,null,null,null,null,null,null,null,null,null,null,"",null,{"$f":"IF(BY70=\"\",\"\",\"AgencyEntityInsData Id 381\")","v":""},{"$f":"IF(BY70=\"\",\"\",\"AgencyEntityInstance Id 68\")","v":""},{"$f":"IF(BY70=\"\",\"\",\"cm_base_dcp_04_index\")","v":""},{"$f":"IF(BY70=\"\",\"\",'Test 5'!AF36)","v":""},{"$f":"IF(BY70=\"\",\"\",TODAY())","v":""},{"$f":"IF(BY70=\"\",\"\",\"WTSYSTEMUSER\")","v":""},{"$f":"IF(BY70=\"\",\"\",TODAY())","v":""},{"$f":"IF(BY70=\"\",\"\",\"WTSYSTEMUSER\")","v":""}]
[null,null,null,null,null,null,null,null,null,null,null,null,null,null,null,null,null,null,null,null,null,null,null,null,null,null,null,null,null,null,null,null,null,null,null,null,null,null,null,null,null,null,null,null,null,null,null,null,null,null,null,null,null,null,null,null,null,null,null,null,null,null,null,null,null,null,null,null,null,null,null,null,null,null,null,null,null,null,null,null,null,null,null,null,null,null,null,null,null,null,null,null,"",null,{"$f":"IF(BY71=\"\",\"\",\"AgencyEntityInsData Id 383\")","v":""},{"$f":"IF(BY71=\"\",\"\",\"AgencyEntityInstance Id 69\")","v":""},{"$f":"IF(BY71=\"\",\"\",\"cm_base_dcp_02_end\")","v":""},{"$f":"IF(BY71=\"\",\"\",'Test 5'!AE37)","v":""},{"$f":"IF(BY71=\"\",\"\",TODAY())","v":""},{"$f":"IF(BY71=\"\",\"\",\"WTSYSTEMUSER\")","v":""},{"$f":"IF(BY71=\"\",\"\",TODAY())","v":""},{"$f":"IF(BY71=\"\",\"\",\"WTSYSTEMUSER\")","v":""}]
[null,null,null,null,null,null,null,null,null,null,null,null,null,null,null,null,null,null,null,null,null,null,null,null,null,null,null,null,null,null,null,null,null,null,null,null,null,null,null,null,null,null,null,null,null,null,null,null,null,null,null,null,null,null,null,null,null,null,null,null,null,null,null,null,null,null,null,null,null,null,null,null,null,null,null,null,null,null,null,null,null,null,null,null,null,null,null,null,null,null,null,null,{"$f":"IF(CT388=\"\",\"\",SUBSTITUTE(SUBSTITUTE(SUBSTITUTE(SUBSTITUTE(SUBSTITUTE(CT388,\"&\",\"&amp;\"),\">\",\"&gt;\"),\"<\",\"&lt;\"),\"'\",\"&#39;\"),\"\"\"\",\"&quot;\"))","v":""},null,{"$f":"IF(BY72=\"\",\"\",\"AgencyEntityInsData Id 386\")","v":""},{"$f":"IF(BY72=\"\",\"\",\"AgencyEntityInstance Id 70\")","v":""},{"$f":"IF(BY72=\"\",\"\",\"cm_base_dcp_01_begin\")","v":""},{"$f":"IF(BY72=\"\",\"\",'Test 5'!AD38)","v":""},{"$f":"IF(BY72=\"\",\"\",TODAY())","v":""},{"$f":"IF(BY72=\"\",\"\",\"WTSYSTEMUSER\")","v":""},{"$f":"IF(BY72=\"\",\"\",TODAY())","v":""},{"$f":"IF(BY72=\"\",\"\",\"WTSYSTEMUSER\")","v":""}]
[null,null,null,null,null,null,null,null,null,null,null,null,null,null,null,null,null,null,null,null,null,null,null,null,null,null,null,null,null,null,null,null,null,null,null,null,null,null,null,null,null,null,null,null,null,null,null,null,null,null,null,null,null,null,null,null,null,null,null,null,null,null,null,null,null,null,null,null,null,null,null,null,null,null,null,null,null,null,null,null,null,null,null,null,null,null,null,null,null,null,null,null,"",null,{"$f":"IF(BY73=\"\",\"\",\"AgencyEntityInsData Id 391\")","v":""},{"$f":"IF(BY73=\"\",\"\",\"AgencyEntityInstance Id 71\")","v":""},{"$f":"IF(BY73=\"\",\"\",\"cm_base_dcp_02_end\")","v":""},{"$f":"IF(BY73=\"\",\"\",'Test 5'!AE39)","v":""},{"$f":"IF(BY73=\"\",\"\",TODAY())","v":""},{"$f":"IF(BY73=\"\",\"\",\"WTSYSTEMUSER\")","v":""},{"$f":"IF(BY73=\"\",\"\",TODAY())","v":""},{"$f":"IF(BY73=\"\",\"\",\"WTSYSTEMUSER\")","v":""}]
[null,null,null,null,null,null,null,null,null,null,null,null,null,null,null,null,null,null,null,null,null,null,null,null,null,null,null,null,null,null,null,null,null,null,null,null,null,null,null,null,null,null,null,null,null,null,null,null,null,null,null,null,null,null,null,null,null,null,null,null,null,null,null,null,null,null,null,null,null,null,null,null,null,null,null,null,null,null,null,null,null,null,null,null,null,null,null,null,null,null,null,null,"",null,{"$f":"IF(BY74=\"\",\"\",\"AgencyEntityInsData Id 395\")","v":""},{"$f":"IF(BY74=\"\",\"\",\"AgencyEntityInstance Id 72\")","v":""},{"$f":"IF(BY74=\"\",\"\",\"cm_base_dcp_02_end\")","v":""},{"$f":"IF(BY74=\"\",\"\",'Test 5'!AE40)","v":""},{"$f":"IF(BY74=\"\",\"\",TODAY())","v":""},{"$f":"IF(BY74=\"\",\"\",\"WTSYSTEMUSER\")","v":""},{"$f":"IF(BY74=\"\",\"\",TODAY())","v":""},{"$f":"IF(BY74=\"\",\"\",\"WTSYSTEMUSER\")","v":""}]
[null,null,null,null,null,null,null,null,null,null,null,null,null,null,null,null,null,null,null,null,null,null,null,null,null,null,null,null,null,null,null,null,null,null,null,null,null,null,null,null,null,null,null,null,null,null,null,null,null,null,null,null,null,null,null,null,null,null,null,null,null,null,null,null,null,null,null,null,null,null,null,null,null,null,null,null,null,null,null,null,null,null,null,null,null,null,null,null,null,null,null,null,"",null,{"$f":"IF(BY75=\"\",\"\",\"AgencyEntityInsData Id 399\")","v":""},{"$f":"IF(BY75=\"\",\"\",\"AgencyEntityInstance Id 73\")","v":""},{"$f":"IF(BY75=\"\",\"\",\"cm_base_dcp_02_end\")","v":""},{"$f":"IF(BY75=\"\",\"\",'Test 5'!AE41)","v":""},{"$f":"IF(BY75=\"\",\"\",TODAY())","v":""},{"$f":"IF(BY75=\"\",\"\",\"WTSYSTEMUSER\")","v":""},{"$f":"IF(BY75=\"\",\"\",TODAY())","v":""},{"$f":"IF(BY75=\"\",\"\",\"WTSYSTEMUSER\")","v":""}]
[null,null,null,null,null,null,null,null,null,null,null,null,null,null,null,null,null,null,null,null,null,null,null,null,null,null,null,null,null,null,null,null,null,null,null,null,null,null,null,null,null,null,null,null,null,null,null,null,null,null,null,null,null,null,null,null,null,null,null,null,null,null,null,null,null,null,null,null,null,null,null,null,null,null,null,null,null,null,null,null,null,null,null,null,null,null,null,null,null,null,null,null,"",null,{"$f":"IF(BY75=\"\",\"\",\"AgencyEntityInsData Id 400\")","v":""},{"$f":"IF(BY75=\"\",\"\",\"AgencyEntityInstance Id 73\")","v":""},{"$f":"IF(BY75=\"\",\"\",\"cm_base_dcp_03_blows\")","v":""},{"$f":"IF(BY75=\"\",\"\",IF('Test 5'!I41=\"\",\"\",'Test 5'!I41))","v":""},{"$f":"IF(BY75=\"\",\"\",TODAY())","v":""},{"$f":"IF(BY75=\"\",\"\",\"WTSYSTEMUSER\")","v":""},{"$f":"IF(BY75=\"\",\"\",TODAY())","v":""},{"$f":"IF(BY75=\"\",\"\",\"WTSYSTEMUSER\")","v":""}]
[null,null,null,null,null,null,null,null,null,null,null,null,null,null,null,null,null,null,null,null,null,null,null,null,null,null,null,null,null,null,null,null,null,null,null,null,null,null,null,null,null,null,null,null,null,null,null,null,null,null,null,null,null,null,null,null,null,null,null,null,null,null,null,null,null,null,null,null,null,null,null,null,null,null,null,null,null,null,null,null,null,null,null,null,null,null,null,null,null,null,null,null,"",null,{"$f":"IF(BY77=\"\",\"\",\"AgencyEntityInsData Id 406\")","v":""},{"$f":"IF(BY77=\"\",\"\",\"AgencyEntityInstance Id 75\")","v":""},{"$f":"IF(BY77=\"\",\"\",\"cm_base_dcp_01_begin\")","v":""},{"$f":"IF(BY77=\"\",\"\",'Test 5'!AD43)","v":""},{"$f":"IF(BY77=\"\",\"\",TODAY())","v":""},{"$f":"IF(BY77=\"\",\"\",\"WTSYSTEMUSER\")","v":""},{"$f":"IF(BY77=\"\",\"\",TODAY())","v":""},{"$f":"IF(BY77=\"\",\"\",\"WTSYSTEMUSER\")","v":""}]
[null,null,null,null,null,null,null,null,null,null,null,null,null,null,null,null,null,null,null,null,null,null,null,null,null,null,null,null,null,null,null,null,null,null,null,null,null,null,null,null,null,null,null,null,null,null,null,null,null,null,null,null,null,null,null,null,null,null,null,null,null,null,null,null,null,null,null,null,null,null,null,null,null,null,null,null,null,null,null,null,null,null,null,null,null,null,null,null,null,null,null,null,"",null,{"$f":"IF(BY77=\"\",\"\",\"AgencyEntityInsData Id 409\")","v":""},{"$f":"IF(BY77=\"\",\"\",\"AgencyEntityInstance Id 75\")","v":""},{"$f":"IF(BY77=\"\",\"\",\"cm_base_dcp_04_index\")","v":""},{"$f":"IF(BY77=\"\",\"\",'Test 5'!AF43)","v":""},{"$f":"IF(BY77=\"\",\"\",TODAY())","v":""},{"$f":"IF(BY77=\"\",\"\",\"WTSYSTEMUSER\")","v":""},{"$f":"IF(BY77=\"\",\"\",TODAY())","v":""},{"$f":"IF(BY77=\"\",\"\",\"WTSYSTEMUSER\")","v":""}]
[null,null,null,null,null,null,null,null,null,null,null,null,null,null,null,null,null,null,null,null,null,null,null,null,null,null,null,null,null,null,null,null,null,null,null,null,null,null,null,null,null,null,null,null,null,null,null,null,null,null,null,null,null,null,null,null,null,null,null,null,null,null,null,null,null,null,null,null,null,null,null,null,null,null,null,null,null,null,null,null,null,null,null,null,null,null,null,null,null,null,null,null,"",null,{"$f":"IF(BY78=\"\",\"\",\"AgencyEntityInsData Id 411\")","v":""},{"$f":"IF(BY78=\"\",\"\",\"AgencyEntityInstance Id 76\")","v":""},{"$f":"IF(BY78=\"\",\"\",\"cm_base_dcp_header_02_thi_spec\")","v":""},{"$f":"IF(BY78=\"\",\"\",'Test 5'!AF20)","v":""},{"$f":"IF(BY78=\"\",\"\",TODAY())","v":""},{"$f":"IF(BY78=\"\",\"\",\"WTSYSTEMUSER\")","v":""},{"$f":"IF(BY78=\"\",\"\",TODAY())","v":""},{"$f":"IF(BY78=\"\",\"\",\"WTSYSTEMUSER\")","v":""}]
[null,null,null,null,null,null,null,null,null,null,null,null,null,null,null,null,null,null,null,null,null,null,null,null,null,null,null,null,null,null,null,null,null,null,null,null,null,null,null,null,null,null,null,null,null,null,null,null,null,null,null,null,null,null,null,null,null,null,null,null,null,null,null,null,null,null,null,null,null,null,null,null,null,null,null,null,null,null,null,null,null,null,null,null,null,null,null,null,null,null,null,null,"",null,{"$f":"IF(BY78=\"\",\"\",\"AgencyEntityInsData Id 414\")","v":""},{"$f":"IF(BY78=\"\",\"\",\"AgencyEntityInstance Id 76\")","v":""},{"$f":"IF(BY78=\"\",\"\",\"cm_base_dcp_header_05_sta_2\")","v":""},{"$f":"IF(BY78=\"\",\"\",IF('Test 5'!U13=\"\",\"\",'Test 5'!U13))","v":""},{"$f":"IF(BY78=\"\",\"\",TODAY())","v":""},{"$f":"IF(BY78=\"\",\"\",\"WTSYSTEMUSER\")","v":""},{"$f":"IF(BY78=\"\",\"\",TODAY())","v":""},{"$f":"IF(BY78=\"\",\"\",\"WTSYSTEMUSER\")","v":""}]
[null,null,null,null,null,null,null,null,null,null,null,null,null,null,null,null,null,null,null,null,null,null,null,null,null,null,null,null,null,null,null,null,null,null,null,null,null,null,null,null,null,null,null,null,null,null,null,null,null,null,null,null,null,null,null,null,null,null,null,null,null,null,null,null,null,null,null,null,null,null,null,null,null,null,null,null,null,null,null,null,null,null,null,null,null,null,null,null,null,null,null,null,"",null,{"$f":"IF(BY79=\"\",\"\",\"AgencyEntityInsData Id 419\")","v":""},{"$f":"IF(BY79=\"\",\"\",\"AgencyEntityInstance Id 77\")","v":""},{"$f":"IF(BY79=\"\",\"\",\"cm_base_dcp_03_blows\")","v":""},{"$f":"IF(BY79=\"\",\"\",IF('Test 5'!V24=\"\",\"\",'Test 5'!V24))","v":""},{"$f":"IF(BY79=\"\",\"\",TODAY())","v":""},{"$f":"IF(BY79=\"\",\"\",\"WTSYSTEMUSER\")","v":""},{"$f":"IF(BY79=\"\",\"\",TODAY())","v":""},{"$f":"IF(BY79=\"\",\"\",\"WTSYSTEMUSER\")","v":""}]
[null,null,null,null,null,null,null,null,null,null,null,null,null,null,null,null,null,null,null,null,null,null,null,null,null,null,null,null,null,null,null,null,null,null,null,null,null,null,null,null,null,null,null,null,null,null,null,null,null,null,null,null,null,null,null,null,null,null,null,null,null,null,null,null,null,null,null,null,null,null,null,null,null,null,null,null,null,null,null,null,null,null,null,null,null,null,null,null,null,null,null,null,"",null,{"$f":"IF(BY80=\"\",\"\",\"AgencyEntityInsData Id 423\")","v":""},{"$f":"IF(BY80=\"\",\"\",\"AgencyEntityInstance Id 78\")","v":""},{"$f":"IF(BY80=\"\",\"\",\"cm_base_dcp_03_blows\")","v":""},{"$f":"IF(BY80=\"\",\"\",IF('Test 5'!V25=\"\",\"\",'Test 5'!V25))","v":""},{"$f":"IF(BY80=\"\",\"\",TODAY())","v":""},{"$f":"IF(BY80=\"\",\"\",\"WTSYSTEMUSER\")","v":""},{"$f":"IF(BY80=\"\",\"\",TODAY())","v":""},{"$f":"IF(BY80=\"\",\"\",\"WTSYSTEMUSER\")","v":""}]
[null,null,null,null,null,null,null,null,null,null,null,null,null,null,null,null,null,null,null,null,null,null,null,null,null,null,null,null,null,null,null,null,null,null,null,null,null,null,null,null,null,null,null,null,null,null,null,null,null,null,null,null,null,null,null,null,null,null,null,null,null,null,null,null,null,null,null,null,null,null,null,null,null,null,null,null,null,null,null,null,null,null,null,null,null,null,null,null,null,null,null,null,"",null,{"$f":"IF(BY81=\"\",\"\",\"AgencyEntityInsData Id 427\")","v":""},{"$f":"IF(BY81=\"\",\"\",\"AgencyEntityInstance Id 79\")","v":""},{"$f":"IF(BY81=\"\",\"\",\"cm_base_dcp_03_blows\")","v":""},{"$f":"IF(BY81=\"\",\"\",IF('Test 5'!V26=\"\",\"\",'Test 5'!V26))","v":""},{"$f":"IF(BY81=\"\",\"\",TODAY())","v":""},{"$f":"IF(BY81=\"\",\"\",\"WTSYSTEMUSER\")","v":""},{"$f":"IF(BY81=\"\",\"\",TODAY())","v":""},{"$f":"IF(BY81=\"\",\"\",\"WTSYSTEMUSER\")","v":""}]
[null,null,null,null,null,null,null,null,null,null,null,null,null,null,null,null,null,null,null,null,null,null,null,null,null,null,null,null,null,null,null,null,null,null,null,null,null,null,null,null,null,null,null,null,null,null,null,null,null,null,null,null,null,null,null,null,null,null,null,null,null,null,null,null,null,null,null,null,null,null,null,null,null,null,null,null,null,null,null,null,null,null,null,null,null,null,null,null,null,null,null,null,"",null,{"$f":"IF(BY81=\"\",\"\",\"AgencyEntityInsData Id 428\")","v":""},{"$f":"IF(BY81=\"\",\"\",\"AgencyEntityInstance Id 79\")","v":""},{"$f":"IF(BY81=\"\",\"\",\"cm_base_dcp_04_index\")","v":""},{"$f":"IF(BY81=\"\",\"\",'Test 5'!AI26)","v":""},{"$f":"IF(BY81=\"\",\"\",TODAY())","v":""},{"$f":"IF(BY81=\"\",\"\",\"WTSYSTEMUSER\")","v":""},{"$f":"IF(BY81=\"\",\"\",TODAY())","v":""},{"$f":"IF(BY81=\"\",\"\",\"WTSYSTEMUSER\")","v":""}]
[null,null,null,null,null,null,null,null,null,null,null,null,null,null,null,null,null,null,null,null,null,null,null,null,null,null,null,null,null,null,null,null,null,null,null,null,null,null,null,null,null,null,null,null,null,null,null,null,null,null,null,null,null,null,null,null,null,null,null,null,null,null,null,null,null,null,null,null,null,null,null,null,null,null,null,null,null,null,null,null,null,null,null,null,null,null,null,null,null,null,null,null,"",null,{"$f":"IF(BY83=\"\",\"\",\"AgencyEntityInsData Id 434\")","v":""},{"$f":"IF(BY83=\"\",\"\",\"AgencyEntityInstance Id 81\")","v":""},{"$f":"IF(BY83=\"\",\"\",\"cm_base_dcp_02_end\")","v":""},{"$f":"IF(BY83=\"\",\"\",'Test 5'!AH28)","v":""},{"$f":"IF(BY83=\"\",\"\",TODAY())","v":""},{"$f":"IF(BY83=\"\",\"\",\"WTSYSTEMUSER\")","v":""},{"$f":"IF(BY83=\"\",\"\",TODAY())","v":""},{"$f":"IF(BY83=\"\",\"\",\"WTSYSTEMUSER\")","v":""}]
[null,null,null,null,null,null,null,null,null,null,null,null,null,null,null,null,null,null,null,null,null,null,null,null,null,null,null,null,null,null,null,null,null,null,null,null,null,null,null,null,null,null,null,null,null,null,null,null,null,null,null,null,null,null,null,null,null,null,null,null,null,null,null,null,null,null,null,null,null,null,null,null,null,null,null,null,null,null,null,null,null,null,null,null,null,null,null,null,null,null,null,null,"",null,{"$f":"IF(BY84=\"\",\"\",\"AgencyEntityInsData Id 437\")","v":""},{"$f":"IF(BY84=\"\",\"\",\"AgencyEntityInstance Id 82\")","v":""},{"$f":"IF(BY84=\"\",\"\",\"cm_base_dcp_01_begin\")","v":""},{"$f":"IF(BY84=\"\",\"\",'Test 5'!AG29)","v":""},{"$f":"IF(BY84=\"\",\"\",TODAY())","v":""},{"$f":"IF(BY84=\"\",\"\",\"WTSYSTEMUSER\")","v":""},{"$f":"IF(BY84=\"\",\"\",TODAY())","v":""},{"$f":"IF(BY84=\"\",\"\",\"WTSYSTEMUSER\")","v":""}]
[null,null,null,null,null,null,null,null,null,null,null,null,null,null,null,null,null,null,null,null,null,null,null,null,null,null,null,null,null,null,null,null,null,null,null,null,null,null,null,null,null,null,null,null,null,null,null,null,null,null,null,null,null,null,null,null,null,null,null,null,null,null,null,null,null,null,null,null,null,null,null,null,null,null,null,null,null,null,null,null,null,null,null,null,null,null,null,null,null,null,null,null,"",null,{"$f":"IF(BY85=\"\",\"\",\"AgencyEntityInsData Id 442\")","v":""},{"$f":"IF(BY85=\"\",\"\",\"AgencyEntityInstance Id 83\")","v":""},{"$f":"IF(BY85=\"\",\"\",\"cm_base_dcp_02_end\")","v":""},{"$f":"IF(BY85=\"\",\"\",'Test 5'!AH30)","v":""},{"$f":"IF(BY85=\"\",\"\",TODAY())","v":""},{"$f":"IF(BY85=\"\",\"\",\"WTSYSTEMUSER\")","v":""},{"$f":"IF(BY85=\"\",\"\",TODAY())","v":""},{"$f":"IF(BY85=\"\",\"\",\"WTSYSTEMUSER\")","v":""}]
[null,null,null,null,null,null,null,null,null,null,null,null,null,null,null,null,null,null,null,null,null,null,null,null,null,null,null,null,null,null,null,null,null,null,null,null,null,null,null,null,null,null,null,null,null,null,null,null,null,null,null,null,null,null,null,null,null,null,null,null,null,null,null,null,null,null,null,null,null,null,null,null,null,null,null,null,null,null,null,null,null,null,null,null,null,null,null,null,null,null,null,null,"",null,{"$f":"IF(BY85=\"\",\"\",\"AgencyEntityInsData Id 444\")","v":""},{"$f":"IF(BY85=\"\",\"\",\"AgencyEntityInstance Id 83\")","v":""},{"$f":"IF(BY85=\"\",\"\",\"cm_base_dcp_04_index\")","v":""},{"$f":"IF(BY85=\"\",\"\",'Test 5'!AI30)","v":""},{"$f":"IF(BY85=\"\",\"\",TODAY())","v":""},{"$f":"IF(BY85=\"\",\"\",\"WTSYSTEMUSER\")","v":""},{"$f":"IF(BY85=\"\",\"\",TODAY())","v":""},{"$f":"IF(BY85=\"\",\"\",\"WTSYSTEMUSER\")","v":""}]
[null,null,null,null,null,null,null,null,null,null,null,null,null,null,null,null,null,null,null,null,null,null,null,null,null,null,null,null,null,null,null,null,null,null,null,null,null,null,null,null,null,null,null,null,null,null,null,null,null,null,null,null,null,null,null,null,null,null,null,null,null,null,null,null,null,null,null,null,null,null,null,null,null,null,null,null,null,null,null,null,null,null,null,null,null,null,null,null,null,null,null,null,"",null,{"$f":"IF(BY86=\"\",\"\",\"AgencyEntityInsData Id 447\")","v":""},{"$f":"IF(BY86=\"\",\"\",\"AgencyEntityInstance Id 84\")","v":""},{"$f":"IF(BY86=\"\",\"\",\"cm_base_dcp_03_blows\")","v":""},{"$f":"IF(BY86=\"\",\"\",IF('Test 5'!V31=\"\",\"\",'Test 5'!V31))","v":""},{"$f":"IF(BY86=\"\",\"\",TODAY())","v":""},{"$f":"IF(BY86=\"\",\"\",\"WTSYSTEMUSER\")","v":""},{"$f":"IF(BY86=\"\",\"\",TODAY())","v":""},{"$f":"IF(BY86=\"\",\"\",\"WTSYSTEMUSER\")","v":""}]
[null,null,null,null,null,null,null,null,null,null,null,null,null,null,null,null,null,null,null,null,null,null,null,null,null,null,null,null,null,null,null,null,null,null,null,null,null,null,null,null,null,null,null,null,null,null,null,null,null,null,null,null,null,null,null,null,null,null,null,null,null,null,null,null,null,null,null,null,null,null,null,null,null,null,null,null,null,null,null,null,null,null,null,null,null,null,null,null,null,null,null,null,"",null,{"$f":"IF(BY87=\"\",\"\",\"AgencyEntityInsData Id 451\")","v":""},{"$f":"IF(BY87=\"\",\"\",\"AgencyEntityInstance Id 85\")","v":""},{"$f":"IF(BY87=\"\",\"\",\"cm_base_dcp_03_blows\")","v":""},{"$f":"IF(BY87=\"\",\"\",IF('Test 5'!V32=\"\",\"\",'Test 5'!V32))","v":""},{"$f":"IF(BY87=\"\",\"\",TODAY())","v":""},{"$f":"IF(BY87=\"\",\"\",\"WTSYSTEMUSER\")","v":""},{"$f":"IF(BY87=\"\",\"\",TODAY())","v":""},{"$f":"IF(BY87=\"\",\"\",\"WTSYSTEMUSER\")","v":""}]
[null,null,null,null,null,null,null,null,null,null,null,null,null,null,null,null,null,null,null,null,null,null,null,null,null,null,null,null,null,null,null,null,null,null,null,null,null,null,null,null,null,null,null,null,null,null,null,null,null,null,null,null,null,null,null,null,null,null,null,null,null,null,null,null,null,null,null,null,null,null,null,null,null,null,null,null,null,null,null,null,null,null,null,null,null,null,null,null,null,null,null,null,"",null,{"$f":"IF(BY88=\"\",\"\",\"AgencyEntityInsData Id 456\")","v":""},{"$f":"IF(BY88=\"\",\"\",\"AgencyEntityInstance Id 86\")","v":""},{"$f":"IF(BY88=\"\",\"\",\"cm_base_dcp_04_index\")","v":""},{"$f":"IF(BY88=\"\",\"\",'Test 5'!AI33)","v":""},{"$f":"IF(BY88=\"\",\"\",TODAY())","v":""},{"$f":"IF(BY88=\"\",\"\",\"WTSYSTEMUSER\")","v":""},{"$f":"IF(BY88=\"\",\"\",TODAY())","v":""},{"$f":"IF(BY88=\"\",\"\",\"WTSYSTEMUSER\")","v":""}]
[null,null,null,null,null,null,null,null,null,null,null,null,null,null,null,null,null,null,null,null,null,null,null,null,null,null,null,null,null,null,null,null,null,null,null,null,null,null,null,null,null,null,null,null,null,null,null,null,null,null,null,null,null,null,null,null,null,null,null,null,null,null,null,null,null,null,null,null,null,null,null,null,null,null,null,null,null,null,null,null,null,null,null,null,null,null,null,null,null,null,null,null,"",null,{"$f":"IF(BY89=\"\",\"\",\"AgencyEntityInsData Id 459\")","v":""},{"$f":"IF(BY89=\"\",\"\",\"AgencyEntityInstance Id 87\")","v":""},{"$f":"IF(BY89=\"\",\"\",\"cm_base_dcp_03_blows\")","v":""},{"$f":"IF(BY89=\"\",\"\",IF('Test 5'!V34=\"\",\"\",'Test 5'!V34))","v":""},{"$f":"IF(BY89=\"\",\"\",TODAY())","v":""},{"$f":"IF(BY89=\"\",\"\",\"WTSYSTEMUSER\")","v":""},{"$f":"IF(BY89=\"\",\"\",TODAY())","v":""},{"$f":"IF(BY89=\"\",\"\",\"WTSYSTEMUSER\")","v":""}]
[null,null,null,null,null,null,null,null,null,null,null,null,null,null,null,null,null,null,null,null,null,null,null,null,null,null,null,null,null,null,null,null,null,null,null,null,null,null,null,null,null,null,null,null,null,null,null,null,null,null,null,null,null,null,null,null,null,null,null,null,null,null,null,null,null,null,null,null,null,null,null,null,null,null,null,null,null,null,null,null,null,null,null,null,null,null,null,null,null,null,null,null,"",null,{"$f":"IF(BY90=\"\",\"\",\"AgencyEntityInsData Id 461\")","v":""},{"$f":"IF(BY90=\"\",\"\",\"AgencyEntityInstance Id 88\")","v":""},{"$f":"IF(BY90=\"\",\"\",\"cm_base_dcp_01_begin\")","v":""},{"$f":"IF(BY90=\"\",\"\",'Test 5'!AG35)","v":""},{"$f":"IF(BY90=\"\",\"\",TODAY())","v":""},{"$f":"IF(BY90=\"\",\"\",\"WTSYSTEMUSER\")","v":""},{"$f":"IF(BY90=\"\",\"\",TODAY())","v":""},{"$f":"IF(BY90=\"\",\"\",\"WTSYSTEMUSER\")","v":""}]
[null,null,null,null,null,null,null,null,null,null,null,null,null,null,null,null,null,null,null,null,null,null,null,null,null,null,null,null,null,null,null,null,null,null,null,null,null,null,null,null,null,null,null,null,null,null,null,null,null,null,null,null,null,null,null,null,null,null,null,null,null,null,null,null,null,null,null,null,null,null,null,null,null,null,null,null,null,null,null,null,null,null,null,null,null,null,null,null,null,null,null,null,"",null,{"$f":"IF(BY90=\"\",\"\",\"AgencyEntityInsData Id 464\")","v":""},{"$f":"IF(BY90=\"\",\"\",\"AgencyEntityInstance Id 88\")","v":""},{"$f":"IF(BY90=\"\",\"\",\"cm_base_dcp_04_index\")","v":""},{"$f":"IF(BY90=\"\",\"\",'Test 5'!AI35)","v":""},{"$f":"IF(BY90=\"\",\"\",TODAY())","v":""},{"$f":"IF(BY90=\"\",\"\",\"WTSYSTEMUSER\")","v":""},{"$f":"IF(BY90=\"\",\"\",TODAY())","v":""},{"$f":"IF(BY90=\"\",\"\",\"WTSYSTEMUSER\")","v":""}]
[null,null,null,null,null,null,null,null,null,null,null,null,null,null,null,null,null,null,null,null,null,null,null,null,null,null,null,null,null,null,null,null,null,null,null,null,null,null,null,null,null,null,null,null,null,null,null,null,null,null,null,null,null,null,null,null,null,null,null,null,null,null,null,null,null,null,null,null,null,null,null,null,null,null,null,null,null,null,null,null,null,null,null,null,null,null,null,null,null,null,null,null,"",null,{"$f":"IF(BY92=\"\",\"\",\"AgencyEntityInsData Id 470\")","v":""},{"$f":"IF(BY92=\"\",\"\",\"AgencyEntityInstance Id 90\")","v":""},{"$f":"IF(BY92=\"\",\"\",\"cm_base_dcp_02_end\")","v":""},{"$f":"IF(BY92=\"\",\"\",'Test 5'!AH37)","v":""},{"$f":"IF(BY92=\"\",\"\",TODAY())","v":""},{"$f":"IF(BY92=\"\",\"\",\"WTSYSTEMUSER\")","v":""},{"$f":"IF(BY92=\"\",\"\",TODAY())","v":""},{"$f":"IF(BY92=\"\",\"\",\"WTSYSTEMUSER\")","v":""}]
[null,null,null,null,null,null,null,null,null,null,null,null,null,null,null,null,null,null,null,null,null,null,null,null,null,null,null,null,null,null,null,null,null,null,null,null,null,null,null,null,null,null,null,null,null,null,null,null,null,null,null,null,null,null,null,null,null,null,null,null,null,null,null,null,null,null,null,null,null,null,null,null,null,null,null,null,null,null,null,null,null,null,null,null,null,null,null,null,null,null,null,null,"",null,{"$f":"IF(BY92=\"\",\"\",\"AgencyEntityInsData Id 472\")","v":""},{"$f":"IF(BY92=\"\",\"\",\"AgencyEntityInstance Id 90\")","v":""},{"$f":"IF(BY92=\"\",\"\",\"cm_base_dcp_04_index\")","v":""},{"$f":"IF(BY92=\"\",\"\",'Test 5'!AI37)","v":""},{"$f":"IF(BY92=\"\",\"\",TODAY())","v":""},{"$f":"IF(BY92=\"\",\"\",\"WTSYSTEMUSER\")","v":""},{"$f":"IF(BY92=\"\",\"\",TODAY())","v":""},{"$f":"IF(BY92=\"\",\"\",\"WTSYSTEMUSER\")","v":""}]
[null,null,null,null,null,null,null,null,null,null,null,null,null,null,null,null,null,null,null,null,null,null,null,null,null,null,null,null,null,null,null,null,null,null,null,null,null,null,null,null,null,null,null,null,null,null,null,null,null,null,null,null,null,null,null,null,null,null,null,null,null,null,null,null,null,null,null,null,null,null,null,null,null,null,null,null,null,null,null,null,null,null,null,null,null,null,null,null,null,null,null,null,"",null,{"$f":"IF(BY93=\"\",\"\",\"AgencyEntityInsData Id 475\")","v":""},{"$f":"IF(BY93=\"\",\"\",\"AgencyEntityInstance Id 91\")","v":""},{"$f":"IF(BY93=\"\",\"\",\"cm_base_dcp_03_blows\")","v":""},{"$f":"IF(BY93=\"\",\"\",IF('Test 5'!V38=\"\",\"\",'Test 5'!V38))","v":""},{"$f":"IF(BY93=\"\",\"\",TODAY())","v":""},{"$f":"IF(BY93=\"\",\"\",\"WTSYSTEMUSER\")","v":""},{"$f":"IF(BY93=\"\",\"\",TODAY())","v":""},{"$f":"IF(BY93=\"\",\"\",\"WTSYSTEMUSER\")","v":""}]
[null,null,null,null,null,null,null,null,null,null,null,null,null,null,null,null,null,null,null,null,null,null,null,null,null,null,null,null,null,null,null,null,null,null,null,null,null,null,null,null,null,null,null,null,null,null,null,null,null,null,null,null,null,null,null,null,null,null,null,null,null,null,null,null,null,null,null,null,null,null,null,null,null,null,null,null,null,null,null,null,null,null,null,null,null,null,null,null,null,null,null,null,"",null,{"$f":"IF(BY94=\"\",\"\",\"AgencyEntityInsData Id 479\")","v":""},{"$f":"IF(BY94=\"\",\"\",\"AgencyEntityInstance Id 92\")","v":""},{"$f":"IF(BY94=\"\",\"\",\"cm_base_dcp_03_blows\")","v":""},{"$f":"IF(BY94=\"\",\"\",IF('Test 5'!V39=\"\",\"\",'Test 5'!V39))","v":""},{"$f":"IF(BY94=\"\",\"\",TODAY())","v":""},{"$f":"IF(BY94=\"\",\"\",\"WTSYSTEMUSER\")","v":""},{"$f":"IF(BY94=\"\",\"\",TODAY())","v":""},{"$f":"IF(BY94=\"\",\"\",\"WTSYSTEMUSER\")","v":""}]
[null,null,null,null,null,null,null,null,null,null,null,null,null,null,null,null,null,null,null,null,null,null,null,null,null,null,null,null,null,null,null,null,null,null,null,null,null,null,null,null,null,null,null,null,null,null,null,null,null,null,null,null,null,null,null,null,null,null,null,null,null,null,null,null,null,null,null,null,null,null,null,null,null,null,null,null,null,null,null,null,null,null,null,null,null,null,null,null,null,null,null,null,"",null,{"$f":"IF(BY95=\"\",\"\",\"AgencyEntityInsData Id 484\")","v":""},{"$f":"IF(BY95=\"\",\"\",\"AgencyEntityInstance Id 93\")","v":""},{"$f":"IF(BY95=\"\",\"\",\"cm_base_dcp_04_index\")","v":""},{"$f":"IF(BY95=\"\",\"\",'Test 5'!AI40)","v":""},{"$f":"IF(BY95=\"\",\"\",TODAY())","v":""},{"$f":"IF(BY95=\"\",\"\",\"WTSYSTEMUSER\")","v":""},{"$f":"IF(BY95=\"\",\"\",TODAY())","v":""},{"$f":"IF(BY95=\"\",\"\",\"WTSYSTEMUSER\")","v":""}]
[null,null,null,null,null,null,null,null,null,null,null,null,null,null,null,null,null,null,null,null,null,null,null,null,null,null,null,null,null,null,null,null,null,null,null,null,null,null,null,null,null,null,null,null,null,null,null,null,null,null,null,null,null,null,null,null,null,null,null,null,null,null,null,null,null,null,null,null,null,null,null,null,null,null,null,null,null,null,null,null,null,null,null,null,null,null,null,null,null,null,null,null,"",null,{"$f":"IF(BY96=\"\",\"\",\"AgencyEntityInsData Id 487\")","v":""},{"$f":"IF(BY96=\"\",\"\",\"AgencyEntityInstance Id 94\")","v":""},{"$f":"IF(BY96=\"\",\"\",\"cm_base_dcp_03_blows\")","v":""},{"$f":"IF(BY96=\"\",\"\",IF('Test 5'!V41=\"\",\"\",'Test 5'!V41))","v":""},{"$f":"IF(BY96=\"\",\"\",TODAY())","v":""},{"$f":"IF(BY96=\"\",\"\",\"WTSYSTEMUSER\")","v":""},{"$f":"IF(BY96=\"\",\"\",TODAY())","v":""},{"$f":"IF(BY96=\"\",\"\",\"WTSYSTEMUSER\")","v":""}]
[null,null,null,null,null,null,null,null,null,null,null,null,null,null,null,null,null,null,null,null,null,null,null,null,null,null,null,null,null,null,null,null,null,null,null,null,null,null,null,null,null,null,null,null,null,null,null,null,null,null,null,null,null,null,null,null,null,null,null,null,null,null,null,null,null,null,null,null,null,null,null,null,null,null,null,null,null,null,null,null,null,null,null,null,null,null,null,null,null,null,null,null,"",null,{"$f":"IF(BY97=\"\",\"\",\"AgencyEntityInsData Id 489\")","v":""},{"$f":"IF(BY97=\"\",\"\",\"AgencyEntityInstance Id 95\")","v":""},{"$f":"IF(BY97=\"\",\"\",\"cm_base_dcp_01_begin\")","v":""},{"$f":"IF(BY97=\"\",\"\",'Test 5'!AG42)","v":""},{"$f":"IF(BY97=\"\",\"\",TODAY())","v":""},{"$f":"IF(BY97=\"\",\"\",\"WTSYSTEMUSER\")","v":""},{"$f":"IF(BY97=\"\",\"\",TODAY())","v":""},{"$f":"IF(BY97=\"\",\"\",\"WTSYSTEMUSER\")","v":""}]
[null,null,null,null,null,null,null,null,null,null,null,null,null,null,null,null,null,null,null,null,null,null,null,null,null,null,null,null,null,null,null,null,null,null,null,null,null,null,null,null,null,null,null,null,null,null,null,null,null,null,null,null,null,null,null,null,null,null,null,null,null,null,null,null,null,null,null,null,null,null,null,null,null,null,null,null,null,null,null,null,null,null,null,null,null,null,null,null,null,null,null,null,"",null,{"$f":"IF(BY97=\"\",\"\",\"AgencyEntityInsData Id 492\")","v":""},{"$f":"IF(BY97=\"\",\"\",\"AgencyEntityInstance Id 95\")","v":""},{"$f":"IF(BY97=\"\",\"\",\"cm_base_dcp_04_index\")","v":""},{"$f":"IF(BY97=\"\",\"\",'Test 5'!AI42)","v":""},{"$f":"IF(BY97=\"\",\"\",TODAY())","v":""},{"$f":"IF(BY97=\"\",\"\",\"WTSYSTEMUSER\")","v":""},{"$f":"IF(BY97=\"\",\"\",TODAY())","v":""},{"$f":"IF(BY97=\"\",\"\",\"WTSYSTEMUSER\")","v":""}]
[null,null,null,null,null,null,null,null,null,null,null,null,null,null,null,null,null,null,null,null,null,null,null,null,null,null,null,null,null,null,null,null,null,null,null,null,null,null,null,null,null,null,null,null,null,null,null,null,null,null,null,null,null,null,null,null,null,null,null,null,null,null,null,null,null,null,null,null,null,null,null,null,null,null,null,null,null,null,null,null,null,null,null,null,null,null,null,null,null,null,null,null,"",null,{"$f":"IF(BY99=\"\",\"\",\"AgencyEntityInsData Id 498\")","v":""},{"$f":"IF(BY99=\"\",\"\",\"AgencyEntityInstance Id 97\")","v":""},{"$f":"IF(BY99=\"\",\"\",\"cm_base_dcp_header_02_thi_spec\")","v":""},{"$f":"IF(BY99=\"\",\"\",'Test 5'!AE54)","v":""},{"$f":"IF(BY99=\"\",\"\",TODAY())","v":""},{"$f":"IF(BY99=\"\",\"\",\"WTSYSTEMUSER\")","v":""},{"$f":"IF(BY99=\"\",\"\",TODAY())","v":""},{"$f":"IF(BY99=\"\",\"\",\"WTSYSTEMUSER\")","v":""}]
[null,null,null,null,null,null,null,null,null,null,null,null,null,null,null,null,null,null,null,null,null,null,null,null,null,null,null,null,null,null,null,null,null,null,null,null,null,null,null,null,null,null,null,null,null,null,null,null,null,null,null,null,null,null,null,null,null,null,null,null,null,null,null,null,null,null,null,null,null,null,null,null,null,null,null,null,null,null,null,null,null,null,null,null,null,null,null,null,null,null,null,null,"",null,{"$f":"IF(BY99=\"\",\"\",\"AgencyEntityInsData Id 499\")","v":""},{"$f":"IF(BY99=\"\",\"\",\"AgencyEntityInstance Id 97\")","v":""},{"$f":"IF(BY99=\"\",\"\",\"cm_base_dcp_header_03_thi_meas\")","v":""},{"$f":"IF(BY99=\"\",\"\",'Test 5'!AE53)","v":""},{"$f":"IF(BY99=\"\",\"\",TODAY())","v":""},{"$f":"IF(BY99=\"\",\"\",\"WTSYSTEMUSER\")","v":""},{"$f":"IF(BY99=\"\",\"\",TODAY())","v":""},{"$f":"IF(BY99=\"\",\"\",\"WTSYSTEMUSER\")","v":""}]
[null,null,null,null,null,null,null,null,null,null,null,null,null,null,null,null,null,null,null,null,null,null,null,null,null,null,null,null,null,null,null,null,null,null,null,null,null,null,null,null,null,null,null,null,null,null,null,null,null,null,null,null,null,null,null,null,null,null,null,null,null,null,null,null,null,null,null,null,null,null,null,null,null,null,null,null,null,null,null,null,null,null,null,null,null,null,null,null,null,null,null,null,"",null,{"$f":"IF(BY100=\"\",\"\",\"AgencyEntityInsData Id 504\")","v":""},{"$f":"IF(BY100=\"\",\"\",\"AgencyEntityInstance Id 98\")","v":""},{"$f":"IF(BY100=\"\",\"\",\"cm_base_dcp_01_begin\")","v":""},{"$f":"IF(BY100=\"\",\"\",'Test 5'!AD58)","v":""},{"$f":"IF(BY100=\"\",\"\",TODAY())","v":""},{"$f":"IF(BY100=\"\",\"\",\"WTSYSTEMUSER\")","v":""},{"$f":"IF(BY100=\"\",\"\",TODAY())","v":""},{"$f":"IF(BY100=\"\",\"\",\"WTSYSTEMUSER\")","v":""}]
[null,null,null,null,null,null,null,null,null,null,null,null,null,null,null,null,null,null,null,null,null,null,null,null,null,null,null,null,null,null,null,null,null,null,null,null,null,null,null,null,null,null,null,null,null,null,null,null,null,null,null,null,null,null,null,null,null,null,null,null,null,null,null,null,null,null,null,null,null,null,null,null,null,null,null,null,null,null,null,null,null,null,null,null,null,null,null,null,null,null,null,null,"",null,{"$f":"IF(BY101=\"\",\"\",\"AgencyEntityInsData Id 508\")","v":""},{"$f":"IF(BY101=\"\",\"\",\"AgencyEntityInstance Id 99\")","v":""},{"$f":"IF(BY101=\"\",\"\",\"cm_base_dcp_01_begin\")","v":""},{"$f":"IF(BY101=\"\",\"\",'Test 5'!AD59)","v":""},{"$f":"IF(BY101=\"\",\"\",TODAY())","v":""},{"$f":"IF(BY101=\"\",\"\",\"WTSYSTEMUSER\")","v":""},{"$f":"IF(BY101=\"\",\"\",TODAY())","v":""},{"$f":"IF(BY101=\"\",\"\",\"WTSYSTEMUSER\")","v":""}]
[null,null,null,null,null,null,null,null,null,null,null,null,null,null,null,null,null,null,null,null,null,null,null,null,null,null,null,null,null,null,null,null,null,null,null,null,null,null,null,null,null,null,null,null,null,null,null,null,null,null,null,null,null,null,null,null,null,null,null,null,null,null,null,null,null,null,null,null,null,null,null,null,null,null,null,null,null,null,null,null,null,null,null,null,null,null,null,null,null,null,null,null,"",null,{"$f":"IF(BY102=\"\",\"\",\"AgencyEntityInsData Id 512\")","v":""},{"$f":"IF(BY102=\"\",\"\",\"AgencyEntityInstance Id 100\")","v":""},{"$f":"IF(BY102=\"\",\"\",\"cm_base_dcp_01_begin\")","v":""},{"$f":"IF(BY102=\"\",\"\",'Test 5'!AD60)","v":""},{"$f":"IF(BY102=\"\",\"\",TODAY())","v":""},{"$f":"IF(BY102=\"\",\"\",\"WTSYSTEMUSER\")","v":""},{"$f":"IF(BY102=\"\",\"\",TODAY())","v":""},{"$f":"IF(BY102=\"\",\"\",\"WTSYSTEMUSER\")","v":""}]
[null,null,null,null,null,null,null,null,null,null,null,null,null,null,null,null,null,null,null,null,null,null,null,null,null,null,null,null,null,null,null,null,null,null,null,null,null,null,null,null,null,null,null,null,null,null,null,null,null,null,null,null,null,null,null,null,null,null,null,null,null,null,null,null,null,null,null,null,null,null,null,null,null,null,null,null,null,null,null,null,null,null,null,null,null,null,null,null,null,null,null,null,"",null,{"$f":"IF(BY102=\"\",\"\",\"AgencyEntityInsData Id 513\")","v":""},{"$f":"IF(BY102=\"\",\"\",\"AgencyEntityInstance Id 100\")","v":""},{"$f":"IF(BY102=\"\",\"\",\"cm_base_dcp_02_end\")","v":""},{"$f":"IF(BY102=\"\",\"\",'Test 5'!AE60)","v":""},{"$f":"IF(BY102=\"\",\"\",TODAY())","v":""},{"$f":"IF(BY102=\"\",\"\",\"WTSYSTEMUSER\")","v":""},{"$f":"IF(BY102=\"\",\"\",TODAY())","v":""},{"$f":"IF(BY102=\"\",\"\",\"WTSYSTEMUSER\")","v":""}]
[null,null,null,null,null,null,null,null,null,null,null,null,null,null,null,null,null,null,null,null,null,null,null,null,null,null,null,null,null,null,null,null,null,null,null,null,null,null,null,null,null,null,null,null,null,null,null,null,null,null,null,null,null,null,null,null,null,null,null,null,null,null,null,null,null,null,null,null,null,null,null,null,null,null,null,null,null,null,null,null,null,null,null,null,null,null,null,null,null,null,null,null,"",null,{"$f":"IF(BY103=\"\",\"\",\"AgencyEntityInsData Id 517\")","v":""},{"$f":"IF(BY103=\"\",\"\",\"AgencyEntityInstance Id 101\")","v":""},{"$f":"IF(BY103=\"\",\"\",\"cm_base_dcp_02_end\")","v":""},{"$f":"IF(BY103=\"\",\"\",'Test 5'!AE61)","v":""},{"$f":"IF(BY103=\"\",\"\",TODAY())","v":""},{"$f":"IF(BY103=\"\",\"\",\"WTSYSTEMUSER\")","v":""},{"$f":"IF(BY103=\"\",\"\",TODAY())","v":""},{"$f":"IF(BY103=\"\",\"\",\"WTSYSTEMUSER\")","v":""}]
[null,null,null,null,null,null,null,null,null,null,null,null,null,null,null,null,null,null,null,null,null,null,null,null,null,null,null,null,null,null,null,null,null,null,null,null,null,null,null,null,null,null,null,null,null,null,null,null,null,null,null,null,null,null,null,null,null,null,null,null,null,null,null,null,null,null,null,null,null,null,null,null,null,null,null,null,null,null,null,null,null,null,null,null,null,null,null,null,null,null,null,null,"",null,{"$f":"IF(BY104=\"\",\"\",\"AgencyEntityInsData Id 522\")","v":""},{"$f":"IF(BY104=\"\",\"\",\"AgencyEntityInstance Id 102\")","v":""},{"$f":"IF(BY104=\"\",\"\",\"cm_base_dcp_03_blows\")","v":""},{"$f":"IF(BY104=\"\",\"\",IF('Test 5'!I62=\"\",\"\",'Test 5'!I62))","v":""},{"$f":"IF(BY104=\"\",\"\",TODAY())","v":""},{"$f":"IF(BY104=\"\",\"\",\"WTSYSTEMUSER\")","v":""},{"$f":"IF(BY104=\"\",\"\",TODAY())","v":""},{"$f":"IF(BY104=\"\",\"\",\"WTSYSTEMUSER\")","v":""}]
[null,null,null,null,null,null,null,null,null,null,null,null,null,null,null,null,null,null,null,null,null,null,null,null,null,null,null,null,null,null,null,null,null,null,null,null,null,null,null,null,null,null,null,null,null,null,null,null,null,null,null,null,null,null,null,null,null,null,null,null,null,null,null,null,null,null,null,null,null,null,null,null,null,null,null,null,null,null,null,null,null,null,null,null,null,null,null,null,null,null,null,null,"",null,{"$f":"IF(BY105=\"\",\"\",\"AgencyEntityInsData Id 524\")","v":""},{"$f":"IF(BY105=\"\",\"\",\"AgencyEntityInstance Id 103\")","v":""},{"$f":"IF(BY105=\"\",\"\",\"cm_base_dcp_01_begin\")","v":""},{"$f":"IF(BY105=\"\",\"\",'Test 5'!AD63)","v":""},{"$f":"IF(BY105=\"\",\"\",TODAY())","v":""},{"$f":"IF(BY105=\"\",\"\",\"WTSYSTEMUSER\")","v":""},{"$f":"IF(BY105=\"\",\"\",TODAY())","v":""},{"$f":"IF(BY105=\"\",\"\",\"WTSYSTEMUSER\")","v":""}]
[null,null,null,null,null,null,null,null,null,null,null,null,null,null,null,null,null,null,null,null,null,null,null,null,null,null,null,null,null,null,null,null,null,null,null,null,null,null,null,null,null,null,null,null,null,null,null,null,null,null,null,null,null,null,null,null,null,null,null,null,null,null,null,null,null,null,null,null,null,null,null,null,null,null,null,null,null,null,null,null,null,null,null,null,null,null,null,null,null,null,null,null,"",null,{"$f":"IF(BY105=\"\",\"\",\"AgencyEntityInsData Id 527\")","v":""},{"$f":"IF(BY105=\"\",\"\",\"AgencyEntityInstance Id 103\")","v":""},{"$f":"IF(BY105=\"\",\"\",\"cm_base_dcp_04_index\")","v":""},{"$f":"IF(BY105=\"\",\"\",'Test 5'!AF63)","v":""},{"$f":"IF(BY105=\"\",\"\",TODAY())","v":""},{"$f":"IF(BY105=\"\",\"\",\"WTSYSTEMUSER\")","v":""},{"$f":"IF(BY105=\"\",\"\",TODAY())","v":""},{"$f":"IF(BY105=\"\",\"\",\"WTSYSTEMUSER\")","v":""}]
[null,null,null,null,null,null,null,null,null,null,null,null,null,null,null,null,null,null,null,null,null,null,null,null,null,null,null,null,null,null,null,null,null,null,null,null,null,null,null,null,null,null,null,null,null,null,null,null,null,null,null,null,null,null,null,null,null,null,null,null,null,null,null,null,null,null,null,null,null,null,null,null,null,null,null,null,null,null,null,null,null,null,null,null,null,null,null,null,null,null,null,null,"",null,{"$f":"IF(BY107=\"\",\"\",\"AgencyEntityInsData Id 532\")","v":""},{"$f":"IF(BY107=\"\",\"\",\"AgencyEntityInstance Id 105\")","v":""},{"$f":"IF(BY107=\"\",\"\",\"cm_base_dcp_01_begin\")","v":""},{"$f":"IF(BY107=\"\",\"\",'Test 5'!AD65)","v":""},{"$f":"IF(BY107=\"\",\"\",TODAY())","v":""},{"$f":"IF(BY107=\"\",\"\",\"WTSYSTEMUSER\")","v":""},{"$f":"IF(BY107=\"\",\"\",TODAY())","v":""},{"$f":"IF(BY107=\"\",\"\",\"WTSYSTEMUSER\")","v":""}]
[null,null,null,null,null,null,null,null,null,null,null,null,null,null,null,null,null,null,null,null,null,null,null,null,null,null,null,null,null,null,null,null,null,null,null,null,null,null,null,null,null,null,null,null,null,null,null,null,null,null,null,null,null,null,null,null,null,null,null,null,null,null,null,null,null,null,null,null,null,null,null,null,null,null,null,null,null,null,null,null,null,null,null,null,null,null,null,null,null,null,null,null,"",null,{"$f":"IF(BY108=\"\",\"\",\"AgencyEntityInsData Id 536\")","v":""},{"$f":"IF(BY108=\"\",\"\",\"AgencyEntityInstance Id 106\")","v":""},{"$f":"IF(BY108=\"\",\"\",\"cm_base_dcp_01_begin\")","v":""},{"$f":"IF(BY108=\"\",\"\",'Test 5'!AD66)","v":""},{"$f":"IF(BY108=\"\",\"\",TODAY())","v":""},{"$f":"IF(BY108=\"\",\"\",\"WTSYSTEMUSER\")","v":""},{"$f":"IF(BY108=\"\",\"\",TODAY())","v":""},{"$f":"IF(BY108=\"\",\"\",\"WTSYSTEMUSER\")","v":""}]
[null,null,null,null,null,null,null,null,null,null,null,null,null,null,null,null,null,null,null,null,null,null,null,null,null,null,null,null,null,null,null,null,null,null,null,null,null,null,null,null,null,null,null,null,null,null,null,null,null,null,null,null,null,null,null,null,null,null,null,null,null,null,null,null,null,null,null,null,null,null,null,null,null,null,null,null,null,null,null,null,null,null,null,null,null,null,null,null,null,null,null,null,"",null,{"$f":"IF(BY109=\"\",\"\",\"AgencyEntityInsData Id 540\")","v":""},{"$f":"IF(BY109=\"\",\"\",\"AgencyEntityInstance Id 107\")","v":""},{"$f":"IF(BY109=\"\",\"\",\"cm_base_dcp_01_begin\")","v":""},{"$f":"IF(BY109=\"\",\"\",'Test 5'!AD67)","v":""},{"$f":"IF(BY109=\"\",\"\",TODAY())","v":""},{"$f":"IF(BY109=\"\",\"\",\"WTSYSTEMUSER\")","v":""},{"$f":"IF(BY109=\"\",\"\",TODAY())","v":""},{"$f":"IF(BY109=\"\",\"\",\"WTSYSTEMUSER\")","v":""}]
[null,null,null,null,null,null,null,null,null,null,null,null,null,null,null,null,null,null,null,null,null,null,null,null,null,null,null,null,null,null,null,null,null,null,null,null,null,null,null,null,null,null,null,null,null,null,null,null,null,null,null,null,null,null,null,null,null,null,null,null,null,null,null,null,null,null,null,null,null,null,null,null,null,null,null,null,null,null,null,null,null,null,null,null,null,null,null,null,null,null,null,null,"",null,{"$f":"IF(BY109=\"\",\"\",\"AgencyEntityInsData Id 541\")","v":""},{"$f":"IF(BY109=\"\",\"\",\"AgencyEntityInstance Id 107\")","v":""},{"$f":"IF(BY109=\"\",\"\",\"cm_base_dcp_02_end\")","v":""},{"$f":"IF(BY109=\"\",\"\",'Test 5'!AE67)","v":""},{"$f":"IF(BY109=\"\",\"\",TODAY())","v":""},{"$f":"IF(BY109=\"\",\"\",\"WTSYSTEMUSER\")","v":""},{"$f":"IF(BY109=\"\",\"\",TODAY())","v":""},{"$f":"IF(BY109=\"\",\"\",\"WTSYSTEMUSER\")","v":""}]
[null,null,null,null,null,null,null,null,null,null,null,null,null,null,null,null,null,null,null,null,null,null,null,null,null,null,null,null,null,null,null,null,null,null,null,null,null,null,null,null,null,null,null,null,null,null,null,null,null,null,null,null,null,null,null,null,null,null,null,null,null,null,null,null,null,null,null,null,null,null,null,null,null,null,null,null,null,null,null,null,null,null,null,null,null,null,null,null,null,null,null,null,"",null,{"$f":"IF(BY110=\"\",\"\",\"AgencyEntityInsData Id 545\")","v":""},{"$f":"IF(BY110=\"\",\"\",\"AgencyEntityInstance Id 108\")","v":""},{"$f":"IF(BY110=\"\",\"\",\"cm_base_dcp_02_end\")","v":""},{"$f":"IF(BY110=\"\",\"\",'Test 5'!AE68)","v":""},{"$f":"IF(BY110=\"\",\"\",TODAY())","v":""},{"$f":"IF(BY110=\"\",\"\",\"WTSYSTEMUSER\")","v":""},{"$f":"IF(BY110=\"\",\"\",TODAY())","v":""},{"$f":"IF(BY110=\"\",\"\",\"WTSYSTEMUSER\")","v":""}]
[null,null,null,null,null,null,null,null,null,null,null,null,null,null,null,null,null,null,null,null,null,null,null,null,null,null,null,null,null,null,null,null,null,null,null,null,null,null,null,null,null,null,null,null,null,null,null,null,null,null,null,null,null,null,null,null,null,null,null,null,null,null,null,null,null,null,null,null,null,null,null,null,null,null,null,null,null,null,null,null,null,null,null,null,null,null,null,null,null,null,null,null,"",null,{"$f":"IF(BY111=\"\",\"\",\"AgencyEntityInsData Id 550\")","v":""},{"$f":"IF(BY111=\"\",\"\",\"AgencyEntityInstance Id 109\")","v":""},{"$f":"IF(BY111=\"\",\"\",\"cm_base_dcp_03_blows\")","v":""},{"$f":"IF(BY111=\"\",\"\",IF('Test 5'!I69=\"\",\"\",'Test 5'!I69))","v":""},{"$f":"IF(BY111=\"\",\"\",TODAY())","v":""},{"$f":"IF(BY111=\"\",\"\",\"WTSYSTEMUSER\")","v":""},{"$f":"IF(BY111=\"\",\"\",TODAY())","v":""},{"$f":"IF(BY111=\"\",\"\",\"WTSYSTEMUSER\")","v":""}]
[null,null,null,null,null,null,null,null,null,null,null,null,null,null,null,null,null,null,null,null,null,null,null,null,null,null,null,null,null,null,null,null,null,null,null,null,null,null,null,null,null,null,null,null,null,null,null,null,null,null,null,null,null,null,null,null,null,null,null,null,null,null,null,null,null,null,null,null,null,null,null,null,null,null,null,null,null,null,null,null,null,null,null,null,null,null,null,null,null,null,null,null,"",null,{"$f":"IF(BY112=\"\",\"\",\"AgencyEntityInsData Id 552\")","v":""},{"$f":"IF(BY112=\"\",\"\",\"AgencyEntityInstance Id 110\")","v":""},{"$f":"IF(BY112=\"\",\"\",\"cm_base_dcp_01_begin\")","v":""},{"$f":"IF(BY112=\"\",\"\",'Test 5'!AD70)","v":""},{"$f":"IF(BY112=\"\",\"\",TODAY())","v":""},{"$f":"IF(BY112=\"\",\"\",\"WTSYSTEMUSER\")","v":""},{"$f":"IF(BY112=\"\",\"\",TODAY())","v":""},{"$f":"IF(BY112=\"\",\"\",\"WTSYSTEMUSER\")","v":""}]
[null,null,null,null,null,null,null,null,null,null,null,null,null,null,null,null,null,null,null,null,null,null,null,null,null,null,null,null,null,null,null,null,null,null,null,null,null,null,null,null,null,null,null,null,null,null,null,null,null,null,null,null,null,null,null,null,null,null,null,null,null,null,null,null,null,null,null,null,null,null,null,null,null,null,null,null,null,null,null,null,null,null,null,null,null,null,null,null,null,null,null,null,"",null,{"$f":"IF(BY112=\"\",\"\",\"AgencyEntityInsData Id 555\")","v":""},{"$f":"IF(BY112=\"\",\"\",\"AgencyEntityInstance Id 110\")","v":""},{"$f":"IF(BY112=\"\",\"\",\"cm_base_dcp_04_index\")","v":""},{"$f":"IF(BY112=\"\",\"\",'Test 5'!AF70)","v":""},{"$f":"IF(BY112=\"\",\"\",TODAY())","v":""},{"$f":"IF(BY112=\"\",\"\",\"WTSYSTEMUSER\")","v":""},{"$f":"IF(BY112=\"\",\"\",TODAY())","v":""},{"$f":"IF(BY112=\"\",\"\",\"WTSYSTEMUSER\")","v":""}]
[null,null,null,null,null,null,null,null,null,null,null,null,null,null,null,null,null,null,null,null,null,null,null,null,null,null,null,null,null,null,null,null,null,null,null,null,null,null,null,null,null,null,null,null,null,null,null,null,null,null,null,null,null,null,null,null,null,null,null,null,null,null,null,null,null,null,null,null,null,null,null,null,null,null,null,null,null,null,null,null,null,null,null,null,null,null,null,null,null,null,null,null,"",null,{"$f":"IF(BY114=\"\",\"\",\"AgencyEntityInsData Id 560\")","v":""},{"$f":"IF(BY114=\"\",\"\",\"AgencyEntityInstance Id 112\")","v":""},{"$f":"IF(BY114=\"\",\"\",\"cm_base_dcp_01_begin\")","v":""},{"$f":"IF(BY114=\"\",\"\",'Test 5'!AD72)","v":""},{"$f":"IF(BY114=\"\",\"\",TODAY())","v":""},{"$f":"IF(BY114=\"\",\"\",\"WTSYSTEMUSER\")","v":""},{"$f":"IF(BY114=\"\",\"\",TODAY())","v":""},{"$f":"IF(BY114=\"\",\"\",\"WTSYSTEMUSER\")","v":""}]
[null,null,null,null,null,null,null,null,null,null,null,null,null,null,null,null,null,null,null,null,null,null,null,null,null,null,null,null,null,null,null,null,null,null,null,null,null,null,null,null,null,null,null,null,null,null,null,null,null,null,null,null,null,null,null,null,null,null,null,null,null,null,null,null,null,null,null,null,null,null,null,null,null,null,null,null,null,null,null,null,null,null,null,null,null,null,null,null,null,null,null,null,"",null,{"$f":"IF(BY115=\"\",\"\",\"AgencyEntityInsData Id 564\")","v":""},{"$f":"IF(BY115=\"\",\"\",\"AgencyEntityInstance Id 113\")","v":""},{"$f":"IF(BY115=\"\",\"\",\"cm_base_dcp_01_begin\")","v":""},{"$f":"IF(BY115=\"\",\"\",'Test 5'!AD73)","v":""},{"$f":"IF(BY115=\"\",\"\",TODAY())","v":""},{"$f":"IF(BY115=\"\",\"\",\"WTSYSTEMUSER\")","v":""},{"$f":"IF(BY115=\"\",\"\",TODAY())","v":""},{"$f":"IF(BY115=\"\",\"\",\"WTSYSTEMUSER\")","v":""}]
[null,null,null,null,null,null,null,null,null,null,null,null,null,null,null,null,null,null,null,null,null,null,null,null,null,null,null,null,null,null,null,null,null,null,null,null,null,null,null,null,null,null,null,null,null,null,null,null,null,null,null,null,null,null,null,null,null,null,null,null,null,null,null,null,null,null,null,null,null,null,null,null,null,null,null,null,null,null,null,null,null,null,null,null,null,null,null,null,null,null,null,null,"",null,{"$f":"IF(BY116=\"\",\"\",\"AgencyEntityInsData Id 569\")","v":""},{"$f":"IF(BY116=\"\",\"\",\"AgencyEntityInstance Id 114\")","v":""},{"$f":"IF(BY116=\"\",\"\",\"cm_base_dcp_02_end\")","v":""},{"$f":"IF(BY116=\"\",\"\",'Test 5'!AE74)","v":""},{"$f":"IF(BY116=\"\",\"\",TODAY())","v":""},{"$f":"IF(BY116=\"\",\"\",\"WTSYSTEMUSER\")","v":""},{"$f":"IF(BY116=\"\",\"\",TODAY())","v":""},{"$f":"IF(BY116=\"\",\"\",\"WTSYSTEMUSER\")","v":""}]
[null,null,null,null,null,null,null,null,null,null,null,null,null,null,null,null,null,null,null,null,null,null,null,null,null,null,null,null,null,null,null,null,null,null,null,null,null,null,null,null,null,null,null,null,null,null,null,null,null,null,null,null,null,null,null,null,null,null,null,null,null,null,null,null,null,null,null,null,null,null,null,null,null,null,null,null,null,null,null,null,null,null,null,null,null,null,null,null,null,null,null,null,"",null,{"$f":"IF(BY117=\"\",\"\",\"AgencyEntityInsData Id 572\")","v":""},{"$f":"IF(BY117=\"\",\"\",\"AgencyEntityInstance Id 115\")","v":""},{"$f":"IF(BY117=\"\",\"\",\"cm_base_dcp_01_begin\")","v":""},{"$f":"IF(BY117=\"\",\"\",'Test 5'!AD75)","v":""},{"$f":"IF(BY117=\"\",\"\",TODAY())","v":""},{"$f":"IF(BY117=\"\",\"\",\"WTSYSTEMUSER\")","v":""},{"$f":"IF(BY117=\"\",\"\",TODAY())","v":""},{"$f":"IF(BY117=\"\",\"\",\"WTSYSTEMUSER\")","v":""}]
[null,null,null,null,null,null,null,null,null,null,null,null,null,null,null,null,null,null,null,null,null,null,null,null,null,null,null,null,null,null,null,null,null,null,null,null,null,null,null,null,null,null,null,null,null,null,null,null,null,null,null,null,null,null,null,null,null,null,null,null,null,null,null,null,null,null,null,null,null,null,null,null,null,null,null,null,null,null,null,null,null,null,null,null,null,null,null,null,null,null,null,null,"",null,{"$f":"IF(BY117=\"\",\"\",\"AgencyEntityInsData Id 574\")","v":""},{"$f":"IF(BY117=\"\",\"\",\"AgencyEntityInstance Id 115\")","v":""},{"$f":"IF(BY117=\"\",\"\",\"cm_base_dcp_03_blows\")","v":""},{"$f":"IF(BY117=\"\",\"\",IF('Test 5'!I75=\"\",\"\",'Test 5'!I75))","v":""},{"$f":"IF(BY117=\"\",\"\",TODAY())","v":""},{"$f":"IF(BY117=\"\",\"\",\"WTSYSTEMUSER\")","v":""},{"$f":"IF(BY117=\"\",\"\",TODAY())","v":""},{"$f":"IF(BY117=\"\",\"\",\"WTSYSTEMUSER\")","v":""}]
[null,null,null,null,null,null,null,null,null,null,null,null,null,null,null,null,null,null,null,null,null,null,null,null,null,null,null,null,null,null,null,null,null,null,null,null,null,null,null,null,null,null,null,null,null,null,null,null,null,null,null,null,null,null,null,null,null,null,null,null,null,null,null,null,null,null,null,null,null,null,null,null,null,null,null,null,null,null,null,null,null,null,null,null,null,null,null,null,null,null,null,null,"",null,{"$f":"IF(BY118=\"\",\"\",\"AgencyEntityInsData Id 577\")","v":""},{"$f":"IF(BY118=\"\",\"\",\"AgencyEntityInstance Id 116\")","v":""},{"$f":"IF(BY118=\"\",\"\",\"cm_base_dcp_02_end\")","v":""},{"$f":"IF(BY118=\"\",\"\",'Test 5'!AE76)","v":""},{"$f":"IF(BY118=\"\",\"\",TODAY())","v":""},{"$f":"IF(BY118=\"\",\"\",\"WTSYSTEMUSER\")","v":""},{"$f":"IF(BY118=\"\",\"\",TODAY())","v":""},{"$f":"IF(BY118=\"\",\"\",\"WTSYSTEMUSER\")","v":""}]
[null,null,null,null,null,null,null,null,null,null,null,null,null,null,null,null,null,null,null,null,null,null,null,null,null,null,null,null,null,null,null,null,null,null,null,null,null,null,null,null,null,null,null,null,null,null,null,null,null,null,null,null,null,null,null,null,null,null,null,null,null,null,null,null,null,null,null,null,null,null,null,null,null,null,null,null,null,null,null,null,null,null,null,null,null,null,null,null,null,null,null,null,"",null,{"$f":"IF(BY119=\"\",\"\",\"AgencyEntityInsData Id 583\")","v":""},{"$f":"IF(BY119=\"\",\"\",\"AgencyEntityInstance Id 117\")","v":""},{"$f":"IF(BY119=\"\",\"\",\"cm_base_dcp_04_index\")","v":""},{"$f":"IF(BY119=\"\",\"\",'Test 5'!AF77)","v":""},{"$f":"IF(BY119=\"\",\"\",TODAY())","v":""},{"$f":"IF(BY119=\"\",\"\",\"WTSYSTEMUSER\")","v":""},{"$f":"IF(BY119=\"\",\"\",TODAY())","v":""},{"$f":"IF(BY119=\"\",\"\",\"WTSYSTEMUSER\")","v":""}]
[null,null,null,null,null,null,null,null,null,null,null,null,null,null,null,null,null,null,null,null,null,null,null,null,null,null,null,null,null,null,null,null,null,null,null,null,null,null,null,null,null,null,null,null,null,null,null,null,null,null,null,null,null,null,null,null,null,null,null,null,null,null,null,null,null,null,null,null,null,null,null,null,null,null,null,null,null,null,null,null,null,null,null,null,null,null,null,null,null,null,null,null,"",null,{"$f":"IF(BY120=\"\",\"\",\"AgencyEntityInsData Id 585\")","v":""},{"$f":"IF(BY120=\"\",\"\",\"AgencyEntityInstance Id 118\")","v":""},{"$f":"IF(BY120=\"\",\"\",\"cm_base_dcp_header_02_thi_spec\")","v":""},{"$f":"IF(BY120=\"\",\"\",'Test 5'!AF54)","v":""},{"$f":"IF(BY120=\"\",\"\",TODAY())","v":""},{"$f":"IF(BY120=\"\",\"\",\"WTSYSTEMUSER\")","v":""},{"$f":"IF(BY120=\"\",\"\",TODAY())","v":""},{"$f":"IF(BY120=\"\",\"\",\"WTSYSTEMUSER\")","v":""}]
[null,null,null,null,null,null,null,null,null,null,null,null,null,null,null,null,null,null,null,null,null,null,null,null,null,null,null,null,null,null,null,null,null,null,null,null,null,null,null,null,null,null,null,null,null,null,null,null,null,null,null,null,null,null,null,null,null,null,null,null,null,null,null,null,null,null,null,null,null,null,null,null,null,null,null,null,null,null,null,null,null,null,null,null,null,null,null,null,null,null,null,null,"",null,{"$f":"IF(BY120=\"\",\"\",\"AgencyEntityInsData Id 588\")","v":""},{"$f":"IF(BY120=\"\",\"\",\"AgencyEntityInstance Id 118\")","v":""},{"$f":"IF(BY120=\"\",\"\",\"cm_base_dcp_header_05_sta_2\")","v":""},{"$f":"IF(BY120=\"\",\"\",IF('Test 5'!U47=\"\",\"\",'Test 5'!U47))","v":""},{"$f":"IF(BY120=\"\",\"\",TODAY())","v":""},{"$f":"IF(BY120=\"\",\"\",\"WTSYSTEMUSER\")","v":""},{"$f":"IF(BY120=\"\",\"\",TODAY())","v":""},{"$f":"IF(BY120=\"\",\"\",\"WTSYSTEMUSER\")","v":""}]
[null,null,null,null,null,null,null,null,null,null,null,null,null,null,null,null,null,null,null,null,null,null,null,null,null,null,null,null,null,null,null,null,null,null,null,null,null,null,null,null,null,null,null,null,null,null,null,null,null,null,null,null,null,null,null,null,null,null,null,null,null,null,null,null,null,null,null,null,null,null,null,null,null,null,null,null,null,null,null,null,null,null,null,null,null,null,null,null,null,null,null,null,"",null,{"$f":"IF(BY121=\"\",\"\",\"AgencyEntityInsData Id 593\")","v":""},{"$f":"IF(BY121=\"\",\"\",\"AgencyEntityInstance Id 119\")","v":""},{"$f":"IF(BY121=\"\",\"\",\"cm_base_dcp_03_blows\")","v":""},{"$f":"IF(BY121=\"\",\"\",IF('Test 5'!V58=\"\",\"\",'Test 5'!V58))","v":""},{"$f":"IF(BY121=\"\",\"\",TODAY())","v":""},{"$f":"IF(BY121=\"\",\"\",\"WTSYSTEMUSER\")","v":""},{"$f":"IF(BY121=\"\",\"\",TODAY())","v":""},{"$f":"IF(BY121=\"\",\"\",\"WTSYSTEMUSER\")","v":""}]
[null,null,null,null,null,null,null,null,null,null,null,null,null,null,null,null,null,null,null,null,null,null,null,null,null,null,null,null,null,null,null,null,null,null,null,null,null,null,null,null,null,null,null,null,null,null,null,null,null,null,null,null,null,null,null,null,null,null,null,null,null,null,null,null,null,null,null,null,null,null,null,null,null,null,null,null,null,null,null,null,null,null,null,null,null,null,null,null,null,null,null,null,"",null,{"$f":"IF(BY122=\"\",\"\",\"AgencyEntityInsData Id 597\")","v":""},{"$f":"IF(BY122=\"\",\"\",\"AgencyEntityInstance Id 120\")","v":""},{"$f":"IF(BY122=\"\",\"\",\"cm_base_dcp_03_blows\")","v":""},{"$f":"IF(BY122=\"\",\"\",IF('Test 5'!V59=\"\",\"\",'Test 5'!V59))","v":""},{"$f":"IF(BY122=\"\",\"\",TODAY())","v":""},{"$f":"IF(BY122=\"\",\"\",\"WTSYSTEMUSER\")","v":""},{"$f":"IF(BY122=\"\",\"\",TODAY())","v":""},{"$f":"IF(BY122=\"\",\"\",\"WTSYSTEMUSER\")","v":""}]
[null,null,null,null,null,null,null,null,null,null,null,null,null,null,null,null,null,null,null,null,null,null,null,null,null,null,null,null,null,null,null,null,null,null,null,null,null,null,null,null,null,null,null,null,null,null,null,null,null,null,null,null,null,null,null,null,null,null,null,null,null,null,null,null,null,null,null,null,null,null,null,null,null,null,null,null,null,null,null,null,null,null,null,null,null,null,null,null,null,null,null,null,"",null,{"$f":"IF(BY123=\"\",\"\",\"AgencyEntityInsData Id 600\")","v":""},{"$f":"IF(BY123=\"\",\"\",\"AgencyEntityInstance Id 121\")","v":""},{"$f":"IF(BY123=\"\",\"\",\"cm_base_dcp_02_end\")","v":""},{"$f":"IF(BY123=\"\",\"\",'Test 5'!AH60)","v":""},{"$f":"IF(BY123=\"\",\"\",TODAY())","v":""},{"$f":"IF(BY123=\"\",\"\",\"WTSYSTEMUSER\")","v":""},{"$f":"IF(BY123=\"\",\"\",TODAY())","v":""},{"$f":"IF(BY123=\"\",\"\",\"WTSYSTEMUSER\")","v":""}]
[null,null,null,null,null,null,null,null,null,null,null,null,null,null,null,null,null,null,null,null,null,null,null,null,null,null,null,null,null,null,null,null,null,null,null,null,null,null,null,null,null,null,null,null,null,null,null,null,null,null,null,null,null,null,null,null,null,null,null,null,null,null,null,null,null,null,null,null,null,null,null,null,null,null,null,null,null,null,null,null,null,null,null,null,null,null,null,null,null,null,null,null,"",null,{"$f":"IF(BY123=\"\",\"\",\"AgencyEntityInsData Id 602\")","v":""},{"$f":"IF(BY123=\"\",\"\",\"AgencyEntityInstance Id 121\")","v":""},{"$f":"IF(BY123=\"\",\"\",\"cm_base_dcp_04_index\")","v":""},{"$f":"IF(BY123=\"\",\"\",'Test 5'!AI60)","v":""},{"$f":"IF(BY123=\"\",\"\",TODAY())","v":""},{"$f":"IF(BY123=\"\",\"\",\"WTSYSTEMUSER\")","v":""},{"$f":"IF(BY123=\"\",\"\",TODAY())","v":""},{"$f":"IF(BY123=\"\",\"\",\"WTSYSTEMUSER\")","v":""}]
[null,null,null,null,null,null,null,null,null,null,null,null,null,null,null,null,null,null,null,null,null,null,null,null,null,null,null,null,null,null,null,null,null,null,null,null,null,null,null,null,null,null,null,null,null,null,null,null,null,null,null,null,null,null,null,null,null,null,null,null,null,null,null,null,null,null,null,null,null,null,null,null,null,null,null,null,null,null,null,null,null,null,null,null,null,null,null,null,null,null,null,null,"",null,{"$f":"IF(BY124=\"\",\"\",\"AgencyEntityInsData Id 605\")","v":""},{"$f":"IF(BY124=\"\",\"\",\"AgencyEntityInstance Id 122\")","v":""},{"$f":"IF(BY124=\"\",\"\",\"cm_base_dcp_03_blows\")","v":""},{"$f":"IF(BY124=\"\",\"\",IF('Test 5'!V61=\"\",\"\",'Test 5'!V61))","v":""},{"$f":"IF(BY124=\"\",\"\",TODAY())","v":""},{"$f":"IF(BY124=\"\",\"\",\"WTSYSTEMUSER\")","v":""},{"$f":"IF(BY124=\"\",\"\",TODAY())","v":""},{"$f":"IF(BY124=\"\",\"\",\"WTSYSTEMUSER\")","v":""}]
[null,null,null,null,null,null,null,null,null,null,null,null,null,null,null,null,null,null,null,null,null,null,null,null,null,null,null,null,null,null,null,null,null,null,null,null,null,null,null,null,null,null,null,null,null,null,null,null,null,null,null,null,null,null,null,null,null,null,null,null,null,null,null,null,null,null,null,null,null,null,null,null,null,null,null,null,null,null,null,null,null,null,null,null,null,null,null,null,null,null,null,null,"",null,{"$f":"IF(BY126=\"\",\"\",\"AgencyEntityInsData Id 611\")","v":""},{"$f":"IF(BY126=\"\",\"\",\"AgencyEntityInstance Id 124\")","v":""},{"$f":"IF(BY126=\"\",\"\",\"cm_base_dcp_01_begin\")","v":""},{"$f":"IF(BY126=\"\",\"\",'Test 5'!AG63)","v":""},{"$f":"IF(BY126=\"\",\"\",TODAY())","v":""},{"$f":"IF(BY126=\"\",\"\",\"WTSYSTEMUSER\")","v":""},{"$f":"IF(BY126=\"\",\"\",TODAY())","v":""},{"$f":"IF(BY126=\"\",\"\",\"WTSYSTEMUSER\")","v":""}]
[null,null,null,null,null,null,null,null,null,null,null,null,null,null,null,null,null,null,null,null,null,null,null,null,null,null,null,null,null,null,null,null,null,null,null,null,null,null,null,null,null,null,null,null,null,null,null,null,null,null,null,null,null,null,null,null,null,null,null,null,null,null,null,null,null,null,null,null,null,null,null,null,null,null,null,null,null,null,null,null,null,null,null,null,null,null,null,null,null,null,null,null,"",null,{"$f":"IF(BY126=\"\",\"\",\"AgencyEntityInsData Id 613\")","v":""},{"$f":"IF(BY126=\"\",\"\",\"AgencyEntityInstance Id 124\")","v":""},{"$f":"IF(BY126=\"\",\"\",\"cm_base_dcp_03_blows\")","v":""},{"$f":"IF(BY126=\"\",\"\",IF('Test 5'!V63=\"\",\"\",'Test 5'!V63))","v":""},{"$f":"IF(BY126=\"\",\"\",TODAY())","v":""},{"$f":"IF(BY126=\"\",\"\",\"WTSYSTEMUSER\")","v":""},{"$f":"IF(BY126=\"\",\"\",TODAY())","v":""},{"$f":"IF(BY126=\"\",\"\",\"WTSYSTEMUSER\")","v":""}]
[null,null,null,null,null,null,null,null,null,null,null,null,null,null,null,null,null,null,null,null,null,null,null,null,null,null,null,null,null,null,null,null,null,null,null,null,null,null,null,null,null,null,null,null,null,null,null,null,null,null,null,null,null,null,null,null,null,null,null,null,null,null,null,null,null,null,null,null,null,null,null,null,null,null,null,null,null,null,null,null,null,null,null,null,null,null,null,null,null,null,null,null,"",null,{"$f":"IF(BY127=\"\",\"\",\"AgencyEntityInsData Id 616\")","v":""},{"$f":"IF(BY127=\"\",\"\",\"AgencyEntityInstance Id 125\")","v":""},{"$f":"IF(BY127=\"\",\"\",\"cm_base_dcp_02_end\")","v":""},{"$f":"IF(BY127=\"\",\"\",'Test 5'!AH64)","v":""},{"$f":"IF(BY127=\"\",\"\",TODAY())","v":""},{"$f":"IF(BY127=\"\",\"\",\"WTSYSTEMUSER\")","v":""},{"$f":"IF(BY127=\"\",\"\",TODAY())","v":""},{"$f":"IF(BY127=\"\",\"\",\"WTSYSTEMUSER\")","v":""}]
[null,null,null,null,null,null,null,null,null,null,null,null,null,null,null,null,null,null,null,null,null,null,null,null,null,null,null,null,null,null,null,null,null,null,null,null,null,null,null,null,null,null,null,null,null,null,null,null,null,null,null,null,null,null,null,null,null,null,null,null,null,null,null,null,null,null,null,null,null,null,null,null,null,null,null,null,null,null,null,null,null,null,null,null,null,null,null,null,null,null,null,null,"",null,{"$f":"IF(BY128=\"\",\"\",\"AgencyEntityInsData Id 621\")","v":""},{"$f":"IF(BY128=\"\",\"\",\"AgencyEntityInstance Id 126\")","v":""},{"$f":"IF(BY128=\"\",\"\",\"cm_base_dcp_03_blows\")","v":""},{"$f":"IF(BY128=\"\",\"\",IF('Test 5'!V65=\"\",\"\",'Test 5'!V65))","v":""},{"$f":"IF(BY128=\"\",\"\",TODAY())","v":""},{"$f":"IF(BY128=\"\",\"\",\"WTSYSTEMUSER\")","v":""},{"$f":"IF(BY128=\"\",\"\",TODAY())","v":""},{"$f":"IF(BY128=\"\",\"\",\"WTSYSTEMUSER\")","v":""}]
[null,null,null,null,null,null,null,null,null,null,null,null,null,null,null,null,null,null,null,null,null,null,null,null,null,null,null,null,null,null,null,null,null,null,null,null,null,null,null,null,null,null,null,null,null,null,null,null,null,null,null,null,null,null,null,null,null,null,null,null,null,null,null,null,null,null,null,null,null,null,null,null,null,null,null,null,null,null,null,null,null,null,null,null,null,null,null,null,null,null,null,null,"",null,{"$f":"IF(BY129=\"\",\"\",\"AgencyEntityInsData Id 625\")","v":""},{"$f":"IF(BY129=\"\",\"\",\"AgencyEntityInstance Id 127\")","v":""},{"$f":"IF(BY129=\"\",\"\",\"cm_base_dcp_03_blows\")","v":""},{"$f":"IF(BY129=\"\",\"\",IF('Test 5'!V66=\"\",\"\",'Test 5'!V66))","v":""},{"$f":"IF(BY129=\"\",\"\",TODAY())","v":""},{"$f":"IF(BY129=\"\",\"\",\"WTSYSTEMUSER\")","v":""},{"$f":"IF(BY129=\"\",\"\",TODAY())","v":""},{"$f":"IF(BY129=\"\",\"\",\"WTSYSTEMUSER\")","v":""}]
[null,null,null,null,null,null,null,null,null,null,null,null,null,null,null,null,null,null,null,null,null,null,null,null,null,null,null,null,null,null,null,null,null,null,null,null,null,null,null,null,null,null,null,null,null,null,null,null,null,null,null,null,null,null,null,null,null,null,null,null,null,null,null,null,null,null,null,null,null,null,null,null,null,null,null,null,null,null,null,null,null,null,null,null,null,null,null,null,null,null,null,null,"",null,{"$f":"IF(BY129=\"\",\"\",\"AgencyEntityInsData Id 626\")","v":""},{"$f":"IF(BY129=\"\",\"\",\"AgencyEntityInstance Id 127\")","v":""},{"$f":"IF(BY129=\"\",\"\",\"cm_base_dcp_04_index\")","v":""},{"$f":"IF(BY129=\"\",\"\",'Test 5'!AI66)","v":""},{"$f":"IF(BY129=\"\",\"\",TODAY())","v":""},{"$f":"IF(BY129=\"\",\"\",\"WTSYSTEMUSER\")","v":""},{"$f":"IF(BY129=\"\",\"\",TODAY())","v":""},{"$f":"IF(BY129=\"\",\"\",\"WTSYSTEMUSER\")","v":""}]
[null,null,null,null,null,null,null,null,null,null,null,null,null,null,null,null,null,null,null,null,null,null,null,null,null,null,null,null,null,null,null,null,null,null,null,null,null,null,null,null,null,null,null,null,null,null,null,null,null,null,null,null,null,null,null,null,null,null,null,null,null,null,null,null,null,null,null,null,null,null,null,null,null,null,null,null,null,null,null,null,null,null,null,null,null,null,null,null,null,null,null,null,"",null,{"$f":"IF(BY130=\"\",\"\",\"AgencyEntityInsData Id 630\")","v":""},{"$f":"IF(BY130=\"\",\"\",\"AgencyEntityInstance Id 128\")","v":""},{"$f":"IF(BY130=\"\",\"\",\"cm_base_dcp_04_index\")","v":""},{"$f":"IF(BY130=\"\",\"\",'Test 5'!AI67)","v":""},{"$f":"IF(BY130=\"\",\"\",TODAY())","v":""},{"$f":"IF(BY130=\"\",\"\",\"WTSYSTEMUSER\")","v":""},{"$f":"IF(BY130=\"\",\"\",TODAY())","v":""},{"$f":"IF(BY130=\"\",\"\",\"WTSYSTEMUSER\")","v":""}]
[null,null,null,null,null,null,null,null,null,null,null,null,null,null,null,null,null,null,null,null,null,null,null,null,null,null,null,null,null,null,null,null,null,null,null,null,null,null,null,null,null,null,null,null,null,null,null,null,null,null,null,null,null,null,null,null,null,null,null,null,null,null,null,null,null,null,null,null,null,null,null,null,null,null,null,null,null,null,null,null,null,null,null,null,null,null,null,null,null,null,null,null,"",null,{"$f":"IF(BY132=\"\",\"\",\"AgencyEntityInsData Id 635\")","v":""},{"$f":"IF(BY132=\"\",\"\",\"AgencyEntityInstance Id 130\")","v":""},{"$f":"IF(BY132=\"\",\"\",\"cm_base_dcp_01_begin\")","v":""},{"$f":"IF(BY132=\"\",\"\",'Test 5'!AG69)","v":""},{"$f":"IF(BY132=\"\",\"\",TODAY())","v":""},{"$f":"IF(BY132=\"\",\"\",\"WTSYSTEMUSER\")","v":""},{"$f":"IF(BY132=\"\",\"\",TODAY())","v":""},{"$f":"IF(BY132=\"\",\"\",\"WTSYSTEMUSER\")","v":""}]
[null,null,null,null,null,null,null,null,null,null,null,null,null,null,null,null,null,null,null,null,null,null,null,null,null,null,null,null,null,null,null,null,null,null,null,null,null,null,null,null,null,null,null,null,null,null,null,null,null,null,null,null,null,null,null,null,null,null,null,null,null,null,null,null,null,null,null,null,null,null,null,null,null,null,null,null,null,null,null,null,null,null,null,null,null,null,null,null,null,null,null,null,"",null,{"$f":"IF(BY132=\"\",\"\",\"AgencyEntityInsData Id 638\")","v":""},{"$f":"IF(BY132=\"\",\"\",\"AgencyEntityInstance Id 130\")","v":""},{"$f":"IF(BY132=\"\",\"\",\"cm_base_dcp_04_index\")","v":""},{"$f":"IF(BY132=\"\",\"\",'Test 5'!AI69)","v":""},{"$f":"IF(BY132=\"\",\"\",TODAY())","v":""},{"$f":"IF(BY132=\"\",\"\",\"WTSYSTEMUSER\")","v":""},{"$f":"IF(BY132=\"\",\"\",TODAY())","v":""},{"$f":"IF(BY132=\"\",\"\",\"WTSYSTEMUSER\")","v":""}]
[null,null,null,null,null,null,null,null,null,null,null,null,null,null,null,null,null,null,null,null,null,null,null,null,null,null,null,null,null,null,null,null,null,null,null,null,null,null,null,null,null,null,null,null,null,null,null,null,null,null,null,null,null,null,null,null,null,null,null,null,null,null,null,null,null,null,null,null,null,null,null,null,null,null,null,null,null,null,null,null,null,null,null,null,null,null,null,null,null,null,null,null,"",null,{"$f":"IF(BY133=\"\",\"\",\"AgencyEntityInsData Id 640\")","v":""},{"$f":"IF(BY133=\"\",\"\",\"AgencyEntityInstance Id 131\")","v":""},{"$f":"IF(BY133=\"\",\"\",\"cm_base_dcp_02_end\")","v":""},{"$f":"IF(BY133=\"\",\"\",'Test 5'!AH70)","v":""},{"$f":"IF(BY133=\"\",\"\",TODAY())","v":""},{"$f":"IF(BY133=\"\",\"\",\"WTSYSTEMUSER\")","v":""},{"$f":"IF(BY133=\"\",\"\",TODAY())","v":""},{"$f":"IF(BY133=\"\",\"\",\"WTSYSTEMUSER\")","v":""}]
[null,null,null,null,null,null,null,null,null,null,null,null,null,null,null,null,null,null,null,null,null,null,null,null,null,null,null,null,null,null,null,null,null,null,null,null,null,null,null,null,null,null,null,null,null,null,null,null,null,null,null,null,null,null,null,null,null,null,null,null,null,null,null,null,null,null,null,null,null,null,null,null,null,null,null,null,null,null,null,null,null,null,null,null,null,null,null,null,null,null,null,null,"",null,{"$f":"IF(BY134=\"\",\"\",\"AgencyEntityInsData Id 645\")","v":""},{"$f":"IF(BY134=\"\",\"\",\"AgencyEntityInstance Id 132\")","v":""},{"$f":"IF(BY134=\"\",\"\",\"cm_base_dcp_03_blows\")","v":""},{"$f":"IF(BY134=\"\",\"\",IF('Test 5'!V71=\"\",\"\",'Test 5'!V71))","v":""},{"$f":"IF(BY134=\"\",\"\",TODAY())","v":""},{"$f":"IF(BY134=\"\",\"\",\"WTSYSTEMUSER\")","v":""},{"$f":"IF(BY134=\"\",\"\",TODAY())","v":""},{"$f":"IF(BY134=\"\",\"\",\"WTSYSTEMUSER\")","v":""}]
[null,null,null,null,null,null,null,null,null,null,null,null,null,null,null,null,null,null,null,null,null,null,null,null,null,null,null,null,null,null,null,null,null,null,null,null,null,null,null,null,null,null,null,null,null,null,null,null,null,null,null,null,null,null,null,null,null,null,null,null,null,null,null,null,null,null,null,null,null,null,null,null,null,null,null,null,null,null,null,null,null,null,null,null,null,null,null,null,null,null,null,null,"",null,{"$f":"IF(BY135=\"\",\"\",\"AgencyEntityInsData Id 649\")","v":""},{"$f":"IF(BY135=\"\",\"\",\"AgencyEntityInstance Id 133\")","v":""},{"$f":"IF(BY135=\"\",\"\",\"cm_base_dcp_03_blows\")","v":""},{"$f":"IF(BY135=\"\",\"\",IF('Test 5'!V72=\"\",\"\",'Test 5'!V72))","v":""},{"$f":"IF(BY135=\"\",\"\",TODAY())","v":""},{"$f":"IF(BY135=\"\",\"\",\"WTSYSTEMUSER\")","v":""},{"$f":"IF(BY135=\"\",\"\",TODAY())","v":""},{"$f":"IF(BY135=\"\",\"\",\"WTSYSTEMUSER\")","v":""}]
[null,null,null,null,null,null,null,null,null,null,null,null,null,null,null,null,null,null,null,null,null,null,null,null,null,null,null,null,null,null,null,null,null,null,null,null,null,null,null,null,null,null,null,null,null,null,null,null,null,null,null,null,null,null,null,null,null,null,null,null,null,null,null,null,null,null,null,null,null,null,null,null,null,null,null,null,null,null,null,null,null,null,null,null,null,null,null,null,null,null,null,null,"",null,{"$f":"IF(BY136=\"\",\"\",\"AgencyEntityInsData Id 653\")","v":""},{"$f":"IF(BY136=\"\",\"\",\"AgencyEntityInstance Id 134\")","v":""},{"$f":"IF(BY136=\"\",\"\",\"cm_base_dcp_03_blows\")","v":""},{"$f":"IF(BY136=\"\",\"\",IF('Test 5'!V73=\"\",\"\",'Test 5'!V73))","v":""},{"$f":"IF(BY136=\"\",\"\",TODAY())","v":""},{"$f":"IF(BY136=\"\",\"\",\"WTSYSTEMUSER\")","v":""},{"$f":"IF(BY136=\"\",\"\",TODAY())","v":""},{"$f":"IF(BY136=\"\",\"\",\"WTSYSTEMUSER\")","v":""}]
[null,null,null,null,null,null,null,null,null,null,null,null,null,null,null,null,null,null,null,null,null,null,null,null,null,null,null,null,null,null,null,null,null,null,null,null,null,null,null,null,null,null,null,null,null,null,null,null,null,null,null,null,null,null,null,null,null,null,null,null,null,null,null,null,null,null,null,null,null,null,null,null,null,null,null,null,null,null,null,null,null,null,null,null,null,null,null,null,null,null,null,null,"",null,{"$f":"IF(BY136=\"\",\"\",\"AgencyEntityInsData Id 654\")","v":""},{"$f":"IF(BY136=\"\",\"\",\"AgencyEntityInstance Id 134\")","v":""},{"$f":"IF(BY136=\"\",\"\",\"cm_base_dcp_04_index\")","v":""},{"$f":"IF(BY136=\"\",\"\",'Test 5'!AI73)","v":""},{"$f":"IF(BY136=\"\",\"\",TODAY())","v":""},{"$f":"IF(BY136=\"\",\"\",\"WTSYSTEMUSER\")","v":""},{"$f":"IF(BY136=\"\",\"\",TODAY())","v":""},{"$f":"IF(BY136=\"\",\"\",\"WTSYSTEMUSER\")","v":""}]
[null,null,null,null,null,null,null,null,null,null,null,null,null,null,null,null,null,null,null,null,null,null,null,null,null,null,null,null,null,null,null,null,null,null,null,null,null,null,null,null,null,null,null,null,null,null,null,null,null,null,null,null,null,null,null,null,null,null,null,null,null,null,null,null,null,null,null,null,null,null,null,null,null,null,null,null,null,null,null,null,null,null,null,null,null,null,null,null,null,null,null,null,"",null,{"$f":"IF(BY137=\"\",\"\",\"AgencyEntityInsData Id 658\")","v":""},{"$f":"IF(BY137=\"\",\"\",\"AgencyEntityInstance Id 135\")","v":""},{"$f":"IF(BY137=\"\",\"\",\"cm_base_dcp_04_index\")","v":""},{"$f":"IF(BY137=\"\",\"\",'Test 5'!AI74)","v":""},{"$f":"IF(BY137=\"\",\"\",TODAY())","v":""},{"$f":"IF(BY137=\"\",\"\",\"WTSYSTEMUSER\")","v":""},{"$f":"IF(BY137=\"\",\"\",TODAY())","v":""},{"$f":"IF(BY137=\"\",\"\",\"WTSYSTEMUSER\")","v":""}]
[null,null,null,null,null,null,null,null,null,null,null,null,null,null,null,null,null,null,null,null,null,null,null,null,null,null,null,null,null,null,null,null,null,null,null,null,null,null,null,null,null,null,null,null,null,null,null,null,null,null,null,null,null,null,null,null,null,null,null,null,null,null,null,null,null,null,null,null,null,null,null,null,null,null,null,null,null,null,null,null,null,null,null,null,null,null,null,null,null,null,null,null,"",null,{"$f":"IF(BY139=\"\",\"\",\"AgencyEntityInsData Id 663\")","v":""},{"$f":"IF(BY139=\"\",\"\",\"AgencyEntityInstance Id 137\")","v":""},{"$f":"IF(BY139=\"\",\"\",\"cm_base_dcp_01_begin\")","v":""},{"$f":"IF(BY139=\"\",\"\",'Test 5'!AG76)","v":""},{"$f":"IF(BY139=\"\",\"\",TODAY())","v":""},{"$f":"IF(BY139=\"\",\"\",\"WTSYSTEMUSER\")","v":""},{"$f":"IF(BY139=\"\",\"\",TODAY())","v":""},{"$f":"IF(BY139=\"\",\"\",\"WTSYSTEMUSER\")","v":""}]
[null,null,null,null,null,null,null,null,null,null,null,null,null,null,null,null,null,null,null,null,null,null,null,null,null,null,null,null,null,null,null,null,null,null,null,null,null,null,null,null,null,null,null,null,null,null,null,null,null,null,null,null,null,null,null,null,null,null,null,null,null,null,null,null,null,null,null,null,null,null,null,null,null,null,null,null,null,null,null,null,null,null,null,null,null,null,null,null,null,null,null,null,"",null,{"$f":"IF(BY139=\"\",\"\",\"AgencyEntityInsData Id 666\")","v":""},{"$f":"IF(BY139=\"\",\"\",\"AgencyEntityInstance Id 137\")","v":""},{"$f":"IF(BY139=\"\",\"\",\"cm_base_dcp_04_index\")","v":""},{"$f":"IF(BY139=\"\",\"\",'Test 5'!AI76)","v":""},{"$f":"IF(BY139=\"\",\"\",TODAY())","v":""},{"$f":"IF(BY139=\"\",\"\",\"WTSYSTEMUSER\")","v":""},{"$f":"IF(BY139=\"\",\"\",TODAY())","v":""},{"$f":"IF(BY139=\"\",\"\",\"WTSYSTEMUSER\")","v":""}]
[null,null,null,null,null,null,null,null,null,null,null,null,null,null,null,null,null,null,null,null,null,null,null,null,null,null,null,null,null,null,null,null,null,null,null,null,null,null,null,null,null,null,null,null,null,null,null,null,null,null,null,null,null,null,null,null,null,null,null,null,null,null,null,null,null,null,null,null,null,null,null,null,null,null,null,null,null,null,null,null,null,null,null,null,null,null,null,null,null,null,null,null,"",null,{"$f":"IF(BY140=\"\",\"\",\"AgencyEntityInsData Id 668\")","v":""},{"$f":"IF(BY140=\"\",\"\",\"AgencyEntityInstance Id 138\")","v":""},{"$f":"IF(BY140=\"\",\"\",\"cm_base_dcp_02_end\")","v":""},{"$f":"IF(BY140=\"\",\"\",'Test 5'!AH77)","v":""},{"$f":"IF(BY140=\"\",\"\",TODAY())","v":""},{"$f":"IF(BY140=\"\",\"\",\"WTSYSTEMUSER\")","v":""},{"$f":"IF(BY140=\"\",\"\",TODAY())","v":""},{"$f":"IF(BY140=\"\",\"\",\"WTSYSTEMUSER\")","v":""}]
[null,null,null,null,null,null,null,null,null,null,null,null,null,null,null,null,null,null,null,null,null,null,null,null,null,null,null,null,null,null,null,null,null,null,null,null,null,null,null,null,null,null,null,null,null,null,null,null,null,null,null,null,null,null,null,null,null,null,null,null,null,null,null,null,null,null,null,null,null,null,null,null,null,null,null,null,null,null,null,null,null,null,null,null,null,null,null,null,null,null,null,null,"",null,{"$f":"IF(BY141=\"\",\"\",\"AgencyEntityInsData Id 673\")","v":""},{"$f":"IF(BY141=\"\",\"\",\"AgencyEntityInstance Id 139\")","v":""},{"$f":"IF(BY141=\"\",\"\",\"cm_base_dcp_header_03_thi_meas\")","v":""},{"$f":"IF(BY141=\"\",\"\",'Test 5'!AE87)","v":""},{"$f":"IF(BY141=\"\",\"\",TODAY())","v":""},{"$f":"IF(BY141=\"\",\"\",\"WTSYSTEMUSER\")","v":""},{"$f":"IF(BY141=\"\",\"\",TODAY())","v":""},{"$f":"IF(BY141=\"\",\"\",\"WTSYSTEMUSER\")","v":""}]
[null,null,null,null,null,null,null,null,null,null,null,null,null,null,null,null,null,null,null,null,null,null,null,null,null,null,null,null,null,null,null,null,null,null,null,null,null,null,null,null,null,null,null,null,null,null,null,null,null,null,null,null,null,null,null,null,null,null,null,null,null,null,null,null,null,null,null,null,null,null,null,null,null,null,null,null,null,null,null,null,null,null,null,null,null,null,null,null,null,null,null,null,"",null,{"$f":"IF(BY141=\"\",\"\",\"AgencyEntityInsData Id 677\")","v":""},{"$f":"IF(BY141=\"\",\"\",\"AgencyEntityInstance Id 139\")","v":""},{"$f":"IF(BY141=\"\",\"\",\"cm_base_dcp_header_07_tester\")","v":""},{"$f":"IF(BY141=\"\",\"\",IF('Test 5'!E83=\"\",\"\",'Test 5'!E83))","v":""},{"$f":"IF(BY141=\"\",\"\",TODAY())","v":""},{"$f":"IF(BY141=\"\",\"\",\"WTSYSTEMUSER\")","v":""},{"$f":"IF(BY141=\"\",\"\",TODAY())","v":""},{"$f":"IF(BY141=\"\",\"\",\"WTSYSTEMUSER\")","v":""}]
[null,null,null,null,null,null,null,null,null,null,null,null,null,null,null,null,null,null,null,null,null,null,null,null,null,null,null,null,null,null,null,null,null,null,null,null,null,null,null,null,null,null,null,null,null,null,null,null,null,null,null,null,null,null,null,null,null,null,null,null,null,null,null,null,null,null,null,null,null,null,null,null,null,null,null,null,null,null,null,null,null,null,null,null,null,null,null,null,null,null,null,null,"",null,{"$f":"IF(BY142=\"\",\"\",\"AgencyEntityInsData Id 681\")","v":""},{"$f":"IF(BY142=\"\",\"\",\"AgencyEntityInstance Id 140\")","v":""},{"$f":"IF(BY142=\"\",\"\",\"cm_base_dcp_04_index\")","v":""},{"$f":"IF(BY142=\"\",\"\",'Test 5'!AF92)","v":""},{"$f":"IF(BY142=\"\",\"\",TODAY())","v":""},{"$f":"IF(BY142=\"\",\"\",\"WTSYSTEMUSER\")","v":""},{"$f":"IF(BY142=\"\",\"\",TODAY())","v":""},{"$f":"IF(BY142=\"\",\"\",\"WTSYSTEMUSER\")","v":""}]
[null,null,null,null,null,null,null,null,null,null,null,null,null,null,null,null,null,null,null,null,null,null,null,null,null,null,null,null,null,null,null,null,null,null,null,null,null,null,null,null,null,null,null,null,null,null,null,null,null,null,null,null,null,null,null,null,null,null,null,null,null,null,null,null,null,null,null,null,null,null,null,null,null,null,null,null,null,null,null,null,null,null,null,null,null,null,null,null,null,null,null,null,"",null,{"$f":"IF(BY143=\"\",\"\",\"AgencyEntityInsData Id 682\")","v":""},{"$f":"IF(BY143=\"\",\"\",\"AgencyEntityInstance Id 141\")","v":""},{"$f":"IF(BY143=\"\",\"\",\"cm_base_dcp_01_begin\")","v":""},{"$f":"IF(BY143=\"\",\"\",'Test 5'!AD93)","v":""},{"$f":"IF(BY143=\"\",\"\",TODAY())","v":""},{"$f":"IF(BY143=\"\",\"\",\"WTSYSTEMUSER\")","v":""},{"$f":"IF(BY143=\"\",\"\",TODAY())","v":""},{"$f":"IF(BY143=\"\",\"\",\"WTSYSTEMUSER\")","v":""}]
[null,null,null,null,null,null,null,null,null,null,null,null,null,null,null,null,null,null,null,null,null,null,null,null,null,null,null,null,null,null,null,null,null,null,null,null,null,null,null,null,null,null,null,null,null,null,null,null,null,null,null,null,null,null,null,null,null,null,null,null,null,null,null,null,null,null,null,null,null,null,null,null,null,null,null,null,null,null,null,null,null,null,null,null,null,null,null,null,null,null,null,null,"",null,{"$f":"IF(BY144=\"\",\"\",\"AgencyEntityInsData Id 687\")","v":""},{"$f":"IF(BY144=\"\",\"\",\"AgencyEntityInstance Id 142\")","v":""},{"$f":"IF(BY144=\"\",\"\",\"cm_base_dcp_02_end\")","v":""},{"$f":"IF(BY144=\"\",\"\",'Test 5'!AE94)","v":""},{"$f":"IF(BY144=\"\",\"\",TODAY())","v":""},{"$f":"IF(BY144=\"\",\"\",\"WTSYSTEMUSER\")","v":""},{"$f":"IF(BY144=\"\",\"\",TODAY())","v":""},{"$f":"IF(BY144=\"\",\"\",\"WTSYSTEMUSER\")","v":""}]
[null,null,null,null,null,null,null,null,null,null,null,null,null,null,null,null,null,null,null,null,null,null,null,null,null,null,null,null,null,null,null,null,null,null,null,null,null,null,null,null,null,null,null,null,null,null,null,null,null,null,null,null,null,null,null,null,null,null,null,null,null,null,null,null,null,null,null,null,null,null,null,null,null,null,null,null,null,null,null,null,null,null,null,null,null,null,null,null,null,null,null,null,"",null,{"$f":"IF(BY145=\"\",\"\",\"AgencyEntityInsData Id 690\")","v":""},{"$f":"IF(BY145=\"\",\"\",\"AgencyEntityInstance Id 143\")","v":""},{"$f":"IF(BY145=\"\",\"\",\"cm_base_dcp_01_begin\")","v":""},{"$f":"IF(BY145=\"\",\"\",'Test 5'!AD95)","v":""},{"$f":"IF(BY145=\"\",\"\",TODAY())","v":""},{"$f":"IF(BY145=\"\",\"\",\"WTSYSTEMUSER\")","v":""},{"$f":"IF(BY145=\"\",\"\",TODAY())","v":""},{"$f":"IF(BY145=\"\",\"\",\"WTSYSTEMUSER\")","v":""}]
[null,null,null,null,null,null,null,null,null,null,null,null,null,null,null,null,null,null,null,null,null,null,null,null,null,null,null,null,null,null,null,null,null,null,null,null,null,null,null,null,null,null,null,null,null,null,null,null,null,null,null,null,null,null,null,null,null,null,null,null,null,null,null,null,null,null,null,null,null,null,null,null,null,null,null,null,null,null,null,null,null,null,null,null,null,null,null,null,null,null,null,null,"",null,{"$f":"IF(BY146=\"\",\"\",\"AgencyEntityInsData Id 696\")","v":""},{"$f":"IF(BY146=\"\",\"\",\"AgencyEntityInstance Id 144\")","v":""},{"$f":"IF(BY146=\"\",\"\",\"cm_base_dcp_03_blows\")","v":""},{"$f":"IF(BY146=\"\",\"\",IF('Test 5'!I96=\"\",\"\",'Test 5'!I96))","v":""},{"$f":"IF(BY146=\"\",\"\",TODAY())","v":""},{"$f":"IF(BY146=\"\",\"\",\"WTSYSTEMUSER\")","v":""},{"$f":"IF(BY146=\"\",\"\",TODAY())","v":""},{"$f":"IF(BY146=\"\",\"\",\"WTSYSTEMUSER\")","v":""}]
[null,null,null,null,null,null,null,null,null,null,null,null,null,null,null,null,null,null,null,null,null,null,null,null,null,null,null,null,null,null,null,null,null,null,null,null,null,null,null,null,null,null,null,null,null,null,null,null,null,null,null,null,null,null,null,null,null,null,null,null,null,null,null,null,null,null,null,null,null,null,null,null,null,null,null,null,null,null,null,null,null,null,null,null,null,null,null,null,null,null,null,null,"",null,{"$f":"IF(BY147=\"\",\"\",\"AgencyEntityInsData Id 698\")","v":""},{"$f":"IF(BY147=\"\",\"\",\"AgencyEntityInstance Id 145\")","v":""},{"$f":"IF(BY147=\"\",\"\",\"cm_base_dcp_01_begin\")","v":""},{"$f":"IF(BY147=\"\",\"\",'Test 5'!AD97)","v":""},{"$f":"IF(BY147=\"\",\"\",TODAY())","v":""},{"$f":"IF(BY147=\"\",\"\",\"WTSYSTEMUSER\")","v":""},{"$f":"IF(BY147=\"\",\"\",TODAY())","v":""},{"$f":"IF(BY147=\"\",\"\",\"WTSYSTEMUSER\")","v":""}]
[null,null,null,null,null,null,null,null,null,null,null,null,null,null,null,null,null,null,null,null,null,null,null,null,null,null,null,null,null,null,null,null,null,null,null,null,null,null,null,null,null,null,null,null,null,null,null,null,null,null,null,null,null,null,null,null,null,null,null,null,null,null,null,null,null,null,null,null,null,null,null,null,null,null,null,null,null,null,null,null,null,null,null,null,null,null,null,null,null,null,null,null,"",null,{"$f":"IF(BY147=\"\",\"\",\"AgencyEntityInsData Id 701\")","v":""},{"$f":"IF(BY147=\"\",\"\",\"AgencyEntityInstance Id 145\")","v":""},{"$f":"IF(BY147=\"\",\"\",\"cm_base_dcp_04_index\")","v":""},{"$f":"IF(BY147=\"\",\"\",'Test 5'!AF97)","v":""},{"$f":"IF(BY147=\"\",\"\",TODAY())","v":""},{"$f":"IF(BY147=\"\",\"\",\"WTSYSTEMUSER\")","v":""},{"$f":"IF(BY147=\"\",\"\",TODAY())","v":""},{"$f":"IF(BY147=\"\",\"\",\"WTSYSTEMUSER\")","v":""}]
[null,null,null,null,null,null,null,null,null,null,null,null,null,null,null,null,null,null,null,null,null,null,null,null,null,null,null,null,null,null,null,null,null,null,null,null,null,null,null,null,null,null,null,null,null,null,null,null,null,null,null,null,null,null,null,null,null,null,null,null,null,null,null,null,null,null,null,null,null,null,null,null,null,null,null,null,null,null,null,null,null,null,null,null,null,null,null,null,null,null,null,null,{"$f":"IF(CT708=\"\",\"\",SUBSTITUTE(SUBSTITUTE(SUBSTITUTE(SUBSTITUTE(SUBSTITUTE(CT708,\"&\",\"&amp;\"),\">\",\"&gt;\"),\"<\",\"&lt;\"),\"'\",\"&#39;\"),\"\"\"\",\"&quot;\"))","v":""},null,{"$f":"IF(BY149=\"\",\"\",\"AgencyEntityInsData Id 706\")","v":""},{"$f":"IF(BY149=\"\",\"\",\"AgencyEntityInstance Id 147\")","v":""},{"$f":"IF(BY149=\"\",\"\",\"cm_base_dcp_01_begin\")","v":""},{"$f":"IF(BY149=\"\",\"\",'Test 5'!AD99)","v":""},{"$f":"IF(BY149=\"\",\"\",TODAY())","v":""},{"$f":"IF(BY149=\"\",\"\",\"WTSYSTEMUSER\")","v":""},{"$f":"IF(BY149=\"\",\"\",TODAY())","v":""},{"$f":"IF(BY149=\"\",\"\",\"WTSYSTEMUSER\")","v":""}]
[null,null,null,null,null,null,null,null,null,null,null,null,null,null,null,null,null,null,null,null,null,null,null,null,null,null,null,null,null,null,null,null,null,null,null,null,null,null,null,null,null,null,null,null,null,null,null,null,null,null,null,null,null,null,null,null,null,null,null,null,null,null,null,null,null,null,null,null,null,null,null,null,null,null,null,null,null,null,null,null,null,null,null,null,null,null,null,null,null,null,null,null,"",null,{"$f":"IF(BY150=\"\",\"\",\"AgencyEntityInsData Id 710\")","v":""},{"$f":"IF(BY150=\"\",\"\",\"AgencyEntityInstance Id 148\")","v":""},{"$f":"IF(BY150=\"\",\"\",\"cm_base_dcp_01_begin\")","v":""},{"$f":"IF(BY150=\"\",\"\",'Test 5'!AD100)","v":""},{"$f":"IF(BY150=\"\",\"\",TODAY())","v":""},{"$f":"IF(BY150=\"\",\"\",\"WTSYSTEMUSER\")","v":""},{"$f":"IF(BY150=\"\",\"\",TODAY())","v":""},{"$f":"IF(BY150=\"\",\"\",\"WTSYSTEMUSER\")","v":""}]
[null,null,null,null,null,null,null,null,null,null,null,null,null,null,null,null,null,null,null,null,null,null,null,null,null,null,null,null,null,null,null,null,null,null,null,null,null,null,null,null,null,null,null,null,null,null,null,null,null,null,null,null,null,null,null,null,null,null,null,null,null,null,null,null,null,null,null,null,null,null,null,null,null,null,null,null,null,null,null,null,null,null,null,null,null,null,null,null,null,null,null,null,"",null,{"$f":"IF(BY150=\"\",\"\",\"AgencyEntityInsData Id 711\")","v":""},{"$f":"IF(BY150=\"\",\"\",\"AgencyEntityInstance Id 148\")","v":""},{"$f":"IF(BY150=\"\",\"\",\"cm_base_dcp_02_end\")","v":""},{"$f":"IF(BY150=\"\",\"\",'Test 5'!AE100)","v":""},{"$f":"IF(BY150=\"\",\"\",TODAY())","v":""},{"$f":"IF(BY150=\"\",\"\",\"WTSYSTEMUSER\")","v":""},{"$f":"IF(BY150=\"\",\"\",TODAY())","v":""},{"$f":"IF(BY150=\"\",\"\",\"WTSYSTEMUSER\")","v":""}]
[null,null,null,null,null,null,null,null,null,null,null,null,null,null,null,null,null,null,null,null,null,null,null,null,null,null,null,null,null,null,null,null,null,null,null,null,null,null,null,null,null,null,null,null,null,null,null,null,null,null,null,null,null,null,null,null,null,null,null,null,null,null,null,null,null,null,null,null,null,null,null,null,null,null,null,null,null,null,null,null,null,null,null,null,null,null,null,null,null,null,null,null,"",null,{"$f":"IF(BY151=\"\",\"\",\"AgencyEntityInsData Id 715\")","v":""},{"$f":"IF(BY151=\"\",\"\",\"AgencyEntityInstance Id 149\")","v":""},{"$f":"IF(BY151=\"\",\"\",\"cm_base_dcp_02_end\")","v":""},{"$f":"IF(BY151=\"\",\"\",'Test 5'!AE101)","v":""},{"$f":"IF(BY151=\"\",\"\",TODAY())","v":""},{"$f":"IF(BY151=\"\",\"\",\"WTSYSTEMUSER\")","v":""},{"$f":"IF(BY151=\"\",\"\",TODAY())","v":""},{"$f":"IF(BY151=\"\",\"\",\"WTSYSTEMUSER\")","v":""}]
[null,null,null,null,null,null,null,null,null,null,null,null,null,null,null,null,null,null,null,null,null,null,null,null,null,null,null,null,null,null,null,null,null,null,null,null,null,null,null,null,null,null,null,null,null,null,null,null,null,null,null,null,null,null,null,null,null,null,null,null,null,null,null,null,null,null,null,null,null,null,null,null,null,null,null,null,null,null,null,null,null,null,null,null,null,null,null,null,null,null,null,null,"",null,{"$f":"IF(BY152=\"\",\"\",\"AgencyEntityInsData Id 718\")","v":""},{"$f":"IF(BY152=\"\",\"\",\"AgencyEntityInstance Id 150\")","v":""},{"$f":"IF(BY152=\"\",\"\",\"cm_base_dcp_01_begin\")","v":""},{"$f":"IF(BY152=\"\",\"\",'Test 5'!AD102)","v":""},{"$f":"IF(BY152=\"\",\"\",TODAY())","v":""},{"$f":"IF(BY152=\"\",\"\",\"WTSYSTEMUSER\")","v":""},{"$f":"IF(BY152=\"\",\"\",TODAY())","v":""},{"$f":"IF(BY152=\"\",\"\",\"WTSYSTEMUSER\")","v":""}]
[null,null,null,null,null,null,null,null,null,null,null,null,null,null,null,null,null,null,null,null,null,null,null,null,null,null,null,null,null,null,null,null,null,null,null,null,null,null,null,null,null,null,null,null,null,null,null,null,null,null,null,null,null,null,null,null,null,null,null,null,null,null,null,null,null,null,null,null,null,null,null,null,null,null,null,null,null,null,null,null,null,null,null,null,null,null,null,null,null,null,null,null,"",null,{"$f":"IF(BY153=\"\",\"\",\"AgencyEntityInsData Id 724\")","v":""},{"$f":"IF(BY153=\"\",\"\",\"AgencyEntityInstance Id 151\")","v":""},{"$f":"IF(BY153=\"\",\"\",\"cm_base_dcp_03_blows\")","v":""},{"$f":"IF(BY153=\"\",\"\",IF('Test 5'!I103=\"\",\"\",'Test 5'!I103))","v":""},{"$f":"IF(BY153=\"\",\"\",TODAY())","v":""},{"$f":"IF(BY153=\"\",\"\",\"WTSYSTEMUSER\")","v":""},{"$f":"IF(BY153=\"\",\"\",TODAY())","v":""},{"$f":"IF(BY153=\"\",\"\",\"WTSYSTEMUSER\")","v":""}]
[null,null,null,null,null,null,null,null,null,null,null,null,null,null,null,null,null,null,null,null,null,null,null,null,null,null,null,null,null,null,null,null,null,null,null,null,null,null,null,null,null,null,null,null,null,null,null,null,null,null,null,null,null,null,null,null,null,null,null,null,null,null,null,null,null,null,null,null,null,null,null,null,null,null,null,null,null,null,null,null,null,null,null,null,null,null,null,null,null,null,null,null,"",null,{"$f":"IF(BY154=\"\",\"\",\"AgencyEntityInsData Id 726\")","v":""},{"$f":"IF(BY154=\"\",\"\",\"AgencyEntityInstance Id 152\")","v":""},{"$f":"IF(BY154=\"\",\"\",\"cm_base_dcp_01_begin\")","v":""},{"$f":"IF(BY154=\"\",\"\",'Test 5'!AD104)","v":""},{"$f":"IF(BY154=\"\",\"\",TODAY())","v":""},{"$f":"IF(BY154=\"\",\"\",\"WTSYSTEMUSER\")","v":""},{"$f":"IF(BY154=\"\",\"\",TODAY())","v":""},{"$f":"IF(BY154=\"\",\"\",\"WTSYSTEMUSER\")","v":""}]
[null,null,null,null,null,null,null,null,null,null,null,null,null,null,null,null,null,null,null,null,null,null,null,null,null,null,null,null,null,null,null,null,null,null,null,null,null,null,null,null,null,null,null,null,null,null,null,null,null,null,null,null,null,null,null,null,null,null,null,null,null,null,null,null,null,null,null,null,null,null,null,null,null,null,null,null,null,null,null,null,null,null,null,null,null,null,null,null,null,null,null,null,"",null,{"$f":"IF(BY154=\"\",\"\",\"AgencyEntityInsData Id 729\")","v":""},{"$f":"IF(BY154=\"\",\"\",\"AgencyEntityInstance Id 152\")","v":""},{"$f":"IF(BY154=\"\",\"\",\"cm_base_dcp_04_index\")","v":""},{"$f":"IF(BY154=\"\",\"\",'Test 5'!AF104)","v":""},{"$f":"IF(BY154=\"\",\"\",TODAY())","v":""},{"$f":"IF(BY154=\"\",\"\",\"WTSYSTEMUSER\")","v":""},{"$f":"IF(BY154=\"\",\"\",TODAY())","v":""},{"$f":"IF(BY154=\"\",\"\",\"WTSYSTEMUSER\")","v":""}]
[null,null,null,null,null,null,null,null,null,null,null,null,null,null,null,null,null,null,null,null,null,null,null,null,null,null,null,null,null,null,null,null,null,null,null,null,null,null,null,null,null,null,null,null,null,null,null,null,null,null,null,null,null,null,null,null,null,null,null,null,null,null,null,null,null,null,null,null,null,null,null,null,null,null,null,null,null,null,null,null,null,null,null,null,null,null,null,null,null,null,null,null,"",null,{"$f":"IF(BY156=\"\",\"\",\"AgencyEntityInsData Id 734\")","v":""},{"$f":"IF(BY156=\"\",\"\",\"AgencyEntityInstance Id 154\")","v":""},{"$f":"IF(BY156=\"\",\"\",\"cm_base_dcp_01_begin\")","v":""},{"$f":"IF(BY156=\"\",\"\",'Test 5'!AD106)","v":""},{"$f":"IF(BY156=\"\",\"\",TODAY())","v":""},{"$f":"IF(BY156=\"\",\"\",\"WTSYSTEMUSER\")","v":""},{"$f":"IF(BY156=\"\",\"\",TODAY())","v":""},{"$f":"IF(BY156=\"\",\"\",\"WTSYSTEMUSER\")","v":""}]
[null,null,null,null,null,null,null,null,null,null,null,null,null,null,null,null,null,null,null,null,null,null,null,null,null,null,null,null,null,null,null,null,null,null,null,null,null,null,null,null,null,null,null,null,null,null,null,null,null,null,null,null,null,null,null,null,null,null,null,null,null,null,null,null,null,null,null,null,null,null,null,null,null,null,null,null,null,null,null,null,null,null,null,null,null,null,null,null,null,null,null,null,"",null,{"$f":"IF(BY157=\"\",\"\",\"AgencyEntityInsData Id 738\")","v":""},{"$f":"IF(BY157=\"\",\"\",\"AgencyEntityInstance Id 155\")","v":""},{"$f":"IF(BY157=\"\",\"\",\"cm_base_dcp_01_begin\")","v":""},{"$f":"IF(BY157=\"\",\"\",'Test 5'!AD107)","v":""},{"$f":"IF(BY157=\"\",\"\",TODAY())","v":""},{"$f":"IF(BY157=\"\",\"\",\"WTSYSTEMUSER\")","v":""},{"$f":"IF(BY157=\"\",\"\",TODAY())","v":""},{"$f":"IF(BY157=\"\",\"\",\"WTSYSTEMUSER\")","v":""}]
[null,null,null,null,null,null,null,null,null,null,null,null,null,null,null,null,null,null,null,null,null,null,null,null,null,null,null,null,null,null,null,null,null,null,null,null,null,null,null,null,null,null,null,null,null,null,null,null,null,null,null,null,null,null,null,null,null,null,null,null,null,null,null,null,null,null,null,null,null,null,null,null,null,null,null,null,null,null,null,null,null,null,null,null,null,null,null,null,null,null,null,null,"",null,{"$f":"IF(BY157=\"\",\"\",\"AgencyEntityInsData Id 739\")","v":""},{"$f":"IF(BY157=\"\",\"\",\"AgencyEntityInstance Id 155\")","v":""},{"$f":"IF(BY157=\"\",\"\",\"cm_base_dcp_02_end\")","v":""},{"$f":"IF(BY157=\"\",\"\",'Test 5'!AE107)","v":""},{"$f":"IF(BY157=\"\",\"\",TODAY())","v":""},{"$f":"IF(BY157=\"\",\"\",\"WTSYSTEMUSER\")","v":""},{"$f":"IF(BY157=\"\",\"\",TODAY())","v":""},{"$f":"IF(BY157=\"\",\"\",\"WTSYSTEMUSER\")","v":""}]
[null,null,null,null,null,null,null,null,null,null,null,null,null,null,null,null,null,null,null,null,null,null,null,null,null,null,null,null,null,null,null,null,null,null,null,null,null,null,null,null,null,null,null,null,null,null,null,null,null,null,null,null,null,null,null,null,null,null,null,null,null,null,null,null,null,null,null,null,null,null,null,null,null,null,null,null,null,null,null,null,null,null,null,null,null,null,null,null,null,null,null,null,"",null,{"$f":"IF(BY158=\"\",\"\",\"AgencyEntityInsData Id 743\")","v":""},{"$f":"IF(BY158=\"\",\"\",\"AgencyEntityInstance Id 156\")","v":""},{"$f":"IF(BY158=\"\",\"\",\"cm_base_dcp_02_end\")","v":""},{"$f":"IF(BY158=\"\",\"\",'Test 5'!AE108)","v":""},{"$f":"IF(BY158=\"\",\"\",TODAY())","v":""},{"$f":"IF(BY158=\"\",\"\",\"WTSYSTEMUSER\")","v":""},{"$f":"IF(BY158=\"\",\"\",TODAY())","v":""},{"$f":"IF(BY158=\"\",\"\",\"WTSYSTEMUSER\")","v":""}]
[null,null,null,null,null,null,null,null,null,null,null,null,null,null,null,null,null,null,null,null,null,null,null,null,null,null,null,null,null,null,null,null,null,null,null,null,null,null,null,null,null,null,null,null,null,null,null,null,null,null,null,null,null,null,null,null,null,null,null,null,null,null,null,null,null,null,null,null,null,null,null,null,null,null,null,null,null,null,null,null,null,null,null,null,null,null,null,null,null,null,null,null,"",null,{"$f":"IF(BY159=\"\",\"\",\"AgencyEntityInsData Id 746\")","v":""},{"$f":"IF(BY159=\"\",\"\",\"AgencyEntityInstance Id 157\")","v":""},{"$f":"IF(BY159=\"\",\"\",\"cm_base_dcp_01_begin\")","v":""},{"$f":"IF(BY159=\"\",\"\",'Test 5'!AD109)","v":""},{"$f":"IF(BY159=\"\",\"\",TODAY())","v":""},{"$f":"IF(BY159=\"\",\"\",\"WTSYSTEMUSER\")","v":""},{"$f":"IF(BY159=\"\",\"\",TODAY())","v":""},{"$f":"IF(BY159=\"\",\"\",\"WTSYSTEMUSER\")","v":""}]
[null,null,null,null,null,null,null,null,null,null,null,null,null,null,null,null,null,null,null,null,null,null,null,null,null,null,null,null,null,null,null,null,null,null,null,null,null,null,null,null,null,null,null,null,null,null,null,null,null,null,null,null,null,null,null,null,null,null,null,null,null,null,null,null,null,null,null,null,null,null,null,null,null,null,null,null,null,null,null,null,null,null,null,null,null,null,null,null,null,null,null,null,"",null,{"$f":"IF(BY160=\"\",\"\",\"AgencyEntityInsData Id 752\")","v":""},{"$f":"IF(BY160=\"\",\"\",\"AgencyEntityInstance Id 158\")","v":""},{"$f":"IF(BY160=\"\",\"\",\"cm_base_dcp_03_blows\")","v":""},{"$f":"IF(BY160=\"\",\"\",IF('Test 5'!I110=\"\",\"\",'Test 5'!I110))","v":""},{"$f":"IF(BY160=\"\",\"\",TODAY())","v":""},{"$f":"IF(BY160=\"\",\"\",\"WTSYSTEMUSER\")","v":""},{"$f":"IF(BY160=\"\",\"\",TODAY())","v":""},{"$f":"IF(BY160=\"\",\"\",\"WTSYSTEMUSER\")","v":""}]
[null,null,null,null,null,null,null,null,null,null,null,null,null,null,null,null,null,null,null,null,null,null,null,null,null,null,null,null,null,null,null,null,null,null,null,null,null,null,null,null,null,null,null,null,null,null,null,null,null,null,null,null,null,null,null,null,null,null,null,null,null,null,null,null,null,null,null,null,null,null,null,null,null,null,null,null,null,null,null,null,null,null,null,null,null,null,null,null,null,null,null,null,"",null,{"$f":"IF(BY160=\"\",\"\",\"AgencyEntityInsData Id 753\")","v":""},{"$f":"IF(BY160=\"\",\"\",\"AgencyEntityInstance Id 158\")","v":""},{"$f":"IF(BY160=\"\",\"\",\"cm_base_dcp_04_index\")","v":""},{"$f":"IF(BY160=\"\",\"\",'Test 5'!AF110)","v":""},{"$f":"IF(BY160=\"\",\"\",TODAY())","v":""},{"$f":"IF(BY160=\"\",\"\",\"WTSYSTEMUSER\")","v":""},{"$f":"IF(BY160=\"\",\"\",TODAY())","v":""},{"$f":"IF(BY160=\"\",\"\",\"WTSYSTEMUSER\")","v":""}]
[null,null,null,null,null,null,null,null,null,null,null,null,null,null,null,null,null,null,null,null,null,null,null,null,null,null,null,null,null,null,null,null,null,null,null,null,null,null,null,null,null,null,null,null,null,null,null,null,null,null,null,null,null,null,null,null,null,null,null,null,null,null,null,null,null,null,null,null,null,null,null,null,null,null,null,null,null,null,null,null,null,null,null,null,null,null,null,null,null,null,null,null,"",null,{"$f":"IF(BY162=\"\",\"\",\"AgencyEntityInsData Id 759\")","v":""},{"$f":"IF(BY162=\"\",\"\",\"AgencyEntityInstance Id 160\")","v":""},{"$f":"IF(BY162=\"\",\"\",\"cm_base_dcp_header_02_thi_spec\")","v":""},{"$f":"IF(BY162=\"\",\"\",'Test 5'!AF88)","v":""},{"$f":"IF(BY162=\"\",\"\",TODAY())","v":""},{"$f":"IF(BY162=\"\",\"\",\"WTSYSTEMUSER\")","v":""},{"$f":"IF(BY162=\"\",\"\",TODAY())","v":""},{"$f":"IF(BY162=\"\",\"\",\"WTSYSTEMUSER\")","v":""}]
[null,null,null,null,null,null,null,null,null,null,null,null,null,null,null,null,null,null,null,null,null,null,null,null,null,null,null,null,null,null,null,null,null,null,null,null,null,null,null,null,null,null,null,null,null,null,null,null,null,null,null,null,null,null,null,null,null,null,null,null,null,null,null,null,null,null,null,null,null,null,null,null,null,null,null,null,null,null,null,null,null,null,null,null,null,null,null,null,null,null,null,null,"",null,{"$f":"IF(BY162=\"\",\"\",\"AgencyEntityInsData Id 762\")","v":""},{"$f":"IF(BY162=\"\",\"\",\"AgencyEntityInstance Id 160\")","v":""},{"$f":"IF(BY162=\"\",\"\",\"cm_base_dcp_header_05_sta_2\")","v":""},{"$f":"IF(BY162=\"\",\"\",IF('Test 5'!U81=\"\",\"\",'Test 5'!U81))","v":""},{"$f":"IF(BY162=\"\",\"\",TODAY())","v":""},{"$f":"IF(BY162=\"\",\"\",\"WTSYSTEMUSER\")","v":""},{"$f":"IF(BY162=\"\",\"\",TODAY())","v":""},{"$f":"IF(BY162=\"\",\"\",\"WTSYSTEMUSER\")","v":""}]
[null,null,null,null,null,null,null,null,null,null,null,null,null,null,null,null,null,null,null,null,null,null,null,null,null,null,null,null,null,null,null,null,null,null,null,null,null,null,null,null,null,null,null,null,null,null,null,null,null,null,null,null,null,null,null,null,null,null,null,null,null,null,null,null,null,null,null,null,null,null,null,null,null,null,null,null,null,null,null,null,null,null,null,null,null,null,null,null,null,null,null,null,"",null,{"$f":"IF(BY163=\"\",\"\",\"AgencyEntityInsData Id 766\")","v":""},{"$f":"IF(BY163=\"\",\"\",\"AgencyEntityInstance Id 161\")","v":""},{"$f":"IF(BY163=\"\",\"\",\"cm_base_dcp_02_end\")","v":""},{"$f":"IF(BY163=\"\",\"\",'Test 5'!AH92)","v":""},{"$f":"IF(BY163=\"\",\"\",TODAY())","v":""},{"$f":"IF(BY163=\"\",\"\",\"WTSYSTEMUSER\")","v":""},{"$f":"IF(BY163=\"\",\"\",TODAY())","v":""},{"$f":"IF(BY163=\"\",\"\",\"WTSYSTEMUSER\")","v":""}]
[null,null,null,null,null,null,null,null,null,null,null,null,null,null,null,null,null,null,null,null,null,null,null,null,null,null,null,null,null,null,null,null,null,null,null,null,null,null,null,null,null,null,null,null,null,null,null,null,null,null,null,null,null,null,null,null,null,null,null,null,null,null,null,null,null,null,null,null,null,null,null,null,null,null,null,null,null,null,null,null,null,null,null,null,null,null,null,null,null,null,null,null,"",null,{"$f":"IF(BY163=\"\",\"\",\"AgencyEntityInsData Id 767\")","v":""},{"$f":"IF(BY163=\"\",\"\",\"AgencyEntityInstance Id 161\")","v":""},{"$f":"IF(BY163=\"\",\"\",\"cm_base_dcp_03_blows\")","v":""},{"$f":"IF(BY163=\"\",\"\",IF('Test 5'!V92=\"\",\"\",'Test 5'!V92))","v":""},{"$f":"IF(BY163=\"\",\"\",TODAY())","v":""},{"$f":"IF(BY163=\"\",\"\",\"WTSYSTEMUSER\")","v":""},{"$f":"IF(BY163=\"\",\"\",TODAY())","v":""},{"$f":"IF(BY163=\"\",\"\",\"WTSYSTEMUSER\")","v":""}]
[null,null,null,null,null,null,null,null,null,null,null,null,null,null,null,null,null,null,null,null,null,null,null,null,null,null,null,null,null,null,null,null,null,null,null,null,null,null,null,null,null,null,null,null,null,null,null,null,null,null,null,null,null,null,null,null,null,null,null,null,null,null,null,null,null,null,null,null,null,null,null,null,null,null,null,null,null,null,null,null,null,null,null,null,null,null,null,null,null,null,null,null,"",null,{"$f":"IF(BY164=\"\",\"\",\"AgencyEntityInsData Id 771\")","v":""},{"$f":"IF(BY164=\"\",\"\",\"AgencyEntityInstance Id 162\")","v":""},{"$f":"IF(BY164=\"\",\"\",\"cm_base_dcp_03_blows\")","v":""},{"$f":"IF(BY164=\"\",\"\",IF('Test 5'!V93=\"\",\"\",'Test 5'!V93))","v":""},{"$f":"IF(BY164=\"\",\"\",TODAY())","v":""},{"$f":"IF(BY164=\"\",\"\",\"WTSYSTEMUSER\")","v":""},{"$f":"IF(BY164=\"\",\"\",TODAY())","v":""},{"$f":"IF(BY164=\"\",\"\",\"WTSYSTEMUSER\")","v":""}]
[null,null,null,null,null,null,null,null,null,null,null,null,null,null,null,null,null,null,null,null,null,null,null,null,null,null,null,null,null,null,null,null,null,null,null,null,null,null,null,null,null,null,null,null,null,null,null,null,null,null,null,null,null,null,null,null,null,null,null,null,null,null,null,null,null,null,null,null,null,null,null,null,null,null,null,null,null,null,null,null,null,null,null,null,null,null,null,null,null,null,null,null,"",null,{"$f":"IF(BY165=\"\",\"\",\"AgencyEntityInsData Id 776\")","v":""},{"$f":"IF(BY165=\"\",\"\",\"AgencyEntityInstance Id 163\")","v":""},{"$f":"IF(BY165=\"\",\"\",\"cm_base_dcp_04_index\")","v":""},{"$f":"IF(BY165=\"\",\"\",'Test 5'!AI94)","v":""},{"$f":"IF(BY165=\"\",\"\",TODAY())","v":""},{"$f":"IF(BY165=\"\",\"\",\"WTSYSTEMUSER\")","v":""},{"$f":"IF(BY165=\"\",\"\",TODAY())","v":""},{"$f":"IF(BY165=\"\",\"\",\"WTSYSTEMUSER\")","v":""}]
[null,null,null,null,null,null,null,null,null,null,null,null,null,null,null,null,null,null,null,null,null,null,null,null,null,null,null,null,null,null,null,null,null,null,null,null,null,null,null,null,null,null,null,null,null,null,null,null,null,null,null,null,null,null,null,null,null,null,null,null,null,null,null,null,null,null,null,null,null,null,null,null,null,null,null,null,null,null,null,null,null,null,null,null,null,null,null,null,null,null,null,null,"",null,{"$f":"IF(BY166=\"\",\"\",\"AgencyEntityInsData Id 779\")","v":""},{"$f":"IF(BY166=\"\",\"\",\"AgencyEntityInstance Id 164\")","v":""},{"$f":"IF(BY166=\"\",\"\",\"cm_base_dcp_03_blows\")","v":""},{"$f":"IF(BY166=\"\",\"\",IF('Test 5'!V95=\"\",\"\",'Test 5'!V95))","v":""},{"$f":"IF(BY166=\"\",\"\",TODAY())","v":""},{"$f":"IF(BY166=\"\",\"\",\"WTSYSTEMUSER\")","v":""},{"$f":"IF(BY166=\"\",\"\",TODAY())","v":""},{"$f":"IF(BY166=\"\",\"\",\"WTSYSTEMUSER\")","v":""}]
[null,null,null,null,null,null,null,null,null,null,null,null,null,null,null,null,null,null,null,null,null,null,null,null,null,null,null,null,null,null,null,null,null,null,null,null,null,null,null,null,null,null,null,null,null,null,null,null,null,null,null,null,null,null,null,null,null,null,null,null,null,null,null,null,null,null,null,null,null,null,null,null,null,null,null,null,null,null,null,null,null,null,null,null,null,null,null,null,null,null,null,null,"",null,{"$f":"IF(BY167=\"\",\"\",\"AgencyEntityInsData Id 781\")","v":""},{"$f":"IF(BY167=\"\",\"\",\"AgencyEntityInstance Id 165\")","v":""},{"$f":"IF(BY167=\"\",\"\",\"cm_base_dcp_01_begin\")","v":""},{"$f":"IF(BY167=\"\",\"\",'Test 5'!AG96)","v":""},{"$f":"IF(BY167=\"\",\"\",TODAY())","v":""},{"$f":"IF(BY167=\"\",\"\",\"WTSYSTEMUSER\")","v":""},{"$f":"IF(BY167=\"\",\"\",TODAY())","v":""},{"$f":"IF(BY167=\"\",\"\",\"WTSYSTEMUSER\")","v":""}]
[null,null,null,null,null,null,null,null,null,null,null,null,null,null,null,null,null,null,null,null,null,null,null,null,null,null,null,null,null,null,null,null,null,null,null,null,null,null,null,null,null,null,null,null,null,null,null,null,null,null,null,null,null,null,null,null,null,null,null,null,null,null,null,null,null,null,null,null,null,null,null,null,null,null,null,null,null,null,null,null,null,null,null,null,null,null,null,null,null,null,null,null,"",null,{"$f":"IF(BY168=\"\",\"\",\"AgencyEntityInsData Id 787\")","v":""},{"$f":"IF(BY168=\"\",\"\",\"AgencyEntityInstance Id 166\")","v":""},{"$f":"IF(BY168=\"\",\"\",\"cm_base_dcp_03_blows\")","v":""},{"$f":"IF(BY168=\"\",\"\",IF('Test 5'!V97=\"\",\"\",'Test 5'!V97))","v":""},{"$f":"IF(BY168=\"\",\"\",TODAY())","v":""},{"$f":"IF(BY168=\"\",\"\",\"WTSYSTEMUSER\")","v":""},{"$f":"IF(BY168=\"\",\"\",TODAY())","v":""},{"$f":"IF(BY168=\"\",\"\",\"WTSYSTEMUSER\")","v":""}]
[null,null,null,null,null,null,null,null,null,null,null,null,null,null,null,null,null,null,null,null,null,null,null,null,null,null,null,null,null,null,null,null,null,null,null,null,null,null,null,null,null,null,null,null,null,null,null,null,null,null,null,null,null,null,null,null,null,null,null,null,null,null,null,null,null,null,null,null,null,null,null,null,null,null,null,null,null,null,null,null,null,null,null,null,null,null,null,null,null,null,null,null,"",null,{"$f":"IF(BY169=\"\",\"\",\"AgencyEntityInsData Id 790\")","v":""},{"$f":"IF(BY169=\"\",\"\",\"AgencyEntityInstance Id 167\")","v":""},{"$f":"IF(BY169=\"\",\"\",\"cm_base_dcp_02_end\")","v":""},{"$f":"IF(BY169=\"\",\"\",'Test 5'!AH98)","v":""},{"$f":"IF(BY169=\"\",\"\",TODAY())","v":""},{"$f":"IF(BY169=\"\",\"\",\"WTSYSTEMUSER\")","v":""},{"$f":"IF(BY169=\"\",\"\",TODAY())","v":""},{"$f":"IF(BY169=\"\",\"\",\"WTSYSTEMUSER\")","v":""}]
[null,null,null,null,null,null,null,null,null,null,null,null,null,null,null,null,null,null,null,null,null,null,null,null,null,null,null,null,null,null,null,null,null,null,null,null,null,null,null,null,null,null,null,null,null,null,null,null,null,null,null,null,null,null,null,null,null,null,null,null,null,null,null,null,null,null,null,null,null,null,null,null,null,null,null,null,null,null,null,null,null,null,null,null,null,null,null,null,null,null,null,null,"",null,{"$f":"IF(BY170=\"\",\"\",\"AgencyEntityInsData Id 794\")","v":""},{"$f":"IF(BY170=\"\",\"\",\"AgencyEntityInstance Id 168\")","v":""},{"$f":"IF(BY170=\"\",\"\",\"cm_base_dcp_02_end\")","v":""},{"$f":"IF(BY170=\"\",\"\",'Test 5'!AH99)","v":""},{"$f":"IF(BY170=\"\",\"\",TODAY())","v":""},{"$f":"IF(BY170=\"\",\"\",\"WTSYSTEMUSER\")","v":""},{"$f":"IF(BY170=\"\",\"\",TODAY())","v":""},{"$f":"IF(BY170=\"\",\"\",\"WTSYSTEMUSER\")","v":""}]
[null,null,null,null,null,null,null,null,null,null,null,null,null,null,null,null,null,null,null,null,null,null,null,null,null,null,null,null,null,null,null,null,null,null,null,null,null,null,null,null,null,null,null,null,null,null,null,null,null,null,null,null,null,null,null,null,null,null,null,null,null,null,null,null,null,null,null,null,null,null,null,null,null,null,null,null,null,null,null,null,null,null,null,null,null,null,null,null,null,null,null,null,"",null,{"$f":"IF(BY170=\"\",\"\",\"AgencyEntityInsData Id 795\")","v":""},{"$f":"IF(BY170=\"\",\"\",\"AgencyEntityInstance Id 168\")","v":""},{"$f":"IF(BY170=\"\",\"\",\"cm_base_dcp_03_blows\")","v":""},{"$f":"IF(BY170=\"\",\"\",IF('Test 5'!V99=\"\",\"\",'Test 5'!V99))","v":""},{"$f":"IF(BY170=\"\",\"\",TODAY())","v":""},{"$f":"IF(BY170=\"\",\"\",\"WTSYSTEMUSER\")","v":""},{"$f":"IF(BY170=\"\",\"\",TODAY())","v":""},{"$f":"IF(BY170=\"\",\"\",\"WTSYSTEMUSER\")","v":""}]
[null,null,null,null,null,null,null,null,null,null,null,null,null,null,null,null,null,null,null,null,null,null,null,null,null,null,null,null,null,null,null,null,null,null,null,null,null,null,null,null,null,null,null,null,null,null,null,null,null,null,null,null,null,null,null,null,null,null,null,null,null,null,null,null,null,null,null,null,null,null,null,null,null,null,null,null,null,null,null,null,null,null,null,null,null,null,null,null,null,null,null,null,"",null,{"$f":"IF(BY171=\"\",\"\",\"AgencyEntityInsData Id 799\")","v":""},{"$f":"IF(BY171=\"\",\"\",\"AgencyEntityInstance Id 169\")","v":""},{"$f":"IF(BY171=\"\",\"\",\"cm_base_dcp_03_blows\")","v":""},{"$f":"IF(BY171=\"\",\"\",IF('Test 5'!V100=\"\",\"\",'Test 5'!V100))","v":""},{"$f":"IF(BY171=\"\",\"\",TODAY())","v":""},{"$f":"IF(BY171=\"\",\"\",\"WTSYSTEMUSER\")","v":""},{"$f":"IF(BY171=\"\",\"\",TODAY())","v":""},{"$f":"IF(BY171=\"\",\"\",\"WTSYSTEMUSER\")","v":""}]
[null,null,null,null,null,null,null,null,null,null,null,null,null,null,null,null,null,null,null,null,null,null,null,null,null,null,null,null,null,null,null,null,null,null,null,null,null,null,null,null,null,null,null,null,null,null,null,null,null,null,null,null,null,null,null,null,null,null,null,null,null,null,null,null,null,null,null,null,null,null,null,null,null,null,null,null,null,null,null,null,null,null,null,null,null,null,null,null,null,null,null,null,"",null,{"$f":"IF(BY172=\"\",\"\",\"AgencyEntityInsData Id 804\")","v":""},{"$f":"IF(BY172=\"\",\"\",\"AgencyEntityInstance Id 170\")","v":""},{"$f":"IF(BY172=\"\",\"\",\"cm_base_dcp_04_index\")","v":""},{"$f":"IF(BY172=\"\",\"\",'Test 5'!AI101)","v":""},{"$f":"IF(BY172=\"\",\"\",TODAY())","v":""},{"$f":"IF(BY172=\"\",\"\",\"WTSYSTEMUSER\")","v":""},{"$f":"IF(BY172=\"\",\"\",TODAY())","v":""},{"$f":"IF(BY172=\"\",\"\",\"WTSYSTEMUSER\")","v":""}]
[null,null,null,null,null,null,null,null,null,null,null,null,null,null,null,null,null,null,null,null,null,null,null,null,null,null,null,null,null,null,null,null,null,null,null,null,null,null,null,null,null,null,null,null,null,null,null,null,null,null,null,null,null,null,null,null,null,null,null,null,null,null,null,null,null,null,null,null,null,null,null,null,null,null,null,null,null,null,null,null,null,null,null,null,null,null,null,null,null,null,null,null,"",null,{"$f":"IF(BY173=\"\",\"\",\"AgencyEntityInsData Id 807\")","v":""},{"$f":"IF(BY173=\"\",\"\",\"AgencyEntityInstance Id 171\")","v":""},{"$f":"IF(BY173=\"\",\"\",\"cm_base_dcp_03_blows\")","v":""},{"$f":"IF(BY173=\"\",\"\",IF('Test 5'!V102=\"\",\"\",'Test 5'!V102))","v":""},{"$f":"IF(BY173=\"\",\"\",TODAY())","v":""},{"$f":"IF(BY173=\"\",\"\",\"WTSYSTEMUSER\")","v":""},{"$f":"IF(BY173=\"\",\"\",TODAY())","v":""},{"$f":"IF(BY173=\"\",\"\",\"WTSYSTEMUSER\")","v":""}]
[null,null,null,null,null,null,null,null,null,null,null,null,null,null,null,null,null,null,null,null,null,null,null,null,null,null,null,null,null,null,null,null,null,null,null,null,null,null,null,null,null,null,null,null,null,null,null,null,null,null,null,null,null,null,null,null,null,null,null,null,null,null,null,null,null,null,null,null,null,null,null,null,null,null,null,null,null,null,null,null,null,null,null,null,null,null,null,null,null,null,null,null,"",null,{"$f":"IF(BY174=\"\",\"\",\"AgencyEntityInsData Id 809\")","v":""},{"$f":"IF(BY174=\"\",\"\",\"AgencyEntityInstance Id 172\")","v":""},{"$f":"IF(BY174=\"\",\"\",\"cm_base_dcp_01_begin\")","v":""},{"$f":"IF(BY174=\"\",\"\",'Test 5'!AG103)","v":""},{"$f":"IF(BY174=\"\",\"\",TODAY())","v":""},{"$f":"IF(BY174=\"\",\"\",\"WTSYSTEMUSER\")","v":""},{"$f":"IF(BY174=\"\",\"\",TODAY())","v":""},{"$f":"IF(BY174=\"\",\"\",\"WTSYSTEMUSER\")","v":""}]
[null,null,null,null,null,null,null,null,null,null,null,null,null,null,null,null,null,null,null,null,null,null,null,null,null,null,null,null,null,null,null,null,null,null,null,null,null,null,null,null,null,null,null,null,null,null,null,null,null,null,null,null,null,null,null,null,null,null,null,null,null,null,null,null,null,null,null,null,null,null,null,null,null,null,null,null,null,null,null,null,null,null,null,null,null,null,null,null,null,null,null,null,"",null,{"$f":"IF(BY175=\"\",\"\",\"AgencyEntityInsData Id 814\")","v":""},{"$f":"IF(BY175=\"\",\"\",\"AgencyEntityInstance Id 173\")","v":""},{"$f":"IF(BY175=\"\",\"\",\"cm_base_dcp_02_end\")","v":""},{"$f":"IF(BY175=\"\",\"\",'Test 5'!AH104)","v":""},{"$f":"IF(BY175=\"\",\"\",TODAY())","v":""},{"$f":"IF(BY175=\"\",\"\",\"WTSYSTEMUSER\")","v":""},{"$f":"IF(BY175=\"\",\"\",TODAY())","v":""},{"$f":"IF(BY175=\"\",\"\",\"WTSYSTEMUSER\")","v":""}]
[null,null,null,null,null,null,null,null,null,null,null,null,null,null,null,null,null,null,null,null,null,null,null,null,null,null,null,null,null,null,null,null,null,null,null,null,null,null,null,null,null,null,null,null,null,null,null,null,null,null,null,null,null,null,null,null,null,null,null,null,null,null,null,null,null,null,null,null,null,null,null,null,null,null,null,null,null,null,null,null,null,null,null,null,null,null,null,null,null,null,null,null,"",null,{"$f":"IF(BY176=\"\",\"\",\"AgencyEntityInsData Id 819\")","v":""},{"$f":"IF(BY176=\"\",\"\",\"AgencyEntityInstance Id 174\")","v":""},{"$f":"IF(BY176=\"\",\"\",\"cm_base_dcp_03_blows\")","v":""},{"$f":"IF(BY176=\"\",\"\",IF('Test 5'!V105=\"\",\"\",'Test 5'!V105))","v":""},{"$f":"IF(BY176=\"\",\"\",TODAY())","v":""},{"$f":"IF(BY176=\"\",\"\",\"WTSYSTEMUSER\")","v":""},{"$f":"IF(BY176=\"\",\"\",TODAY())","v":""},{"$f":"IF(BY176=\"\",\"\",\"WTSYSTEMUSER\")","v":""}]
[null,null,null,null,null,null,null,null,null,null,null,null,null,null,null,null,null,null,null,null,null,null,null,null,null,null,null,null,null,null,null,null,null,null,null,null,null,null,null,null,null,null,null,null,null,null,null,null,null,null,null,null,null,null,null,null,null,null,null,null,null,null,null,null,null,null,null,null,null,null,null,null,null,null,null,null,null,null,null,null,null,null,null,null,null,null,null,null,null,null,null,null,"",null,{"$f":"IF(BY177=\"\",\"\",\"AgencyEntityInsData Id 823\")","v":""},{"$f":"IF(BY177=\"\",\"\",\"AgencyEntityInstance Id 175\")","v":""},{"$f":"IF(BY177=\"\",\"\",\"cm_base_dcp_03_blows\")","v":""},{"$f":"IF(BY177=\"\",\"\",IF('Test 5'!V106=\"\",\"\",'Test 5'!V106))","v":""},{"$f":"IF(BY177=\"\",\"\",TODAY())","v":""},{"$f":"IF(BY177=\"\",\"\",\"WTSYSTEMUSER\")","v":""},{"$f":"IF(BY177=\"\",\"\",TODAY())","v":""},{"$f":"IF(BY177=\"\",\"\",\"WTSYSTEMUSER\")","v":""}]
[null,null,null,null,null,null,null,null,null,null,null,null,null,null,null,null,null,null,null,null,null,null,null,null,null,null,null,null,null,null,null,null,null,null,null,null,null,null,null,null,null,null,null,null,null,null,null,null,null,null,null,null,null,null,null,null,null,null,null,null,null,null,null,null,null,null,null,null,null,null,null,null,null,null,null,null,null,null,null,null,null,null,null,null,null,null,null,null,null,null,null,null,"",null,{"$f":"IF(BY177=\"\",\"\",\"AgencyEntityInsData Id 824\")","v":""},{"$f":"IF(BY177=\"\",\"\",\"AgencyEntityInstance Id 175\")","v":""},{"$f":"IF(BY177=\"\",\"\",\"cm_base_dcp_04_index\")","v":""},{"$f":"IF(BY177=\"\",\"\",'Test 5'!AI106)","v":""},{"$f":"IF(BY177=\"\",\"\",TODAY())","v":""},{"$f":"IF(BY177=\"\",\"\",\"WTSYSTEMUSER\")","v":""},{"$f":"IF(BY177=\"\",\"\",TODAY())","v":""},{"$f":"IF(BY177=\"\",\"\",\"WTSYSTEMUSER\")","v":""}]
[null,null,null,null,null,null,null,null,null,null,null,null,null,null,null,null,null,null,null,null,null,null,null,null,null,null,null,null,null,null,null,null,null,null,null,null,null,null,null,null,null,null,null,null,null,null,null,null,null,null,null,null,null,null,null,null,null,null,null,null,null,null,null,null,null,null,null,null,null,null,null,null,null,null,null,null,null,null,null,null,null,null,null,null,null,null,null,null,null,null,null,null,"",null,{"$f":"IF(BY178=\"\",\"\",\"AgencyEntityInsData Id 828\")","v":""},{"$f":"IF(BY178=\"\",\"\",\"AgencyEntityInstance Id 176\")","v":""},{"$f":"IF(BY178=\"\",\"\",\"cm_base_dcp_04_index\")","v":""},{"$f":"IF(BY178=\"\",\"\",'Test 5'!AI107)","v":""},{"$f":"IF(BY178=\"\",\"\",TODAY())","v":""},{"$f":"IF(BY178=\"\",\"\",\"WTSYSTEMUSER\")","v":""},{"$f":"IF(BY178=\"\",\"\",TODAY())","v":""},{"$f":"IF(BY178=\"\",\"\",\"WTSYSTEMUSER\")","v":""}]
[null,null,null,null,null,null,null,null,null,null,null,null,null,null,null,null,null,null,null,null,null,null,null,null,null,null,null,null,null,null,null,null,null,null,null,null,null,null,null,null,null,null,null,null,null,null,null,null,null,null,null,null,null,null,null,null,null,null,null,null,null,null,null,null,null,null,null,null,null,null,null,null,null,null,null,null,null,null,null,null,null,null,null,null,null,null,null,null,null,null,null,null,"",null,{"$f":"IF(BY179=\"\",\"\",\"AgencyEntityInsData Id 832\")","v":""},{"$f":"IF(BY179=\"\",\"\",\"AgencyEntityInstance Id 177\")","v":""},{"$f":"IF(BY179=\"\",\"\",\"cm_base_dcp_04_index\")","v":""},{"$f":"IF(BY179=\"\",\"\",'Test 5'!AI108)","v":""},{"$f":"IF(BY179=\"\",\"\",TODAY())","v":""},{"$f":"IF(BY179=\"\",\"\",\"WTSYSTEMUSER\")","v":""},{"$f":"IF(BY179=\"\",\"\",TODAY())","v":""},{"$f":"IF(BY179=\"\",\"\",\"WTSYSTEMUSER\")","v":""}]
[null,null,null,null,null,null,null,null,null,null,null,null,null,null,null,null,null,null,null,null,null,null,null,null,null,null,null,null,null,null,null,null,null,null,null,null,null,null,null,null,null,null,null,null,null,null,null,null,null,null,null,null,null,null,null,null,null,null,null,null,null,null,null,null,null,null,null,null,null,null,null,null,null,null,null,null,null,null,null,null,null,null,null,null,null,null,null,null,null,null,null,null,"",null,{"$f":"IF(BY181=\"\",\"\",\"AgencyEntityInsData Id 837\")","v":""},{"$f":"IF(BY181=\"\",\"\",\"AgencyEntityInstance Id 179\")","v":""},{"$f":"IF(BY181=\"\",\"\",\"cm_base_dcp_01_begin\")","v":""},{"$f":"IF(BY181=\"\",\"\",'Test 5'!AG110)","v":""},{"$f":"IF(BY181=\"\",\"\",TODAY())","v":""},{"$f":"IF(BY181=\"\",\"\",\"WTSYSTEMUSER\")","v":""},{"$f":"IF(BY181=\"\",\"\",TODAY())","v":""},{"$f":"IF(BY181=\"\",\"\",\"WTSYSTEMUSER\")","v":""}]
[null,null,null,null,null,null,null,null,null,null,null,null,null,null,null,null,null,null,null,null,null,null,null,null,null,null,null,null,null,null,null,null,null,null,null,null,null,null,null,null,null,null,null,null,null,null,null,null,null,null,null,null,null,null,null,null,null,null,null,null,null,null,null,null,null,null,null,null,null,null,null,null,null,null,null,null,null,null,null,null,null,null,null,null,null,null,null,null,null,null,null,null,"",null,{"$f":"IF(BY181=\"\",\"\",\"AgencyEntityInsData Id 839\")","v":""},{"$f":"IF(BY181=\"\",\"\",\"AgencyEntityInstance Id 179\")","v":""},{"$f":"IF(BY181=\"\",\"\",\"cm_base_dcp_03_blows\")","v":""},{"$f":"IF(BY181=\"\",\"\",IF('Test 5'!V110=\"\",\"\",'Test 5'!V110))","v":""},{"$f":"IF(BY181=\"\",\"\",TODAY())","v":""},{"$f":"IF(BY181=\"\",\"\",\"WTSYSTEMUSER\")","v":""},{"$f":"IF(BY181=\"\",\"\",TODAY())","v":""},{"$f":"IF(BY181=\"\",\"\",\"WTSYSTEMUSER\")","v":""}]
[null,null,null,null,null,null,null,null,null,null,null,null,null,null,null,null,null,null,null,null,null,null,null,null,null,null,null,null,null,null,null,null,null,null,null,null,null,null,null,null,null,null,null,null,null,null,null,null,null,null,null,null,null,null,null,null,null,null,null,null,null,null,null,null,null,null,null,null,null,null,null,null,null,null,null,null,null,null,null,null,null,null,null,null,null,null,null,null,null,null,null,null,"",null,{"$f":"IF(BY182=\"\",\"\",\"AgencyEntityInsData Id 842\")","v":""},{"$f":"IF(BY182=\"\",\"\",\"AgencyEntityInstance Id 180\")","v":""},{"$f":"IF(BY182=\"\",\"\",\"cm_base_dcp_02_end\")","v":""},{"$f":"IF(BY182=\"\",\"\",'Test 5'!AH111)","v":""},{"$f":"IF(BY182=\"\",\"\",TODAY())","v":""},{"$f":"IF(BY182=\"\",\"\",\"WTSYSTEMUSER\")","v":""},{"$f":"IF(BY182=\"\",\"\",TODAY())","v":""},{"$f":"IF(BY182=\"\",\"\",\"WTSYSTEMUSER\")","v":""}]
[null,null,null,null,null,null,null,null,null,null,null,null,null,null,null,null,null,null,null,null,null,null,null,null,null,null,null,null,null,null,null,null,null,null,null,null,null,null,null,null,null,null,null,null,null,null,null,null,null,null,null,null,null,null,null,null,null,null,null,null,null,null,null,null,null,null,null,null,null,null,null,null,null,null,null,null,null,null,null,null,null,null,null,null,null,null,null,null,null,null,null,null,"",null,{"$f":"IF(BY183=\"\",\"\",\"AgencyEntityInsData Id 847\")","v":""},{"$f":"IF(BY183=\"\",\"\",\"AgencyEntityInstance Id 181\")","v":""},{"$f":"IF(BY183=\"\",\"\",\"cm_base_dcp_header_03_thi_meas\")","v":""},{"$f":"IF(BY183=\"\",\"\",'Test 5'!AE121)","v":""},{"$f":"IF(BY183=\"\",\"\",TODAY())","v":""},{"$f":"IF(BY183=\"\",\"\",\"WTSYSTEMUSER\")","v":""},{"$f":"IF(BY183=\"\",\"\",TODAY())","v":""},{"$f":"IF(BY183=\"\",\"\",\"WTSYSTEMUSER\")","v":""}]
[null,null,null,null,null,null,null,null,null,null,null,null,null,null,null,null,null,null,null,null,null,null,null,null,null,null,null,null,null,null,null,null,null,null,null,null,null,null,null,null,null,null,null,null,null,null,null,null,null,null,null,null,null,null,null,null,null,null,null,null,null,null,null,null,null,null,null,null,null,null,null,null,null,null,null,null,null,null,null,null,null,null,null,null,null,null,null,null,null,null,null,null,"",null,{"$f":"IF(BY183=\"\",\"\",\"AgencyEntityInsData Id 851\")","v":""},{"$f":"IF(BY183=\"\",\"\",\"AgencyEntityInstance Id 181\")","v":""},{"$f":"IF(BY183=\"\",\"\",\"cm_base_dcp_header_07_tester\")","v":""},{"$f":"IF(BY183=\"\",\"\",IF('Test 5'!E117=\"\",\"\",'Test 5'!E117))","v":""},{"$f":"IF(BY183=\"\",\"\",TODAY())","v":""},{"$f":"IF(BY183=\"\",\"\",\"WTSYSTEMUSER\")","v":""},{"$f":"IF(BY183=\"\",\"\",TODAY())","v":""},{"$f":"IF(BY183=\"\",\"\",\"WTSYSTEMUSER\")","v":""}]
[null,null,null,null,null,null,null,null,null,null,null,null,null,null,null,null,null,null,null,null,null,null,null,null,null,null,null,null,null,null,null,null,null,null,null,null,null,null,null,null,null,null,null,null,null,null,null,null,null,null,null,null,null,null,null,null,null,null,null,null,null,null,null,null,null,null,null,null,null,null,null,null,null,null,null,null,null,null,null,null,null,null,null,null,null,null,null,null,null,null,null,null,"",null,{"$f":"IF(BY184=\"\",\"\",\"AgencyEntityInsData Id 852\")","v":""},{"$f":"IF(BY184=\"\",\"\",\"AgencyEntityInstance Id 182\")","v":""},{"$f":"IF(BY184=\"\",\"\",\"cm_base_dcp_01_begin\")","v":""},{"$f":"IF(BY184=\"\",\"\",'Test 5'!AD126)","v":""},{"$f":"IF(BY184=\"\",\"\",TODAY())","v":""},{"$f":"IF(BY184=\"\",\"\",\"WTSYSTEMUSER\")","v":""},{"$f":"IF(BY184=\"\",\"\",TODAY())","v":""},{"$f":"IF(BY184=\"\",\"\",\"WTSYSTEMUSER\")","v":""}]
[null,null,null,null,null,null,null,null,null,null,null,null,null,null,null,null,null,null,null,null,null,null,null,null,null,null,null,null,null,null,null,null,null,null,null,null,null,null,null,null,null,null,null,null,null,null,null,null,null,null,null,null,null,null,null,null,null,null,null,null,null,null,null,null,null,null,null,null,null,null,null,null,null,null,null,null,null,null,null,null,null,null,null,null,null,null,null,null,null,null,null,null,"",null,{"$f":"IF(BY185=\"\",\"\",\"AgencyEntityInsData Id 856\")","v":""},{"$f":"IF(BY185=\"\",\"\",\"AgencyEntityInstance Id 183\")","v":""},{"$f":"IF(BY185=\"\",\"\",\"cm_base_dcp_01_begin\")","v":""},{"$f":"IF(BY185=\"\",\"\",'Test 5'!AD127)","v":""},{"$f":"IF(BY185=\"\",\"\",TODAY())","v":""},{"$f":"IF(BY185=\"\",\"\",\"WTSYSTEMUSER\")","v":""},{"$f":"IF(BY185=\"\",\"\",TODAY())","v":""},{"$f":"IF(BY185=\"\",\"\",\"WTSYSTEMUSER\")","v":""}]
[null,null,null,null,null,null,null,null,null,null,null,null,null,null,null,null,null,null,null,null,null,null,null,null,null,null,null,null,null,null,null,null,null,null,null,null,null,null,null,null,null,null,null,null,null,null,null,null,null,null,null,null,null,null,null,null,null,null,null,null,null,null,null,null,null,null,null,null,null,null,null,null,null,null,null,null,null,null,null,null,null,null,null,null,null,null,null,null,null,null,null,null,"",null,{"$f":"IF(BY186=\"\",\"\",\"AgencyEntityInsData Id 860\")","v":""},{"$f":"IF(BY186=\"\",\"\",\"AgencyEntityInstance Id 184\")","v":""},{"$f":"IF(BY186=\"\",\"\",\"cm_base_dcp_01_begin\")","v":""},{"$f":"IF(BY186=\"\",\"\",'Test 5'!AD128)","v":""},{"$f":"IF(BY186=\"\",\"\",TODAY())","v":""},{"$f":"IF(BY186=\"\",\"\",\"WTSYSTEMUSER\")","v":""},{"$f":"IF(BY186=\"\",\"\",TODAY())","v":""},{"$f":"IF(BY186=\"\",\"\",\"WTSYSTEMUSER\")","v":""}]
[null,null,null,null,null,null,null,null,null,null,null,null,null,null,null,null,null,null,null,null,null,null,null,null,null,null,null,null,null,null,null,null,null,null,null,null,null,null,null,null,null,null,null,null,null,null,null,null,null,null,null,null,null,null,null,null,null,null,null,null,null,null,null,null,null,null,null,null,null,null,null,null,null,null,null,null,null,null,null,null,null,null,null,null,null,null,null,null,null,null,null,null,"",null,{"$f":"IF(BY187=\"\",\"\",\"AgencyEntityInsData Id 865\")","v":""},{"$f":"IF(BY187=\"\",\"\",\"AgencyEntityInstance Id 185\")","v":""},{"$f":"IF(BY187=\"\",\"\",\"cm_base_dcp_02_end\")","v":""},{"$f":"IF(BY187=\"\",\"\",'Test 5'!AE129)","v":""},{"$f":"IF(BY187=\"\",\"\",TODAY())","v":""},{"$f":"IF(BY187=\"\",\"\",\"WTSYSTEMUSER\")","v":""},{"$f":"IF(BY187=\"\",\"\",TODAY())","v":""},{"$f":"IF(BY187=\"\",\"\",\"WTSYSTEMUSER\")","v":""}]
[null,null,null,null,null,null,null,null,null,null,null,null,null,null,null,null,null,null,null,null,null,null,null,null,null,null,null,null,null,null,null,null,null,null,null,null,null,null,null,null,null,null,null,null,null,null,null,null,null,null,null,null,null,null,null,null,null,null,null,null,null,null,null,null,null,null,null,null,null,null,null,null,null,null,null,null,null,null,null,null,null,null,null,null,null,null,null,null,null,null,null,null,"",null,{"$f":"IF(BY187=\"\",\"\",\"AgencyEntityInsData Id 867\")","v":""},{"$f":"IF(BY187=\"\",\"\",\"AgencyEntityInstance Id 185\")","v":""},{"$f":"IF(BY187=\"\",\"\",\"cm_base_dcp_04_index\")","v":""},{"$f":"IF(BY187=\"\",\"\",'Test 5'!AF129)","v":""},{"$f":"IF(BY187=\"\",\"\",TODAY())","v":""},{"$f":"IF(BY187=\"\",\"\",\"WTSYSTEMUSER\")","v":""},{"$f":"IF(BY187=\"\",\"\",TODAY())","v":""},{"$f":"IF(BY187=\"\",\"\",\"WTSYSTEMUSER\")","v":""}]
[null,null,null,null,null,null,null,null,null,null,null,null,null,null,null,null,null,null,null,null,null,null,null,null,null,null,null,null,null,null,null,null,null,null,null,null,null,null,null,null,null,null,null,null,null,null,null,null,null,null,null,null,null,null,null,null,null,null,null,null,null,null,null,null,null,null,null,null,null,null,null,null,null,null,null,null,null,null,null,null,null,null,null,null,null,null,null,null,null,null,null,null,"",null,{"$f":"IF(BY188=\"\",\"\",\"AgencyEntityInsData Id 870\")","v":""},{"$f":"IF(BY188=\"\",\"\",\"AgencyEntityInstance Id 186\")","v":""},{"$f":"IF(BY188=\"\",\"\",\"cm_base_dcp_03_blows\")","v":""},{"$f":"IF(BY188=\"\",\"\",IF('Test 5'!I130=\"\",\"\",'Test 5'!I130))","v":""},{"$f":"IF(BY188=\"\",\"\",TODAY())","v":""},{"$f":"IF(BY188=\"\",\"\",\"WTSYSTEMUSER\")","v":""},{"$f":"IF(BY188=\"\",\"\",TODAY())","v":""},{"$f":"IF(BY188=\"\",\"\",\"WTSYSTEMUSER\")","v":""}]
[null,null,null,null,null,null,null,null,null,null,null,null,null,null,null,null,null,null,null,null,null,null,null,null,null,null,null,null,null,null,null,null,null,null,null,null,null,null,null,null,null,null,null,null,null,null,null,null,null,null,null,null,null,null,null,null,null,null,null,null,null,null,null,null,null,null,null,null,null,null,null,null,null,null,null,null,null,null,null,null,null,null,null,null,null,null,null,null,null,null,null,null,"",null,{"$f":"IF(BY189=\"\",\"\",\"AgencyEntityInsData Id 875\")","v":""},{"$f":"IF(BY189=\"\",\"\",\"AgencyEntityInstance Id 187\")","v":""},{"$f":"IF(BY189=\"\",\"\",\"cm_base_dcp_04_index\")","v":""},{"$f":"IF(BY189=\"\",\"\",'Test 5'!AF131)","v":""},{"$f":"IF(BY189=\"\",\"\",TODAY())","v":""},{"$f":"IF(BY189=\"\",\"\",\"WTSYSTEMUSER\")","v":""},{"$f":"IF(BY189=\"\",\"\",TODAY())","v":""},{"$f":"IF(BY189=\"\",\"\",\"WTSYSTEMUSER\")","v":""}]
[null,null,null,null,null,null,null,null,null,null,null,null,null,null,null,null,null,null,null,null,null,null,null,null,null,null,null,null,null,null,null,null,null,null,null,null,null,null,null,null,null,null,null,null,null,null,null,null,null,null,null,null,null,null,null,null,null,null,null,null,null,null,null,null,null,null,null,null,null,null,null,null,null,null,null,null,null,null,null,null,null,null,null,null,null,null,null,null,null,null,null,null,"",null,{"$f":"IF(BY190=\"\",\"\",\"AgencyEntityInsData Id 879\")","v":""},{"$f":"IF(BY190=\"\",\"\",\"AgencyEntityInstance Id 188\")","v":""},{"$f":"IF(BY190=\"\",\"\",\"cm_base_dcp_04_index\")","v":""},{"$f":"IF(BY190=\"\",\"\",'Test 5'!AF132)","v":""},{"$f":"IF(BY190=\"\",\"\",TODAY())","v":""},{"$f":"IF(BY190=\"\",\"\",\"WTSYSTEMUSER\")","v":""},{"$f":"IF(BY190=\"\",\"\",TODAY())","v":""},{"$f":"IF(BY190=\"\",\"\",\"WTSYSTEMUSER\")","v":""}]
[null,null,null,null,null,null,null,null,null,null,null,null,null,null,null,null,null,null,null,null,null,null,null,null,null,null,null,null,null,null,null,null,null,null,null,null,null,null,null,null,null,null,null,null,null,null,null,null,null,null,null,null,null,null,null,null,null,null,null,null,null,null,null,null,null,null,null,null,null,null,null,null,null,null,null,null,null,null,null,null,null,null,null,null,null,null,null,null,null,null,null,null,"",null,{"$f":"IF(BY191=\"\",\"\",\"AgencyEntityInsData Id 880\")","v":""},{"$f":"IF(BY191=\"\",\"\",\"AgencyEntityInstance Id 189\")","v":""},{"$f":"IF(BY191=\"\",\"\",\"cm_base_dcp_01_begin\")","v":""},{"$f":"IF(BY191=\"\",\"\",'Test 5'!AD133)","v":""},{"$f":"IF(BY191=\"\",\"\",TODAY())","v":""},{"$f":"IF(BY191=\"\",\"\",\"WTSYSTEMUSER\")","v":""},{"$f":"IF(BY191=\"\",\"\",TODAY())","v":""},{"$f":"IF(BY191=\"\",\"\",\"WTSYSTEMUSER\")","v":""}]
[null,null,null,null,null,null,null,null,null,null,null,null,null,null,null,null,null,null,null,null,null,null,null,null,null,null,null,null,null,null,null,null,null,null,null,null,null,null,null,null,null,null,null,null,null,null,null,null,null,null,null,null,null,null,null,null,null,null,null,null,null,null,null,null,null,null,null,null,null,null,null,null,null,null,null,null,null,null,null,null,null,null,null,null,null,null,null,null,null,null,null,null,"",null,{"$f":"IF(BY192=\"\",\"\",\"AgencyEntityInsData Id 884\")","v":""},{"$f":"IF(BY192=\"\",\"\",\"AgencyEntityInstance Id 190\")","v":""},{"$f":"IF(BY192=\"\",\"\",\"cm_base_dcp_01_begin\")","v":""},{"$f":"IF(BY192=\"\",\"\",'Test 5'!AD134)","v":""},{"$f":"IF(BY192=\"\",\"\",TODAY())","v":""},{"$f":"IF(BY192=\"\",\"\",\"WTSYSTEMUSER\")","v":""},{"$f":"IF(BY192=\"\",\"\",TODAY())","v":""},{"$f":"IF(BY192=\"\",\"\",\"WTSYSTEMUSER\")","v":""}]
[null,null,null,null,null,null,null,null,null,null,null,null,null,null,null,null,null,null,null,null,null,null,null,null,null,null,null,null,null,null,null,null,null,null,null,null,null,null,null,null,null,null,null,null,null,null,null,null,null,null,null,null,null,null,null,null,null,null,null,null,null,null,null,null,null,null,null,null,null,null,null,null,null,null,null,null,null,null,null,null,null,null,null,null,null,null,null,null,null,null,null,null,"",null,{"$f":"IF(BY193=\"\",\"\",\"AgencyEntityInsData Id 889\")","v":""},{"$f":"IF(BY193=\"\",\"\",\"AgencyEntityInstance Id 191\")","v":""},{"$f":"IF(BY193=\"\",\"\",\"cm_base_dcp_02_end\")","v":""},{"$f":"IF(BY193=\"\",\"\",'Test 5'!AE135)","v":""},{"$f":"IF(BY193=\"\",\"\",TODAY())","v":""},{"$f":"IF(BY193=\"\",\"\",\"WTSYSTEMUSER\")","v":""},{"$f":"IF(BY193=\"\",\"\",TODAY())","v":""},{"$f":"IF(BY193=\"\",\"\",\"WTSYSTEMUSER\")","v":""}]
[null,null,null,null,null,null,null,null,null,null,null,null,null,null,null,null,null,null,null,null,null,null,null,null,null,null,null,null,null,null,null,null,null,null,null,null,null,null,null,null,null,null,null,null,null,null,null,null,null,null,null,null,null,null,null,null,null,null,null,null,null,null,null,null,null,null,null,null,null,null,null,null,null,null,null,null,null,null,null,null,null,null,null,null,null,null,null,null,null,null,null,null,"",null,{"$f":"IF(BY194=\"\",\"\",\"AgencyEntityInsData Id 892\")","v":""},{"$f":"IF(BY194=\"\",\"\",\"AgencyEntityInstance Id 192\")","v":""},{"$f":"IF(BY194=\"\",\"\",\"cm_base_dcp_01_begin\")","v":""},{"$f":"IF(BY194=\"\",\"\",'Test 5'!AD136)","v":""},{"$f":"IF(BY194=\"\",\"\",TODAY())","v":""},{"$f":"IF(BY194=\"\",\"\",\"WTSYSTEMUSER\")","v":""},{"$f":"IF(BY194=\"\",\"\",TODAY())","v":""},{"$f":"IF(BY194=\"\",\"\",\"WTSYSTEMUSER\")","v":""}]
[null,null,null,null,null,null,null,null,null,null,null,null,null,null,null,null,null,null,null,null,null,null,null,null,null,null,null,null,null,null,null,null,null,null,null,null,null,null,null,null,null,null,null,null,null,null,null,null,null,null,null,null,null,null,null,null,null,null,null,null,null,null,null,null,null,null,null,null,null,null,null,null,null,null,null,null,null,null,null,null,null,null,null,null,null,null,null,null,null,null,null,null,"",null,{"$f":"IF(BY194=\"\",\"\",\"AgencyEntityInsData Id 894\")","v":""},{"$f":"IF(BY194=\"\",\"\",\"AgencyEntityInstance Id 192\")","v":""},{"$f":"IF(BY194=\"\",\"\",\"cm_base_dcp_03_blows\")","v":""},{"$f":"IF(BY194=\"\",\"\",IF('Test 5'!I136=\"\",\"\",'Test 5'!I136))","v":""},{"$f":"IF(BY194=\"\",\"\",TODAY())","v":""},{"$f":"IF(BY194=\"\",\"\",\"WTSYSTEMUSER\")","v":""},{"$f":"IF(BY194=\"\",\"\",TODAY())","v":""},{"$f":"IF(BY194=\"\",\"\",\"WTSYSTEMUSER\")","v":""}]
[null,null,null,null,null,null,null,null,null,null,null,null,null,null,null,null,null,null,null,null,null,null,null,null,null,null,null,null,null,null,null,null,null,null,null,null,null,null,null,null,null,null,null,null,null,null,null,null,null,null,null,null,null,null,null,null,null,null,null,null,null,null,null,null,null,null,null,null,null,null,null,null,null,null,null,null,null,null,null,null,null,null,null,null,null,null,null,null,null,null,null,null,"",null,{"$f":"IF(BY196=\"\",\"\",\"AgencyEntityInsData Id 900\")","v":""},{"$f":"IF(BY196=\"\",\"\",\"AgencyEntityInstance Id 194\")","v":""},{"$f":"IF(BY196=\"\",\"\",\"cm_base_dcp_01_begin\")","v":""},{"$f":"IF(BY196=\"\",\"\",'Test 5'!AD138)","v":""},{"$f":"IF(BY196=\"\",\"\",TODAY())","v":""},{"$f":"IF(BY196=\"\",\"\",\"WTSYSTEMUSER\")","v":""},{"$f":"IF(BY196=\"\",\"\",TODAY())","v":""},{"$f":"IF(BY196=\"\",\"\",\"WTSYSTEMUSER\")","v":""}]
[null,null,null,null,null,null,null,null,null,null,null,null,null,null,null,null,null,null,null,null,null,null,null,null,null,null,null,null,null,null,null,null,null,null,null,null,null,null,null,null,null,null,null,null,null,null,null,null,null,null,null,null,null,null,null,null,null,null,null,null,null,null,null,null,null,null,null,null,null,null,null,null,null,null,null,null,null,null,null,null,null,null,null,null,null,null,null,null,null,null,null,null,"",null,{"$f":"IF(BY196=\"\",\"\",\"AgencyEntityInsData Id 903\")","v":""},{"$f":"IF(BY196=\"\",\"\",\"AgencyEntityInstance Id 194\")","v":""},{"$f":"IF(BY196=\"\",\"\",\"cm_base_dcp_04_index\")","v":""},{"$f":"IF(BY196=\"\",\"\",'Test 5'!AF138)","v":""},{"$f":"IF(BY196=\"\",\"\",TODAY())","v":""},{"$f":"IF(BY196=\"\",\"\",\"WTSYSTEMUSER\")","v":""},{"$f":"IF(BY196=\"\",\"\",TODAY())","v":""},{"$f":"IF(BY196=\"\",\"\",\"WTSYSTEMUSER\")","v":""}]
[null,null,null,null,null,null,null,null,null,null,null,null,null,null,null,null,null,null,null,null,null,null,null,null,null,null,null,null,null,null,null,null,null,null,null,null,null,null,null,null,null,null,null,null,null,null,null,null,null,null,null,null,null,null,null,null,null,null,null,null,null,null,null,null,null,null,null,null,null,null,null,null,null,null,null,null,null,null,null,null,null,null,null,null,null,null,null,null,null,null,null,null,"",null,{"$f":"IF(BY197=\"\",\"\",\"AgencyEntityInsData Id 905\")","v":""},{"$f":"IF(BY197=\"\",\"\",\"AgencyEntityInstance Id 195\")","v":""},{"$f":"IF(BY197=\"\",\"\",\"cm_base_dcp_02_end\")","v":""},{"$f":"IF(BY197=\"\",\"\",'Test 5'!AE139)","v":""},{"$f":"IF(BY197=\"\",\"\",TODAY())","v":""},{"$f":"IF(BY197=\"\",\"\",\"WTSYSTEMUSER\")","v":""},{"$f":"IF(BY197=\"\",\"\",TODAY())","v":""},{"$f":"IF(BY197=\"\",\"\",\"WTSYSTEMUSER\")","v":""}]
[null,null,null,null,null,null,null,null,null,null,null,null,null,null,null,null,null,null,null,null,null,null,null,null,null,null,null,null,null,null,null,null,null,null,null,null,null,null,null,null,null,null,null,null,null,null,null,null,null,null,null,null,null,null,null,null,null,null,null,null,null,null,null,null,null,null,null,null,null,null,null,null,null,null,null,null,null,null,null,null,null,null,null,null,null,null,null,null,null,null,null,null,"",null,{"$f":"IF(BY198=\"\",\"\",\"AgencyEntityInsData Id 908\")","v":""},{"$f":"IF(BY198=\"\",\"\",\"AgencyEntityInstance Id 196\")","v":""},{"$f":"IF(BY198=\"\",\"\",\"cm_base_dcp_01_begin\")","v":""},{"$f":"IF(BY198=\"\",\"\",'Test 5'!AD140)","v":""},{"$f":"IF(BY198=\"\",\"\",TODAY())","v":""},{"$f":"IF(BY198=\"\",\"\",\"WTSYSTEMUSER\")","v":""},{"$f":"IF(BY198=\"\",\"\",TODAY())","v":""},{"$f":"IF(BY198=\"\",\"\",\"WTSYSTEMUSER\")","v":""}]
[null,null,null,null,null,null,null,null,null,null,null,null,null,null,null,null,null,null,null,null,null,null,null,null,null,null,null,null,null,null,null,null,null,null,null,null,null,null,null,null,null,null,null,null,null,null,null,null,null,null,null,null,null,null,null,null,null,null,null,null,null,null,null,null,null,null,null,null,null,null,null,null,null,null,null,null,null,null,null,null,null,null,null,null,null,null,null,null,null,null,null,null,"",null,{"$f":"IF(BY199=\"\",\"\",\"AgencyEntityInsData Id 912\")","v":""},{"$f":"IF(BY199=\"\",\"\",\"AgencyEntityInstance Id 197\")","v":""},{"$f":"IF(BY199=\"\",\"\",\"cm_base_dcp_01_begin\")","v":""},{"$f":"IF(BY199=\"\",\"\",'Test 5'!AD141)","v":""},{"$f":"IF(BY199=\"\",\"\",TODAY())","v":""},{"$f":"IF(BY199=\"\",\"\",\"WTSYSTEMUSER\")","v":""},{"$f":"IF(BY199=\"\",\"\",TODAY())","v":""},{"$f":"IF(BY199=\"\",\"\",\"WTSYSTEMUSER\")","v":""}]
[null,null,null,null,null,null,null,null,null,null,null,null,null,null,null,null,null,null,null,null,null,null,null,null,null,null,null,null,null,null,null,null,null,null,null,null,null,null,null,null,null,null,null,null,null,null,null,null,null,null,null,null,null,null,null,null,null,null,null,null,null,null,null,null,null,null,null,null,null,null,null,null,null,null,null,null,null,null,null,null,null,null,null,null,null,null,null,null,null,null,null,null,"",null,{"$f":"IF(BY200=\"\",\"\",\"AgencyEntityInsData Id 917\")","v":""},{"$f":"IF(BY200=\"\",\"\",\"AgencyEntityInstance Id 198\")","v":""},{"$f":"IF(BY200=\"\",\"\",\"cm_base_dcp_02_end\")","v":""},{"$f":"IF(BY200=\"\",\"\",'Test 5'!AE142)","v":""},{"$f":"IF(BY200=\"\",\"\",TODAY())","v":""},{"$f":"IF(BY200=\"\",\"\",\"WTSYSTEMUSER\")","v":""},{"$f":"IF(BY200=\"\",\"\",TODAY())","v":""},{"$f":"IF(BY200=\"\",\"\",\"WTSYSTEMUSER\")","v":""}]
[null,null,null,null,null,null,null,null,null,null,null,null,null,null,null,null,null,null,null,null,null,null,null,null,null,null,null,null,null,null,null,null,null,null,null,null,null,null,null,null,null,null,null,null,null,null,null,null,null,null,null,null,null,null,null,null,null,null,null,null,null,null,null,null,null,null,null,null,null,null,null,null,null,null,null,null,null,null,null,null,null,null,null,null,null,null,null,null,null,null,null,null,"",null,{"$f":"IF(BY201=\"\",\"\",\"AgencyEntityInsData Id 920\")","v":""},{"$f":"IF(BY201=\"\",\"\",\"AgencyEntityInstance Id 199\")","v":""},{"$f":"IF(BY201=\"\",\"\",\"cm_base_dcp_01_begin\")","v":""},{"$f":"IF(BY201=\"\",\"\",'Test 5'!AD143)","v":""},{"$f":"IF(BY201=\"\",\"\",TODAY())","v":""},{"$f":"IF(BY201=\"\",\"\",\"WTSYSTEMUSER\")","v":""},{"$f":"IF(BY201=\"\",\"\",TODAY())","v":""},{"$f":"IF(BY201=\"\",\"\",\"WTSYSTEMUSER\")","v":""}]
[null,null,null,null,null,null,null,null,null,null,null,null,null,null,null,null,null,null,null,null,null,null,null,null,null,null,null,null,null,null,null,null,null,null,null,null,null,null,null,null,null,null,null,null,null,null,null,null,null,null,null,null,null,null,null,null,null,null,null,null,null,null,null,null,null,null,null,null,null,null,null,null,null,null,null,null,null,null,null,null,null,null,null,null,null,null,null,null,null,null,null,null,"",null,{"$f":"IF(BY201=\"\",\"\",\"AgencyEntityInsData Id 922\")","v":""},{"$f":"IF(BY201=\"\",\"\",\"AgencyEntityInstance Id 199\")","v":""},{"$f":"IF(BY201=\"\",\"\",\"cm_base_dcp_03_blows\")","v":""},{"$f":"IF(BY201=\"\",\"\",IF('Test 5'!I143=\"\",\"\",'Test 5'!I143))","v":""},{"$f":"IF(BY201=\"\",\"\",TODAY())","v":""},{"$f":"IF(BY201=\"\",\"\",\"WTSYSTEMUSER\")","v":""},{"$f":"IF(BY201=\"\",\"\",TODAY())","v":""},{"$f":"IF(BY201=\"\",\"\",\"WTSYSTEMUSER\")","v":""}]
[null,null,null,null,null,null,null,null,null,null,null,null,null,null,null,null,null,null,null,null,null,null,null,null,null,null,null,null,null,null,null,null,null,null,null,null,null,null,null,null,null,null,null,null,null,null,null,null,null,null,null,null,null,null,null,null,null,null,null,null,null,null,null,null,null,null,null,null,null,null,null,null,null,null,null,null,null,null,null,null,null,null,null,null,null,null,null,null,null,null,null,null,"",null,{"$f":"IF(BY203=\"\",\"\",\"AgencyEntityInsData Id 928\")","v":""},{"$f":"IF(BY203=\"\",\"\",\"AgencyEntityInstance Id 201\")","v":""},{"$f":"IF(BY203=\"\",\"\",\"cm_base_dcp_01_begin\")","v":""},{"$f":"IF(BY203=\"\",\"\",'Test 5'!AD145)","v":""},{"$f":"IF(BY203=\"\",\"\",TODAY())","v":""},{"$f":"IF(BY203=\"\",\"\",\"WTSYSTEMUSER\")","v":""},{"$f":"IF(BY203=\"\",\"\",TODAY())","v":""},{"$f":"IF(BY203=\"\",\"\",\"WTSYSTEMUSER\")","v":""}]
[null,null,null,null,null,null,null,null,null,null,null,null,null,null,null,null,null,null,null,null,null,null,null,null,null,null,null,null,null,null,null,null,null,null,null,null,null,null,null,null,null,null,null,null,null,null,null,null,null,null,null,null,null,null,null,null,null,null,null,null,null,null,null,null,null,null,null,null,null,null,null,null,null,null,null,null,null,null,null,null,null,null,null,null,null,null,null,null,null,null,null,null,"",null,{"$f":"IF(BY203=\"\",\"\",\"AgencyEntityInsData Id 931\")","v":""},{"$f":"IF(BY203=\"\",\"\",\"AgencyEntityInstance Id 201\")","v":""},{"$f":"IF(BY203=\"\",\"\",\"cm_base_dcp_04_index\")","v":""},{"$f":"IF(BY203=\"\",\"\",'Test 5'!AF145)","v":""},{"$f":"IF(BY203=\"\",\"\",TODAY())","v":""},{"$f":"IF(BY203=\"\",\"\",\"WTSYSTEMUSER\")","v":""},{"$f":"IF(BY203=\"\",\"\",TODAY())","v":""},{"$f":"IF(BY203=\"\",\"\",\"WTSYSTEMUSER\")","v":""}]
[null,null,null,null,null,null,null,null,null,null,null,null,null,null,null,null,null,null,null,null,null,null,null,null,null,null,null,null,null,null,null,null,null,null,null,null,null,null,null,null,null,null,null,null,null,null,null,null,null,null,null,null,null,null,null,null,null,null,null,null,null,null,null,null,null,null,null,null,null,null,null,null,null,null,null,null,null,null,null,null,null,null,null,null,null,null,null,null,null,null,null,null,"",null,{"$f":"IF(BY204=\"\",\"\",\"AgencyEntityInsData Id 933\")","v":""},{"$f":"IF(BY204=\"\",\"\",\"AgencyEntityInstance Id 202\")","v":""},{"$f":"IF(BY204=\"\",\"\",\"cm_base_dcp_header_02_thi_spec\")","v":""},{"$f":"IF(BY204=\"\",\"\",'Test 5'!AF122)","v":""},{"$f":"IF(BY204=\"\",\"\",TODAY())","v":""},{"$f":"IF(BY204=\"\",\"\",\"WTSYSTEMUSER\")","v":""},{"$f":"IF(BY204=\"\",\"\",TODAY())","v":""},{"$f":"IF(BY204=\"\",\"\",\"WTSYSTEMUSER\")","v":""}]
[null,null,null,null,null,null,null,null,null,null,null,null,null,null,null,null,null,null,null,null,null,null,null,null,null,null,null,null,null,null,null,null,null,null,null,null,null,null,null,null,null,null,null,null,null,null,null,null,null,null,null,null,null,null,null,null,null,null,null,null,null,null,null,null,null,null,null,null,null,null,null,null,null,null,null,null,null,null,null,null,null,null,null,null,null,null,null,null,null,null,null,null,"",null,{"$f":"IF(BY204=\"\",\"\",\"AgencyEntityInsData Id 936\")","v":""},{"$f":"IF(BY204=\"\",\"\",\"AgencyEntityInstance Id 202\")","v":""},{"$f":"IF(BY204=\"\",\"\",\"cm_base_dcp_header_05_sta_2\")","v":""},{"$f":"IF(BY204=\"\",\"\",IF('Test 5'!U115=\"\",\"\",'Test 5'!U115))","v":""},{"$f":"IF(BY204=\"\",\"\",TODAY())","v":""},{"$f":"IF(BY204=\"\",\"\",\"WTSYSTEMUSER\")","v":""},{"$f":"IF(BY204=\"\",\"\",TODAY())","v":""},{"$f":"IF(BY204=\"\",\"\",\"WTSYSTEMUSER\")","v":""}]
[null,null,null,null,null,null,null,null,null,null,null,null,null,null,null,null,null,null,null,null,null,null,null,null,null,null,null,null,null,null,null,null,null,null,null,null,null,null,null,null,null,null,null,null,null,null,null,null,null,null,null,null,null,null,null,null,null,null,null,null,null,null,null,null,null,null,null,null,null,null,null,null,null,null,null,null,null,null,null,null,null,null,null,null,null,null,null,null,null,null,null,null,"",null,{"$f":"IF(BY205=\"\",\"\",\"AgencyEntityInsData Id 941\")","v":""},{"$f":"IF(BY205=\"\",\"\",\"AgencyEntityInstance Id 203\")","v":""},{"$f":"IF(BY205=\"\",\"\",\"cm_base_dcp_03_blows\")","v":""},{"$f":"IF(BY205=\"\",\"\",IF('Test 5'!V126=\"\",\"\",'Test 5'!V126))","v":""},{"$f":"IF(BY205=\"\",\"\",TODAY())","v":""},{"$f":"IF(BY205=\"\",\"\",\"WTSYSTEMUSER\")","v":""},{"$f":"IF(BY205=\"\",\"\",TODAY())","v":""},{"$f":"IF(BY205=\"\",\"\",\"WTSYSTEMUSER\")","v":""}]
[null,null,null,null,null,null,null,null,null,null,null,null,null,null,null,null,null,null,null,null,null,null,null,null,null,null,null,null,null,null,null,null,null,null,null,null,null,null,null,null,null,null,null,null,null,null,null,null,null,null,null,null,null,null,null,null,null,null,null,null,null,null,null,null,null,null,null,null,null,null,null,null,null,null,null,null,null,null,null,null,null,null,null,null,null,null,null,null,null,null,null,null,"",null,{"$f":"IF(BY206=\"\",\"\",\"AgencyEntityInsData Id 945\")","v":""},{"$f":"IF(BY206=\"\",\"\",\"AgencyEntityInstance Id 204\")","v":""},{"$f":"IF(BY206=\"\",\"\",\"cm_base_dcp_03_blows\")","v":""},{"$f":"IF(BY206=\"\",\"\",IF('Test 5'!V127=\"\",\"\",'Test 5'!V127))","v":""},{"$f":"IF(BY206=\"\",\"\",TODAY())","v":""},{"$f":"IF(BY206=\"\",\"\",\"WTSYSTEMUSER\")","v":""},{"$f":"IF(BY206=\"\",\"\",TODAY())","v":""},{"$f":"IF(BY206=\"\",\"\",\"WTSYSTEMUSER\")","v":""}]
[null,null,null,null,null,null,null,null,null,null,null,null,null,null,null,null,null,null,null,null,null,null,null,null,null,null,null,null,null,null,null,null,null,null,null,null,null,null,null,null,null,null,null,null,null,null,null,null,null,null,null,null,null,null,null,null,null,null,null,null,null,null,null,null,null,null,null,null,null,null,null,null,null,null,null,null,null,null,null,null,null,null,null,null,null,null,null,null,null,null,null,null,"",null,{"$f":"IF(BY207=\"\",\"\",\"AgencyEntityInsData Id 950\")","v":""},{"$f":"IF(BY207=\"\",\"\",\"AgencyEntityInstance Id 205\")","v":""},{"$f":"IF(BY207=\"\",\"\",\"cm_base_dcp_04_index\")","v":""},{"$f":"IF(BY207=\"\",\"\",'Test 5'!AI128)","v":""},{"$f":"IF(BY207=\"\",\"\",TODAY())","v":""},{"$f":"IF(BY207=\"\",\"\",\"WTSYSTEMUSER\")","v":""},{"$f":"IF(BY207=\"\",\"\",TODAY())","v":""},{"$f":"IF(BY207=\"\",\"\",\"WTSYSTEMUSER\")","v":""}]
[null,null,null,null,null,null,null,null,null,null,null,null,null,null,null,null,null,null,null,null,null,null,null,null,null,null,null,null,null,null,null,null,null,null,null,null,null,null,null,null,null,null,null,null,null,null,null,null,null,null,null,null,null,null,null,null,null,null,null,null,null,null,null,null,null,null,null,null,null,null,null,null,null,null,null,null,null,null,null,null,null,null,null,null,null,null,null,null,null,null,null,null,"",null,{"$f":"IF(BY208=\"\",\"\",\"AgencyEntityInsData Id 953\")","v":""},{"$f":"IF(BY208=\"\",\"\",\"AgencyEntityInstance Id 206\")","v":""},{"$f":"IF(BY208=\"\",\"\",\"cm_base_dcp_03_blows\")","v":""},{"$f":"IF(BY208=\"\",\"\",IF('Test 5'!V129=\"\",\"\",'Test 5'!V129))","v":""},{"$f":"IF(BY208=\"\",\"\",TODAY())","v":""},{"$f":"IF(BY208=\"\",\"\",\"WTSYSTEMUSER\")","v":""},{"$f":"IF(BY208=\"\",\"\",TODAY())","v":""},{"$f":"IF(BY208=\"\",\"\",\"WTSYSTEMUSER\")","v":""}]
[null,null,null,null,null,null,null,null,null,null,null,null,null,null,null,null,null,null,null,null,null,null,null,null,null,null,null,null,null,null,null,null,null,null,null,null,null,null,null,null,null,null,null,null,null,null,null,null,null,null,null,null,null,null,null,null,null,null,null,null,null,null,null,null,null,null,null,null,null,null,null,null,null,null,null,null,null,null,null,null,null,null,null,null,null,null,null,null,null,null,null,null,"",null,{"$f":"IF(BY209=\"\",\"\",\"AgencyEntityInsData Id 955\")","v":""},{"$f":"IF(BY209=\"\",\"\",\"AgencyEntityInstance Id 207\")","v":""},{"$f":"IF(BY209=\"\",\"\",\"cm_base_dcp_01_begin\")","v":""},{"$f":"IF(BY209=\"\",\"\",'Test 5'!AG130)","v":""},{"$f":"IF(BY209=\"\",\"\",TODAY())","v":""},{"$f":"IF(BY209=\"\",\"\",\"WTSYSTEMUSER\")","v":""},{"$f":"IF(BY209=\"\",\"\",TODAY())","v":""},{"$f":"IF(BY209=\"\",\"\",\"WTSYSTEMUSER\")","v":""}]
[null,null,null,null,null,null,null,null,null,null,null,null,null,null,null,null,null,null,null,null,null,null,null,null,null,null,null,null,null,null,null,null,null,null,null,null,null,null,null,null,null,null,null,null,null,null,null,null,null,null,null,null,null,null,null,null,null,null,null,null,null,null,null,null,null,null,null,null,null,null,null,null,null,null,null,null,null,null,null,null,null,null,null,null,null,null,null,null,null,null,null,null,"",null,{"$f":"IF(BY210=\"\",\"\",\"AgencyEntityInsData Id 960\")","v":""},{"$f":"IF(BY210=\"\",\"\",\"AgencyEntityInstance Id 208\")","v":""},{"$f":"IF(BY210=\"\",\"\",\"cm_base_dcp_02_end\")","v":""},{"$f":"IF(BY210=\"\",\"\",'Test 5'!AH131)","v":""},{"$f":"IF(BY210=\"\",\"\",TODAY())","v":""},{"$f":"IF(BY210=\"\",\"\",\"WTSYSTEMUSER\")","v":""},{"$f":"IF(BY210=\"\",\"\",TODAY())","v":""},{"$f":"IF(BY210=\"\",\"\",\"WTSYSTEMUSER\")","v":""}]
[null,null,null,null,null,null,null,null,null,null,null,null,null,null,null,null,null,null,null,null,null,null,null,null,null,null,null,null,null,null,null,null,null,null,null,null,null,null,null,null,null,null,null,null,null,null,null,null,null,null,null,null,null,null,null,null,null,null,null,null,null,null,null,null,null,null,null,null,null,null,null,null,null,null,null,null,null,null,null,null,null,null,null,null,null,null,null,null,null,null,null,null,"",null,{"$f":"IF(BY211=\"\",\"\",\"AgencyEntityInsData Id 964\")","v":""},{"$f":"IF(BY211=\"\",\"\",\"AgencyEntityInstance Id 209\")","v":""},{"$f":"IF(BY211=\"\",\"\",\"cm_base_dcp_02_end\")","v":""},{"$f":"IF(BY211=\"\",\"\",'Test 5'!AH132)","v":""},{"$f":"IF(BY211=\"\",\"\",TODAY())","v":""},{"$f":"IF(BY211=\"\",\"\",\"WTSYSTEMUSER\")","v":""},{"$f":"IF(BY211=\"\",\"\",TODAY())","v":""},{"$f":"IF(BY211=\"\",\"\",\"WTSYSTEMUSER\")","v":""}]
[null,null,null,null,null,null,null,null,null,null,null,null,null,null,null,null,null,null,null,null,null,null,null,null,null,null,null,null,null,null,null,null,null,null,null,null,null,null,null,null,null,null,null,null,null,null,null,null,null,null,null,null,null,null,null,null,null,null,null,null,null,null,null,null,null,null,null,null,null,null,null,null,null,null,null,null,null,null,null,null,null,null,null,null,null,null,null,null,null,null,null,null,"",null,{"$f":"IF(BY211=\"\",\"\",\"AgencyEntityInsData Id 965\")","v":""},{"$f":"IF(BY211=\"\",\"\",\"AgencyEntityInstance Id 209\")","v":""},{"$f":"IF(BY211=\"\",\"\",\"cm_base_dcp_03_blows\")","v":""},{"$f":"IF(BY211=\"\",\"\",IF('Test 5'!V132=\"\",\"\",'Test 5'!V132))","v":""},{"$f":"IF(BY211=\"\",\"\",TODAY())","v":""},{"$f":"IF(BY211=\"\",\"\",\"WTSYSTEMUSER\")","v":""},{"$f":"IF(BY211=\"\",\"\",TODAY())","v":""},{"$f":"IF(BY211=\"\",\"\",\"WTSYSTEMUSER\")","v":""}]
[null,null,null,null,null,null,null,null,null,null,null,null,null,null,null,null,null,null,null,null,null,null,null,null,null,null,null,null,null,null,null,null,null,null,null,null,null,null,null,null,null,null,null,null,null,null,null,null,null,null,null,null,null,null,null,null,null,null,null,null,null,null,null,null,null,null,null,null,null,null,null,null,null,null,null,null,null,null,null,null,null,null,null,null,null,null,null,null,null,null,null,null,"",null,{"$f":"IF(BY212=\"\",\"\",\"AgencyEntityInsData Id 969\")","v":""},{"$f":"IF(BY212=\"\",\"\",\"AgencyEntityInstance Id 210\")","v":""},{"$f":"IF(BY212=\"\",\"\",\"cm_base_dcp_03_blows\")","v":""},{"$f":"IF(BY212=\"\",\"\",IF('Test 5'!V133=\"\",\"\",'Test 5'!V133))","v":""},{"$f":"IF(BY212=\"\",\"\",TODAY())","v":""},{"$f":"IF(BY212=\"\",\"\",\"WTSYSTEMUSER\")","v":""},{"$f":"IF(BY212=\"\",\"\",TODAY())","v":""},{"$f":"IF(BY212=\"\",\"\",\"WTSYSTEMUSER\")","v":""}]
[null,null,null,null,null,null,null,null,null,null,null,null,null,null,null,null,null,null,null,null,null,null,null,null,null,null,null,null,null,null,null,null,null,null,null,null,null,null,null,null,null,null,null,null,null,null,null,null,null,null,null,null,null,null,null,null,null,null,null,null,null,null,null,null,null,null,null,null,null,null,null,null,null,null,null,null,null,null,null,null,null,null,null,null,null,null,null,null,null,null,null,null,"",null,{"$f":"IF(BY213=\"\",\"\",\"AgencyEntityInsData Id 973\")","v":""},{"$f":"IF(BY213=\"\",\"\",\"AgencyEntityInstance Id 211\")","v":""},{"$f":"IF(BY213=\"\",\"\",\"cm_base_dcp_03_blows\")","v":""},{"$f":"IF(BY213=\"\",\"\",IF('Test 5'!V134=\"\",\"\",'Test 5'!V134))","v":""},{"$f":"IF(BY213=\"\",\"\",TODAY())","v":""},{"$f":"IF(BY213=\"\",\"\",\"WTSYSTEMUSER\")","v":""},{"$f":"IF(BY213=\"\",\"\",TODAY())","v":""},{"$f":"IF(BY213=\"\",\"\",\"WTSYSTEMUSER\")","v":""}]
[null,null,null,null,null,null,null,null,null,null,null,null,null,null,null,null,null,null,null,null,null,null,null,null,null,null,null,null,null,null,null,null,null,null,null,null,null,null,null,null,null,null,null,null,null,null,null,null,null,null,null,null,null,null,null,null,null,null,null,null,null,null,null,null,null,null,null,null,null,null,null,null,null,null,null,null,null,null,null,null,null,null,null,null,null,null,null,null,null,null,null,null,"",null,{"$f":"IF(BY214=\"\",\"\",\"AgencyEntityInsData Id 978\")","v":""},{"$f":"IF(BY214=\"\",\"\",\"AgencyEntityInstance Id 212\")","v":""},{"$f":"IF(BY214=\"\",\"\",\"cm_base_dcp_04_index\")","v":""},{"$f":"IF(BY214=\"\",\"\",'Test 5'!AI135)","v":""},{"$f":"IF(BY214=\"\",\"\",TODAY())","v":""},{"$f":"IF(BY214=\"\",\"\",\"WTSYSTEMUSER\")","v":""},{"$f":"IF(BY214=\"\",\"\",TODAY())","v":""},{"$f":"IF(BY214=\"\",\"\",\"WTSYSTEMUSER\")","v":""}]
[null,null,null,null,null,null,null,null,null,null,null,null,null,null,null,null,null,null,null,null,null,null,null,null,null,null,null,null,null,null,null,null,null,null,null,null,null,null,null,null,null,null,null,null,null,null,null,null,null,null,null,null,null,null,null,null,null,null,null,null,null,null,null,null,null,null,null,null,null,null,null,null,null,null,null,null,null,null,null,null,null,null,null,null,null,null,null,null,null,null,null,null,"",null,{"$f":"IF(BY215=\"\",\"\",\"AgencyEntityInsData Id 981\")","v":""},{"$f":"IF(BY215=\"\",\"\",\"AgencyEntityInstance Id 213\")","v":""},{"$f":"IF(BY215=\"\",\"\",\"cm_base_dcp_03_blows\")","v":""},{"$f":"IF(BY215=\"\",\"\",IF('Test 5'!V136=\"\",\"\",'Test 5'!V136))","v":""},{"$f":"IF(BY215=\"\",\"\",TODAY())","v":""},{"$f":"IF(BY215=\"\",\"\",\"WTSYSTEMUSER\")","v":""},{"$f":"IF(BY215=\"\",\"\",TODAY())","v":""},{"$f":"IF(BY215=\"\",\"\",\"WTSYSTEMUSER\")","v":""}]
[null,null,null,null,null,null,null,null,null,null,null,null,null,null,null,null,null,null,null,null,null,null,null,null,null,null,null,null,null,null,null,null,null,null,null,null,null,null,null,null,null,null,null,null,null,null,null,null,null,null,null,null,null,null,null,null,null,null,null,null,null,null,null,null,null,null,null,null,null,null,null,null,null,null,null,null,null,null,null,null,null,null,null,null,null,null,null,null,null,null,null,null,"",null,{"$f":"IF(BY216=\"\",\"\",\"AgencyEntityInsData Id 983\")","v":""},{"$f":"IF(BY216=\"\",\"\",\"AgencyEntityInstance Id 214\")","v":""},{"$f":"IF(BY216=\"\",\"\",\"cm_base_dcp_01_begin\")","v":""},{"$f":"IF(BY216=\"\",\"\",'Test 5'!AG137)","v":""},{"$f":"IF(BY216=\"\",\"\",TODAY())","v":""},{"$f":"IF(BY216=\"\",\"\",\"WTSYSTEMUSER\")","v":""},{"$f":"IF(BY216=\"\",\"\",TODAY())","v":""},{"$f":"IF(BY216=\"\",\"\",\"WTSYSTEMUSER\")","v":""}]
[null,null,null,null,null,null,null,null,null,null,null,null,null,null,null,null,null,null,null,null,null,null,null,null,null,null,null,null,null,null,null,null,null,null,null,null,null,null,null,null,null,null,null,null,null,null,null,null,null,null,null,null,null,null,null,null,null,null,null,null,null,null,null,null,null,null,null,null,null,null,null,null,null,null,null,null,null,null,null,null,null,null,null,null,null,null,null,null,null,null,null,null,"",null,{"$f":"IF(BY217=\"\",\"\",\"AgencyEntityInsData Id 988\")","v":""},{"$f":"IF(BY217=\"\",\"\",\"AgencyEntityInstance Id 215\")","v":""},{"$f":"IF(BY217=\"\",\"\",\"cm_base_dcp_02_end\")","v":""},{"$f":"IF(BY217=\"\",\"\",'Test 5'!AH138)","v":""},{"$f":"IF(BY217=\"\",\"\",TODAY())","v":""},{"$f":"IF(BY217=\"\",\"\",\"WTSYSTEMUSER\")","v":""},{"$f":"IF(BY217=\"\",\"\",TODAY())","v":""},{"$f":"IF(BY217=\"\",\"\",\"WTSYSTEMUSER\")","v":""}]
[null,null,null,null,null,null,null,null,null,null,null,null,null,null,null,null,null,null,null,null,null,null,null,null,null,null,null,null,null,null,null,null,null,null,null,null,null,null,null,null,null,null,null,null,null,null,null,null,null,null,null,null,null,null,null,null,null,null,null,null,null,null,null,null,null,null,null,null,null,null,null,null,null,null,null,null,null,null,null,null,null,null,null,null,null,null,null,null,null,null,null,null,"",null,{"$f":"IF(BY218=\"\",\"\",\"AgencyEntityInsData Id 992\")","v":""},{"$f":"IF(BY218=\"\",\"\",\"AgencyEntityInstance Id 216\")","v":""},{"$f":"IF(BY218=\"\",\"\",\"cm_base_dcp_02_end\")","v":""},{"$f":"IF(BY218=\"\",\"\",'Test 5'!AH139)","v":""},{"$f":"IF(BY218=\"\",\"\",TODAY())","v":""},{"$f":"IF(BY218=\"\",\"\",\"WTSYSTEMUSER\")","v":""},{"$f":"IF(BY218=\"\",\"\",TODAY())","v":""},{"$f":"IF(BY218=\"\",\"\",\"WTSYSTEMUSER\")","v":""}]
[null,null,null,null,null,null,null,null,null,null,null,null,null,null,null,null,null,null,null,null,null,null,null,null,null,null,null,null,null,null,null,null,null,null,null,null,null,null,null,null,null,null,null,null,null,null,null,null,null,null,null,null,null,null,null,null,null,null,null,null,null,null,null,null,null,null,null,null,null,null,null,null,null,null,null,null,null,null,null,null,null,null,null,null,null,null,null,null,null,null,null,null,"",null,{"$f":"IF(BY218=\"\",\"\",\"AgencyEntityInsData Id 993\")","v":""},{"$f":"IF(BY218=\"\",\"\",\"AgencyEntityInstance Id 216\")","v":""},{"$f":"IF(BY218=\"\",\"\",\"cm_base_dcp_03_blows\")","v":""},{"$f":"IF(BY218=\"\",\"\",IF('Test 5'!V139=\"\",\"\",'Test 5'!V139))","v":""},{"$f":"IF(BY218=\"\",\"\",TODAY())","v":""},{"$f":"IF(BY218=\"\",\"\",\"WTSYSTEMUSER\")","v":""},{"$f":"IF(BY218=\"\",\"\",TODAY())","v":""},{"$f":"IF(BY218=\"\",\"\",\"WTSYSTEMUSER\")","v":""}]
[null,null,null,null,null,null,null,null,null,null,null,null,null,null,null,null,null,null,null,null,null,null,null,null,null,null,null,null,null,null,null,null,null,null,null,null,null,null,null,null,null,null,null,null,null,null,null,null,null,null,null,null,null,null,null,null,null,null,null,null,null,null,null,null,null,null,null,null,null,null,null,null,null,null,null,null,null,null,null,null,null,null,null,null,null,null,null,null,null,null,null,null,"",null,{"$f":"IF(BY219=\"\",\"\",\"AgencyEntityInsData Id 997\")","v":""},{"$f":"IF(BY219=\"\",\"\",\"AgencyEntityInstance Id 217\")","v":""},{"$f":"IF(BY219=\"\",\"\",\"cm_base_dcp_03_blows\")","v":""},{"$f":"IF(BY219=\"\",\"\",IF('Test 5'!V140=\"\",\"\",'Test 5'!V140))","v":""},{"$f":"IF(BY219=\"\",\"\",TODAY())","v":""},{"$f":"IF(BY219=\"\",\"\",\"WTSYSTEMUSER\")","v":""},{"$f":"IF(BY219=\"\",\"\",TODAY())","v":""},{"$f":"IF(BY219=\"\",\"\",\"WTSYSTEMUSER\")","v":""}]
[null,null,null,null,null,null,null,null,null,null,null,null,null,null,null,null,null,null,null,null,null,null,null,null,null,null,null,null,null,null,null,null,null,null,null,null,null,null,null,null,null,null,null,null,null,null,null,null,null,null,null,null,null,null,null,null,null,null,null,null,null,null,null,null,null,null,null,null,null,null,null,null,null,null,null,null,null,null,null,null,null,null,null,null,null,null,null,null,null,null,null,null,"",null,{"$f":"IF(BY220=\"\",\"\",\"AgencyEntityInsData Id 1001\")","v":""},{"$f":"IF(BY220=\"\",\"\",\"AgencyEntityInstance Id 218\")","v":""},{"$f":"IF(BY220=\"\",\"\",\"cm_base_dcp_03_blows\")","v":""},{"$f":"IF(BY220=\"\",\"\",IF('Test 5'!V141=\"\",\"\",'Test 5'!V141))","v":""},{"$f":"IF(BY220=\"\",\"\",TODAY())","v":""},{"$f":"IF(BY220=\"\",\"\",\"WTSYSTEMUSER\")","v":""},{"$f":"IF(BY220=\"\",\"\",TODAY())","v":""},{"$f":"IF(BY220=\"\",\"\",\"WTSYSTEMUSER\")","v":""}]
[null,null,null,null,null,null,null,null,null,null,null,null,null,null,null,null,null,null,null,null,null,null,null,null,null,null,null,null,null,null,null,null,null,null,null,null,null,null,null,null,null,null,null,null,null,null,null,null,null,null,null,null,null,null,null,null,null,null,null,null,null,null,null,null,null,null,null,null,null,null,null,null,null,null,null,null,null,null,null,null,null,null,null,null,null,null,null,null,null,null,null,null,"",null,{"$f":"IF(BY221=\"\",\"\",\"AgencyEntityInsData Id 1006\")","v":""},{"$f":"IF(BY221=\"\",\"\",\"AgencyEntityInstance Id 219\")","v":""},{"$f":"IF(BY221=\"\",\"\",\"cm_base_dcp_04_index\")","v":""},{"$f":"IF(BY221=\"\",\"\",'Test 5'!AI142)","v":""},{"$f":"IF(BY221=\"\",\"\",TODAY())","v":""},{"$f":"IF(BY221=\"\",\"\",\"WTSYSTEMUSER\")","v":""},{"$f":"IF(BY221=\"\",\"\",TODAY())","v":""},{"$f":"IF(BY221=\"\",\"\",\"WTSYSTEMUSER\")","v":""}]
[null,null,null,null,null,null,null,null,null,null,null,null,null,null,null,null,null,null,null,null,null,null,null,null,null,null,null,null,null,null,null,null,null,null,null,null,null,null,null,null,null,null,null,null,null,null,null,null,null,null,null,null,null,null,null,null,null,null,null,null,null,null,null,null,null,null,null,null,null,null,null,null,null,null,null,null,null,null,null,null,null,null,null,null,null,null,null,null,null,null,null,null,"",null,{"$f":"IF(BY222=\"\",\"\",\"AgencyEntityInsData Id 1007\")","v":""},{"$f":"IF(BY222=\"\",\"\",\"AgencyEntityInstance Id 220\")","v":""},{"$f":"IF(BY222=\"\",\"\",\"cm_base_dcp_01_begin\")","v":""},{"$f":"IF(BY222=\"\",\"\",'Test 5'!AG143)","v":""},{"$f":"IF(BY222=\"\",\"\",TODAY())","v":""},{"$f":"IF(BY222=\"\",\"\",\"WTSYSTEMUSER\")","v":""},{"$f":"IF(BY222=\"\",\"\",TODAY())","v":""},{"$f":"IF(BY222=\"\",\"\",\"WTSYSTEMUSER\")","v":""}]
[null,null,null,null,null,null,null,null,null,null,null,null,null,null,null,null,null,null,null,null,null,null,null,null,null,null,null,null,null,null,null,null,null,null,null,null,null,null,null,null,null,null,null,null,null,null,null,null,null,null,null,null,null,null,null,null,null,null,null,null,null,null,null,null,null,null,null,null,null,null,null,null,null,null,null,null,null,null,null,null,null,null,null,null,null,null,null,null,null,null,null,null,"",null,{"$f":"IF(BY223=\"\",\"\",\"AgencyEntityInsData Id 1013\")","v":""},{"$f":"IF(BY223=\"\",\"\",\"AgencyEntityInstance Id 221\")","v":""},{"$f":"IF(BY223=\"\",\"\",\"cm_base_dcp_03_blows\")","v":""},{"$f":"IF(BY223=\"\",\"\",IF('Test 5'!V144=\"\",\"\",'Test 5'!V144))","v":""},{"$f":"IF(BY223=\"\",\"\",TODAY())","v":""},{"$f":"IF(BY223=\"\",\"\",\"WTSYSTEMUSER\")","v":""},{"$f":"IF(BY223=\"\",\"\",TODAY())","v":""},{"$f":"IF(BY223=\"\",\"\",\"WTSYSTEMUSER\")","v":""}]
[null,null,null,null,null,null,null,null,null,null,null,null,null,null,null,null,null,null,null,null,null,null,null,null,null,null,null,null,null,null,null,null,null,null,null,null,null,null,null,null,null,null,null,null,null,null,null,null,null,null,null,null,null,null,null,null,null,null,null,null,null,null,null,null,null,null,null,null,null,null,null,null,null,null,null,null,null,null,null,null,null,null,null,null,null,null,null,null,null,null,null,null,"",null,{"$f":"IF(BY224=\"\",\"\",\"AgencyEntityInsData Id 1016\")","v":""},{"$f":"IF(BY224=\"\",\"\",\"AgencyEntityInstance Id 222\")","v":""},{"$f":"IF(BY224=\"\",\"\",\"cm_base_dcp_02_end\")","v":""},{"$f":"IF(BY224=\"\",\"\",'Test 5'!AH145)","v":""},{"$f":"IF(BY224=\"\",\"\",TODAY())","v":""},{"$f":"IF(BY224=\"\",\"\",\"WTSYSTEMUSER\")","v":""},{"$f":"IF(BY224=\"\",\"\",TODAY())","v":""},{"$f":"IF(BY224=\"\",\"\",\"WTSYSTEMUSER\")","v":""}]
[null,null,null,null,null,null,null,null,null,null,null,null,null,null,null,null,null,null,null,null,null,null,null,null,null,null,null,null,null,null,null,null,null,null,null,null,null,null,null,null,null,null,null,null,null,null,null,null,null,null,null,null,null,null,null,null,null,null,null,null,null,null,null,null,null,null,null,null,null,null,null,null,null,null,null,null,null,null,null,null,null,null,null,null,null,null,null,null,null,null,null,null,"",null,{"$f":"IF(BY224=\"\",\"\",\"AgencyEntityInsData Id 1018\")","v":""},{"$f":"IF(BY224=\"\",\"\",\"AgencyEntityInstance Id 222\")","v":""},{"$f":"IF(BY224=\"\",\"\",\"cm_base_dcp_04_index\")","v":""},{"$f":"IF(BY224=\"\",\"\",'Test 5'!AI145)","v":""},{"$f":"IF(BY224=\"\",\"\",TODAY())","v":""},{"$f":"IF(BY224=\"\",\"\",\"WTSYSTEMUSER\")","v":""},{"$f":"IF(BY224=\"\",\"\",TODAY())","v":""},{"$f":"IF(BY224=\"\",\"\",\"WTSYSTEMUSER\")","v":""}]
[null,null,null,null,null,null,null,null,null,null,null,null,null,null,null,null,null,null,null,null,null,null,null,null,null,null,null,null,null,null,null,null,null,null,null,null,null,null,null,null,null,null,null,null,null,null,null,null,null,null,null,null,null,null,null,null,null,null,null,null,null,null,null,null,null,null,null,null,null,null,null,null,null,null,null,null,null,null,null,null,null,null,null,null,null,null,null,null,null,null,null,null,"",null,{"$f":"IF(BY225=\"\",\"\",\"AgencyEntityInsData Id 1021\")","v":""},{"$f":"IF(BY225=\"\",\"\",\"AgencyEntityInstance Id 223\")","v":""},{"$f":"IF(BY225=\"\",\"\",\"cm_base_dcp_header_03_thi_meas\")","v":""},{"$f":"IF(BY225=\"\",\"\",'Test 5'!AE155)","v":""},{"$f":"IF(BY225=\"\",\"\",TODAY())","v":""},{"$f":"IF(BY225=\"\",\"\",\"WTSYSTEMUSER\")","v":""},{"$f":"IF(BY225=\"\",\"\",TODAY())","v":""},{"$f":"IF(BY225=\"\",\"\",\"WTSYSTEMUSER\")","v":""}]
[null,null,null,null,null,null,null,null,null,null,null,null,null,null,null,null,null,null,null,null,null,null,null,null,null,null,null,null,null,null,null,null,null,null,null,null,null,null,null,null,null,null,null,null,null,null,null,null,null,null,null,null,null,null,null,null,null,null,null,null,null,null,null,null,null,null,null,null,null,null,null,null,null,null,null,null,null,null,null,null,null,null,null,null,null,null,null,null,null,null,null,null,{"$f":"IF(CT1028=\"\",\"\",SUBSTITUTE(SUBSTITUTE(SUBSTITUTE(SUBSTITUTE(SUBSTITUTE(CT1028,\"&\",\"&amp;\"),\">\",\"&gt;\"),\"<\",\"&lt;\"),\"'\",\"&#39;\"),\"\"\"\",\"&quot;\"))","v":""},null,{"$f":"IF(BY226=\"\",\"\",\"AgencyEntityInsData Id 1026\")","v":""},{"$f":"IF(BY226=\"\",\"\",\"AgencyEntityInstance Id 224\")","v":""},{"$f":"IF(BY226=\"\",\"\",\"cm_base_dcp_01_begin\")","v":""},{"$f":"IF(BY226=\"\",\"\",'Test 5'!AD160)","v":""},{"$f":"IF(BY226=\"\",\"\",TODAY())","v":""},{"$f":"IF(BY226=\"\",\"\",\"WTSYSTEMUSER\")","v":""},{"$f":"IF(BY226=\"\",\"\",TODAY())","v":""},{"$f":"IF(BY226=\"\",\"\",\"WTSYSTEMUSER\")","v":""}]
[null,null,null,null,null,null,null,null,null,null,null,null,null,null,null,null,null,null,null,null,null,null,null,null,null,null,null,null,null,null,null,null,null,null,null,null,null,null,null,null,null,null,null,null,null,null,null,null,null,null,null,null,null,null,null,null,null,null,null,null,null,null,null,null,null,null,null,null,null,null,null,null,null,null,null,null,null,null,null,null,null,null,null,null,null,null,null,null,null,null,null,null,"",null,{"$f":"IF(BY227=\"\",\"\",\"AgencyEntityInsData Id 1030\")","v":""},{"$f":"IF(BY227=\"\",\"\",\"AgencyEntityInstance Id 225\")","v":""},{"$f":"IF(BY227=\"\",\"\",\"cm_base_dcp_01_begin\")","v":""},{"$f":"IF(BY227=\"\",\"\",'Test 5'!AD161)","v":""},{"$f":"IF(BY227=\"\",\"\",TODAY())","v":""},{"$f":"IF(BY227=\"\",\"\",\"WTSYSTEMUSER\")","v":""},{"$f":"IF(BY227=\"\",\"\",TODAY())","v":""},{"$f":"IF(BY227=\"\",\"\",\"WTSYSTEMUSER\")","v":""}]
[null,null,null,null,null,null,null,null,null,null,null,null,null,null,null,null,null,null,null,null,null,null,null,null,null,null,null,null,null,null,null,null,null,null,null,null,null,null,null,null,null,null,null,null,null,null,null,null,null,null,null,null,null,null,null,null,null,null,null,null,null,null,null,null,null,null,null,null,null,null,null,null,null,null,null,null,null,null,null,null,null,null,null,null,null,null,null,null,null,null,null,null,"",null,{"$f":"IF(BY227=\"\",\"\",\"AgencyEntityInsData Id 1033\")","v":""},{"$f":"IF(BY227=\"\",\"\",\"AgencyEntityInstance Id 225\")","v":""},{"$f":"IF(BY227=\"\",\"\",\"cm_base_dcp_04_index\")","v":""},{"$f":"IF(BY227=\"\",\"\",'Test 5'!AF161)","v":""},{"$f":"IF(BY227=\"\",\"\",TODAY())","v":""},{"$f":"IF(BY227=\"\",\"\",\"WTSYSTEMUSER\")","v":""},{"$f":"IF(BY227=\"\",\"\",TODAY())","v":""},{"$f":"IF(BY227=\"\",\"\",\"WTSYSTEMUSER\")","v":""}]
[null,null,null,null,null,null,null,null,null,null,null,null,null,null,null,null,null,null,null,null,null,null,null,null,null,null,null,null,null,null,null,null,null,null,null,null,null,null,null,null,null,null,null,null,null,null,null,null,null,null,null,null,null,null,null,null,null,null,null,null,null,null,null,null,null,null,null,null,null,null,null,null,null,null,null,null,null,null,null,null,null,null,null,null,null,null,null,null,null,null,null,null,"",null,{"$f":"IF(BY228=\"\",\"\",\"AgencyEntityInsData Id 1035\")","v":""},{"$f":"IF(BY228=\"\",\"\",\"AgencyEntityInstance Id 226\")","v":""},{"$f":"IF(BY228=\"\",\"\",\"cm_base_dcp_02_end\")","v":""},{"$f":"IF(BY228=\"\",\"\",'Test 5'!AE162)","v":""},{"$f":"IF(BY228=\"\",\"\",TODAY())","v":""},{"$f":"IF(BY228=\"\",\"\",\"WTSYSTEMUSER\")","v":""},{"$f":"IF(BY228=\"\",\"\",TODAY())","v":""},{"$f":"IF(BY228=\"\",\"\",\"WTSYSTEMUSER\")","v":""}]
[null,null,null,null,null,null,null,null,null,null,null,null,null,null,null,null,null,null,null,null,null,null,null,null,null,null,null,null,null,null,null,null,null,null,null,null,null,null,null,null,null,null,null,null,null,null,null,null,null,null,null,null,null,null,null,null,null,null,null,null,null,null,null,null,null,null,null,null,null,null,null,null,null,null,null,null,null,null,null,null,null,null,null,null,null,null,null,null,null,null,null,null,"",null,{"$f":"IF(BY229=\"\",\"\",\"AgencyEntityInsData Id 1041\")","v":""},{"$f":"IF(BY229=\"\",\"\",\"AgencyEntityInstance Id 227\")","v":""},{"$f":"IF(BY229=\"\",\"\",\"cm_base_dcp_04_index\")","v":""},{"$f":"IF(BY229=\"\",\"\",'Test 5'!AF163)","v":""},{"$f":"IF(BY229=\"\",\"\",TODAY())","v":""},{"$f":"IF(BY229=\"\",\"\",\"WTSYSTEMUSER\")","v":""},{"$f":"IF(BY229=\"\",\"\",TODAY())","v":""},{"$f":"IF(BY229=\"\",\"\",\"WTSYSTEMUSER\")","v":""}]
[null,null,null,null,null,null,null,null,null,null,null,null,null,null,null,null,null,null,null,null,null,null,null,null,null,null,null,null,null,null,null,null,null,null,null,null,null,null,null,null,null,null,null,null,null,null,null,null,null,null,null,null,null,null,null,null,null,null,null,null,null,null,null,null,null,null,null,null,null,null,null,null,null,null,null,null,null,null,null,null,null,null,null,null,null,null,null,null,null,null,null,null,"",null,{"$f":"IF(BY230=\"\",\"\",\"AgencyEntityInsData Id 1044\")","v":""},{"$f":"IF(BY230=\"\",\"\",\"AgencyEntityInstance Id 228\")","v":""},{"$f":"IF(BY230=\"\",\"\",\"cm_base_dcp_03_blows\")","v":""},{"$f":"IF(BY230=\"\",\"\",IF('Test 5'!I164=\"\",\"\",'Test 5'!I164))","v":""},{"$f":"IF(BY230=\"\",\"\",TODAY())","v":""},{"$f":"IF(BY230=\"\",\"\",\"WTSYSTEMUSER\")","v":""},{"$f":"IF(BY230=\"\",\"\",TODAY())","v":""},{"$f":"IF(BY230=\"\",\"\",\"WTSYSTEMUSER\")","v":""}]
[null,null,null,null,null,null,null,null,null,null,null,null,null,null,null,null,null,null,null,null,null,null,null,null,null,null,null,null,null,null,null,null,null,null,null,null,null,null,null,null,null,null,null,null,null,null,null,null,null,null,null,null,null,null,null,null,null,null,null,null,null,null,null,null,null,null,null,null,null,null,null,null,null,null,null,null,null,null,null,null,null,null,null,null,null,null,null,null,null,null,null,null,"",null,{"$f":"IF(BY231=\"\",\"\",\"AgencyEntityInsData Id 1046\")","v":""},{"$f":"IF(BY231=\"\",\"\",\"AgencyEntityInstance Id 229\")","v":""},{"$f":"IF(BY231=\"\",\"\",\"cm_base_dcp_01_begin\")","v":""},{"$f":"IF(BY231=\"\",\"\",'Test 5'!AD165)","v":""},{"$f":"IF(BY231=\"\",\"\",TODAY())","v":""},{"$f":"IF(BY231=\"\",\"\",\"WTSYSTEMUSER\")","v":""},{"$f":"IF(BY231=\"\",\"\",TODAY())","v":""},{"$f":"IF(BY231=\"\",\"\",\"WTSYSTEMUSER\")","v":""}]
[null,null,null,null,null,null,null,null,null,null,null,null,null,null,null,null,null,null,null,null,null,null,null,null,null,null,null,null,null,null,null,null,null,null,null,null,null,null,null,null,null,null,null,null,null,null,null,null,null,null,null,null,null,null,null,null,null,null,null,null,null,null,null,null,null,null,null,null,null,null,null,null,null,null,null,null,null,null,null,null,null,null,null,null,null,null,null,null,null,null,null,null,"",null,{"$f":"IF(BY231=\"\",\"\",\"AgencyEntityInsData Id 1049\")","v":""},{"$f":"IF(BY231=\"\",\"\",\"AgencyEntityInstance Id 229\")","v":""},{"$f":"IF(BY231=\"\",\"\",\"cm_base_dcp_04_index\")","v":""},{"$f":"IF(BY231=\"\",\"\",'Test 5'!AF165)","v":""},{"$f":"IF(BY231=\"\",\"\",TODAY())","v":""},{"$f":"IF(BY231=\"\",\"\",\"WTSYSTEMUSER\")","v":""},{"$f":"IF(BY231=\"\",\"\",TODAY())","v":""},{"$f":"IF(BY231=\"\",\"\",\"WTSYSTEMUSER\")","v":""}]
[null,null,null,null,null,null,null,null,null,null,null,null,null,null,null,null,null,null,null,null,null,null,null,null,null,null,null,null,null,null,null,null,null,null,null,null,null,null,null,null,null,null,null,null,null,null,null,null,null,null,null,null,null,null,null,null,null,null,null,null,null,null,null,null,null,null,null,null,null,null,null,null,null,null,null,null,null,null,null,null,null,null,null,null,null,null,null,null,null,null,null,null,"",null,{"$f":"IF(BY233=\"\",\"\",\"AgencyEntityInsData Id 1054\")","v":""},{"$f":"IF(BY233=\"\",\"\",\"AgencyEntityInstance Id 231\")","v":""},{"$f":"IF(BY233=\"\",\"\",\"cm_base_dcp_01_begin\")","v":""},{"$f":"IF(BY233=\"\",\"\",'Test 5'!AD167)","v":""},{"$f":"IF(BY233=\"\",\"\",TODAY())","v":""},{"$f":"IF(BY233=\"\",\"\",\"WTSYSTEMUSER\")","v":""},{"$f":"IF(BY233=\"\",\"\",TODAY())","v":""},{"$f":"IF(BY233=\"\",\"\",\"WTSYSTEMUSER\")","v":""}]
[null,null,null,null,null,null,null,null,null,null,null,null,null,null,null,null,null,null,null,null,null,null,null,null,null,null,null,null,null,null,null,null,null,null,null,null,null,null,null,null,null,null,null,null,null,null,null,null,null,null,null,null,null,null,null,null,null,null,null,null,null,null,null,null,null,null,null,null,null,null,null,null,null,null,null,null,null,null,null,null,null,null,null,null,null,null,null,null,null,null,null,null,"",null,{"$f":"IF(BY234=\"\",\"\",\"AgencyEntityInsData Id 1058\")","v":""},{"$f":"IF(BY234=\"\",\"\",\"AgencyEntityInstance Id 232\")","v":""},{"$f":"IF(BY234=\"\",\"\",\"cm_base_dcp_01_begin\")","v":""},{"$f":"IF(BY234=\"\",\"\",'Test 5'!AD168)","v":""},{"$f":"IF(BY234=\"\",\"\",TODAY())","v":""},{"$f":"IF(BY234=\"\",\"\",\"WTSYSTEMUSER\")","v":""},{"$f":"IF(BY234=\"\",\"\",TODAY())","v":""},{"$f":"IF(BY234=\"\",\"\",\"WTSYSTEMUSER\")","v":""}]
[null,null,null,null,null,null,null,null,null,null,null,null,null,null,null,null,null,null,null,null,null,null,null,null,null,null,null,null,null,null,null,null,null,null,null,null,null,null,null,null,null,null,null,null,null,null,null,null,null,null,null,null,null,null,null,null,null,null,null,null,null,null,null,null,null,null,null,null,null,null,null,null,null,null,null,null,null,null,null,null,null,null,null,null,null,null,null,null,null,null,null,null,"",null,{"$f":"IF(BY234=\"\",\"\",\"AgencyEntityInsData Id 1061\")","v":""},{"$f":"IF(BY234=\"\",\"\",\"AgencyEntityInstance Id 232\")","v":""},{"$f":"IF(BY234=\"\",\"\",\"cm_base_dcp_04_index\")","v":""},{"$f":"IF(BY234=\"\",\"\",'Test 5'!AF168)","v":""},{"$f":"IF(BY234=\"\",\"\",TODAY())","v":""},{"$f":"IF(BY234=\"\",\"\",\"WTSYSTEMUSER\")","v":""},{"$f":"IF(BY234=\"\",\"\",TODAY())","v":""},{"$f":"IF(BY234=\"\",\"\",\"WTSYSTEMUSER\")","v":""}]
[null,null,null,null,null,null,null,null,null,null,null,null,null,null,null,null,null,null,null,null,null,null,null,null,null,null,null,null,null,null,null,null,null,null,null,null,null,null,null,null,null,null,null,null,null,null,null,null,null,null,null,null,null,null,null,null,null,null,null,null,null,null,null,null,null,null,null,null,null,null,null,null,null,null,null,null,null,null,null,null,null,null,null,null,null,null,null,null,null,null,null,null,"",null,{"$f":"IF(BY235=\"\",\"\",\"AgencyEntityInsData Id 1063\")","v":""},{"$f":"IF(BY235=\"\",\"\",\"AgencyEntityInstance Id 233\")","v":""},{"$f":"IF(BY235=\"\",\"\",\"cm_base_dcp_02_end\")","v":""},{"$f":"IF(BY235=\"\",\"\",'Test 5'!AE169)","v":""},{"$f":"IF(BY235=\"\",\"\",TODAY())","v":""},{"$f":"IF(BY235=\"\",\"\",\"WTSYSTEMUSER\")","v":""},{"$f":"IF(BY235=\"\",\"\",TODAY())","v":""},{"$f":"IF(BY235=\"\",\"\",\"WTSYSTEMUSER\")","v":""}]
[null,null,null,null,null,null,null,null,null,null,null,null,null,null,null,null,null,null,null,null,null,null,null,null,null,null,null,null,null,null,null,null,null,null,null,null,null,null,null,null,null,null,null,null,null,null,null,null,null,null,null,null,null,null,null,null,null,null,null,null,null,null,null,null,null,null,null,null,null,null,null,null,null,null,null,null,null,null,null,null,null,null,null,null,null,null,null,null,null,null,null,null,"",null,{"$f":"IF(BY236=\"\",\"\",\"AgencyEntityInsData Id 1068\")","v":""},{"$f":"IF(BY236=\"\",\"\",\"AgencyEntityInstance Id 234\")","v":""},{"$f":"IF(BY236=\"\",\"\",\"cm_base_dcp_03_blows\")","v":""},{"$f":"IF(BY236=\"\",\"\",IF('Test 5'!I170=\"\",\"\",'Test 5'!I170))","v":""},{"$f":"IF(BY236=\"\",\"\",TODAY())","v":""},{"$f":"IF(BY236=\"\",\"\",\"WTSYSTEMUSER\")","v":""},{"$f":"IF(BY236=\"\",\"\",TODAY())","v":""},{"$f":"IF(BY236=\"\",\"\",\"WTSYSTEMUSER\")","v":""}]
[null,null,null,null,null,null,null,null,null,null,null,null,null,null,null,null,null,null,null,null,null,null,null,null,null,null,null,null,null,null,null,null,null,null,null,null,null,null,null,null,null,null,null,null,null,null,null,null,null,null,null,null,null,null,null,null,null,null,null,null,null,null,null,null,null,null,null,null,null,null,null,null,null,null,null,null,null,null,null,null,null,null,null,null,null,null,null,null,null,null,null,null,"",null,{"$f":"IF(BY237=\"\",\"\",\"AgencyEntityInsData Id 1073\")","v":""},{"$f":"IF(BY237=\"\",\"\",\"AgencyEntityInstance Id 235\")","v":""},{"$f":"IF(BY237=\"\",\"\",\"cm_base_dcp_04_index\")","v":""},{"$f":"IF(BY237=\"\",\"\",'Test 5'!AF171)","v":""},{"$f":"IF(BY237=\"\",\"\",TODAY())","v":""},{"$f":"IF(BY237=\"\",\"\",\"WTSYSTEMUSER\")","v":""},{"$f":"IF(BY237=\"\",\"\",TODAY())","v":""},{"$f":"IF(BY237=\"\",\"\",\"WTSYSTEMUSER\")","v":""}]
[null,null,null,null,null,null,null,null,null,null,null,null,null,null,null,null,null,null,null,null,null,null,null,null,null,null,null,null,null,null,null,null,null,null,null,null,null,null,null,null,null,null,null,null,null,null,null,null,null,null,null,null,null,null,null,null,null,null,null,null,null,null,null,null,null,null,null,null,null,null,null,null,null,null,null,null,null,null,null,null,null,null,null,null,null,null,null,null,null,null,null,null,"",null,{"$f":"IF(BY238=\"\",\"\",\"AgencyEntityInsData Id 1077\")","v":""},{"$f":"IF(BY238=\"\",\"\",\"AgencyEntityInstance Id 236\")","v":""},{"$f":"IF(BY238=\"\",\"\",\"cm_base_dcp_04_index\")","v":""},{"$f":"IF(BY238=\"\",\"\",'Test 5'!AF172)","v":""},{"$f":"IF(BY238=\"\",\"\",TODAY())","v":""},{"$f":"IF(BY238=\"\",\"\",\"WTSYSTEMUSER\")","v":""},{"$f":"IF(BY238=\"\",\"\",TODAY())","v":""},{"$f":"IF(BY238=\"\",\"\",\"WTSYSTEMUSER\")","v":""}]
[null,null,null,null,null,null,null,null,null,null,null,null,null,null,null,null,null,null,null,null,null,null,null,null,null,null,null,null,null,null,null,null,null,null,null,null,null,null,null,null,null,null,null,null,null,null,null,null,null,null,null,null,null,null,null,null,null,null,null,null,null,null,null,null,null,null,null,null,null,null,null,null,null,null,null,null,null,null,null,null,null,null,null,null,null,null,null,null,null,null,null,null,"",null,{"$f":"IF(BY239=\"\",\"\",\"AgencyEntityInsData Id 1078\")","v":""},{"$f":"IF(BY239=\"\",\"\",\"AgencyEntityInstance Id 237\")","v":""},{"$f":"IF(BY239=\"\",\"\",\"cm_base_dcp_01_begin\")","v":""},{"$f":"IF(BY239=\"\",\"\",'Test 5'!AD173)","v":""},{"$f":"IF(BY239=\"\",\"\",TODAY())","v":""},{"$f":"IF(BY239=\"\",\"\",\"WTSYSTEMUSER\")","v":""},{"$f":"IF(BY239=\"\",\"\",TODAY())","v":""},{"$f":"IF(BY239=\"\",\"\",\"WTSYSTEMUSER\")","v":""}]
[null,null,null,null,null,null,null,null,null,null,null,null,null,null,null,null,null,null,null,null,null,null,null,null,null,null,null,null,null,null,null,null,null,null,null,null,null,null,null,null,null,null,null,null,null,null,null,null,null,null,null,null,null,null,null,null,null,null,null,null,null,null,null,null,null,null,null,null,null,null,null,null,null,null,null,null,null,null,null,null,null,null,null,null,null,null,null,null,null,null,null,null,"",null,{"$f":"IF(BY240=\"\",\"\",\"AgencyEntityInsData Id 1082\")","v":""},{"$f":"IF(BY240=\"\",\"\",\"AgencyEntityInstance Id 238\")","v":""},{"$f":"IF(BY240=\"\",\"\",\"cm_base_dcp_01_begin\")","v":""},{"$f":"IF(BY240=\"\",\"\",'Test 5'!AD174)","v":""},{"$f":"IF(BY240=\"\",\"\",TODAY())","v":""},{"$f":"IF(BY240=\"\",\"\",\"WTSYSTEMUSER\")","v":""},{"$f":"IF(BY240=\"\",\"\",TODAY())","v":""},{"$f":"IF(BY240=\"\",\"\",\"WTSYSTEMUSER\")","v":""}]
[null,null,null,null,null,null,null,null,null,null,null,null,null,null,null,null,null,null,null,null,null,null,null,null,null,null,null,null,null,null,null,null,null,null,null,null,null,null,null,null,null,null,null,null,null,null,null,null,null,null,null,null,null,null,null,null,null,null,null,null,null,null,null,null,null,null,null,null,null,null,null,null,null,null,null,null,null,null,null,null,null,null,null,null,null,null,null,null,null,null,null,null,"",null,{"$f":"IF(BY241=\"\",\"\",\"AgencyEntityInsData Id 1086\")","v":""},{"$f":"IF(BY241=\"\",\"\",\"AgencyEntityInstance Id 239\")","v":""},{"$f":"IF(BY241=\"\",\"\",\"cm_base_dcp_01_begin\")","v":""},{"$f":"IF(BY241=\"\",\"\",'Test 5'!AD175)","v":""},{"$f":"IF(BY241=\"\",\"\",TODAY())","v":""},{"$f":"IF(BY241=\"\",\"\",\"WTSYSTEMUSER\")","v":""},{"$f":"IF(BY241=\"\",\"\",TODAY())","v":""},{"$f":"IF(BY241=\"\",\"\",\"WTSYSTEMUSER\")","v":""}]
[null,null,null,null,null,null,null,null,null,null,null,null,null,null,null,null,null,null,null,null,null,null,null,null,null,null,null,null,null,null,null,null,null,null,null,null,null,null,null,null,null,null,null,null,null,null,null,null,null,null,null,null,null,null,null,null,null,null,null,null,null,null,null,null,null,null,null,null,null,null,null,null,null,null,null,null,null,null,null,null,null,null,null,null,null,null,null,null,null,null,null,null,"",null,{"$f":"IF(BY242=\"\",\"\",\"AgencyEntityInsData Id 1091\")","v":""},{"$f":"IF(BY242=\"\",\"\",\"AgencyEntityInstance Id 240\")","v":""},{"$f":"IF(BY242=\"\",\"\",\"cm_base_dcp_02_end\")","v":""},{"$f":"IF(BY242=\"\",\"\",'Test 5'!AE176)","v":""},{"$f":"IF(BY242=\"\",\"\",TODAY())","v":""},{"$f":"IF(BY242=\"\",\"\",\"WTSYSTEMUSER\")","v":""},{"$f":"IF(BY242=\"\",\"\",TODAY())","v":""},{"$f":"IF(BY242=\"\",\"\",\"WTSYSTEMUSER\")","v":""}]
[null,null,null,null,null,null,null,null,null,null,null,null,null,null,null,null,null,null,null,null,null,null,null,null,null,null,null,null,null,null,null,null,null,null,null,null,null,null,null,null,null,null,null,null,null,null,null,null,null,null,null,null,null,null,null,null,null,null,null,null,null,null,null,null,null,null,null,null,null,null,null,null,null,null,null,null,null,null,null,null,null,null,null,null,null,null,null,null,null,null,null,null,"",null,{"$f":"IF(BY243=\"\",\"\",\"AgencyEntityInsData Id 1094\")","v":""},{"$f":"IF(BY243=\"\",\"\",\"AgencyEntityInstance Id 241\")","v":""},{"$f":"IF(BY243=\"\",\"\",\"cm_base_dcp_01_begin\")","v":""},{"$f":"IF(BY243=\"\",\"\",'Test 5'!AD177)","v":""},{"$f":"IF(BY243=\"\",\"\",TODAY())","v":""},{"$f":"IF(BY243=\"\",\"\",\"WTSYSTEMUSER\")","v":""},{"$f":"IF(BY243=\"\",\"\",TODAY())","v":""},{"$f":"IF(BY243=\"\",\"\",\"WTSYSTEMUSER\")","v":""}]
[null,null,null,null,null,null,null,null,null,null,null,null,null,null,null,null,null,null,null,null,null,null,null,null,null,null,null,null,null,null,null,null,null,null,null,null,null,null,null,null,null,null,null,null,null,null,null,null,null,null,null,null,null,null,null,null,null,null,null,null,null,null,null,null,null,null,null,null,null,null,null,null,null,null,null,null,null,null,null,null,null,null,null,null,null,null,null,null,null,null,null,null,"",null,{"$f":"IF(BY243=\"\",\"\",\"AgencyEntityInsData Id 1096\")","v":""},{"$f":"IF(BY243=\"\",\"\",\"AgencyEntityInstance Id 241\")","v":""},{"$f":"IF(BY243=\"\",\"\",\"cm_base_dcp_03_blows\")","v":""},{"$f":"IF(BY243=\"\",\"\",IF('Test 5'!I177=\"\",\"\",'Test 5'!I177))","v":""},{"$f":"IF(BY243=\"\",\"\",TODAY())","v":""},{"$f":"IF(BY243=\"\",\"\",\"WTSYSTEMUSER\")","v":""},{"$f":"IF(BY243=\"\",\"\",TODAY())","v":""},{"$f":"IF(BY243=\"\",\"\",\"WTSYSTEMUSER\")","v":""}]
[null,null,null,null,null,null,null,null,null,null,null,null,null,null,null,null,null,null,null,null,null,null,null,null,null,null,null,null,null,null,null,null,null,null,null,null,null,null,null,null,null,null,null,null,null,null,null,null,null,null,null,null,null,null,null,null,null,null,null,null,null,null,null,null,null,null,null,null,null,null,null,null,null,null,null,null,null,null,null,null,null,null,null,null,null,null,null,null,null,null,null,null,"",null,{"$f":"IF(BY244=\"\",\"\",\"AgencyEntityInsData Id 1099\")","v":""},{"$f":"IF(BY244=\"\",\"\",\"AgencyEntityInstance Id 242\")","v":""},{"$f":"IF(BY244=\"\",\"\",\"cm_base_dcp_02_end\")","v":""},{"$f":"IF(BY244=\"\",\"\",'Test 5'!AE178)","v":""},{"$f":"IF(BY244=\"\",\"\",TODAY())","v":""},{"$f":"IF(BY244=\"\",\"\",\"WTSYSTEMUSER\")","v":""},{"$f":"IF(BY244=\"\",\"\",TODAY())","v":""},{"$f":"IF(BY244=\"\",\"\",\"WTSYSTEMUSER\")","v":""}]
[null,null,null,null,null,null,null,null,null,null,null,null,null,null,null,null,null,null,null,null,null,null,null,null,null,null,null,null,null,null,null,null,null,null,null,null,null,null,null,null,null,null,null,null,null,null,null,null,null,null,null,null,null,null,null,null,null,null,null,null,null,null,null,null,null,null,null,null,null,null,null,null,null,null,null,null,null,null,null,null,null,null,null,null,null,null,null,null,null,null,null,null,"",null,{"$f":"IF(BY245=\"\",\"\",\"AgencyEntityInsData Id 1105\")","v":""},{"$f":"IF(BY245=\"\",\"\",\"AgencyEntityInstance Id 243\")","v":""},{"$f":"IF(BY245=\"\",\"\",\"cm_base_dcp_04_index\")","v":""},{"$f":"IF(BY245=\"\",\"\",'Test 5'!AF179)","v":""},{"$f":"IF(BY245=\"\",\"\",TODAY())","v":""},{"$f":"IF(BY245=\"\",\"\",\"WTSYSTEMUSER\")","v":""},{"$f":"IF(BY245=\"\",\"\",TODAY())","v":""},{"$f":"IF(BY245=\"\",\"\",\"WTSYSTEMUSER\")","v":""}]
[null,null,null,null,null,null,null,null,null,null,null,null,null,null,null,null,null,null,null,null,null,null,null,null,null,null,null,null,null,null,null,null,null,null,null,null,null,null,null,null,null,null,null,null,null,null,null,null,null,null,null,null,null,null,null,null,null,null,null,null,null,null,null,null,null,null,null,null,null,null,null,null,null,null,null,null,null,null,null,null,null,null,null,null,null,null,null,null,null,null,null,null,"",null,{"$f":"IF(BY246=\"\",\"\",\"AgencyEntityInsData Id 1106\")","v":""},{"$f":"IF(BY246=\"\",\"\",\"AgencyEntityInstance Id 244\")","v":""},{"$f":"IF(BY246=\"\",\"\",\"cm_base_dcp_header_01_avg\")","v":""},{"$f":"IF(BY246=\"\",\"\",'Test 5'!AF157)","v":""},{"$f":"IF(BY246=\"\",\"\",TODAY())","v":""},{"$f":"IF(BY246=\"\",\"\",\"WTSYSTEMUSER\")","v":""},{"$f":"IF(BY246=\"\",\"\",TODAY())","v":""},{"$f":"IF(BY246=\"\",\"\",\"WTSYSTEMUSER\")","v":""}]
[null,null,null,null,null,null,null,null,null,null,null,null,null,null,null,null,null,null,null,null,null,null,null,null,null,null,null,null,null,null,null,null,null,null,null,null,null,null,null,null,null,null,null,null,null,null,null,null,null,null,null,null,null,null,null,null,null,null,null,null,null,null,null,null,null,null,null,null,null,null,null,null,null,null,null,null,null,null,null,null,null,null,null,null,null,null,null,null,null,null,null,null,"",null,{"$f":"IF(BY246=\"\",\"\",\"AgencyEntityInsData Id 1110\")","v":""},{"$f":"IF(BY246=\"\",\"\",\"AgencyEntityInstance Id 244\")","v":""},{"$f":"IF(BY246=\"\",\"\",\"cm_base_dcp_header_05_sta_2\")","v":""},{"$f":"IF(BY246=\"\",\"\",IF('Test 5'!U149=\"\",\"\",'Test 5'!U149))","v":""},{"$f":"IF(BY246=\"\",\"\",TODAY())","v":""},{"$f":"IF(BY246=\"\",\"\",\"WTSYSTEMUSER\")","v":""},{"$f":"IF(BY246=\"\",\"\",TODAY())","v":""},{"$f":"IF(BY246=\"\",\"\",\"WTSYSTEMUSER\")","v":""}]
[null,null,null,null,null,null,null,null,null,null,null,null,null,null,null,null,null,null,null,null,null,null,null,null,null,null,null,null,null,null,null,null,null,null,null,null,null,null,null,null,null,null,null,null,null,null,null,null,null,null,null,null,null,null,null,null,null,null,null,null,null,null,null,null,null,null,null,null,null,null,null,null,null,null,null,null,null,null,null,null,null,null,null,null,null,null,null,null,null,null,null,null,"",null,{"$f":"IF(BY247=\"\",\"\",\"AgencyEntityInsData Id 1114\")","v":""},{"$f":"IF(BY247=\"\",\"\",\"AgencyEntityInstance Id 245\")","v":""},{"$f":"IF(BY247=\"\",\"\",\"cm_base_dcp_02_end\")","v":""},{"$f":"IF(BY247=\"\",\"\",'Test 5'!AH160)","v":""},{"$f":"IF(BY247=\"\",\"\",TODAY())","v":""},{"$f":"IF(BY247=\"\",\"\",\"WTSYSTEMUSER\")","v":""},{"$f":"IF(BY247=\"\",\"\",TODAY())","v":""},{"$f":"IF(BY247=\"\",\"\",\"WTSYSTEMUSER\")","v":""}]
[null,null,null,null,null,null,null,null,null,null,null,null,null,null,null,null,null,null,null,null,null,null,null,null,null,null,null,null,null,null,null,null,null,null,null,null,null,null,null,null,null,null,null,null,null,null,null,null,null,null,null,null,null,null,null,null,null,null,null,null,null,null,null,null,null,null,null,null,null,null,null,null,null,null,null,null,null,null,null,null,null,null,null,null,null,null,null,null,null,null,null,null,"",null,{"$f":"IF(BY248=\"\",\"\",\"AgencyEntityInsData Id 1119\")","v":""},{"$f":"IF(BY248=\"\",\"\",\"AgencyEntityInstance Id 246\")","v":""},{"$f":"IF(BY248=\"\",\"\",\"cm_base_dcp_03_blows\")","v":""},{"$f":"IF(BY248=\"\",\"\",IF('Test 5'!V161=\"\",\"\",'Test 5'!V161))","v":""},{"$f":"IF(BY248=\"\",\"\",TODAY())","v":""},{"$f":"IF(BY248=\"\",\"\",\"WTSYSTEMUSER\")","v":""},{"$f":"IF(BY248=\"\",\"\",TODAY())","v":""},{"$f":"IF(BY248=\"\",\"\",\"WTSYSTEMUSER\")","v":""}]
[null,null,null,null,null,null,null,null,null,null,null,null,null,null,null,null,null,null,null,null,null,null,null,null,null,null,null,null,null,null,null,null,null,null,null,null,null,null,null,null,null,null,null,null,null,null,null,null,null,null,null,null,null,null,null,null,null,null,null,null,null,null,null,null,null,null,null,null,null,null,null,null,null,null,null,null,null,null,null,null,null,null,null,null,null,null,null,null,null,null,null,null,"",null,{"$f":"IF(BY249=\"\",\"\",\"AgencyEntityInsData Id 1122\")","v":""},{"$f":"IF(BY249=\"\",\"\",\"AgencyEntityInstance Id 247\")","v":""},{"$f":"IF(BY249=\"\",\"\",\"cm_base_dcp_02_end\")","v":""},{"$f":"IF(BY249=\"\",\"\",'Test 5'!AH162)","v":""},{"$f":"IF(BY249=\"\",\"\",TODAY())","v":""},{"$f":"IF(BY249=\"\",\"\",\"WTSYSTEMUSER\")","v":""},{"$f":"IF(BY249=\"\",\"\",TODAY())","v":""},{"$f":"IF(BY249=\"\",\"\",\"WTSYSTEMUSER\")","v":""}]
[null,null,null,null,null,null,null,null,null,null,null,null,null,null,null,null,null,null,null,null,null,null,null,null,null,null,null,null,null,null,null,null,null,null,null,null,null,null,null,null,null,null,null,null,null,null,null,null,null,null,null,null,null,null,null,null,null,null,null,null,null,null,null,null,null,null,null,null,null,null,null,null,null,null,null,null,null,null,null,null,null,null,null,null,null,null,null,null,null,null,null,null,"",null,{"$f":"IF(BY249=\"\",\"\",\"AgencyEntityInsData Id 1124\")","v":""},{"$f":"IF(BY249=\"\",\"\",\"AgencyEntityInstance Id 247\")","v":""},{"$f":"IF(BY249=\"\",\"\",\"cm_base_dcp_04_index\")","v":""},{"$f":"IF(BY249=\"\",\"\",'Test 5'!AI162)","v":""},{"$f":"IF(BY249=\"\",\"\",TODAY())","v":""},{"$f":"IF(BY249=\"\",\"\",\"WTSYSTEMUSER\")","v":""},{"$f":"IF(BY249=\"\",\"\",TODAY())","v":""},{"$f":"IF(BY249=\"\",\"\",\"WTSYSTEMUSER\")","v":""}]
[null,null,null,null,null,null,null,null,null,null,null,null,null,null,null,null,null,null,null,null,null,null,null,null,null,null,null,null,null,null,null,null,null,null,null,null,null,null,null,null,null,null,null,null,null,null,null,null,null,null,null,null,null,null,null,null,null,null,null,null,null,null,null,null,null,null,null,null,null,null,null,null,null,null,null,null,null,null,null,null,null,null,null,null,null,null,null,null,null,null,null,null,"",null,{"$f":"IF(BY251=\"\",\"\",\"AgencyEntityInsData Id 1129\")","v":""},{"$f":"IF(BY251=\"\",\"\",\"AgencyEntityInstance Id 249\")","v":""},{"$f":"IF(BY251=\"\",\"\",\"cm_base_dcp_01_begin\")","v":""},{"$f":"IF(BY251=\"\",\"\",'Test 5'!AG164)","v":""},{"$f":"IF(BY251=\"\",\"\",TODAY())","v":""},{"$f":"IF(BY251=\"\",\"\",\"WTSYSTEMUSER\")","v":""},{"$f":"IF(BY251=\"\",\"\",TODAY())","v":""},{"$f":"IF(BY251=\"\",\"\",\"WTSYSTEMUSER\")","v":""}]
[null,null,null,null,null,null,null,null,null,null,null,null,null,null,null,null,null,null,null,null,null,null,null,null,null,null,null,null,null,null,null,null,null,null,null,null,null,null,null,null,null,null,null,null,null,null,null,null,null,null,null,null,null,null,null,null,null,null,null,null,null,null,null,null,null,null,null,null,null,null,null,null,null,null,null,null,null,null,null,null,null,null,null,null,null,null,null,null,null,null,null,null,"",null,{"$f":"IF(BY251=\"\",\"\",\"AgencyEntityInsData Id 1131\")","v":""},{"$f":"IF(BY251=\"\",\"\",\"AgencyEntityInstance Id 249\")","v":""},{"$f":"IF(BY251=\"\",\"\",\"cm_base_dcp_03_blows\")","v":""},{"$f":"IF(BY251=\"\",\"\",IF('Test 5'!V164=\"\",\"\",'Test 5'!V164))","v":""},{"$f":"IF(BY251=\"\",\"\",TODAY())","v":""},{"$f":"IF(BY251=\"\",\"\",\"WTSYSTEMUSER\")","v":""},{"$f":"IF(BY251=\"\",\"\",TODAY())","v":""},{"$f":"IF(BY251=\"\",\"\",\"WTSYSTEMUSER\")","v":""}]
[null,null,null,null,null,null,null,null,null,null,null,null,null,null,null,null,null,null,null,null,null,null,null,null,null,null,null,null,null,null,null,null,null,null,null,null,null,null,null,null,null,null,null,null,null,null,null,null,null,null,null,null,null,null,null,null,null,null,null,null,null,null,null,null,null,null,null,null,null,null,null,null,null,null,null,null,null,null,null,null,null,null,null,null,null,null,null,null,null,null,null,null,"",null,{"$f":"IF(BY251=\"\",\"\",\"AgencyEntityInsData Id 1132\")","v":""},{"$f":"IF(BY251=\"\",\"\",\"AgencyEntityInstance Id 249\")","v":""},{"$f":"IF(BY251=\"\",\"\",\"cm_base_dcp_04_index\")","v":""},{"$f":"IF(BY251=\"\",\"\",'Test 5'!AI164)","v":""},{"$f":"IF(BY251=\"\",\"\",TODAY())","v":""},{"$f":"IF(BY251=\"\",\"\",\"WTSYSTEMUSER\")","v":""},{"$f":"IF(BY251=\"\",\"\",TODAY())","v":""},{"$f":"IF(BY251=\"\",\"\",\"WTSYSTEMUSER\")","v":""}]
[null,null,null,null,null,null,null,null,null,null,null,null,null,null,null,null,null,null,null,null,null,null,null,null,null,null,null,null,null,null,null,null,null,null,null,null,null,null,null,null,null,null,null,null,null,null,null,null,null,null,null,null,null,null,null,null,null,null,null,null,null,null,null,null,null,null,null,null,null,null,null,null,null,null,null,null,null,null,null,null,null,null,null,null,null,null,null,null,null,null,null,null,"",null,{"$f":"IF(BY252=\"\",\"\",\"AgencyEntityInsData Id 1133\")","v":""},{"$f":"IF(BY252=\"\",\"\",\"AgencyEntityInstance Id 250\")","v":""},{"$f":"IF(BY252=\"\",\"\",\"cm_base_dcp_01_begin\")","v":""},{"$f":"IF(BY252=\"\",\"\",'Test 5'!AG165)","v":""},{"$f":"IF(BY252=\"\",\"\",TODAY())","v":""},{"$f":"IF(BY252=\"\",\"\",\"WTSYSTEMUSER\")","v":""},{"$f":"IF(BY252=\"\",\"\",TODAY())","v":""},{"$f":"IF(BY252=\"\",\"\",\"WTSYSTEMUSER\")","v":""}]
[null,null,null,null,null,null,null,null,null,null,null,null,null,null,null,null,null,null,null,null,null,null,null,null,null,null,null,null,null,null,null,null,null,null,null,null,null,null,null,null,null,null,null,null,null,null,null,null,null,null,null,null,null,null,null,null,null,null,null,null,null,null,null,null,null,null,null,null,null,null,null,null,null,null,null,null,null,null,null,null,null,null,null,null,null,null,null,null,null,null,null,null,"",null,{"$f":"IF(BY252=\"\",\"\",\"AgencyEntityInsData Id 1134\")","v":""},{"$f":"IF(BY252=\"\",\"\",\"AgencyEntityInstance Id 250\")","v":""},{"$f":"IF(BY252=\"\",\"\",\"cm_base_dcp_02_end\")","v":""},{"$f":"IF(BY252=\"\",\"\",'Test 5'!AH165)","v":""},{"$f":"IF(BY252=\"\",\"\",TODAY())","v":""},{"$f":"IF(BY252=\"\",\"\",\"WTSYSTEMUSER\")","v":""},{"$f":"IF(BY252=\"\",\"\",TODAY())","v":""},{"$f":"IF(BY252=\"\",\"\",\"WTSYSTEMUSER\")","v":""}]
[null,null,null,null,null,null,null,null,null,null,null,null,null,null,null,null,null,null,null,null,null,null,null,null,null,null,null,null,null,null,null,null,null,null,null,null,null,null,null,null,null,null,null,null,null,null,null,null,null,null,null,null,null,null,null,null,null,null,null,null,null,null,null,null,null,null,null,null,null,null,null,null,null,null,null,null,null,null,null,null,null,null,null,null,null,null,null,null,null,null,null,null,"",null,{"$f":"IF(BY252=\"\",\"\",\"AgencyEntityInsData Id 1135\")","v":""},{"$f":"IF(BY252=\"\",\"\",\"AgencyEntityInstance Id 250\")","v":""},{"$f":"IF(BY252=\"\",\"\",\"cm_base_dcp_03_blows\")","v":""},{"$f":"IF(BY252=\"\",\"\",IF('Test 5'!V165=\"\",\"\",'Test 5'!V165))","v":""},{"$f":"IF(BY252=\"\",\"\",TODAY())","v":""},{"$f":"IF(BY252=\"\",\"\",\"WTSYSTEMUSER\")","v":""},{"$f":"IF(BY252=\"\",\"\",TODAY())","v":""},{"$f":"IF(BY252=\"\",\"\",\"WTSYSTEMUSER\")","v":""}]
[null,null,null,null,null,null,null,null,null,null,null,null,null,null,null,null,null,null,null,null,null,null,null,null,null,null,null,null,null,null,null,null,null,null,null,null,null,null,null,null,null,null,null,null,null,null,null,null,null,null,null,null,null,null,null,null,null,null,null,null,null,null,null,null,null,null,null,null,null,null,null,null,null,null,null,null,null,null,null,null,null,null,null,null,null,null,null,null,null,null,null,null,"",null,{"$f":"IF(BY252=\"\",\"\",\"AgencyEntityInsData Id 1136\")","v":""},{"$f":"IF(BY252=\"\",\"\",\"AgencyEntityInstance Id 250\")","v":""},{"$f":"IF(BY252=\"\",\"\",\"cm_base_dcp_04_index\")","v":""},{"$f":"IF(BY252=\"\",\"\",'Test 5'!AI165)","v":""},{"$f":"IF(BY252=\"\",\"\",TODAY())","v":""},{"$f":"IF(BY252=\"\",\"\",\"WTSYSTEMUSER\")","v":""},{"$f":"IF(BY252=\"\",\"\",TODAY())","v":""},{"$f":"IF(BY252=\"\",\"\",\"WTSYSTEMUSER\")","v":""}]
[null,null,null,null,null,null,null,null,null,null,null,null,null,null,null,null,null,null,null,null,null,null,null,null,null,null,null,null,null,null,null,null,null,null,null,null,null,null,null,null,null,null,null,null,null,null,null,null,null,null,null,null,null,null,null,null,null,null,null,null,null,null,null,null,null,null,null,null,null,null,null,null,null,null,null,null,null,null,null,null,null,null,null,null,null,null,null,null,null,null,null,null,"",null,{"$f":"IF(BY253=\"\",\"\",\"AgencyEntityInsData Id 1137\")","v":""},{"$f":"IF(BY253=\"\",\"\",\"AgencyEntityInstance Id 251\")","v":""},{"$f":"IF(BY253=\"\",\"\",\"cm_base_dcp_01_begin\")","v":""},{"$f":"IF(BY253=\"\",\"\",'Test 5'!AG166)","v":""},{"$f":"IF(BY253=\"\",\"\",TODAY())","v":""},{"$f":"IF(BY253=\"\",\"\",\"WTSYSTEMUSER\")","v":""},{"$f":"IF(BY253=\"\",\"\",TODAY())","v":""},{"$f":"IF(BY253=\"\",\"\",\"WTSYSTEMUSER\")","v":""}]
[null,null,null,null,null,null,null,null,null,null,null,null,null,null,null,null,null,null,null,null,null,null,null,null,null,null,null,null,null,null,null,null,null,null,null,null,null,null,null,null,null,null,null,null,null,null,null,null,null,null,null,null,null,null,null,null,null,null,null,null,null,null,null,null,null,null,null,null,null,null,null,null,null,null,null,null,null,null,null,null,null,null,null,null,null,null,null,null,null,null,null,null,"",null,{"$f":"IF(BY253=\"\",\"\",\"AgencyEntityInsData Id 1138\")","v":""},{"$f":"IF(BY253=\"\",\"\",\"AgencyEntityInstance Id 251\")","v":""},{"$f":"IF(BY253=\"\",\"\",\"cm_base_dcp_02_end\")","v":""},{"$f":"IF(BY253=\"\",\"\",'Test 5'!AH166)","v":""},{"$f":"IF(BY253=\"\",\"\",TODAY())","v":""},{"$f":"IF(BY253=\"\",\"\",\"WTSYSTEMUSER\")","v":""},{"$f":"IF(BY253=\"\",\"\",TODAY())","v":""},{"$f":"IF(BY253=\"\",\"\",\"WTSYSTEMUSER\")","v":""}]
[null,null,null,null,null,null,null,null,null,null,null,null,null,null,null,null,null,null,null,null,null,null,null,null,null,null,null,null,null,null,null,null,null,null,null,null,null,null,null,null,null,null,null,null,null,null,null,null,null,null,null,null,null,null,null,null,null,null,null,null,null,null,null,null,null,null,null,null,null,null,null,null,null,null,null,null,null,null,null,null,null,null,null,null,null,null,null,null,null,null,null,null,"",null,{"$f":"IF(BY253=\"\",\"\",\"AgencyEntityInsData Id 1139\")","v":""},{"$f":"IF(BY253=\"\",\"\",\"AgencyEntityInstance Id 251\")","v":""},{"$f":"IF(BY253=\"\",\"\",\"cm_base_dcp_03_blows\")","v":""},{"$f":"IF(BY253=\"\",\"\",IF('Test 5'!V166=\"\",\"\",'Test 5'!V166))","v":""},{"$f":"IF(BY253=\"\",\"\",TODAY())","v":""},{"$f":"IF(BY253=\"\",\"\",\"WTSYSTEMUSER\")","v":""},{"$f":"IF(BY253=\"\",\"\",TODAY())","v":""},{"$f":"IF(BY253=\"\",\"\",\"WTSYSTEMUSER\")","v":""}]
[null,null,null,null,null,null,null,null,null,null,null,null,null,null,null,null,null,null,null,null,null,null,null,null,null,null,null,null,null,null,null,null,null,null,null,null,null,null,null,null,null,null,null,null,null,null,null,null,null,null,null,null,null,null,null,null,null,null,null,null,null,null,null,null,null,null,null,null,null,null,null,null,null,null,null,null,null,null,null,null,null,null,null,null,null,null,null,null,null,null,null,null,"",null,{"$f":"IF(BY253=\"\",\"\",\"AgencyEntityInsData Id 1140\")","v":""},{"$f":"IF(BY253=\"\",\"\",\"AgencyEntityInstance Id 251\")","v":""},{"$f":"IF(BY253=\"\",\"\",\"cm_base_dcp_04_index\")","v":""},{"$f":"IF(BY253=\"\",\"\",'Test 5'!AI166)","v":""},{"$f":"IF(BY253=\"\",\"\",TODAY())","v":""},{"$f":"IF(BY253=\"\",\"\",\"WTSYSTEMUSER\")","v":""},{"$f":"IF(BY253=\"\",\"\",TODAY())","v":""},{"$f":"IF(BY253=\"\",\"\",\"WTSYSTEMUSER\")","v":""}]
[null,null,null,null,null,null,null,null,null,null,null,null,null,null,null,null,null,null,null,null,null,null,null,null,null,null,null,null,null,null,null,null,null,null,null,null,null,null,null,null,null,null,null,null,null,null,null,null,null,null,null,null,null,null,null,null,null,null,null,null,null,null,null,null,null,null,null,null,null,null,null,null,null,null,null,null,null,null,null,null,null,null,null,null,null,null,null,null,null,null,null,null,"",null,{"$f":"IF(BY254=\"\",\"\",\"AgencyEntityInsData Id 1141\")","v":""},{"$f":"IF(BY254=\"\",\"\",\"AgencyEntityInstance Id 252\")","v":""},{"$f":"IF(BY254=\"\",\"\",\"cm_base_dcp_01_begin\")","v":""},{"$f":"IF(BY254=\"\",\"\",'Test 5'!AG167)","v":""},{"$f":"IF(BY254=\"\",\"\",TODAY())","v":""},{"$f":"IF(BY254=\"\",\"\",\"WTSYSTEMUSER\")","v":""},{"$f":"IF(BY254=\"\",\"\",TODAY())","v":""},{"$f":"IF(BY254=\"\",\"\",\"WTSYSTEMUSER\")","v":""}]
[null,null,null,null,null,null,null,null,null,null,null,null,null,null,null,null,null,null,null,null,null,null,null,null,null,null,null,null,null,null,null,null,null,null,null,null,null,null,null,null,null,null,null,null,null,null,null,null,null,null,null,null,null,null,null,null,null,null,null,null,null,null,null,null,null,null,null,null,null,null,null,null,null,null,null,null,null,null,null,null,null,null,null,null,null,null,null,null,null,null,null,null,"",null,{"$f":"IF(BY254=\"\",\"\",\"AgencyEntityInsData Id 1142\")","v":""},{"$f":"IF(BY254=\"\",\"\",\"AgencyEntityInstance Id 252\")","v":""},{"$f":"IF(BY254=\"\",\"\",\"cm_base_dcp_02_end\")","v":""},{"$f":"IF(BY254=\"\",\"\",'Test 5'!AH167)","v":""},{"$f":"IF(BY254=\"\",\"\",TODAY())","v":""},{"$f":"IF(BY254=\"\",\"\",\"WTSYSTEMUSER\")","v":""},{"$f":"IF(BY254=\"\",\"\",TODAY())","v":""},{"$f":"IF(BY254=\"\",\"\",\"WTSYSTEMUSER\")","v":""}]
[null,null,null,null,null,null,null,null,null,null,null,null,null,null,null,null,null,null,null,null,null,null,null,null,null,null,null,null,null,null,null,null,null,null,null,null,null,null,null,null,null,null,null,null,null,null,null,null,null,null,null,null,null,null,null,null,null,null,null,null,null,null,null,null,null,null,null,null,null,null,null,null,null,null,null,null,null,null,null,null,null,null,null,null,null,null,null,null,null,null,null,null,"",null,{"$f":"IF(BY254=\"\",\"\",\"AgencyEntityInsData Id 1143\")","v":""},{"$f":"IF(BY254=\"\",\"\",\"AgencyEntityInstance Id 252\")","v":""},{"$f":"IF(BY254=\"\",\"\",\"cm_base_dcp_03_blows\")","v":""},{"$f":"IF(BY254=\"\",\"\",IF('Test 5'!V167=\"\",\"\",'Test 5'!V167))","v":""},{"$f":"IF(BY254=\"\",\"\",TODAY())","v":""},{"$f":"IF(BY254=\"\",\"\",\"WTSYSTEMUSER\")","v":""},{"$f":"IF(BY254=\"\",\"\",TODAY())","v":""},{"$f":"IF(BY254=\"\",\"\",\"WTSYSTEMUSER\")","v":""}]
[null,null,null,null,null,null,null,null,null,null,null,null,null,null,null,null,null,null,null,null,null,null,null,null,null,null,null,null,null,null,null,null,null,null,null,null,null,null,null,null,null,null,null,null,null,null,null,null,null,null,null,null,null,null,null,null,null,null,null,null,null,null,null,null,null,null,null,null,null,null,null,null,null,null,null,null,null,null,null,null,null,null,null,null,null,null,null,null,null,null,null,null,"",null,{"$f":"IF(BY254=\"\",\"\",\"AgencyEntityInsData Id 1144\")","v":""},{"$f":"IF(BY254=\"\",\"\",\"AgencyEntityInstance Id 252\")","v":""},{"$f":"IF(BY254=\"\",\"\",\"cm_base_dcp_04_index\")","v":""},{"$f":"IF(BY254=\"\",\"\",'Test 5'!AI167)","v":""},{"$f":"IF(BY254=\"\",\"\",TODAY())","v":""},{"$f":"IF(BY254=\"\",\"\",\"WTSYSTEMUSER\")","v":""},{"$f":"IF(BY254=\"\",\"\",TODAY())","v":""},{"$f":"IF(BY254=\"\",\"\",\"WTSYSTEMUSER\")","v":""}]
[null,null,null,null,null,null,null,null,null,null,null,null,null,null,null,null,null,null,null,null,null,null,null,null,null,null,null,null,null,null,null,null,null,null,null,null,null,null,null,null,null,null,null,null,null,null,null,null,null,null,null,null,null,null,null,null,null,null,null,null,null,null,null,null,null,null,null,null,null,null,null,null,null,null,null,null,null,null,null,null,null,null,null,null,null,null,null,null,null,null,null,null,"",null,{"$f":"IF(BY255=\"\",\"\",\"AgencyEntityInsData Id 1145\")","v":""},{"$f":"IF(BY255=\"\",\"\",\"AgencyEntityInstance Id 253\")","v":""},{"$f":"IF(BY255=\"\",\"\",\"cm_base_dcp_01_begin\")","v":""},{"$f":"IF(BY255=\"\",\"\",'Test 5'!AG168)","v":""},{"$f":"IF(BY255=\"\",\"\",TODAY())","v":""},{"$f":"IF(BY255=\"\",\"\",\"WTSYSTEMUSER\")","v":""},{"$f":"IF(BY255=\"\",\"\",TODAY())","v":""},{"$f":"IF(BY255=\"\",\"\",\"WTSYSTEMUSER\")","v":""}]
[null,null,null,null,null,null,null,null,null,null,null,null,null,null,null,null,null,null,null,null,null,null,null,null,null,null,null,null,null,null,null,null,null,null,null,null,null,null,null,null,null,null,null,null,null,null,null,null,null,null,null,null,null,null,null,null,null,null,null,null,null,null,null,null,null,null,null,null,null,null,null,null,null,null,null,null,null,null,null,null,null,null,null,null,null,null,null,null,null,null,null,null,"",null,{"$f":"IF(BY255=\"\",\"\",\"AgencyEntityInsData Id 1146\")","v":""},{"$f":"IF(BY255=\"\",\"\",\"AgencyEntityInstance Id 253\")","v":""},{"$f":"IF(BY255=\"\",\"\",\"cm_base_dcp_02_end\")","v":""},{"$f":"IF(BY255=\"\",\"\",'Test 5'!AH168)","v":""},{"$f":"IF(BY255=\"\",\"\",TODAY())","v":""},{"$f":"IF(BY255=\"\",\"\",\"WTSYSTEMUSER\")","v":""},{"$f":"IF(BY255=\"\",\"\",TODAY())","v":""},{"$f":"IF(BY255=\"\",\"\",\"WTSYSTEMUSER\")","v":""}]
[null,null,null,null,null,null,null,null,null,null,null,null,null,null,null,null,null,null,null,null,null,null,null,null,null,null,null,null,null,null,null,null,null,null,null,null,null,null,null,null,null,null,null,null,null,null,null,null,null,null,null,null,null,null,null,null,null,null,null,null,null,null,null,null,null,null,null,null,null,null,null,null,null,null,null,null,null,null,null,null,null,null,null,null,null,null,null,null,null,null,null,null,"",null,{"$f":"IF(BY255=\"\",\"\",\"AgencyEntityInsData Id 1147\")","v":""},{"$f":"IF(BY255=\"\",\"\",\"AgencyEntityInstance Id 253\")","v":""},{"$f":"IF(BY255=\"\",\"\",\"cm_base_dcp_03_blows\")","v":""},{"$f":"IF(BY255=\"\",\"\",IF('Test 5'!V168=\"\",\"\",'Test 5'!V168))","v":""},{"$f":"IF(BY255=\"\",\"\",TODAY())","v":""},{"$f":"IF(BY255=\"\",\"\",\"WTSYSTEMUSER\")","v":""},{"$f":"IF(BY255=\"\",\"\",TODAY())","v":""},{"$f":"IF(BY255=\"\",\"\",\"WTSYSTEMUSER\")","v":""}]
[null,null,null,null,null,null,null,null,null,null,null,null,null,null,null,null,null,null,null,null,null,null,null,null,null,null,null,null,null,null,null,null,null,null,null,null,null,null,null,null,null,null,null,null,null,null,null,null,null,null,null,null,null,null,null,null,null,null,null,null,null,null,null,null,null,null,null,null,null,null,null,null,null,null,null,null,null,null,null,null,null,null,null,null,null,null,null,null,null,null,null,null,"",null,{"$f":"IF(BY255=\"\",\"\",\"AgencyEntityInsData Id 1148\")","v":""},{"$f":"IF(BY255=\"\",\"\",\"AgencyEntityInstance Id 253\")","v":""},{"$f":"IF(BY255=\"\",\"\",\"cm_base_dcp_04_index\")","v":""},{"$f":"IF(BY255=\"\",\"\",'Test 5'!AI168)","v":""},{"$f":"IF(BY255=\"\",\"\",TODAY())","v":""},{"$f":"IF(BY255=\"\",\"\",\"WTSYSTEMUSER\")","v":""},{"$f":"IF(BY255=\"\",\"\",TODAY())","v":""},{"$f":"IF(BY255=\"\",\"\",\"WTSYSTEMUSER\")","v":""}]
[null,null,null,null,null,null,null,null,null,null,null,null,null,null,null,null,null,null,null,null,null,null,null,null,null,null,null,null,null,null,null,null,null,null,null,null,null,null,null,null,null,null,null,null,null,null,null,null,null,null,null,null,null,null,null,null,null,null,null,null,null,null,null,null,null,null,null,null,null,null,null,null,null,null,null,null,null,null,null,null,null,null,null,null,null,null,null,null,null,null,null,null,"",null,{"$f":"IF(BY256=\"\",\"\",\"AgencyEntityInsData Id 1149\")","v":""},{"$f":"IF(BY256=\"\",\"\",\"AgencyEntityInstance Id 254\")","v":""},{"$f":"IF(BY256=\"\",\"\",\"cm_base_dcp_01_begin\")","v":""},{"$f":"IF(BY256=\"\",\"\",'Test 5'!AG169)","v":""},{"$f":"IF(BY256=\"\",\"\",TODAY())","v":""},{"$f":"IF(BY256=\"\",\"\",\"WTSYSTEMUSER\")","v":""},{"$f":"IF(BY256=\"\",\"\",TODAY())","v":""},{"$f":"IF(BY256=\"\",\"\",\"WTSYSTEMUSER\")","v":""}]
[null,null,null,null,null,null,null,null,null,null,null,null,null,null,null,null,null,null,null,null,null,null,null,null,null,null,null,null,null,null,null,null,null,null,null,null,null,null,null,null,null,null,null,null,null,null,null,null,null,null,null,null,null,null,null,null,null,null,null,null,null,null,null,null,null,null,null,null,null,null,null,null,null,null,null,null,null,null,null,null,null,null,null,null,null,null,null,null,null,null,null,null,"",null,{"$f":"IF(BY256=\"\",\"\",\"AgencyEntityInsData Id 1150\")","v":""},{"$f":"IF(BY256=\"\",\"\",\"AgencyEntityInstance Id 254\")","v":""},{"$f":"IF(BY256=\"\",\"\",\"cm_base_dcp_02_end\")","v":""},{"$f":"IF(BY256=\"\",\"\",'Test 5'!AH169)","v":""},{"$f":"IF(BY256=\"\",\"\",TODAY())","v":""},{"$f":"IF(BY256=\"\",\"\",\"WTSYSTEMUSER\")","v":""},{"$f":"IF(BY256=\"\",\"\",TODAY())","v":""},{"$f":"IF(BY256=\"\",\"\",\"WTSYSTEMUSER\")","v":""}]
[null,null,null,null,null,null,null,null,null,null,null,null,null,null,null,null,null,null,null,null,null,null,null,null,null,null,null,null,null,null,null,null,null,null,null,null,null,null,null,null,null,null,null,null,null,null,null,null,null,null,null,null,null,null,null,null,null,null,null,null,null,null,null,null,null,null,null,null,null,null,null,null,null,null,null,null,null,null,null,null,null,null,null,null,null,null,null,null,null,null,null,null,"",null,{"$f":"IF(BY256=\"\",\"\",\"AgencyEntityInsData Id 1151\")","v":""},{"$f":"IF(BY256=\"\",\"\",\"AgencyEntityInstance Id 254\")","v":""},{"$f":"IF(BY256=\"\",\"\",\"cm_base_dcp_03_blows\")","v":""},{"$f":"IF(BY256=\"\",\"\",IF('Test 5'!V169=\"\",\"\",'Test 5'!V169))","v":""},{"$f":"IF(BY256=\"\",\"\",TODAY())","v":""},{"$f":"IF(BY256=\"\",\"\",\"WTSYSTEMUSER\")","v":""},{"$f":"IF(BY256=\"\",\"\",TODAY())","v":""},{"$f":"IF(BY256=\"\",\"\",\"WTSYSTEMUSER\")","v":""}]
[null,null,null,null,null,null,null,null,null,null,null,null,null,null,null,null,null,null,null,null,null,null,null,null,null,null,null,null,null,null,null,null,null,null,null,null,null,null,null,null,null,null,null,null,null,null,null,null,null,null,null,null,null,null,null,null,null,null,null,null,null,null,null,null,null,null,null,null,null,null,null,null,null,null,null,null,null,null,null,null,null,null,null,null,null,null,null,null,null,null,null,null,"",null,{"$f":"IF(BY256=\"\",\"\",\"AgencyEntityInsData Id 1152\")","v":""},{"$f":"IF(BY256=\"\",\"\",\"AgencyEntityInstance Id 254\")","v":""},{"$f":"IF(BY256=\"\",\"\",\"cm_base_dcp_04_index\")","v":""},{"$f":"IF(BY256=\"\",\"\",'Test 5'!AI169)","v":""},{"$f":"IF(BY256=\"\",\"\",TODAY())","v":""},{"$f":"IF(BY256=\"\",\"\",\"WTSYSTEMUSER\")","v":""},{"$f":"IF(BY256=\"\",\"\",TODAY())","v":""},{"$f":"IF(BY256=\"\",\"\",\"WTSYSTEMUSER\")","v":""}]
[null,null,null,null,null,null,null,null,null,null,null,null,null,null,null,null,null,null,null,null,null,null,null,null,null,null,null,null,null,null,null,null,null,null,null,null,null,null,null,null,null,null,null,null,null,null,null,null,null,null,null,null,null,null,null,null,null,null,null,null,null,null,null,null,null,null,null,null,null,null,null,null,null,null,null,null,null,null,null,null,null,null,null,null,null,null,null,null,null,null,null,null,"",null,{"$f":"IF(BY257=\"\",\"\",\"AgencyEntityInsData Id 1153\")","v":""},{"$f":"IF(BY257=\"\",\"\",\"AgencyEntityInstance Id 255\")","v":""},{"$f":"IF(BY257=\"\",\"\",\"cm_base_dcp_01_begin\")","v":""},{"$f":"IF(BY257=\"\",\"\",'Test 5'!AG170)","v":""},{"$f":"IF(BY257=\"\",\"\",TODAY())","v":""},{"$f":"IF(BY257=\"\",\"\",\"WTSYSTEMUSER\")","v":""},{"$f":"IF(BY257=\"\",\"\",TODAY())","v":""},{"$f":"IF(BY257=\"\",\"\",\"WTSYSTEMUSER\")","v":""}]
[null,null,null,null,null,null,null,null,null,null,null,null,null,null,null,null,null,null,null,null,null,null,null,null,null,null,null,null,null,null,null,null,null,null,null,null,null,null,null,null,null,null,null,null,null,null,null,null,null,null,null,null,null,null,null,null,null,null,null,null,null,null,null,null,null,null,null,null,null,null,null,null,null,null,null,null,null,null,null,null,null,null,null,null,null,null,null,null,null,null,null,null,{"$f":"IF(CT1156=\"\",\"\",SUBSTITUTE(SUBSTITUTE(SUBSTITUTE(SUBSTITUTE(SUBSTITUTE(CT1156,\"&\",\"&amp;\"),\">\",\"&gt;\"),\"<\",\"&lt;\"),\"'\",\"&#39;\"),\"\"\"\",\"&quot;\"))","v":""},null,{"$f":"IF(BY257=\"\",\"\",\"AgencyEntityInsData Id 1154\")","v":""},{"$f":"IF(BY257=\"\",\"\",\"AgencyEntityInstance Id 255\")","v":""},{"$f":"IF(BY257=\"\",\"\",\"cm_base_dcp_02_end\")","v":""},{"$f":"IF(BY257=\"\",\"\",'Test 5'!AH170)","v":""},{"$f":"IF(BY257=\"\",\"\",TODAY())","v":""},{"$f":"IF(BY257=\"\",\"\",\"WTSYSTEMUSER\")","v":""},{"$f":"IF(BY257=\"\",\"\",TODAY())","v":""},{"$f":"IF(BY257=\"\",\"\",\"WTSYSTEMUSER\")","v":""}]
[null,null,null,null,null,null,null,null,null,null,null,null,null,null,null,null,null,null,null,null,null,null,null,null,null,null,null,null,null,null,null,null,null,null,null,null,null,null,null,null,null,null,null,null,null,null,null,null,null,null,null,null,null,null,null,null,null,null,null,null,null,null,null,null,null,null,null,null,null,null,null,null,null,null,null,null,null,null,null,null,null,null,null,null,null,null,null,null,null,null,null,null,"",null,{"$f":"IF(BY257=\"\",\"\",\"AgencyEntityInsData Id 1155\")","v":""},{"$f":"IF(BY257=\"\",\"\",\"AgencyEntityInstance Id 255\")","v":""},{"$f":"IF(BY257=\"\",\"\",\"cm_base_dcp_03_blows\")","v":""},{"$f":"IF(BY257=\"\",\"\",IF('Test 5'!V170=\"\",\"\",'Test 5'!V170))","v":""},{"$f":"IF(BY257=\"\",\"\",TODAY())","v":""},{"$f":"IF(BY257=\"\",\"\",\"WTSYSTEMUSER\")","v":""},{"$f":"IF(BY257=\"\",\"\",TODAY())","v":""},{"$f":"IF(BY257=\"\",\"\",\"WTSYSTEMUSER\")","v":""}]
[null,null,null,null,null,null,null,null,null,null,null,null,null,null,null,null,null,null,null,null,null,null,null,null,null,null,null,null,null,null,null,null,null,null,null,null,null,null,null,null,null,null,null,null,null,null,null,null,null,null,null,null,null,null,null,null,null,null,null,null,null,null,null,null,null,null,null,null,null,null,null,null,null,null,null,null,null,null,null,null,null,null,null,null,null,null,null,null,null,null,null,null,"",null,{"$f":"IF(BY257=\"\",\"\",\"AgencyEntityInsData Id 1156\")","v":""},{"$f":"IF(BY257=\"\",\"\",\"AgencyEntityInstance Id 255\")","v":""},{"$f":"IF(BY257=\"\",\"\",\"cm_base_dcp_04_index\")","v":""},{"$f":"IF(BY257=\"\",\"\",'Test 5'!AI170)","v":""},{"$f":"IF(BY257=\"\",\"\",TODAY())","v":""},{"$f":"IF(BY257=\"\",\"\",\"WTSYSTEMUSER\")","v":""},{"$f":"IF(BY257=\"\",\"\",TODAY())","v":""},{"$f":"IF(BY257=\"\",\"\",\"WTSYSTEMUSER\")","v":""}]
[null,null,null,null,null,null,null,null,null,null,null,null,null,null,null,null,null,null,null,null,null,null,null,null,null,null,null,null,null,null,null,null,null,null,null,null,null,null,null,null,null,null,null,null,null,null,null,null,null,null,null,null,null,null,null,null,null,null,null,null,null,null,null,null,null,null,null,null,null,null,null,null,null,null,null,null,null,null,null,null,null,null,null,null,null,null,null,null,null,null,null,null,"",null,{"$f":"IF(BY258=\"\",\"\",\"AgencyEntityInsData Id 1157\")","v":""},{"$f":"IF(BY258=\"\",\"\",\"AgencyEntityInstance Id 256\")","v":""},{"$f":"IF(BY258=\"\",\"\",\"cm_base_dcp_01_begin\")","v":""},{"$f":"IF(BY258=\"\",\"\",'Test 5'!AG171)","v":""},{"$f":"IF(BY258=\"\",\"\",TODAY())","v":""},{"$f":"IF(BY258=\"\",\"\",\"WTSYSTEMUSER\")","v":""},{"$f":"IF(BY258=\"\",\"\",TODAY())","v":""},{"$f":"IF(BY258=\"\",\"\",\"WTSYSTEMUSER\")","v":""}]
[null,null,null,null,null,null,null,null,null,null,null,null,null,null,null,null,null,null,null,null,null,null,null,null,null,null,null,null,null,null,null,null,null,null,null,null,null,null,null,null,null,null,null,null,null,null,null,null,null,null,null,null,null,null,null,null,null,null,null,null,null,null,null,null,null,null,null,null,null,null,null,null,null,null,null,null,null,null,null,null,null,null,null,null,null,null,null,null,null,null,null,null,"",null,{"$f":"IF(BY258=\"\",\"\",\"AgencyEntityInsData Id 1158\")","v":""},{"$f":"IF(BY258=\"\",\"\",\"AgencyEntityInstance Id 256\")","v":""},{"$f":"IF(BY258=\"\",\"\",\"cm_base_dcp_02_end\")","v":""},{"$f":"IF(BY258=\"\",\"\",'Test 5'!AH171)","v":""},{"$f":"IF(BY258=\"\",\"\",TODAY())","v":""},{"$f":"IF(BY258=\"\",\"\",\"WTSYSTEMUSER\")","v":""},{"$f":"IF(BY258=\"\",\"\",TODAY())","v":""},{"$f":"IF(BY258=\"\",\"\",\"WTSYSTEMUSER\")","v":""}]
[null,null,null,null,null,null,null,null,null,null,null,null,null,null,null,null,null,null,null,null,null,null,null,null,null,null,null,null,null,null,null,null,null,null,null,null,null,null,null,null,null,null,null,null,null,null,null,null,null,null,null,null,null,null,null,null,null,null,null,null,null,null,null,null,null,null,null,null,null,null,null,null,null,null,null,null,null,null,null,null,null,null,null,null,null,null,null,null,null,null,null,null,"",null,{"$f":"IF(BY258=\"\",\"\",\"AgencyEntityInsData Id 1159\")","v":""},{"$f":"IF(BY258=\"\",\"\",\"AgencyEntityInstance Id 256\")","v":""},{"$f":"IF(BY258=\"\",\"\",\"cm_base_dcp_03_blows\")","v":""},{"$f":"IF(BY258=\"\",\"\",IF('Test 5'!V171=\"\",\"\",'Test 5'!V171))","v":""},{"$f":"IF(BY258=\"\",\"\",TODAY())","v":""},{"$f":"IF(BY258=\"\",\"\",\"WTSYSTEMUSER\")","v":""},{"$f":"IF(BY258=\"\",\"\",TODAY())","v":""},{"$f":"IF(BY258=\"\",\"\",\"WTSYSTEMUSER\")","v":""}]
[null,null,null,null,null,null,null,null,null,null,null,null,null,null,null,null,null,null,null,null,null,null,null,null,null,null,null,null,null,null,null,null,null,null,null,null,null,null,null,null,null,null,null,null,null,null,null,null,null,null,null,null,null,null,null,null,null,null,null,null,null,null,null,null,null,null,null,null,null,null,null,null,null,null,null,null,null,null,null,null,null,null,null,null,null,null,null,null,null,null,null,null,"",null,{"$f":"IF(BY258=\"\",\"\",\"AgencyEntityInsData Id 1160\")","v":""},{"$f":"IF(BY258=\"\",\"\",\"AgencyEntityInstance Id 256\")","v":""},{"$f":"IF(BY258=\"\",\"\",\"cm_base_dcp_04_index\")","v":""},{"$f":"IF(BY258=\"\",\"\",'Test 5'!AI171)","v":""},{"$f":"IF(BY258=\"\",\"\",TODAY())","v":""},{"$f":"IF(BY258=\"\",\"\",\"WTSYSTEMUSER\")","v":""},{"$f":"IF(BY258=\"\",\"\",TODAY())","v":""},{"$f":"IF(BY258=\"\",\"\",\"WTSYSTEMUSER\")","v":""}]
[null,null,null,null,null,null,null,null,null,null,null,null,null,null,null,null,null,null,null,null,null,null,null,null,null,null,null,null,null,null,null,null,null,null,null,null,null,null,null,null,null,null,null,null,null,null,null,null,null,null,null,null,null,null,null,null,null,null,null,null,null,null,null,null,null,null,null,null,null,null,null,null,null,null,null,null,null,null,null,null,null,null,null,null,null,null,null,null,null,null,null,null,"",null,{"$f":"IF(BY259=\"\",\"\",\"AgencyEntityInsData Id 1161\")","v":""},{"$f":"IF(BY259=\"\",\"\",\"AgencyEntityInstance Id 257\")","v":""},{"$f":"IF(BY259=\"\",\"\",\"cm_base_dcp_01_begin\")","v":""},{"$f":"IF(BY259=\"\",\"\",'Test 5'!AG172)","v":""},{"$f":"IF(BY259=\"\",\"\",TODAY())","v":""},{"$f":"IF(BY259=\"\",\"\",\"WTSYSTEMUSER\")","v":""},{"$f":"IF(BY259=\"\",\"\",TODAY())","v":""},{"$f":"IF(BY259=\"\",\"\",\"WTSYSTEMUSER\")","v":""}]
[null,null,null,null,null,null,null,null,null,null,null,null,null,null,null,null,null,null,null,null,null,null,null,null,null,null,null,null,null,null,null,null,null,null,null,null,null,null,null,null,null,null,null,null,null,null,null,null,null,null,null,null,null,null,null,null,null,null,null,null,null,null,null,null,null,null,null,null,null,null,null,null,null,null,null,null,null,null,null,null,null,null,null,null,null,null,null,null,null,null,null,null,"",null,{"$f":"IF(BY259=\"\",\"\",\"AgencyEntityInsData Id 1162\")","v":""},{"$f":"IF(BY259=\"\",\"\",\"AgencyEntityInstance Id 257\")","v":""},{"$f":"IF(BY259=\"\",\"\",\"cm_base_dcp_02_end\")","v":""},{"$f":"IF(BY259=\"\",\"\",'Test 5'!AH172)","v":""},{"$f":"IF(BY259=\"\",\"\",TODAY())","v":""},{"$f":"IF(BY259=\"\",\"\",\"WTSYSTEMUSER\")","v":""},{"$f":"IF(BY259=\"\",\"\",TODAY())","v":""},{"$f":"IF(BY259=\"\",\"\",\"WTSYSTEMUSER\")","v":""}]
[null,null,null,null,null,null,null,null,null,null,null,null,null,null,null,null,null,null,null,null,null,null,null,null,null,null,null,null,null,null,null,null,null,null,null,null,null,null,null,null,null,null,null,null,null,null,null,null,null,null,null,null,null,null,null,null,null,null,null,null,null,null,null,null,null,null,null,null,null,null,null,null,null,null,null,null,null,null,null,null,null,null,null,null,null,null,null,null,null,null,null,null,"",null,{"$f":"IF(BY259=\"\",\"\",\"AgencyEntityInsData Id 1163\")","v":""},{"$f":"IF(BY259=\"\",\"\",\"AgencyEntityInstance Id 257\")","v":""},{"$f":"IF(BY259=\"\",\"\",\"cm_base_dcp_03_blows\")","v":""},{"$f":"IF(BY259=\"\",\"\",IF('Test 5'!V172=\"\",\"\",'Test 5'!V172))","v":""},{"$f":"IF(BY259=\"\",\"\",TODAY())","v":""},{"$f":"IF(BY259=\"\",\"\",\"WTSYSTEMUSER\")","v":""},{"$f":"IF(BY259=\"\",\"\",TODAY())","v":""},{"$f":"IF(BY259=\"\",\"\",\"WTSYSTEMUSER\")","v":""}]
[null,null,null,null,null,null,null,null,null,null,null,null,null,null,null,null,null,null,null,null,null,null,null,null,null,null,null,null,null,null,null,null,null,null,null,null,null,null,null,null,null,null,null,null,null,null,null,null,null,null,null,null,null,null,null,null,null,null,null,null,null,null,null,null,null,null,null,null,null,null,null,null,null,null,null,null,null,null,null,null,null,null,null,null,null,null,null,null,null,null,null,null,"",null,{"$f":"IF(BY259=\"\",\"\",\"AgencyEntityInsData Id 1164\")","v":""},{"$f":"IF(BY259=\"\",\"\",\"AgencyEntityInstance Id 257\")","v":""},{"$f":"IF(BY259=\"\",\"\",\"cm_base_dcp_04_index\")","v":""},{"$f":"IF(BY259=\"\",\"\",'Test 5'!AI172)","v":""},{"$f":"IF(BY259=\"\",\"\",TODAY())","v":""},{"$f":"IF(BY259=\"\",\"\",\"WTSYSTEMUSER\")","v":""},{"$f":"IF(BY259=\"\",\"\",TODAY())","v":""},{"$f":"IF(BY259=\"\",\"\",\"WTSYSTEMUSER\")","v":""}]
[null,null,null,null,null,null,null,null,null,null,null,null,null,null,null,null,null,null,null,null,null,null,null,null,null,null,null,null,null,null,null,null,null,null,null,null,null,null,null,null,null,null,null,null,null,null,null,null,null,null,null,null,null,null,null,null,null,null,null,null,null,null,null,null,null,null,null,null,null,null,null,null,null,null,null,null,null,null,null,null,null,null,null,null,null,null,null,null,null,null,null,null,"",null,{"$f":"IF(BY260=\"\",\"\",\"AgencyEntityInsData Id 1165\")","v":""},{"$f":"IF(BY260=\"\",\"\",\"AgencyEntityInstance Id 258\")","v":""},{"$f":"IF(BY260=\"\",\"\",\"cm_base_dcp_01_begin\")","v":""},{"$f":"IF(BY260=\"\",\"\",'Test 5'!AG173)","v":""},{"$f":"IF(BY260=\"\",\"\",TODAY())","v":""},{"$f":"IF(BY260=\"\",\"\",\"WTSYSTEMUSER\")","v":""},{"$f":"IF(BY260=\"\",\"\",TODAY())","v":""},{"$f":"IF(BY260=\"\",\"\",\"WTSYSTEMUSER\")","v":""}]
[null,null,null,null,null,null,null,null,null,null,null,null,null,null,null,null,null,null,null,null,null,null,null,null,null,null,null,null,null,null,null,null,null,null,null,null,null,null,null,null,null,null,null,null,null,null,null,null,null,null,null,null,null,null,null,null,null,null,null,null,null,null,null,null,null,null,null,null,null,null,null,null,null,null,null,null,null,null,null,null,null,null,null,null,null,null,null,null,null,null,null,null,"",null,{"$f":"IF(BY260=\"\",\"\",\"AgencyEntityInsData Id 1166\")","v":""},{"$f":"IF(BY260=\"\",\"\",\"AgencyEntityInstance Id 258\")","v":""},{"$f":"IF(BY260=\"\",\"\",\"cm_base_dcp_02_end\")","v":""},{"$f":"IF(BY260=\"\",\"\",'Test 5'!AH173)","v":""},{"$f":"IF(BY260=\"\",\"\",TODAY())","v":""},{"$f":"IF(BY260=\"\",\"\",\"WTSYSTEMUSER\")","v":""},{"$f":"IF(BY260=\"\",\"\",TODAY())","v":""},{"$f":"IF(BY260=\"\",\"\",\"WTSYSTEMUSER\")","v":""}]
[null,null,null,null,null,null,null,null,null,null,null,null,null,null,null,null,null,null,null,null,null,null,null,null,null,null,null,null,null,null,null,null,null,null,null,null,null,null,null,null,null,null,null,null,null,null,null,null,null,null,null,null,null,null,null,null,null,null,null,null,null,null,null,null,null,null,null,null,null,null,null,null,null,null,null,null,null,null,null,null,null,null,null,null,null,null,null,null,null,null,null,null,"",null,{"$f":"IF(BY260=\"\",\"\",\"AgencyEntityInsData Id 1167\")","v":""},{"$f":"IF(BY260=\"\",\"\",\"AgencyEntityInstance Id 258\")","v":""},{"$f":"IF(BY260=\"\",\"\",\"cm_base_dcp_03_blows\")","v":""},{"$f":"IF(BY260=\"\",\"\",IF('Test 5'!V173=\"\",\"\",'Test 5'!V173))","v":""},{"$f":"IF(BY260=\"\",\"\",TODAY())","v":""},{"$f":"IF(BY260=\"\",\"\",\"WTSYSTEMUSER\")","v":""},{"$f":"IF(BY260=\"\",\"\",TODAY())","v":""},{"$f":"IF(BY260=\"\",\"\",\"WTSYSTEMUSER\")","v":""}]
[null,null,null,null,null,null,null,null,null,null,null,null,null,null,null,null,null,null,null,null,null,null,null,null,null,null,null,null,null,null,null,null,null,null,null,null,null,null,null,null,null,null,null,null,null,null,null,null,null,null,null,null,null,null,null,null,null,null,null,null,null,null,null,null,null,null,null,null,null,null,null,null,null,null,null,null,null,null,null,null,null,null,null,null,null,null,null,null,null,null,null,null,"",null,{"$f":"IF(BY260=\"\",\"\",\"AgencyEntityInsData Id 1168\")","v":""},{"$f":"IF(BY260=\"\",\"\",\"AgencyEntityInstance Id 258\")","v":""},{"$f":"IF(BY260=\"\",\"\",\"cm_base_dcp_04_index\")","v":""},{"$f":"IF(BY260=\"\",\"\",'Test 5'!AI173)","v":""},{"$f":"IF(BY260=\"\",\"\",TODAY())","v":""},{"$f":"IF(BY260=\"\",\"\",\"WTSYSTEMUSER\")","v":""},{"$f":"IF(BY260=\"\",\"\",TODAY())","v":""},{"$f":"IF(BY260=\"\",\"\",\"WTSYSTEMUSER\")","v":""}]
[null,null,null,null,null,null,null,null,null,null,null,null,null,null,null,null,null,null,null,null,null,null,null,null,null,null,null,null,null,null,null,null,null,null,null,null,null,null,null,null,null,null,null,null,null,null,null,null,null,null,null,null,null,null,null,null,null,null,null,null,null,null,null,null,null,null,null,null,null,null,null,null,null,null,null,null,null,null,null,null,null,null,null,null,null,null,null,null,null,null,null,null,"",null,{"$f":"IF(BY261=\"\",\"\",\"AgencyEntityInsData Id 1169\")","v":""},{"$f":"IF(BY261=\"\",\"\",\"AgencyEntityInstance Id 259\")","v":""},{"$f":"IF(BY261=\"\",\"\",\"cm_base_dcp_01_begin\")","v":""},{"$f":"IF(BY261=\"\",\"\",'Test 5'!AG174)","v":""},{"$f":"IF(BY261=\"\",\"\",TODAY())","v":""},{"$f":"IF(BY261=\"\",\"\",\"WTSYSTEMUSER\")","v":""},{"$f":"IF(BY261=\"\",\"\",TODAY())","v":""},{"$f":"IF(BY261=\"\",\"\",\"WTSYSTEMUSER\")","v":""}]
[null,null,null,null,null,null,null,null,null,null,null,null,null,null,null,null,null,null,null,null,null,null,null,null,null,null,null,null,null,null,null,null,null,null,null,null,null,null,null,null,null,null,null,null,null,null,null,null,null,null,null,null,null,null,null,null,null,null,null,null,null,null,null,null,null,null,null,null,null,null,null,null,null,null,null,null,null,null,null,null,null,null,null,null,null,null,null,null,null,null,null,null,"",null,{"$f":"IF(BY261=\"\",\"\",\"AgencyEntityInsData Id 1170\")","v":""},{"$f":"IF(BY261=\"\",\"\",\"AgencyEntityInstance Id 259\")","v":""},{"$f":"IF(BY261=\"\",\"\",\"cm_base_dcp_02_end\")","v":""},{"$f":"IF(BY261=\"\",\"\",'Test 5'!AH174)","v":""},{"$f":"IF(BY261=\"\",\"\",TODAY())","v":""},{"$f":"IF(BY261=\"\",\"\",\"WTSYSTEMUSER\")","v":""},{"$f":"IF(BY261=\"\",\"\",TODAY())","v":""},{"$f":"IF(BY261=\"\",\"\",\"WTSYSTEMUSER\")","v":""}]
[null,null,null,null,null,null,null,null,null,null,null,null,null,null,null,null,null,null,null,null,null,null,null,null,null,null,null,null,null,null,null,null,null,null,null,null,null,null,null,null,null,null,null,null,null,null,null,null,null,null,null,null,null,null,null,null,null,null,null,null,null,null,null,null,null,null,null,null,null,null,null,null,null,null,null,null,null,null,null,null,null,null,null,null,null,null,null,null,null,null,null,null,"",null,{"$f":"IF(BY261=\"\",\"\",\"AgencyEntityInsData Id 1171\")","v":""},{"$f":"IF(BY261=\"\",\"\",\"AgencyEntityInstance Id 259\")","v":""},{"$f":"IF(BY261=\"\",\"\",\"cm_base_dcp_03_blows\")","v":""},{"$f":"IF(BY261=\"\",\"\",IF('Test 5'!V174=\"\",\"\",'Test 5'!V174))","v":""},{"$f":"IF(BY261=\"\",\"\",TODAY())","v":""},{"$f":"IF(BY261=\"\",\"\",\"WTSYSTEMUSER\")","v":""},{"$f":"IF(BY261=\"\",\"\",TODAY())","v":""},{"$f":"IF(BY261=\"\",\"\",\"WTSYSTEMUSER\")","v":""}]
[null,null,null,null,null,null,null,null,null,null,null,null,null,null,null,null,null,null,null,null,null,null,null,null,null,null,null,null,null,null,null,null,null,null,null,null,null,null,null,null,null,null,null,null,null,null,null,null,null,null,null,null,null,null,null,null,null,null,null,null,null,null,null,null,null,null,null,null,null,null,null,null,null,null,null,null,null,null,null,null,null,null,null,null,null,null,null,null,null,null,null,null,"",null,{"$f":"IF(BY261=\"\",\"\",\"AgencyEntityInsData Id 1172\")","v":""},{"$f":"IF(BY261=\"\",\"\",\"AgencyEntityInstance Id 259\")","v":""},{"$f":"IF(BY261=\"\",\"\",\"cm_base_dcp_04_index\")","v":""},{"$f":"IF(BY261=\"\",\"\",'Test 5'!AI174)","v":""},{"$f":"IF(BY261=\"\",\"\",TODAY())","v":""},{"$f":"IF(BY261=\"\",\"\",\"WTSYSTEMUSER\")","v":""},{"$f":"IF(BY261=\"\",\"\",TODAY())","v":""},{"$f":"IF(BY261=\"\",\"\",\"WTSYSTEMUSER\")","v":""}]
[null,null,null,null,null,null,null,null,null,null,null,null,null,null,null,null,null,null,null,null,null,null,null,null,null,null,null,null,null,null,null,null,null,null,null,null,null,null,null,null,null,null,null,null,null,null,null,null,null,null,null,null,null,null,null,null,null,null,null,null,null,null,null,null,null,null,null,null,null,null,null,null,null,null,null,null,null,null,null,null,null,null,null,null,null,null,null,null,null,null,null,null,"",null,{"$f":"IF(BY262=\"\",\"\",\"AgencyEntityInsData Id 1173\")","v":""},{"$f":"IF(BY262=\"\",\"\",\"AgencyEntityInstance Id 260\")","v":""},{"$f":"IF(BY262=\"\",\"\",\"cm_base_dcp_01_begin\")","v":""},{"$f":"IF(BY262=\"\",\"\",'Test 5'!AG175)","v":""},{"$f":"IF(BY262=\"\",\"\",TODAY())","v":""},{"$f":"IF(BY262=\"\",\"\",\"WTSYSTEMUSER\")","v":""},{"$f":"IF(BY262=\"\",\"\",TODAY())","v":""},{"$f":"IF(BY262=\"\",\"\",\"WTSYSTEMUSER\")","v":""}]
[null,null,null,null,null,null,null,null,null,null,null,null,null,null,null,null,null,null,null,null,null,null,null,null,null,null,null,null,null,null,null,null,null,null,null,null,null,null,null,null,null,null,null,null,null,null,null,null,null,null,null,null,null,null,null,null,null,null,null,null,null,null,null,null,null,null,null,null,null,null,null,null,null,null,null,null,null,null,null,null,null,null,null,null,null,null,null,null,null,null,null,null,"",null,{"$f":"IF(BY262=\"\",\"\",\"AgencyEntityInsData Id 1174\")","v":""},{"$f":"IF(BY262=\"\",\"\",\"AgencyEntityInstance Id 260\")","v":""},{"$f":"IF(BY262=\"\",\"\",\"cm_base_dcp_02_end\")","v":""},{"$f":"IF(BY262=\"\",\"\",'Test 5'!AH175)","v":""},{"$f":"IF(BY262=\"\",\"\",TODAY())","v":""},{"$f":"IF(BY262=\"\",\"\",\"WTSYSTEMUSER\")","v":""},{"$f":"IF(BY262=\"\",\"\",TODAY())","v":""},{"$f":"IF(BY262=\"\",\"\",\"WTSYSTEMUSER\")","v":""}]
[null,null,null,null,null,null,null,null,null,null,null,null,null,null,null,null,null,null,null,null,null,null,null,null,null,null,null,null,null,null,null,null,null,null,null,null,null,null,null,null,null,null,null,null,null,null,null,null,null,null,null,null,null,null,null,null,null,null,null,null,null,null,null,null,null,null,null,null,null,null,null,null,null,null,null,null,null,null,null,null,null,null,null,null,null,null,null,null,null,null,null,null,"",null,{"$f":"IF(BY262=\"\",\"\",\"AgencyEntityInsData Id 1175\")","v":""},{"$f":"IF(BY262=\"\",\"\",\"AgencyEntityInstance Id 260\")","v":""},{"$f":"IF(BY262=\"\",\"\",\"cm_base_dcp_03_blows\")","v":""},{"$f":"IF(BY262=\"\",\"\",IF('Test 5'!V175=\"\",\"\",'Test 5'!V175))","v":""},{"$f":"IF(BY262=\"\",\"\",TODAY())","v":""},{"$f":"IF(BY262=\"\",\"\",\"WTSYSTEMUSER\")","v":""},{"$f":"IF(BY262=\"\",\"\",TODAY())","v":""},{"$f":"IF(BY262=\"\",\"\",\"WTSYSTEMUSER\")","v":""}]
[null,null,null,null,null,null,null,null,null,null,null,null,null,null,null,null,null,null,null,null,null,null,null,null,null,null,null,null,null,null,null,null,null,null,null,null,null,null,null,null,null,null,null,null,null,null,null,null,null,null,null,null,null,null,null,null,null,null,null,null,null,null,null,null,null,null,null,null,null,null,null,null,null,null,null,null,null,null,null,null,null,null,null,null,null,null,null,null,null,null,null,null,"",null,{"$f":"IF(BY262=\"\",\"\",\"AgencyEntityInsData Id 1176\")","v":""},{"$f":"IF(BY262=\"\",\"\",\"AgencyEntityInstance Id 260\")","v":""},{"$f":"IF(BY262=\"\",\"\",\"cm_base_dcp_04_index\")","v":""},{"$f":"IF(BY262=\"\",\"\",'Test 5'!AI175)","v":""},{"$f":"IF(BY262=\"\",\"\",TODAY())","v":""},{"$f":"IF(BY262=\"\",\"\",\"WTSYSTEMUSER\")","v":""},{"$f":"IF(BY262=\"\",\"\",TODAY())","v":""},{"$f":"IF(BY262=\"\",\"\",\"WTSYSTEMUSER\")","v":""}]
[null,null,null,null,null,null,null,null,null,null,null,null,null,null,null,null,null,null,null,null,null,null,null,null,null,null,null,null,null,null,null,null,null,null,null,null,null,null,null,null,null,null,null,null,null,null,null,null,null,null,null,null,null,null,null,null,null,null,null,null,null,null,null,null,null,null,null,null,null,null,null,null,null,null,null,null,null,null,null,null,null,null,null,null,null,null,null,null,null,null,null,null,"",null,{"$f":"IF(BY263=\"\",\"\",\"AgencyEntityInsData Id 1177\")","v":""},{"$f":"IF(BY263=\"\",\"\",\"AgencyEntityInstance Id 261\")","v":""},{"$f":"IF(BY263=\"\",\"\",\"cm_base_dcp_01_begin\")","v":""},{"$f":"IF(BY263=\"\",\"\",'Test 5'!AG176)","v":""},{"$f":"IF(BY263=\"\",\"\",TODAY())","v":""},{"$f":"IF(BY263=\"\",\"\",\"WTSYSTEMUSER\")","v":""},{"$f":"IF(BY263=\"\",\"\",TODAY())","v":""},{"$f":"IF(BY263=\"\",\"\",\"WTSYSTEMUSER\")","v":""}]
[null,null,null,null,null,null,null,null,null,null,null,null,null,null,null,null,null,null,null,null,null,null,null,null,null,null,null,null,null,null,null,null,null,null,null,null,null,null,null,null,null,null,null,null,null,null,null,null,null,null,null,null,null,null,null,null,null,null,null,null,null,null,null,null,null,null,null,null,null,null,null,null,null,null,null,null,null,null,null,null,null,null,null,null,null,null,null,null,null,null,null,null,"",null,{"$f":"IF(BY263=\"\",\"\",\"AgencyEntityInsData Id 1178\")","v":""},{"$f":"IF(BY263=\"\",\"\",\"AgencyEntityInstance Id 261\")","v":""},{"$f":"IF(BY263=\"\",\"\",\"cm_base_dcp_02_end\")","v":""},{"$f":"IF(BY263=\"\",\"\",'Test 5'!AH176)","v":""},{"$f":"IF(BY263=\"\",\"\",TODAY())","v":""},{"$f":"IF(BY263=\"\",\"\",\"WTSYSTEMUSER\")","v":""},{"$f":"IF(BY263=\"\",\"\",TODAY())","v":""},{"$f":"IF(BY263=\"\",\"\",\"WTSYSTEMUSER\")","v":""}]
[null,null,null,null,null,null,null,null,null,null,null,null,null,null,null,null,null,null,null,null,null,null,null,null,null,null,null,null,null,null,null,null,null,null,null,null,null,null,null,null,null,null,null,null,null,null,null,null,null,null,null,null,null,null,null,null,null,null,null,null,null,null,null,null,null,null,null,null,null,null,null,null,null,null,null,null,null,null,null,null,null,null,null,null,null,null,null,null,null,null,null,null,"",null,{"$f":"IF(BY263=\"\",\"\",\"AgencyEntityInsData Id 1179\")","v":""},{"$f":"IF(BY263=\"\",\"\",\"AgencyEntityInstance Id 261\")","v":""},{"$f":"IF(BY263=\"\",\"\",\"cm_base_dcp_03_blows\")","v":""},{"$f":"IF(BY263=\"\",\"\",IF('Test 5'!V176=\"\",\"\",'Test 5'!V176))","v":""},{"$f":"IF(BY263=\"\",\"\",TODAY())","v":""},{"$f":"IF(BY263=\"\",\"\",\"WTSYSTEMUSER\")","v":""},{"$f":"IF(BY263=\"\",\"\",TODAY())","v":""},{"$f":"IF(BY263=\"\",\"\",\"WTSYSTEMUSER\")","v":""}]
[null,null,null,null,null,null,null,null,null,null,null,null,null,null,null,null,null,null,null,null,null,null,null,null,null,null,null,null,null,null,null,null,null,null,null,null,null,null,null,null,null,null,null,null,null,null,null,null,null,null,null,null,null,null,null,null,null,null,null,null,null,null,null,null,null,null,null,null,null,null,null,null,null,null,null,null,null,null,null,null,null,null,null,null,null,null,null,null,null,null,null,null,"",null,{"$f":"IF(BY263=\"\",\"\",\"AgencyEntityInsData Id 1180\")","v":""},{"$f":"IF(BY263=\"\",\"\",\"AgencyEntityInstance Id 261\")","v":""},{"$f":"IF(BY263=\"\",\"\",\"cm_base_dcp_04_index\")","v":""},{"$f":"IF(BY263=\"\",\"\",'Test 5'!AI176)","v":""},{"$f":"IF(BY263=\"\",\"\",TODAY())","v":""},{"$f":"IF(BY263=\"\",\"\",\"WTSYSTEMUSER\")","v":""},{"$f":"IF(BY263=\"\",\"\",TODAY())","v":""},{"$f":"IF(BY263=\"\",\"\",\"WTSYSTEMUSER\")","v":""}]
[null,null,null,null,null,null,null,null,null,null,null,null,null,null,null,null,null,null,null,null,null,null,null,null,null,null,null,null,null,null,null,null,null,null,null,null,null,null,null,null,null,null,null,null,null,null,null,null,null,null,null,null,null,null,null,null,null,null,null,null,null,null,null,null,null,null,null,null,null,null,null,null,null,null,null,null,null,null,null,null,null,null,null,null,null,null,null,null,null,null,null,null,"",null,{"$f":"IF(BY264=\"\",\"\",\"AgencyEntityInsData Id 1181\")","v":""},{"$f":"IF(BY264=\"\",\"\",\"AgencyEntityInstance Id 262\")","v":""},{"$f":"IF(BY264=\"\",\"\",\"cm_base_dcp_01_begin\")","v":""},{"$f":"IF(BY264=\"\",\"\",'Test 5'!AG177)","v":""},{"$f":"IF(BY264=\"\",\"\",TODAY())","v":""},{"$f":"IF(BY264=\"\",\"\",\"WTSYSTEMUSER\")","v":""},{"$f":"IF(BY264=\"\",\"\",TODAY())","v":""},{"$f":"IF(BY264=\"\",\"\",\"WTSYSTEMUSER\")","v":""}]
[null,null,null,null,null,null,null,null,null,null,null,null,null,null,null,null,null,null,null,null,null,null,null,null,null,null,null,null,null,null,null,null,null,null,null,null,null,null,null,null,null,null,null,null,null,null,null,null,null,null,null,null,null,null,null,null,null,null,null,null,null,null,null,null,null,null,null,null,null,null,null,null,null,null,null,null,null,null,null,null,null,null,null,null,null,null,null,null,null,null,null,null,"",null,{"$f":"IF(BY264=\"\",\"\",\"AgencyEntityInsData Id 1182\")","v":""},{"$f":"IF(BY264=\"\",\"\",\"AgencyEntityInstance Id 262\")","v":""},{"$f":"IF(BY264=\"\",\"\",\"cm_base_dcp_02_end\")","v":""},{"$f":"IF(BY264=\"\",\"\",'Test 5'!AH177)","v":""},{"$f":"IF(BY264=\"\",\"\",TODAY())","v":""},{"$f":"IF(BY264=\"\",\"\",\"WTSYSTEMUSER\")","v":""},{"$f":"IF(BY264=\"\",\"\",TODAY())","v":""},{"$f":"IF(BY264=\"\",\"\",\"WTSYSTEMUSER\")","v":""}]
[null,null,null,null,null,null,null,null,null,null,null,null,null,null,null,null,null,null,null,null,null,null,null,null,null,null,null,null,null,null,null,null,null,null,null,null,null,null,null,null,null,null,null,null,null,null,null,null,null,null,null,null,null,null,null,null,null,null,null,null,null,null,null,null,null,null,null,null,null,null,null,null,null,null,null,null,null,null,null,null,null,null,null,null,null,null,null,null,null,null,null,null,"",null,{"$f":"IF(BY264=\"\",\"\",\"AgencyEntityInsData Id 1183\")","v":""},{"$f":"IF(BY264=\"\",\"\",\"AgencyEntityInstance Id 262\")","v":""},{"$f":"IF(BY264=\"\",\"\",\"cm_base_dcp_03_blows\")","v":""},{"$f":"IF(BY264=\"\",\"\",IF('Test 5'!V177=\"\",\"\",'Test 5'!V177))","v":""},{"$f":"IF(BY264=\"\",\"\",TODAY())","v":""},{"$f":"IF(BY264=\"\",\"\",\"WTSYSTEMUSER\")","v":""},{"$f":"IF(BY264=\"\",\"\",TODAY())","v":""},{"$f":"IF(BY264=\"\",\"\",\"WTSYSTEMUSER\")","v":""}]
[null,null,null,null,null,null,null,null,null,null,null,null,null,null,null,null,null,null,null,null,null,null,null,null,null,null,null,null,null,null,null,null,null,null,null,null,null,null,null,null,null,null,null,null,null,null,null,null,null,null,null,null,null,null,null,null,null,null,null,null,null,null,null,null,null,null,null,null,null,null,null,null,null,null,null,null,null,null,null,null,null,null,null,null,null,null,null,null,null,null,null,null,"",null,{"$f":"IF(BY264=\"\",\"\",\"AgencyEntityInsData Id 1184\")","v":""},{"$f":"IF(BY264=\"\",\"\",\"AgencyEntityInstance Id 262\")","v":""},{"$f":"IF(BY264=\"\",\"\",\"cm_base_dcp_04_index\")","v":""},{"$f":"IF(BY264=\"\",\"\",'Test 5'!AI177)","v":""},{"$f":"IF(BY264=\"\",\"\",TODAY())","v":""},{"$f":"IF(BY264=\"\",\"\",\"WTSYSTEMUSER\")","v":""},{"$f":"IF(BY264=\"\",\"\",TODAY())","v":""},{"$f":"IF(BY264=\"\",\"\",\"WTSYSTEMUSER\")","v":""}]
[null,null,null,null,null,null,null,null,null,null,null,null,null,null,null,null,null,null,null,null,null,null,null,null,null,null,null,null,null,null,null,null,null,null,null,null,null,null,null,null,null,null,null,null,null,null,null,null,null,null,null,null,null,null,null,null,null,null,null,null,null,null,null,null,null,null,null,null,null,null,null,null,null,null,null,null,null,null,null,null,null,null,null,null,null,null,null,null,null,null,null,null,"",null,{"$f":"IF(BY265=\"\",\"\",\"AgencyEntityInsData Id 1185\")","v":""},{"$f":"IF(BY265=\"\",\"\",\"AgencyEntityInstance Id 263\")","v":""},{"$f":"IF(BY265=\"\",\"\",\"cm_base_dcp_01_begin\")","v":""},{"$f":"IF(BY265=\"\",\"\",'Test 5'!AG178)","v":""},{"$f":"IF(BY265=\"\",\"\",TODAY())","v":""},{"$f":"IF(BY265=\"\",\"\",\"WTSYSTEMUSER\")","v":""},{"$f":"IF(BY265=\"\",\"\",TODAY())","v":""},{"$f":"IF(BY265=\"\",\"\",\"WTSYSTEMUSER\")","v":""}]
[null,null,null,null,null,null,null,null,null,null,null,null,null,null,null,null,null,null,null,null,null,null,null,null,null,null,null,null,null,null,null,null,null,null,null,null,null,null,null,null,null,null,null,null,null,null,null,null,null,null,null,null,null,null,null,null,null,null,null,null,null,null,null,null,null,null,null,null,null,null,null,null,null,null,null,null,null,null,null,null,null,null,null,null,null,null,null,null,null,null,null,null,"",null,{"$f":"IF(BY265=\"\",\"\",\"AgencyEntityInsData Id 1186\")","v":""},{"$f":"IF(BY265=\"\",\"\",\"AgencyEntityInstance Id 263\")","v":""},{"$f":"IF(BY265=\"\",\"\",\"cm_base_dcp_02_end\")","v":""},{"$f":"IF(BY265=\"\",\"\",'Test 5'!AH178)","v":""},{"$f":"IF(BY265=\"\",\"\",TODAY())","v":""},{"$f":"IF(BY265=\"\",\"\",\"WTSYSTEMUSER\")","v":""},{"$f":"IF(BY265=\"\",\"\",TODAY())","v":""},{"$f":"IF(BY265=\"\",\"\",\"WTSYSTEMUSER\")","v":""}]
[null,null,null,null,null,null,null,null,null,null,null,null,null,null,null,null,null,null,null,null,null,null,null,null,null,null,null,null,null,null,null,null,null,null,null,null,null,null,null,null,null,null,null,null,null,null,null,null,null,null,null,null,null,null,null,null,null,null,null,null,null,null,null,null,null,null,null,null,null,null,null,null,null,null,null,null,null,null,null,null,null,null,null,null,null,null,null,null,null,null,null,null,"",null,{"$f":"IF(BY265=\"\",\"\",\"AgencyEntityInsData Id 1187\")","v":""},{"$f":"IF(BY265=\"\",\"\",\"AgencyEntityInstance Id 263\")","v":""},{"$f":"IF(BY265=\"\",\"\",\"cm_base_dcp_03_blows\")","v":""},{"$f":"IF(BY265=\"\",\"\",IF('Test 5'!V178=\"\",\"\",'Test 5'!V178))","v":""},{"$f":"IF(BY265=\"\",\"\",TODAY())","v":""},{"$f":"IF(BY265=\"\",\"\",\"WTSYSTEMUSER\")","v":""},{"$f":"IF(BY265=\"\",\"\",TODAY())","v":""},{"$f":"IF(BY265=\"\",\"\",\"WTSYSTEMUSER\")","v":""}]
[null,null,null,null,null,null,null,null,null,null,null,null,null,null,null,null,null,null,null,null,null,null,null,null,null,null,null,null,null,null,null,null,null,null,null,null,null,null,null,null,null,null,null,null,null,null,null,null,null,null,null,null,null,null,null,null,null,null,null,null,null,null,null,null,null,null,null,null,null,null,null,null,null,null,null,null,null,null,null,null,null,null,null,null,null,null,null,null,null,null,null,null,"",null,{"$f":"IF(BY265=\"\",\"\",\"AgencyEntityInsData Id 1188\")","v":""},{"$f":"IF(BY265=\"\",\"\",\"AgencyEntityInstance Id 263\")","v":""},{"$f":"IF(BY265=\"\",\"\",\"cm_base_dcp_04_index\")","v":""},{"$f":"IF(BY265=\"\",\"\",'Test 5'!AI178)","v":""},{"$f":"IF(BY265=\"\",\"\",TODAY())","v":""},{"$f":"IF(BY265=\"\",\"\",\"WTSYSTEMUSER\")","v":""},{"$f":"IF(BY265=\"\",\"\",TODAY())","v":""},{"$f":"IF(BY265=\"\",\"\",\"WTSYSTEMUSER\")","v":""}]
[null,null,null,null,null,null,null,null,null,null,null,null,null,null,null,null,null,null,null,null,null,null,null,null,null,null,null,null,null,null,null,null,null,null,null,null,null,null,null,null,null,null,null,null,null,null,null,null,null,null,null,null,null,null,null,null,null,null,null,null,null,null,null,null,null,null,null,null,null,null,null,null,null,null,null,null,null,null,null,null,null,null,null,null,null,null,null,null,null,null,null,null,"",null,{"$f":"IF(BY266=\"\",\"\",\"AgencyEntityInsData Id 1189\")","v":""},{"$f":"IF(BY266=\"\",\"\",\"AgencyEntityInstance Id 264\")","v":""},{"$f":"IF(BY266=\"\",\"\",\"cm_base_dcp_01_begin\")","v":""},{"$f":"IF(BY266=\"\",\"\",'Test 5'!AG179)","v":""},{"$f":"IF(BY266=\"\",\"\",TODAY())","v":""},{"$f":"IF(BY266=\"\",\"\",\"WTSYSTEMUSER\")","v":""},{"$f":"IF(BY266=\"\",\"\",TODAY())","v":""},{"$f":"IF(BY266=\"\",\"\",\"WTSYSTEMUSER\")","v":""}]
[null,null,null,null,null,null,null,null,null,null,null,null,null,null,null,null,null,null,null,null,null,null,null,null,null,null,null,null,null,null,null,null,null,null,null,null,null,null,null,null,null,null,null,null,null,null,null,null,null,null,null,null,null,null,null,null,null,null,null,null,null,null,null,null,null,null,null,null,null,null,null,null,null,null,null,null,null,null,null,null,null,null,null,null,null,null,null,null,null,null,null,null,"",null,{"$f":"IF(BY266=\"\",\"\",\"AgencyEntityInsData Id 1190\")","v":""},{"$f":"IF(BY266=\"\",\"\",\"AgencyEntityInstance Id 264\")","v":""},{"$f":"IF(BY266=\"\",\"\",\"cm_base_dcp_02_end\")","v":""},{"$f":"IF(BY266=\"\",\"\",'Test 5'!AH179)","v":""},{"$f":"IF(BY266=\"\",\"\",TODAY())","v":""},{"$f":"IF(BY266=\"\",\"\",\"WTSYSTEMUSER\")","v":""},{"$f":"IF(BY266=\"\",\"\",TODAY())","v":""},{"$f":"IF(BY266=\"\",\"\",\"WTSYSTEMUSER\")","v":""}]
[null,null,null,null,null,null,null,null,null,null,null,null,null,null,null,null,null,null,null,null,null,null,null,null,null,null,null,null,null,null,null,null,null,null,null,null,null,null,null,null,null,null,null,null,null,null,null,null,null,null,null,null,null,null,null,null,null,null,null,null,null,null,null,null,null,null,null,null,null,null,null,null,null,null,null,null,null,null,null,null,null,null,null,null,null,null,null,null,null,null,null,null,"",null,{"$f":"IF(BY266=\"\",\"\",\"AgencyEntityInsData Id 1191\")","v":""},{"$f":"IF(BY266=\"\",\"\",\"AgencyEntityInstance Id 264\")","v":""},{"$f":"IF(BY266=\"\",\"\",\"cm_base_dcp_03_blows\")","v":""},{"$f":"IF(BY266=\"\",\"\",IF('Test 5'!V179=\"\",\"\",'Test 5'!V179))","v":""},{"$f":"IF(BY266=\"\",\"\",TODAY())","v":""},{"$f":"IF(BY266=\"\",\"\",\"WTSYSTEMUSER\")","v":""},{"$f":"IF(BY266=\"\",\"\",TODAY())","v":""},{"$f":"IF(BY266=\"\",\"\",\"WTSYSTEMUSER\")","v":""}]
[null,null,null,null,null,null,null,null,null,null,null,null,null,null,null,null,null,null,null,null,null,null,null,null,null,null,null,null,null,null,null,null,null,null,null,null,null,null,null,null,null,null,null,null,null,null,null,null,null,null,null,null,null,null,null,null,null,null,null,null,null,null,null,null,null,null,null,null,null,null,null,null,null,null,null,null,null,null,null,null,null,null,null,null,null,null,null,null,null,null,null,null,"",null,{"$f":"IF(BY266=\"\",\"\",\"AgencyEntityInsData Id 1192\")","v":""},{"$f":"IF(BY266=\"\",\"\",\"AgencyEntityInstance Id 264\")","v":""},{"$f":"IF(BY266=\"\",\"\",\"cm_base_dcp_04_index\")","v":""},{"$f":"IF(BY266=\"\",\"\",'Test 5'!AI179)","v":""},{"$f":"IF(BY266=\"\",\"\",TODAY())","v":""},{"$f":"IF(BY266=\"\",\"\",\"WTSYSTEMUSER\")","v":""},{"$f":"IF(BY266=\"\",\"\",TODAY())","v":""},{"$f":"IF(BY266=\"\",\"\",\"WTSYSTEMUSER\")","v":""}]